{"text_format":"1","workbook":"xlsx","n_sheets":6,"sheets":["Kämpfe","2022","2021","2020","2019","2018"],"not_rendered":{"charts":0,"images":1,"macros":1,"external_links":1,"defined_names":5,"comments":0,"pivot_tables":0},"unopened":[],"bounds":{"document_bytes":16777216,"sheet_cells":100000,"rows_first":2000,"rows_last":500,"rows_between":2000,"halvings":0,"cell_chars":16384,"cell_head_chars":4096},"cells_cut":0,"cells_raw":0,"read":"whole","date_system":"1900"}

{"sheet":"Kämpfe","index":0,"n_rows":1384,"n_cols":12,"rows_kept":1384,"cut":false,"hidden":false,"merged":[[1,1,1,3],[1,4,1,6]]}
[null,null,null,null,null,null,null,null,"Kuh Nr.",null,"Anzahl Kämpfe","Gewonnen"]
[null,"Gewinner",null,null,"Verlierer",null,null,null,null,null,{"$f":"COUNTIFS($D$4:$E$3000,$I$2)","v":0},{"$f":"COUNTIFS($D$4:$D$3000,$I$2)","v":0}]
["Datum","Besitzer","Name","Nr.","Nr.2","Name2","Besitzer2"]
["2021-09-16",{"$f":"IF(ISBLANK(D4),\"Alain, nix drischribu\",VLOOKUP(D4,'2021'!$A$11:$G$143,4,FALSE))","v":"Wyssen Diego & Madlen"},{"$f":"VLOOKUP(D4,'2021'!$A$11:$G$143,2,FALSE)","v":"Xantara"},100,106,{"$f":"VLOOKUP(E4,'2021'!$A$11:$G$143,2,FALSE)","v":"Miss"},{"$f":"IF(ISBLANK(E4),\"hie eu nix drischribu\",VLOOKUP(E4,'2021'!$A$11:$G$143,4,FALSE))","v":"Zumoberhaus Pius"}]
["2021-09-16",{"$f":"IF(ISBLANK(D5),\"Alain, nix drischribu\",VLOOKUP(D5,'2021'!$A$11:$G$143,4,FALSE))","v":"Bregy Ralf & Adolf"},{"$f":"VLOOKUP(D5,'2021'!$A$11:$G$143,2,FALSE)","v":"Flacabre"},6,61,{"$f":"VLOOKUP(E5,'2021'!$A$11:$G$143,2,FALSE)","v":"Grolla"},{"$f":"IF(ISBLANK(E5),\"hie eu nix drischribu\",VLOOKUP(E5,'2021'!$A$11:$G$143,4,FALSE))","v":"Jäger Carlo & Lukas"}]
["2021-09-16",{"$f":"IF(ISBLANK(D6),\"Alain, nix drischribu\",VLOOKUP(D6,'2021'!$A$11:$G$143,4,FALSE))","v":"Zumofen / Gattlen"},{"$f":"VLOOKUP(D6,'2021'!$A$11:$G$143,2,FALSE)","v":"Rigolo"},117,19,{"$f":"VLOOKUP(E6,'2021'!$A$11:$G$143,2,FALSE)","v":"Tiranie"},{"$f":"IF(ISBLANK(E6),\"hie eu nix drischribu\",VLOOKUP(E6,'2021'!$A$11:$G$143,4,FALSE))","v":"Bregy Uli / Lisi & Pasci"}]
["2021-09-16",{"$f":"IF(ISBLANK(D7),\"Alain, nix drischribu\",VLOOKUP(D7,'2021'!$A$11:$G$143,4,FALSE))","v":"Jäger Carlo & Lukas"},{"$f":"VLOOKUP(D7,'2021'!$A$11:$G$143,2,FALSE)","v":"Megane"},62,117,{"$f":"VLOOKUP(E7,'2021'!$A$11:$G$143,2,FALSE)","v":"Rigolo"},{"$f":"IF(ISBLANK(E7),\"hie eu nix drischribu\",VLOOKUP(E7,'2021'!$A$11:$G$143,4,FALSE))","v":"Zumofen / Gattlen"}]
["2021-09-16",{"$f":"IF(ISBLANK(D8),\"Alain, nix drischribu\",VLOOKUP(D8,'2021'!$A$11:$G$143,4,FALSE))","v":"Bregy Ralf & Adolf"},{"$f":"VLOOKUP(D8,'2021'!$A$11:$G$143,2,FALSE)","v":"Canaille"},7,110,{"$f":"VLOOKUP(E8,'2021'!$A$11:$G$143,2,FALSE)","v":"Xena"},{"$f":"IF(ISBLANK(E8),\"hie eu nix drischribu\",VLOOKUP(E8,'2021'!$A$11:$G$143,4,FALSE))","v":"Zumofen / Gattlen"}]
["2021-09-16",{"$f":"IF(ISBLANK(D9),\"Alain, nix drischribu\",VLOOKUP(D9,'2021'!$A$11:$G$143,4,FALSE))","v":"Jäger Carlo & Lukas"},{"$f":"VLOOKUP(D9,'2021'!$A$11:$G$143,2,FALSE)","v":"Taverne"},66,105,{"$f":"VLOOKUP(E9,'2021'!$A$11:$G$143,2,FALSE)","v":"Corona"},{"$f":"IF(ISBLANK(E9),\"hie eu nix drischribu\",VLOOKUP(E9,'2021'!$A$11:$G$143,4,FALSE))","v":"Zumoberhaus Pius"}]
["2021-09-16",{"$f":"IF(ISBLANK(D10),\"Alain, nix drischribu\",VLOOKUP(D10,'2021'!$A$11:$G$143,4,FALSE))","v":"Williner Anton"},{"$f":"VLOOKUP(D10,'2021'!$A$11:$G$143,2,FALSE)","v":"Tira"},98,109,{"$f":"VLOOKUP(E10,'2021'!$A$11:$G$143,2,FALSE)","v":"Rena"},{"$f":"IF(ISBLANK(E10),\"hie eu nix drischribu\",VLOOKUP(E10,'2021'!$A$11:$G$143,4,FALSE))","v":"Zumofen / Gattlen"}]
["2021-09-15",{"$f":"IF(ISBLANK(D11),\"Alain, nix drischribu\",VLOOKUP(D11,'2021'!$A$11:$G$143,4,FALSE))","v":"Bregy Uli / Lisi & Pasci"},{"$f":"VLOOKUP(D11,'2021'!$A$11:$G$143,2,FALSE)","v":"Bora"},21,96,{"$f":"VLOOKUP(E11,'2021'!$A$11:$G$143,2,FALSE)","v":"Vanessa"},{"$f":"IF(ISBLANK(E11),\"hie eu nix drischribu\",VLOOKUP(E11,'2021'!$A$11:$G$143,4,FALSE))","v":"Williner Anton"}]
["2021-09-15",{"$f":"IF(ISBLANK(D12),\"Alain, nix drischribu\",VLOOKUP(D12,'2021'!$A$11:$G$143,4,FALSE))","v":"Jäger Carlo & Lukas"},{"$f":"VLOOKUP(D12,'2021'!$A$11:$G$143,2,FALSE)","v":"Megane"},62,37,{"$f":"VLOOKUP(E12,'2021'!$A$11:$G$143,2,FALSE)","v":"Toscana"},{"$f":"IF(ISBLANK(E12),\"hie eu nix drischribu\",VLOOKUP(E12,'2021'!$A$11:$G$143,4,FALSE))","v":"Fux W., J., & Wyer Piet"}]
["2021-09-15",{"$f":"IF(ISBLANK(D13),\"Alain, nix drischribu\",VLOOKUP(D13,'2021'!$A$11:$G$143,4,FALSE))","v":"Gebrüder Jäger"},{"$f":"VLOOKUP(D13,'2021'!$A$11:$G$143,2,FALSE)","v":"Tina"},40,2,{"$f":"VLOOKUP(E13,'2021'!$A$11:$G$143,2,FALSE)","v":"Fantastic"},{"$f":"IF(ISBLANK(E13),\"hie eu nix drischribu\",VLOOKUP(E13,'2021'!$A$11:$G$143,4,FALSE))","v":"Bayard Medard & Gustav"}]
["2021-09-15",{"$f":"IF(ISBLANK(D14),\"Alain, nix drischribu\",VLOOKUP(D14,'2021'!$A$11:$G$143,4,FALSE))","v":"Fux W., J., & Wyer Piet"},{"$f":"VLOOKUP(D14,'2021'!$A$11:$G$143,2,FALSE)","v":"Bacardi"},39,77,{"$f":"VLOOKUP(E14,'2021'!$A$11:$G$143,2,FALSE)","v":"Beres"},{"$f":"IF(ISBLANK(E14),\"hie eu nix drischribu\",VLOOKUP(E14,'2021'!$A$11:$G$143,4,FALSE))","v":"Stallung Passeraub"}]
["2021-09-15",{"$f":"IF(ISBLANK(D15),\"Alain, nix drischribu\",VLOOKUP(D15,'2021'!$A$11:$G$143,4,FALSE))","v":"Fux W., J., & Wyer Piet"},{"$f":"VLOOKUP(D15,'2021'!$A$11:$G$143,2,FALSE)","v":"Bresil"},38,124,{"$f":"VLOOKUP(E15,'2021'!$A$11:$G$143,2,FALSE)","v":"Xara"},{"$f":"IF(ISBLANK(E15),\"hie eu nix drischribu\",VLOOKUP(E15,'2021'!$A$11:$G$143,4,FALSE))","v":"Zumofen / Gattlen"}]
["2021-09-15",{"$f":"IF(ISBLANK(D16),\"Alain, nix drischribu\",VLOOKUP(D16,'2021'!$A$11:$G$143,4,FALSE))","v":"Sewer R. & Thommen S."},{"$f":"VLOOKUP(D16,'2021'!$A$11:$G$143,2,FALSE)","v":"Samantha"},85,86,{"$f":"VLOOKUP(E16,'2021'!$A$11:$G$143,2,FALSE)","v":"Tessa"},{"$f":"IF(ISBLANK(E16),\"hie eu nix drischribu\",VLOOKUP(E16,'2021'!$A$11:$G$143,4,FALSE))","v":"Sewer R. & Thommen S."}]
["2021-09-15",{"$f":"IF(ISBLANK(D17),\"Alain, nix drischribu\",VLOOKUP(D17,'2021'!$A$11:$G$143,4,FALSE))","v":"Jäger Carlo & Lukas"},{"$f":"VLOOKUP(D17,'2021'!$A$11:$G$143,2,FALSE)","v":"Prune"},57,87,{"$f":"VLOOKUP(E17,'2021'!$A$11:$G$143,2,FALSE)","v":"Tiara"},{"$f":"IF(ISBLANK(E17),\"hie eu nix drischribu\",VLOOKUP(E17,'2021'!$A$11:$G$143,4,FALSE))","v":"Sewer R. & Thommen S."}]
["2021-09-15",{"$f":"IF(ISBLANK(D18),\"Alain, nix drischribu\",VLOOKUP(D18,'2021'!$A$11:$G$143,4,FALSE))","v":"Fux W., J., & Wyer Piet"},{"$f":"VLOOKUP(D18,'2021'!$A$11:$G$143,2,FALSE)","v":"Valaisanne"},34,100,{"$f":"VLOOKUP(E18,'2021'!$A$11:$G$143,2,FALSE)","v":"Xantara"},{"$f":"IF(ISBLANK(E18),\"hie eu nix drischribu\",VLOOKUP(E18,'2021'!$A$11:$G$143,4,FALSE))","v":"Wyssen Diego & Madlen"}]
["2021-09-15",{"$f":"IF(ISBLANK(D19),\"Alain, nix drischribu\",VLOOKUP(D19,'2021'!$A$11:$G$143,4,FALSE))","v":"Mathieu Leander & Sascha"},{"$f":"VLOOKUP(D19,'2021'!$A$11:$G$143,2,FALSE)","v":"Bonita"},70,33,{"$f":"VLOOKUP(E19,'2021'!$A$11:$G$143,2,FALSE)","v":"Baquera"},{"$f":"IF(ISBLANK(E19),\"hie eu nix drischribu\",VLOOKUP(E19,'2021'!$A$11:$G$143,4,FALSE))","v":"Fux W., J., & Wyer Piet"}]
["2021-09-15",{"$f":"IF(ISBLANK(D20),\"Alain, nix drischribu\",VLOOKUP(D20,'2021'!$A$11:$G$143,4,FALSE))","v":"Gebrüder Jäger"},{"$f":"VLOOKUP(D20,'2021'!$A$11:$G$143,2,FALSE)","v":"Lorens"},46,78,{"$f":"VLOOKUP(E20,'2021'!$A$11:$G$143,2,FALSE)","v":"Ballerine"},{"$f":"IF(ISBLANK(E20),\"hie eu nix drischribu\",VLOOKUP(E20,'2021'!$A$11:$G$143,4,FALSE))","v":"Stallung Passeraub"}]
["2021-09-15",{"$f":"IF(ISBLANK(D21),\"Alain, nix drischribu\",VLOOKUP(D21,'2021'!$A$11:$G$143,4,FALSE))","v":"Zumofen / Gattlen"},{"$f":"VLOOKUP(D21,'2021'!$A$11:$G$143,2,FALSE)","v":"Raja"},121,17,{"$f":"VLOOKUP(E21,'2021'!$A$11:$G$143,2,FALSE)","v":"Simba"},{"$f":"IF(ISBLANK(E21),\"hie eu nix drischribu\",VLOOKUP(E21,'2021'!$A$11:$G$143,4,FALSE))","v":"Bregy Uli / Lisi & Pasci"}]
["2021-09-15",{"$f":"IF(ISBLANK(D22),\"Alain, nix drischribu\",VLOOKUP(D22,'2021'!$A$11:$G$143,4,FALSE))","v":"Bregy Uli / Lisi & Pasci"},{"$f":"VLOOKUP(D22,'2021'!$A$11:$G$143,2,FALSE)","v":"Calette"},25,60,{"$f":"VLOOKUP(E22,'2021'!$A$11:$G$143,2,FALSE)","v":"Bayonne"},{"$f":"IF(ISBLANK(E22),\"hie eu nix drischribu\",VLOOKUP(E22,'2021'!$A$11:$G$143,4,FALSE))","v":"Jäger Carlo & Lukas"}]
["2021-09-15",{"$f":"IF(ISBLANK(D23),\"Alain, nix drischribu\",VLOOKUP(D23,'2021'!$A$11:$G$143,4,FALSE))","v":"Zumofen / Gattlen"},{"$f":"VLOOKUP(D23,'2021'!$A$11:$G$143,2,FALSE)","v":"Rena"},109,22,{"$f":"VLOOKUP(E23,'2021'!$A$11:$G$143,2,FALSE)","v":"Xaphir"},{"$f":"IF(ISBLANK(E23),\"hie eu nix drischribu\",VLOOKUP(E23,'2021'!$A$11:$G$143,4,FALSE))","v":"Bregy Uli / Lisi & Pasci"}]
["2021-09-15",{"$f":"IF(ISBLANK(D24),\"Alain, nix drischribu\",VLOOKUP(D24,'2021'!$A$11:$G$143,4,FALSE))","v":"Stallung Passeraub"},{"$f":"VLOOKUP(D24,'2021'!$A$11:$G$143,2,FALSE)","v":"Ballerine"},78,3,{"$f":"VLOOKUP(E24,'2021'!$A$11:$G$143,2,FALSE)","v":"Priska"},{"$f":"IF(ISBLANK(E24),\"hie eu nix drischribu\",VLOOKUP(E24,'2021'!$A$11:$G$143,4,FALSE))","v":"Bayard Medard & Gustav"}]
["2021-09-15",{"$f":"IF(ISBLANK(D25),\"Alain, nix drischribu\",VLOOKUP(D25,'2021'!$A$11:$G$143,4,FALSE))","v":"Stallung Passeraub"},{"$f":"VLOOKUP(D25,'2021'!$A$11:$G$143,2,FALSE)","v":"Marla"},79,83,{"$f":"VLOOKUP(E25,'2021'!$A$11:$G$143,2,FALSE)","v":"Cayenne"},{"$f":"IF(ISBLANK(E25),\"hie eu nix drischribu\",VLOOKUP(E25,'2021'!$A$11:$G$143,4,FALSE))","v":"Stallung zum Stäg"}]
["2021-09-15",{"$f":"IF(ISBLANK(D26),\"Alain, nix drischribu\",VLOOKUP(D26,'2021'!$A$11:$G$143,4,FALSE))","v":"Jäger Carlo & Lukas"},{"$f":"VLOOKUP(D26,'2021'!$A$11:$G$143,2,FALSE)","v":"Metis"},63,30,{"$f":"VLOOKUP(E26,'2021'!$A$11:$G$143,2,FALSE)","v":"Diamant"},{"$f":"IF(ISBLANK(E26),\"hie eu nix drischribu\",VLOOKUP(E26,'2021'!$A$11:$G$143,4,FALSE))","v":"Fux W., J., & Wyer Piet"}]
["2021-09-15",{"$f":"IF(ISBLANK(D27),\"Alain, nix drischribu\",VLOOKUP(D27,'2021'!$A$11:$G$143,4,FALSE))","v":"Wyssen Diego & Madlen"},{"$f":"VLOOKUP(D27,'2021'!$A$11:$G$143,2,FALSE)","v":"Rasta"},102,54,{"$f":"VLOOKUP(E27,'2021'!$A$11:$G$143,2,FALSE)","v":"Flora"},{"$f":"IF(ISBLANK(E27),\"hie eu nix drischribu\",VLOOKUP(E27,'2021'!$A$11:$G$143,4,FALSE))","v":"Jäger Carlo & Lukas"}]
["2021-09-14",{"$f":"IF(ISBLANK(D28),\"Alain, nix drischribu\",VLOOKUP(D28,'2021'!$A$11:$G$143,4,FALSE))","v":"Wyssen Diego & Madlen"},{"$f":"VLOOKUP(D28,'2021'!$A$11:$G$143,2,FALSE)","v":"Xena"},103,109,{"$f":"VLOOKUP(E28,'2021'!$A$11:$G$143,2,FALSE)","v":"Rena"},{"$f":"IF(ISBLANK(E28),\"hie eu nix drischribu\",VLOOKUP(E28,'2021'!$A$11:$G$143,4,FALSE))","v":"Zumofen / Gattlen"}]
["2021-09-14",{"$f":"IF(ISBLANK(D29),\"Alain, nix drischribu\",VLOOKUP(D29,'2021'!$A$11:$G$143,4,FALSE))","v":"Gebrüder Jäger"},{"$f":"VLOOKUP(D29,'2021'!$A$11:$G$143,2,FALSE)","v":"Tiara"},44,34,{"$f":"VLOOKUP(E29,'2021'!$A$11:$G$143,2,FALSE)","v":"Valaisanne"},{"$f":"IF(ISBLANK(E29),\"hie eu nix drischribu\",VLOOKUP(E29,'2021'!$A$11:$G$143,4,FALSE))","v":"Fux W., J., & Wyer Piet"}]
["2021-09-14",{"$f":"IF(ISBLANK(D30),\"Alain, nix drischribu\",VLOOKUP(D30,'2021'!$A$11:$G$143,4,FALSE))","v":"Wyssen Diego & Madlen"},{"$f":"VLOOKUP(D30,'2021'!$A$11:$G$143,2,FALSE)","v":"Xhyla"},104,109,{"$f":"VLOOKUP(E30,'2021'!$A$11:$G$143,2,FALSE)","v":"Rena"},{"$f":"IF(ISBLANK(E30),\"hie eu nix drischribu\",VLOOKUP(E30,'2021'!$A$11:$G$143,4,FALSE))","v":"Zumofen / Gattlen"}]
["2021-09-14",{"$f":"IF(ISBLANK(D31),\"Alain, nix drischribu\",VLOOKUP(D31,'2021'!$A$11:$G$143,4,FALSE))","v":"Zumofen / Gattlen"},{"$f":"VLOOKUP(D31,'2021'!$A$11:$G$143,2,FALSE)","v":"Palona"},111,38,{"$f":"VLOOKUP(E31,'2021'!$A$11:$G$143,2,FALSE)","v":"Bresil"},{"$f":"IF(ISBLANK(E31),\"hie eu nix drischribu\",VLOOKUP(E31,'2021'!$A$11:$G$143,4,FALSE))","v":"Fux W., J., & Wyer Piet"}]
["2021-09-14",{"$f":"IF(ISBLANK(D32),\"Alain, nix drischribu\",VLOOKUP(D32,'2021'!$A$11:$G$143,4,FALSE))","v":"Mathieu Leander & Sascha"},{"$f":"VLOOKUP(D32,'2021'!$A$11:$G$143,2,FALSE)","v":"Babylon"},72,50,{"$f":"VLOOKUP(E32,'2021'!$A$11:$G$143,2,FALSE)","v":"Pruedence"},{"$f":"IF(ISBLANK(E32),\"hie eu nix drischribu\",VLOOKUP(E32,'2021'!$A$11:$G$143,4,FALSE))","v":"Hischier Pius"}]
["2021-09-14",{"$f":"IF(ISBLANK(D33),\"Alain, nix drischribu\",VLOOKUP(D33,'2021'!$A$11:$G$143,4,FALSE))","v":"Stallung zum Stäg"},{"$f":"VLOOKUP(D33,'2021'!$A$11:$G$143,2,FALSE)","v":"Cayenne"},83,31,{"$f":"VLOOKUP(E33,'2021'!$A$11:$G$143,2,FALSE)","v":"Bastis"},{"$f":"IF(ISBLANK(E33),\"hie eu nix drischribu\",VLOOKUP(E33,'2021'!$A$11:$G$143,4,FALSE))","v":"Fux W., J., & Wyer Piet"}]
["2021-09-14",{"$f":"IF(ISBLANK(D34),\"Alain, nix drischribu\",VLOOKUP(D34,'2021'!$A$11:$G$143,4,FALSE))","v":"Zumofen / Gattlen"},{"$f":"VLOOKUP(D34,'2021'!$A$11:$G$143,2,FALSE)","v":"Rigolo"},117,3,{"$f":"VLOOKUP(E34,'2021'!$A$11:$G$143,2,FALSE)","v":"Priska"},{"$f":"IF(ISBLANK(E34),\"hie eu nix drischribu\",VLOOKUP(E34,'2021'!$A$11:$G$143,4,FALSE))","v":"Bayard Medard & Gustav"}]
["2021-09-14",{"$f":"IF(ISBLANK(D35),\"Alain, nix drischribu\",VLOOKUP(D35,'2021'!$A$11:$G$143,4,FALSE))","v":"Stallung Passeraub"},{"$f":"VLOOKUP(D35,'2021'!$A$11:$G$143,2,FALSE)","v":"Bonita"},80,124,{"$f":"VLOOKUP(E35,'2021'!$A$11:$G$143,2,FALSE)","v":"Xara"},{"$f":"IF(ISBLANK(E35),\"hie eu nix drischribu\",VLOOKUP(E35,'2021'!$A$11:$G$143,4,FALSE))","v":"Zumofen / Gattlen"}]
["2021-09-14",{"$f":"IF(ISBLANK(D36),\"Alain, nix drischribu\",VLOOKUP(D36,'2021'!$A$11:$G$143,4,FALSE))","v":"Hischier H. & Bühlmann J."},{"$f":"VLOOKUP(D36,'2021'!$A$11:$G$143,2,FALSE)","v":"Jamada"},48,73,{"$f":"VLOOKUP(E36,'2021'!$A$11:$G$143,2,FALSE)","v":"Bajka"},{"$f":"IF(ISBLANK(E36),\"hie eu nix drischribu\",VLOOKUP(E36,'2021'!$A$11:$G$143,4,FALSE))","v":"Stallung Passeraub"}]
["2021-09-14",{"$f":"IF(ISBLANK(D37),\"Alain, nix drischribu\",VLOOKUP(D37,'2021'!$A$11:$G$143,4,FALSE))","v":"Zumofen / Gattlen"},{"$f":"VLOOKUP(D37,'2021'!$A$11:$G$143,2,FALSE)","v":"Fayola"},119,9,{"$f":"VLOOKUP(E37,'2021'!$A$11:$G$143,2,FALSE)","v":"Coquette"},{"$f":"IF(ISBLANK(E37),\"hie eu nix drischribu\",VLOOKUP(E37,'2021'!$A$11:$G$143,4,FALSE))","v":"Bregy Ralf & Adolf"}]
["2021-09-14",{"$f":"IF(ISBLANK(D38),\"Alain, nix drischribu\",VLOOKUP(D38,'2021'!$A$11:$G$143,4,FALSE))","v":"Bayard Medard & Gustav"},{"$f":"VLOOKUP(D38,'2021'!$A$11:$G$143,2,FALSE)","v":"Priska"},3,105,{"$f":"VLOOKUP(E38,'2021'!$A$11:$G$143,2,FALSE)","v":"Corona"},{"$f":"IF(ISBLANK(E38),\"hie eu nix drischribu\",VLOOKUP(E38,'2021'!$A$11:$G$143,4,FALSE))","v":"Zumoberhaus Pius"}]
["2021-09-14",{"$f":"IF(ISBLANK(D39),\"Alain, nix drischribu\",VLOOKUP(D39,'2021'!$A$11:$G$143,4,FALSE))","v":"Jäger Carlo & Lukas"},{"$f":"VLOOKUP(D39,'2021'!$A$11:$G$143,2,FALSE)","v":"Mygale"},56,81,{"$f":"VLOOKUP(E39,'2021'!$A$11:$G$143,2,FALSE)","v":"Fägär"},{"$f":"IF(ISBLANK(E39),\"hie eu nix drischribu\",VLOOKUP(E39,'2021'!$A$11:$G$143,4,FALSE))","v":"Hutter Richard"}]
["2021-09-14",{"$f":"IF(ISBLANK(D40),\"Alain, nix drischribu\",VLOOKUP(D40,'2021'!$A$11:$G$143,4,FALSE))","v":"Bregy Silvan & Patrik"},{"$f":"VLOOKUP(D40,'2021'!$A$11:$G$143,2,FALSE)","v":"Tequilla"},13,63,{"$f":"VLOOKUP(E40,'2021'!$A$11:$G$143,2,FALSE)","v":"Metis"},{"$f":"IF(ISBLANK(E40),\"hie eu nix drischribu\",VLOOKUP(E40,'2021'!$A$11:$G$143,4,FALSE))","v":"Jäger Carlo & Lukas"}]
["2021-09-14",{"$f":"IF(ISBLANK(D41),\"Alain, nix drischribu\",VLOOKUP(D41,'2021'!$A$11:$G$143,4,FALSE))","v":"Zumofen / Gattlen"},{"$f":"VLOOKUP(D41,'2021'!$A$11:$G$143,2,FALSE)","v":"Raja"},121,81,{"$f":"VLOOKUP(E41,'2021'!$A$11:$G$143,2,FALSE)","v":"Fägär"},{"$f":"IF(ISBLANK(E41),\"hie eu nix drischribu\",VLOOKUP(E41,'2021'!$A$11:$G$143,4,FALSE))","v":"Hutter Richard"}]
["2021-09-14",{"$f":"IF(ISBLANK(D42),\"Alain, nix drischribu\",VLOOKUP(D42,'2021'!$A$11:$G$143,4,FALSE))","v":"Bregy Ralf & Adolf"},{"$f":"VLOOKUP(D42,'2021'!$A$11:$G$143,2,FALSE)","v":"Flacabre"},6,46,{"$f":"VLOOKUP(E42,'2021'!$A$11:$G$143,2,FALSE)","v":"Lorens"},{"$f":"IF(ISBLANK(E42),\"hie eu nix drischribu\",VLOOKUP(E42,'2021'!$A$11:$G$143,4,FALSE))","v":"Gebrüder Jäger"}]
["2021-09-14",{"$f":"IF(ISBLANK(D43),\"Alain, nix drischribu\",VLOOKUP(D43,'2021'!$A$11:$G$143,4,FALSE))","v":"Gebrüder Jäger"},{"$f":"VLOOKUP(D43,'2021'!$A$11:$G$143,2,FALSE)","v":"Simba"},42,17,{"$f":"VLOOKUP(E43,'2021'!$A$11:$G$143,2,FALSE)","v":"Simba"},{"$f":"IF(ISBLANK(E43),\"hie eu nix drischribu\",VLOOKUP(E43,'2021'!$A$11:$G$143,4,FALSE))","v":"Bregy Uli / Lisi & Pasci"}]
["2021-09-14",{"$f":"IF(ISBLANK(D44),\"Alain, nix drischribu\",VLOOKUP(D44,'2021'!$A$11:$G$143,4,FALSE))","v":"Bregy Ralf & Adolf"},{"$f":"VLOOKUP(D44,'2021'!$A$11:$G$143,2,FALSE)","v":"Flacabre"},6,106,{"$f":"VLOOKUP(E44,'2021'!$A$11:$G$143,2,FALSE)","v":"Miss"},{"$f":"IF(ISBLANK(E44),\"hie eu nix drischribu\",VLOOKUP(E44,'2021'!$A$11:$G$143,4,FALSE))","v":"Zumoberhaus Pius"}]
["2021-09-14",{"$f":"IF(ISBLANK(D45),\"Alain, nix drischribu\",VLOOKUP(D45,'2021'!$A$11:$G$143,4,FALSE))","v":"Williner Anton"},{"$f":"VLOOKUP(D45,'2021'!$A$11:$G$143,2,FALSE)","v":"Vivana"},95,10,{"$f":"VLOOKUP(E45,'2021'!$A$11:$G$143,2,FALSE)","v":"Diabolo"},{"$f":"IF(ISBLANK(E45),\"hie eu nix drischribu\",VLOOKUP(E45,'2021'!$A$11:$G$143,4,FALSE))","v":"Bregy Ralf & Adolf"}]
["2021-09-14",{"$f":"IF(ISBLANK(D46),\"Alain, nix drischribu\",VLOOKUP(D46,'2021'!$A$11:$G$143,4,FALSE))","v":"Bregy Ralf & Adolf"},{"$f":"VLOOKUP(D46,'2021'!$A$11:$G$143,2,FALSE)","v":"Coquette"},9,116,{"$f":"VLOOKUP(E46,'2021'!$A$11:$G$143,2,FALSE)","v":"Pinoccio"},{"$f":"IF(ISBLANK(E46),\"hie eu nix drischribu\",VLOOKUP(E46,'2021'!$A$11:$G$143,4,FALSE))","v":"Zumofen / Gattlen"}]
["2021-09-14",{"$f":"IF(ISBLANK(D47),\"Alain, nix drischribu\",VLOOKUP(D47,'2021'!$A$11:$G$143,4,FALSE))","v":"Stallung Passeraub"},{"$f":"VLOOKUP(D47,'2021'!$A$11:$G$143,2,FALSE)","v":"Ballerine"},78,10,{"$f":"VLOOKUP(E47,'2021'!$A$11:$G$143,2,FALSE)","v":"Diabolo"},{"$f":"IF(ISBLANK(E47),\"hie eu nix drischribu\",VLOOKUP(E47,'2021'!$A$11:$G$143,4,FALSE))","v":"Bregy Ralf & Adolf"}]
["2021-09-14",{"$f":"IF(ISBLANK(D48),\"Alain, nix drischribu\",VLOOKUP(D48,'2021'!$A$11:$G$143,4,FALSE))","v":"Fux W., J., & Wyer Piet"},{"$f":"VLOOKUP(D48,'2021'!$A$11:$G$143,2,FALSE)","v":"Bacardi"},39,111,{"$f":"VLOOKUP(E48,'2021'!$A$11:$G$143,2,FALSE)","v":"Palona"},{"$f":"IF(ISBLANK(E48),\"hie eu nix drischribu\",VLOOKUP(E48,'2021'!$A$11:$G$143,4,FALSE))","v":"Zumofen / Gattlen"}]
["2021-09-14",{"$f":"IF(ISBLANK(D49),\"Alain, nix drischribu\",VLOOKUP(D49,'2021'!$A$11:$G$143,4,FALSE))","v":"Sewer R. & Thommen S."},{"$f":"VLOOKUP(D49,'2021'!$A$11:$G$143,2,FALSE)","v":"Bolera"},90,47,{"$f":"VLOOKUP(E49,'2021'!$A$11:$G$143,2,FALSE)","v":"Lenja"},{"$f":"IF(ISBLANK(E49),\"hie eu nix drischribu\",VLOOKUP(E49,'2021'!$A$11:$G$143,4,FALSE))","v":"Hischier H. & Bühlmann J."}]
["2021-09-14",{"$f":"IF(ISBLANK(D50),\"Alain, nix drischribu\",VLOOKUP(D50,'2021'!$A$11:$G$143,4,FALSE))","v":"Stallung Passeraub"},{"$f":"VLOOKUP(D50,'2021'!$A$11:$G$143,2,FALSE)","v":"Bajka"},73,47,{"$f":"VLOOKUP(E50,'2021'!$A$11:$G$143,2,FALSE)","v":"Lenja"},{"$f":"IF(ISBLANK(E50),\"hie eu nix drischribu\",VLOOKUP(E50,'2021'!$A$11:$G$143,4,FALSE))","v":"Hischier H. & Bühlmann J."}]
["2021-09-14",{"$f":"IF(ISBLANK(D51),\"Alain, nix drischribu\",VLOOKUP(D51,'2021'!$A$11:$G$143,4,FALSE))","v":"Jäger Carlo & Lukas"},{"$f":"VLOOKUP(D51,'2021'!$A$11:$G$143,2,FALSE)","v":"Tokio"},67,34,{"$f":"VLOOKUP(E51,'2021'!$A$11:$G$143,2,FALSE)","v":"Valaisanne"},{"$f":"IF(ISBLANK(E51),\"hie eu nix drischribu\",VLOOKUP(E51,'2021'!$A$11:$G$143,4,FALSE))","v":"Fux W., J., & Wyer Piet"}]
["2021-09-14",{"$f":"IF(ISBLANK(D52),\"Alain, nix drischribu\",VLOOKUP(D52,'2021'!$A$11:$G$143,4,FALSE))","v":"Jäger Carlo & Lukas"},{"$f":"VLOOKUP(D52,'2021'!$A$11:$G$143,2,FALSE)","v":"Caline"},53,100,{"$f":"VLOOKUP(E52,'2021'!$A$11:$G$143,2,FALSE)","v":"Xantara"},{"$f":"IF(ISBLANK(E52),\"hie eu nix drischribu\",VLOOKUP(E52,'2021'!$A$11:$G$143,4,FALSE))","v":"Wyssen Diego & Madlen"}]
["2021-09-14",{"$f":"IF(ISBLANK(D53),\"Alain, nix drischribu\",VLOOKUP(D53,'2021'!$A$11:$G$143,4,FALSE))","v":"Stallung Passeraub"},{"$f":"VLOOKUP(D53,'2021'!$A$11:$G$143,2,FALSE)","v":"Ballerine"},78,12,{"$f":"VLOOKUP(E53,'2021'!$A$11:$G$143,2,FALSE)","v":"Milow"},{"$f":"IF(ISBLANK(E53),\"hie eu nix drischribu\",VLOOKUP(E53,'2021'!$A$11:$G$143,4,FALSE))","v":"Bregy Silvan & Patrik"}]
["2021-09-14",{"$f":"IF(ISBLANK(D54),\"Alain, nix drischribu\",VLOOKUP(D54,'2021'!$A$11:$G$143,4,FALSE))","v":"Fux W., J., & Wyer Piet"},{"$f":"VLOOKUP(D54,'2021'!$A$11:$G$143,2,FALSE)","v":"Toscana"},37,75,{"$f":"VLOOKUP(E54,'2021'!$A$11:$G$143,2,FALSE)","v":"Menance"},{"$f":"IF(ISBLANK(E54),\"hie eu nix drischribu\",VLOOKUP(E54,'2021'!$A$11:$G$143,4,FALSE))","v":"Stallung Passeraub"}]
["2021-09-13",{"$f":"IF(ISBLANK(D55),\"Alain, nix drischribu\",VLOOKUP(D55,'2021'!$A$11:$G$143,4,FALSE))","v":"Bregy Uli / Lisi & Pasci"},{"$f":"VLOOKUP(D55,'2021'!$A$11:$G$143,2,FALSE)","v":"Calette"},25,61,{"$f":"VLOOKUP(E55,'2021'!$A$11:$G$143,2,FALSE)","v":"Grolla"},{"$f":"IF(ISBLANK(E55),\"hie eu nix drischribu\",VLOOKUP(E55,'2021'!$A$11:$G$143,4,FALSE))","v":"Jäger Carlo & Lukas"}]
["2021-09-13",{"$f":"IF(ISBLANK(D56),\"Alain, nix drischribu\",VLOOKUP(D56,'2021'!$A$11:$G$143,4,FALSE))","v":"Zumofen / Gattlen"},{"$f":"VLOOKUP(D56,'2021'!$A$11:$G$143,2,FALSE)","v":"Vanda"},113,88,{"$f":"VLOOKUP(E56,'2021'!$A$11:$G$143,2,FALSE)","v":"Malice"},{"$f":"IF(ISBLANK(E56),\"hie eu nix drischribu\",VLOOKUP(E56,'2021'!$A$11:$G$143,4,FALSE))","v":"Sewer R. & Thommen S."}]
["2021-09-13",{"$f":"IF(ISBLANK(D57),\"Alain, nix drischribu\",VLOOKUP(D57,'2021'!$A$11:$G$143,4,FALSE))","v":"Bregy Uli / Lisi & Pasci"},{"$f":"VLOOKUP(D57,'2021'!$A$11:$G$143,2,FALSE)","v":"Simba"},17,113,{"$f":"VLOOKUP(E57,'2021'!$A$11:$G$143,2,FALSE)","v":"Vanda"},{"$f":"IF(ISBLANK(E57),\"hie eu nix drischribu\",VLOOKUP(E57,'2021'!$A$11:$G$143,4,FALSE))","v":"Zumofen / Gattlen"}]
["2021-09-13",{"$f":"IF(ISBLANK(D58),\"Alain, nix drischribu\",VLOOKUP(D58,'2021'!$A$11:$G$143,4,FALSE))","v":"Bregy Ralf & Adolf"},{"$f":"VLOOKUP(D58,'2021'!$A$11:$G$143,2,FALSE)","v":"Flacabre"},6,37,{"$f":"VLOOKUP(E58,'2021'!$A$11:$G$143,2,FALSE)","v":"Toscana"},{"$f":"IF(ISBLANK(E58),\"hie eu nix drischribu\",VLOOKUP(E58,'2021'!$A$11:$G$143,4,FALSE))","v":"Fux W., J., & Wyer Piet"}]
["2021-09-13",{"$f":"IF(ISBLANK(D59),\"Alain, nix drischribu\",VLOOKUP(D59,'2021'!$A$11:$G$143,4,FALSE))","v":"Hutter Richard"},{"$f":"VLOOKUP(D59,'2021'!$A$11:$G$143,2,FALSE)","v":"Fägär"},81,47,{"$f":"VLOOKUP(E59,'2021'!$A$11:$G$143,2,FALSE)","v":"Lenja"},{"$f":"IF(ISBLANK(E59),\"hie eu nix drischribu\",VLOOKUP(E59,'2021'!$A$11:$G$143,4,FALSE))","v":"Hischier H. & Bühlmann J."}]
["2021-09-13",{"$f":"IF(ISBLANK(D60),\"Alain, nix drischribu\",VLOOKUP(D60,'2021'!$A$11:$G$143,4,FALSE))","v":"Bregy Ralf & Adolf"},{"$f":"VLOOKUP(D60,'2021'!$A$11:$G$143,2,FALSE)","v":"Cashida"},15,80,{"$f":"VLOOKUP(E60,'2021'!$A$11:$G$143,2,FALSE)","v":"Bonita"},{"$f":"IF(ISBLANK(E60),\"hie eu nix drischribu\",VLOOKUP(E60,'2021'!$A$11:$G$143,4,FALSE))","v":"Stallung Passeraub"}]
["2021-09-13",{"$f":"IF(ISBLANK(D61),\"Alain, nix drischribu\",VLOOKUP(D61,'2021'!$A$11:$G$143,4,FALSE))","v":"Bregy Uli / Lisi & Pasci"},{"$f":"VLOOKUP(D61,'2021'!$A$11:$G$143,2,FALSE)","v":"Cataleya"},26,53,{"$f":"VLOOKUP(E61,'2021'!$A$11:$G$143,2,FALSE)","v":"Caline"},{"$f":"IF(ISBLANK(E61),\"hie eu nix drischribu\",VLOOKUP(E61,'2021'!$A$11:$G$143,4,FALSE))","v":"Jäger Carlo & Lukas"}]
["2021-09-13",{"$f":"IF(ISBLANK(D62),\"Alain, nix drischribu\",VLOOKUP(D62,'2021'!$A$11:$G$143,4,FALSE))","v":"Bregy Uli / Lisi & Pasci"},{"$f":"VLOOKUP(D62,'2021'!$A$11:$G$143,2,FALSE)","v":"Murphy"},16,105,{"$f":"VLOOKUP(E62,'2021'!$A$11:$G$143,2,FALSE)","v":"Corona"},{"$f":"IF(ISBLANK(E62),\"hie eu nix drischribu\",VLOOKUP(E62,'2021'!$A$11:$G$143,4,FALSE))","v":"Zumoberhaus Pius"}]
["2021-09-13",{"$f":"IF(ISBLANK(D63),\"Alain, nix drischribu\",VLOOKUP(D63,'2021'!$A$11:$G$143,4,FALSE))","v":"Zumofen / Gattlen"},{"$f":"VLOOKUP(D63,'2021'!$A$11:$G$143,2,FALSE)","v":"Rambo"},120,10,{"$f":"VLOOKUP(E63,'2021'!$A$11:$G$143,2,FALSE)","v":"Diabolo"},{"$f":"IF(ISBLANK(E63),\"hie eu nix drischribu\",VLOOKUP(E63,'2021'!$A$11:$G$143,4,FALSE))","v":"Bregy Ralf & Adolf"}]
["2021-09-13",{"$f":"IF(ISBLANK(D64),\"Alain, nix drischribu\",VLOOKUP(D64,'2021'!$A$11:$G$143,4,FALSE))","v":"Mathieu Leander & Sascha"},{"$f":"VLOOKUP(D64,'2021'!$A$11:$G$143,2,FALSE)","v":"Bavaria"},69,106,{"$f":"VLOOKUP(E64,'2021'!$A$11:$G$143,2,FALSE)","v":"Miss"},{"$f":"IF(ISBLANK(E64),\"hie eu nix drischribu\",VLOOKUP(E64,'2021'!$A$11:$G$143,4,FALSE))","v":"Zumoberhaus Pius"}]
["2021-09-13",{"$f":"IF(ISBLANK(D65),\"Alain, nix drischribu\",VLOOKUP(D65,'2021'!$A$11:$G$143,4,FALSE))","v":"Stallung Passeraub"},{"$f":"VLOOKUP(D65,'2021'!$A$11:$G$143,2,FALSE)","v":"Ballerine"},78,12,{"$f":"VLOOKUP(E65,'2021'!$A$11:$G$143,2,FALSE)","v":"Milow"},{"$f":"IF(ISBLANK(E65),\"hie eu nix drischribu\",VLOOKUP(E65,'2021'!$A$11:$G$143,4,FALSE))","v":"Bregy Silvan & Patrik"}]
["2021-09-13",{"$f":"IF(ISBLANK(D66),\"Alain, nix drischribu\",VLOOKUP(D66,'2021'!$A$11:$G$143,4,FALSE))","v":"Bregy Ralf & Adolf"},{"$f":"VLOOKUP(D66,'2021'!$A$11:$G$143,2,FALSE)","v":"Canaille"},7,110,{"$f":"VLOOKUP(E66,'2021'!$A$11:$G$143,2,FALSE)","v":"Xena"},{"$f":"IF(ISBLANK(E66),\"hie eu nix drischribu\",VLOOKUP(E66,'2021'!$A$11:$G$143,4,FALSE))","v":"Zumofen / Gattlen"}]
["2021-09-13",{"$f":"IF(ISBLANK(D67),\"Alain, nix drischribu\",VLOOKUP(D67,'2021'!$A$11:$G$143,4,FALSE))","v":"Williner Anton"},{"$f":"VLOOKUP(D67,'2021'!$A$11:$G$143,2,FALSE)","v":"Vivana"},95,10,{"$f":"VLOOKUP(E67,'2021'!$A$11:$G$143,2,FALSE)","v":"Diabolo"},{"$f":"IF(ISBLANK(E67),\"hie eu nix drischribu\",VLOOKUP(E67,'2021'!$A$11:$G$143,4,FALSE))","v":"Bregy Ralf & Adolf"}]
["2021-09-13",{"$f":"IF(ISBLANK(D68),\"Alain, nix drischribu\",VLOOKUP(D68,'2021'!$A$11:$G$143,4,FALSE))","v":"Williner Anton"},{"$f":"VLOOKUP(D68,'2021'!$A$11:$G$143,2,FALSE)","v":"Vivana"},95,97,{"$f":"VLOOKUP(E68,'2021'!$A$11:$G$143,2,FALSE)","v":"Violine"},{"$f":"IF(ISBLANK(E68),\"hie eu nix drischribu\",VLOOKUP(E68,'2021'!$A$11:$G$143,4,FALSE))","v":"Williner Anton"}]
["2021-09-13",{"$f":"IF(ISBLANK(D69),\"Alain, nix drischribu\",VLOOKUP(D69,'2021'!$A$11:$G$143,4,FALSE))","v":"Wyssen Diego & Madlen"},{"$f":"VLOOKUP(D69,'2021'!$A$11:$G$143,2,FALSE)","v":"Xantara"},100,99,{"$f":"VLOOKUP(E69,'2021'!$A$11:$G$143,2,FALSE)","v":"Rijana"},{"$f":"IF(ISBLANK(E69),\"hie eu nix drischribu\",VLOOKUP(E69,'2021'!$A$11:$G$143,4,FALSE))","v":"Wyssen Diego & Madlen"}]
["2021-09-13",{"$f":"IF(ISBLANK(D70),\"Alain, nix drischribu\",VLOOKUP(D70,'2021'!$A$11:$G$143,4,FALSE))","v":"Stallung zum Stäg"},{"$f":"VLOOKUP(D70,'2021'!$A$11:$G$143,2,FALSE)","v":"Cayenne"},83,89,{"$f":"VLOOKUP(E70,'2021'!$A$11:$G$143,2,FALSE)","v":"Biscot"},{"$f":"IF(ISBLANK(E70),\"hie eu nix drischribu\",VLOOKUP(E70,'2021'!$A$11:$G$143,4,FALSE))","v":"Sewer R. & Thommen S."}]
["2021-09-12",{"$f":"IF(ISBLANK(D71),\"Alain, nix drischribu\",VLOOKUP(D71,'2021'!$A$11:$G$143,4,FALSE))","v":"Bregy Ralf & Adolf"},{"$f":"VLOOKUP(D71,'2021'!$A$11:$G$143,2,FALSE)","v":"Canabis"},14,104,{"$f":"VLOOKUP(E71,'2021'!$A$11:$G$143,2,FALSE)","v":"Xhyla"},{"$f":"IF(ISBLANK(E71),\"hie eu nix drischribu\",VLOOKUP(E71,'2021'!$A$11:$G$143,4,FALSE))","v":"Wyssen Diego & Madlen"}]
["2021-09-12",{"$f":"IF(ISBLANK(D72),\"Alain, nix drischribu\",VLOOKUP(D72,'2021'!$A$11:$G$143,4,FALSE))","v":"Zumofen / Gattlen"},{"$f":"VLOOKUP(D72,'2021'!$A$11:$G$143,2,FALSE)","v":"Palona"},111,38,{"$f":"VLOOKUP(E72,'2021'!$A$11:$G$143,2,FALSE)","v":"Bresil"},{"$f":"IF(ISBLANK(E72),\"hie eu nix drischribu\",VLOOKUP(E72,'2021'!$A$11:$G$143,4,FALSE))","v":"Fux W., J., & Wyer Piet"}]
["2021-09-12",{"$f":"IF(ISBLANK(D73),\"Alain, nix drischribu\",VLOOKUP(D73,'2021'!$A$11:$G$143,4,FALSE))","v":"Wyssen Diego & Madlen"},{"$f":"VLOOKUP(D73,'2021'!$A$11:$G$143,2,FALSE)","v":"Rijana"},99,50,{"$f":"VLOOKUP(E73,'2021'!$A$11:$G$143,2,FALSE)","v":"Pruedence"},{"$f":"IF(ISBLANK(E73),\"hie eu nix drischribu\",VLOOKUP(E73,'2021'!$A$11:$G$143,4,FALSE))","v":"Hischier Pius"}]
["2021-09-12",{"$f":"IF(ISBLANK(D74),\"Alain, nix drischribu\",VLOOKUP(D74,'2021'!$A$11:$G$143,4,FALSE))","v":"Stallung Passeraub"},{"$f":"VLOOKUP(D74,'2021'!$A$11:$G$143,2,FALSE)","v":"Beres"},77,113,{"$f":"VLOOKUP(E74,'2021'!$A$11:$G$143,2,FALSE)","v":"Vanda"},{"$f":"IF(ISBLANK(E74),\"hie eu nix drischribu\",VLOOKUP(E74,'2021'!$A$11:$G$143,4,FALSE))","v":"Zumofen / Gattlen"}]
["2021-09-12",{"$f":"IF(ISBLANK(D75),\"Alain, nix drischribu\",VLOOKUP(D75,'2021'!$A$11:$G$143,4,FALSE))","v":"Bregy Ralf & Adolf"},{"$f":"VLOOKUP(D75,'2021'!$A$11:$G$143,2,FALSE)","v":"Flacabre"},6,124,{"$f":"VLOOKUP(E75,'2021'!$A$11:$G$143,2,FALSE)","v":"Xara"},{"$f":"IF(ISBLANK(E75),\"hie eu nix drischribu\",VLOOKUP(E75,'2021'!$A$11:$G$143,4,FALSE))","v":"Zumofen / Gattlen"}]
["2021-09-12",{"$f":"IF(ISBLANK(D76),\"Alain, nix drischribu\",VLOOKUP(D76,'2021'!$A$11:$G$143,4,FALSE))","v":"Hutter Richard"},{"$f":"VLOOKUP(D76,'2021'!$A$11:$G$143,2,FALSE)","v":"Fägär"},81,54,{"$f":"VLOOKUP(E76,'2021'!$A$11:$G$143,2,FALSE)","v":"Flora"},{"$f":"IF(ISBLANK(E76),\"hie eu nix drischribu\",VLOOKUP(E76,'2021'!$A$11:$G$143,4,FALSE))","v":"Jäger Carlo & Lukas"}]
["2021-09-12",{"$f":"IF(ISBLANK(D77),\"Alain, nix drischribu\",VLOOKUP(D77,'2021'!$A$11:$G$143,4,FALSE))","v":"Bregy Ralf & Adolf"},{"$f":"VLOOKUP(D77,'2021'!$A$11:$G$143,2,FALSE)","v":"Creola"},8,15,{"$f":"VLOOKUP(E77,'2021'!$A$11:$G$143,2,FALSE)","v":"Cashida"},{"$f":"IF(ISBLANK(E77),\"hie eu nix drischribu\",VLOOKUP(E77,'2021'!$A$11:$G$143,4,FALSE))","v":"Bregy Ralf & Adolf"}]
["2021-09-12",{"$f":"IF(ISBLANK(D78),\"Alain, nix drischribu\",VLOOKUP(D78,'2021'!$A$11:$G$143,4,FALSE))","v":" Bregy Uli / Lisi & Pasci"},{"$f":"VLOOKUP(D78,'2021'!$A$11:$G$143,2,FALSE)","v":"Caline"},20,19,{"$f":"VLOOKUP(E78,'2021'!$A$11:$G$143,2,FALSE)","v":"Tiranie"},{"$f":"IF(ISBLANK(E78),\"hie eu nix drischribu\",VLOOKUP(E78,'2021'!$A$11:$G$143,4,FALSE))","v":"Bregy Uli / Lisi & Pasci"}]
["2021-09-12",{"$f":"IF(ISBLANK(D79),\"Alain, nix drischribu\",VLOOKUP(D79,'2021'!$A$11:$G$143,4,FALSE))","v":"Williner Anton"},{"$f":"VLOOKUP(D79,'2021'!$A$11:$G$143,2,FALSE)","v":"Vanessa"},96,14,{"$f":"VLOOKUP(E79,'2021'!$A$11:$G$143,2,FALSE)","v":"Canabis"},{"$f":"IF(ISBLANK(E79),\"hie eu nix drischribu\",VLOOKUP(E79,'2021'!$A$11:$G$143,4,FALSE))","v":"Bregy Ralf & Adolf"}]
["2021-09-12",{"$f":"IF(ISBLANK(D80),\"Alain, nix drischribu\",VLOOKUP(D80,'2021'!$A$11:$G$143,4,FALSE))","v":"Zumofen / Gattlen"},{"$f":"VLOOKUP(D80,'2021'!$A$11:$G$143,2,FALSE)","v":"Vanda"},113,75,{"$f":"VLOOKUP(E80,'2021'!$A$11:$G$143,2,FALSE)","v":"Menance"},{"$f":"IF(ISBLANK(E80),\"hie eu nix drischribu\",VLOOKUP(E80,'2021'!$A$11:$G$143,4,FALSE))","v":"Stallung Passeraub"}]
["2021-09-12",{"$f":"IF(ISBLANK(D81),\"Alain, nix drischribu\",VLOOKUP(D81,'2021'!$A$11:$G$143,4,FALSE))","v":"Zumofen / Gattlen"},{"$f":"VLOOKUP(D81,'2021'!$A$11:$G$143,2,FALSE)","v":"Rigolo"},117,75,{"$f":"VLOOKUP(E81,'2021'!$A$11:$G$143,2,FALSE)","v":"Menance"},{"$f":"IF(ISBLANK(E81),\"hie eu nix drischribu\",VLOOKUP(E81,'2021'!$A$11:$G$143,4,FALSE))","v":"Stallung Passeraub"}]
["2021-09-12",{"$f":"IF(ISBLANK(D82),\"Alain, nix drischribu\",VLOOKUP(D82,'2021'!$A$11:$G$143,4,FALSE))","v":"Bregy Uli / Lisi & Pasci"},{"$f":"VLOOKUP(D82,'2021'!$A$11:$G$143,2,FALSE)","v":"Xaphir"},22,56,{"$f":"VLOOKUP(E82,'2021'!$A$11:$G$143,2,FALSE)","v":"Mygale"},{"$f":"IF(ISBLANK(E82),\"hie eu nix drischribu\",VLOOKUP(E82,'2021'!$A$11:$G$143,4,FALSE))","v":"Jäger Carlo & Lukas"}]
["2021-09-12",{"$f":"IF(ISBLANK(D83),\"Alain, nix drischribu\",VLOOKUP(D83,'2021'!$A$11:$G$143,4,FALSE))","v":"Zumofen / Gattlen"},{"$f":"VLOOKUP(D83,'2021'!$A$11:$G$143,2,FALSE)","v":"Pinoccio"},116,68,{"$f":"VLOOKUP(E83,'2021'!$A$11:$G$143,2,FALSE)","v":"Baghira"},{"$f":"IF(ISBLANK(E83),\"hie eu nix drischribu\",VLOOKUP(E83,'2021'!$A$11:$G$143,4,FALSE))","v":"Mathieu Leander & Sascha"}]
["2021-09-12",{"$f":"IF(ISBLANK(D84),\"Alain, nix drischribu\",VLOOKUP(D84,'2021'!$A$11:$G$143,4,FALSE))","v":"Stallung Passeraub"},{"$f":"VLOOKUP(D84,'2021'!$A$11:$G$143,2,FALSE)","v":"Beres"},77,92,{"$f":"VLOOKUP(E84,'2021'!$A$11:$G$143,2,FALSE)","v":"Tomba"},{"$f":"IF(ISBLANK(E84),\"hie eu nix drischribu\",VLOOKUP(E84,'2021'!$A$11:$G$143,4,FALSE))","v":"Tscherry Erwin & Bernhard"}]
["2021-09-12",{"$f":"IF(ISBLANK(D85),\"Alain, nix drischribu\",VLOOKUP(D85,'2021'!$A$11:$G$143,4,FALSE))","v":"Zumofen / Gattlen"},{"$f":"VLOOKUP(D85,'2021'!$A$11:$G$143,2,FALSE)","v":"Vanda"},113,17,{"$f":"VLOOKUP(E85,'2021'!$A$11:$G$143,2,FALSE)","v":"Simba"},{"$f":"IF(ISBLANK(E85),\"hie eu nix drischribu\",VLOOKUP(E85,'2021'!$A$11:$G$143,4,FALSE))","v":"Bregy Uli / Lisi & Pasci"}]
["2021-09-12",{"$f":"IF(ISBLANK(D86),\"Alain, nix drischribu\",VLOOKUP(D86,'2021'!$A$11:$G$143,4,FALSE))","v":"Bregy Ralf & Adolf"},{"$f":"VLOOKUP(D86,'2021'!$A$11:$G$143,2,FALSE)","v":"Canaille"},7,103,{"$f":"VLOOKUP(E86,'2021'!$A$11:$G$143,2,FALSE)","v":"Xena"},{"$f":"IF(ISBLANK(E86),\"hie eu nix drischribu\",VLOOKUP(E86,'2021'!$A$11:$G$143,4,FALSE))","v":"Wyssen Diego & Madlen"}]
["2021-09-12",{"$f":"IF(ISBLANK(D87),\"Alain, nix drischribu\",VLOOKUP(D87,'2021'!$A$11:$G$143,4,FALSE))","v":"Gebrüder Jäger"},{"$f":"VLOOKUP(D87,'2021'!$A$11:$G$143,2,FALSE)","v":"Tina"},40,83,{"$f":"VLOOKUP(E87,'2021'!$A$11:$G$143,2,FALSE)","v":"Cayenne"},{"$f":"IF(ISBLANK(E87),\"hie eu nix drischribu\",VLOOKUP(E87,'2021'!$A$11:$G$143,4,FALSE))","v":"Stallung zum Stäg"}]
["2021-09-12",{"$f":"IF(ISBLANK(D88),\"Alain, nix drischribu\",VLOOKUP(D88,'2021'!$A$11:$G$143,4,FALSE))","v":"Jäger Carlo & Lukas"},{"$f":"VLOOKUP(D88,'2021'!$A$11:$G$143,2,FALSE)","v":"Pivoine"},65,6,{"$f":"VLOOKUP(E88,'2021'!$A$11:$G$143,2,FALSE)","v":"Flacabre"},{"$f":"IF(ISBLANK(E88),\"hie eu nix drischribu\",VLOOKUP(E88,'2021'!$A$11:$G$143,4,FALSE))","v":"Bregy Ralf & Adolf"}]
["2021-09-12",{"$f":"IF(ISBLANK(D89),\"Alain, nix drischribu\",VLOOKUP(D89,'2021'!$A$11:$G$143,4,FALSE))","v":"Zumofen / Gattlen"},{"$f":"VLOOKUP(D89,'2021'!$A$11:$G$143,2,FALSE)","v":"Rena"},109,101,{"$f":"VLOOKUP(E89,'2021'!$A$11:$G$143,2,FALSE)","v":"Xandria"},{"$f":"IF(ISBLANK(E89),\"hie eu nix drischribu\",VLOOKUP(E89,'2021'!$A$11:$G$143,4,FALSE))","v":"Wyssen Diego & Madlen"}]
["2021-09-12",{"$f":"IF(ISBLANK(D90),\"Alain, nix drischribu\",VLOOKUP(D90,'2021'!$A$11:$G$143,4,FALSE))","v":"Stallung Passeraub"},{"$f":"VLOOKUP(D90,'2021'!$A$11:$G$143,2,FALSE)","v":"Bonita"},80,113,{"$f":"VLOOKUP(E90,'2021'!$A$11:$G$143,2,FALSE)","v":"Vanda"},{"$f":"IF(ISBLANK(E90),\"hie eu nix drischribu\",VLOOKUP(E90,'2021'!$A$11:$G$143,4,FALSE))","v":"Zumofen / Gattlen"}]
["2021-09-12",{"$f":"IF(ISBLANK(D91),\"Alain, nix drischribu\",VLOOKUP(D91,'2021'!$A$11:$G$143,4,FALSE))","v":"Bregy Ralf & Adolf"},{"$f":"VLOOKUP(D91,'2021'!$A$11:$G$143,2,FALSE)","v":"Coquette"},9,116,{"$f":"VLOOKUP(E91,'2021'!$A$11:$G$143,2,FALSE)","v":"Pinoccio"},{"$f":"IF(ISBLANK(E91),\"hie eu nix drischribu\",VLOOKUP(E91,'2021'!$A$11:$G$143,4,FALSE))","v":"Zumofen / Gattlen"}]
["2021-09-12",{"$f":"IF(ISBLANK(D92),\"Alain, nix drischribu\",VLOOKUP(D92,'2021'!$A$11:$G$143,4,FALSE))","v":"Bregy Ralf & Adolf"},{"$f":"VLOOKUP(D92,'2021'!$A$11:$G$143,2,FALSE)","v":"Canabis"},14,114,{"$f":"VLOOKUP(E92,'2021'!$A$11:$G$143,2,FALSE)","v":"Maya"},{"$f":"IF(ISBLANK(E92),\"hie eu nix drischribu\",VLOOKUP(E92,'2021'!$A$11:$G$143,4,FALSE))","v":"Zumofen / Gattlen"}]
["2021-09-12",{"$f":"IF(ISBLANK(D93),\"Alain, nix drischribu\",VLOOKUP(D93,'2021'!$A$11:$G$143,4,FALSE))","v":"Bayard Medard & Gustav"},{"$f":"VLOOKUP(D93,'2021'!$A$11:$G$143,2,FALSE)","v":"Fantastic"},2,100,{"$f":"VLOOKUP(E93,'2021'!$A$11:$G$143,2,FALSE)","v":"Xantara"},{"$f":"IF(ISBLANK(E93),\"hie eu nix drischribu\",VLOOKUP(E93,'2021'!$A$11:$G$143,4,FALSE))","v":"Wyssen Diego & Madlen"}]
["2021-09-12",{"$f":"IF(ISBLANK(D94),\"Alain, nix drischribu\",VLOOKUP(D94,'2021'!$A$11:$G$143,4,FALSE))","v":"Bregy Uli / Lisi & Pasci"},{"$f":"VLOOKUP(D94,'2021'!$A$11:$G$143,2,FALSE)","v":"Souki"},18,22,{"$f":"VLOOKUP(E94,'2021'!$A$11:$G$143,2,FALSE)","v":"Xaphir"},{"$f":"IF(ISBLANK(E94),\"hie eu nix drischribu\",VLOOKUP(E94,'2021'!$A$11:$G$143,4,FALSE))","v":"Bregy Uli / Lisi & Pasci"}]
["2021-09-12",{"$f":"IF(ISBLANK(D95),\"Alain, nix drischribu\",VLOOKUP(D95,'2021'!$A$11:$G$143,4,FALSE))","v":"Gebrüder Jäger"},{"$f":"VLOOKUP(D95,'2021'!$A$11:$G$143,2,FALSE)","v":"Tiara"},44,39,{"$f":"VLOOKUP(E95,'2021'!$A$11:$G$143,2,FALSE)","v":"Bacardi"},{"$f":"IF(ISBLANK(E95),\"hie eu nix drischribu\",VLOOKUP(E95,'2021'!$A$11:$G$143,4,FALSE))","v":"Fux W., J., & Wyer Piet"}]
["2021-09-12",{"$f":"IF(ISBLANK(D96),\"Alain, nix drischribu\",VLOOKUP(D96,'2021'!$A$11:$G$143,4,FALSE))","v":"Gebrüder Jäger"},{"$f":"VLOOKUP(D96,'2021'!$A$11:$G$143,2,FALSE)","v":"Tiara"},44,34,{"$f":"VLOOKUP(E96,'2021'!$A$11:$G$143,2,FALSE)","v":"Valaisanne"},{"$f":"IF(ISBLANK(E96),\"hie eu nix drischribu\",VLOOKUP(E96,'2021'!$A$11:$G$143,4,FALSE))","v":"Fux W., J., & Wyer Piet"}]
["2021-09-12",{"$f":"IF(ISBLANK(D97),\"Alain, nix drischribu\",VLOOKUP(D97,'2021'!$A$11:$G$143,4,FALSE))","v":"Bregy Ralf & Adolf"},{"$f":"VLOOKUP(D97,'2021'!$A$11:$G$143,2,FALSE)","v":"Cashida"},15,113,{"$f":"VLOOKUP(E97,'2021'!$A$11:$G$143,2,FALSE)","v":"Vanda"},{"$f":"IF(ISBLANK(E97),\"hie eu nix drischribu\",VLOOKUP(E97,'2021'!$A$11:$G$143,4,FALSE))","v":"Zumofen / Gattlen"}]
["2021-09-11",{"$f":"IF(ISBLANK(D98),\"Alain, nix drischribu\",VLOOKUP(D98,'2021'!$A$11:$G$143,4,FALSE))","v":"Jäger Carlo & Lukas"},{"$f":"VLOOKUP(D98,'2021'!$A$11:$G$143,2,FALSE)","v":"Flora"},54,3,{"$f":"VLOOKUP(E98,'2021'!$A$11:$G$143,2,FALSE)","v":"Priska"},{"$f":"IF(ISBLANK(E98),\"hie eu nix drischribu\",VLOOKUP(E98,'2021'!$A$11:$G$143,4,FALSE))","v":"Bayard Medard & Gustav"}]
["2021-09-11",{"$f":"IF(ISBLANK(D99),\"Alain, nix drischribu\",VLOOKUP(D99,'2021'!$A$11:$G$143,4,FALSE))","v":"Stallung zum Stäg"},{"$f":"VLOOKUP(D99,'2021'!$A$11:$G$143,2,FALSE)","v":"Cayenne"},83,25,{"$f":"VLOOKUP(E99,'2021'!$A$11:$G$143,2,FALSE)","v":"Calette"},{"$f":"IF(ISBLANK(E99),\"hie eu nix drischribu\",VLOOKUP(E99,'2021'!$A$11:$G$143,4,FALSE))","v":"Bregy Uli / Lisi & Pasci"}]
["2021-09-11",{"$f":"IF(ISBLANK(D100),\"Alain, nix drischribu\",VLOOKUP(D100,'2021'!$A$11:$G$143,4,FALSE))","v":"Gebrüder Jäger"},{"$f":"VLOOKUP(D100,'2021'!$A$11:$G$143,2,FALSE)","v":"Simba"},42,75,{"$f":"VLOOKUP(E100,'2021'!$A$11:$G$143,2,FALSE)","v":"Menance"},{"$f":"IF(ISBLANK(E100),\"hie eu nix drischribu\",VLOOKUP(E100,'2021'!$A$11:$G$143,4,FALSE))","v":"Stallung Passeraub"}]
["2021-09-11",{"$f":"IF(ISBLANK(D101),\"Alain, nix drischribu\",VLOOKUP(D101,'2021'!$A$11:$G$143,4,FALSE))","v":"Stallung Passeraub"},{"$f":"VLOOKUP(D101,'2021'!$A$11:$G$143,2,FALSE)","v":"Beres"},77,52,{"$f":"VLOOKUP(E101,'2021'!$A$11:$G$143,2,FALSE)","v":"Pablo"},{"$f":"IF(ISBLANK(E101),\"hie eu nix drischribu\",VLOOKUP(E101,'2021'!$A$11:$G$143,4,FALSE))","v":"Hischier Pius"}]
["2021-09-11",{"$f":"IF(ISBLANK(D102),\"Alain, nix drischribu\",VLOOKUP(D102,'2021'!$A$11:$G$143,4,FALSE))","v":"Stallung Passeraub"},{"$f":"VLOOKUP(D102,'2021'!$A$11:$G$143,2,FALSE)","v":"Beryl"},74,31,{"$f":"VLOOKUP(E102,'2021'!$A$11:$G$143,2,FALSE)","v":"Bastis"},{"$f":"IF(ISBLANK(E102),\"hie eu nix drischribu\",VLOOKUP(E102,'2021'!$A$11:$G$143,4,FALSE))","v":"Fux W., J., & Wyer Piet"}]
["2021-09-11",{"$f":"IF(ISBLANK(D103),\"Alain, nix drischribu\",VLOOKUP(D103,'2021'!$A$11:$G$143,4,FALSE))","v":"Bregy Ralf & Adolf"},{"$f":"VLOOKUP(D103,'2021'!$A$11:$G$143,2,FALSE)","v":"Canabis"},14,17,{"$f":"VLOOKUP(E103,'2021'!$A$11:$G$143,2,FALSE)","v":"Simba"},{"$f":"IF(ISBLANK(E103),\"hie eu nix drischribu\",VLOOKUP(E103,'2021'!$A$11:$G$143,4,FALSE))","v":"Bregy Uli / Lisi & Pasci"}]
["2021-09-11",{"$f":"IF(ISBLANK(D104),\"Alain, nix drischribu\",VLOOKUP(D104,'2021'!$A$11:$G$143,4,FALSE))","v":"Bregy Uli / Lisi & Pasci"},{"$f":"VLOOKUP(D104,'2021'!$A$11:$G$143,2,FALSE)","v":"Simba"},17,33,{"$f":"VLOOKUP(E104,'2021'!$A$11:$G$143,2,FALSE)","v":"Baquera"},{"$f":"IF(ISBLANK(E104),\"hie eu nix drischribu\",VLOOKUP(E104,'2021'!$A$11:$G$143,4,FALSE))","v":"Fux W., J., & Wyer Piet"}]
["2021-09-11",{"$f":"IF(ISBLANK(D105),\"Alain, nix drischribu\",VLOOKUP(D105,'2021'!$A$11:$G$143,4,FALSE))","v":"Sewer R. & Thommen S."},{"$f":"VLOOKUP(D105,'2021'!$A$11:$G$143,2,FALSE)","v":"Samantha"},85,2,{"$f":"VLOOKUP(E105,'2021'!$A$11:$G$143,2,FALSE)","v":"Fantastic"},{"$f":"IF(ISBLANK(E105),\"hie eu nix drischribu\",VLOOKUP(E105,'2021'!$A$11:$G$143,4,FALSE))","v":"Bayard Medard & Gustav"}]
["2021-09-11",{"$f":"IF(ISBLANK(D106),\"Alain, nix drischribu\",VLOOKUP(D106,'2021'!$A$11:$G$143,4,FALSE))","v":"Jäger Carlo & Lukas"},{"$f":"VLOOKUP(D106,'2021'!$A$11:$G$143,2,FALSE)","v":"Mygale"},56,99,{"$f":"VLOOKUP(E106,'2021'!$A$11:$G$143,2,FALSE)","v":"Rijana"},{"$f":"IF(ISBLANK(E106),\"hie eu nix drischribu\",VLOOKUP(E106,'2021'!$A$11:$G$143,4,FALSE))","v":"Wyssen Diego & Madlen"}]
["2021-09-11",{"$f":"IF(ISBLANK(D107),\"Alain, nix drischribu\",VLOOKUP(D107,'2021'!$A$11:$G$143,4,FALSE))","v":"Mathieu Leander & Sascha"},{"$f":"VLOOKUP(D107,'2021'!$A$11:$G$143,2,FALSE)","v":"Baghira"},68,34,{"$f":"VLOOKUP(E107,'2021'!$A$11:$G$143,2,FALSE)","v":"Valaisanne"},{"$f":"IF(ISBLANK(E107),\"hie eu nix drischribu\",VLOOKUP(E107,'2021'!$A$11:$G$143,4,FALSE))","v":"Fux W., J., & Wyer Piet"}]
["2021-09-11",{"$f":"IF(ISBLANK(D108),\"Alain, nix drischribu\",VLOOKUP(D108,'2021'!$A$11:$G$143,4,FALSE))","v":"Bregy Ralf & Adolf"},{"$f":"VLOOKUP(D108,'2021'!$A$11:$G$143,2,FALSE)","v":"Flacabre"},6,103,{"$f":"VLOOKUP(E108,'2021'!$A$11:$G$143,2,FALSE)","v":"Xena"},{"$f":"IF(ISBLANK(E108),\"hie eu nix drischribu\",VLOOKUP(E108,'2021'!$A$11:$G$143,4,FALSE))","v":"Wyssen Diego & Madlen"}]
["2021-09-11",{"$f":"IF(ISBLANK(D109),\"Alain, nix drischribu\",VLOOKUP(D109,'2021'!$A$11:$G$143,4,FALSE))","v":"Gebrüder Jäger"},{"$f":"VLOOKUP(D109,'2021'!$A$11:$G$143,2,FALSE)","v":"Simba"},42,111,{"$f":"VLOOKUP(E109,'2021'!$A$11:$G$143,2,FALSE)","v":"Palona"},{"$f":"IF(ISBLANK(E109),\"hie eu nix drischribu\",VLOOKUP(E109,'2021'!$A$11:$G$143,4,FALSE))","v":"Zumofen / Gattlen"}]
["2021-09-10",{"$f":"IF(ISBLANK(D110),\"Alain, nix drischribu\",VLOOKUP(D110,'2021'!$A$11:$G$143,4,FALSE))","v":"Jäger Carlo & Lukas"},{"$f":"VLOOKUP(D110,'2021'!$A$11:$G$143,2,FALSE)","v":"Metis"},63,18,{"$f":"VLOOKUP(E110,'2021'!$A$11:$G$143,2,FALSE)","v":"Souki"},{"$f":"IF(ISBLANK(E110),\"hie eu nix drischribu\",VLOOKUP(E110,'2021'!$A$11:$G$143,4,FALSE))","v":"Bregy Uli / Lisi & Pasci"}]
["2021-09-10",{"$f":"IF(ISBLANK(D111),\"Alain, nix drischribu\",VLOOKUP(D111,'2021'!$A$11:$G$143,4,FALSE))","v":"Stallung Passeraub"},{"$f":"VLOOKUP(D111,'2021'!$A$11:$G$143,2,FALSE)","v":"Ballerine"},78,94,{"$f":"VLOOKUP(E111,'2021'!$A$11:$G$143,2,FALSE)","v":"Tigra"},{"$f":"IF(ISBLANK(E111),\"hie eu nix drischribu\",VLOOKUP(E111,'2021'!$A$11:$G$143,4,FALSE))","v":"Williner Anton"}]
["2021-09-10",{"$f":"IF(ISBLANK(D112),\"Alain, nix drischribu\",VLOOKUP(D112,'2021'!$A$11:$G$143,4,FALSE))","v":"Bayard Medard & Gustav"},{"$f":"VLOOKUP(D112,'2021'!$A$11:$G$143,2,FALSE)","v":"Priska"},3,114,{"$f":"VLOOKUP(E112,'2021'!$A$11:$G$143,2,FALSE)","v":"Maya"},{"$f":"IF(ISBLANK(E112),\"hie eu nix drischribu\",VLOOKUP(E112,'2021'!$A$11:$G$143,4,FALSE))","v":"Zumofen / Gattlen"}]
["2021-09-10",{"$f":"IF(ISBLANK(D113),\"Alain, nix drischribu\",VLOOKUP(D113,'2021'!$A$11:$G$143,4,FALSE))","v":"Bregy Uli / Lisi & Pasci"},{"$f":"VLOOKUP(D113,'2021'!$A$11:$G$143,2,FALSE)","v":"Souki"},18,24,{"$f":"VLOOKUP(E113,'2021'!$A$11:$G$143,2,FALSE)","v":"Catalina"},{"$f":"IF(ISBLANK(E113),\"hie eu nix drischribu\",VLOOKUP(E113,'2021'!$A$11:$G$143,4,FALSE))","v":"Bregy Uli / Lisi & Pasci"}]
["2021-09-10",{"$f":"IF(ISBLANK(D114),\"Alain, nix drischribu\",VLOOKUP(D114,'2021'!$A$11:$G$143,4,FALSE))","v":"Wyssen Diego & Madlen"},{"$f":"VLOOKUP(D114,'2021'!$A$11:$G$143,2,FALSE)","v":"Xena"},103,2,{"$f":"VLOOKUP(E114,'2021'!$A$11:$G$143,2,FALSE)","v":"Fantastic"},{"$f":"IF(ISBLANK(E114),\"hie eu nix drischribu\",VLOOKUP(E114,'2021'!$A$11:$G$143,4,FALSE))","v":"Bayard Medard & Gustav"}]
["2021-09-10",{"$f":"IF(ISBLANK(D115),\"Alain, nix drischribu\",VLOOKUP(D115,'2021'!$A$11:$G$143,4,FALSE))","v":"Bregy Uli / Lisi & Pasci"},{"$f":"VLOOKUP(D115,'2021'!$A$11:$G$143,2,FALSE)","v":"Souki"},18,124,{"$f":"VLOOKUP(E115,'2021'!$A$11:$G$143,2,FALSE)","v":"Xara"},{"$f":"IF(ISBLANK(E115),\"hie eu nix drischribu\",VLOOKUP(E115,'2021'!$A$11:$G$143,4,FALSE))","v":"Zumofen / Gattlen"}]
["2021-09-10",{"$f":"IF(ISBLANK(D116),\"Alain, nix drischribu\",VLOOKUP(D116,'2021'!$A$11:$G$143,4,FALSE))","v":"Jäger Carlo & Lukas"},{"$f":"VLOOKUP(D116,'2021'!$A$11:$G$143,2,FALSE)","v":"Tokio"},67,102,{"$f":"VLOOKUP(E116,'2021'!$A$11:$G$143,2,FALSE)","v":"Rasta"},{"$f":"IF(ISBLANK(E116),\"hie eu nix drischribu\",VLOOKUP(E116,'2021'!$A$11:$G$143,4,FALSE))","v":"Wyssen Diego & Madlen"}]
["2021-09-09",{"$f":"IF(ISBLANK(D117),\"Alain, nix drischribu\",VLOOKUP(D117,'2021'!$A$11:$G$143,4,FALSE))","v":"Zumofen / Gattlen"},{"$f":"VLOOKUP(D117,'2021'!$A$11:$G$143,2,FALSE)","v":"Violette"},108,8,{"$f":"VLOOKUP(E117,'2021'!$A$11:$G$143,2,FALSE)","v":"Creola"},{"$f":"IF(ISBLANK(E117),\"hie eu nix drischribu\",VLOOKUP(E117,'2021'!$A$11:$G$143,4,FALSE))","v":"Bregy Ralf & Adolf"}]
["2021-09-09",{"$f":"IF(ISBLANK(D118),\"Alain, nix drischribu\",VLOOKUP(D118,'2021'!$A$11:$G$143,4,FALSE))","v":"Stallung Passeraub"},{"$f":"VLOOKUP(D118,'2021'!$A$11:$G$143,2,FALSE)","v":"Ballerine"},78,119,{"$f":"VLOOKUP(E118,'2021'!$A$11:$G$143,2,FALSE)","v":"Fayola"},{"$f":"IF(ISBLANK(E118),\"hie eu nix drischribu\",VLOOKUP(E118,'2021'!$A$11:$G$143,4,FALSE))","v":"Zumofen / Gattlen"}]
["2021-09-09",{"$f":"IF(ISBLANK(D119),\"Alain, nix drischribu\",VLOOKUP(D119,'2021'!$A$11:$G$143,4,FALSE))","v":"Bregy Ralf & Adolf"},{"$f":"VLOOKUP(D119,'2021'!$A$11:$G$143,2,FALSE)","v":"Canaille"},7,4,{"$f":"VLOOKUP(E119,'2021'!$A$11:$G$143,2,FALSE)","v":"Vampir"},{"$f":"IF(ISBLANK(E119),\"hie eu nix drischribu\",VLOOKUP(E119,'2021'!$A$11:$G$143,4,FALSE))","v":"Bayard Medard & Gustav"}]
["2021-09-09",{"$f":"IF(ISBLANK(D120),\"Alain, nix drischribu\",VLOOKUP(D120,'2021'!$A$11:$G$143,4,FALSE))","v":"Williner Anton"},{"$f":"VLOOKUP(D120,'2021'!$A$11:$G$143,2,FALSE)","v":"Tigra"},94,22,{"$f":"VLOOKUP(E120,'2021'!$A$11:$G$143,2,FALSE)","v":"Xaphir"},{"$f":"IF(ISBLANK(E120),\"hie eu nix drischribu\",VLOOKUP(E120,'2021'!$A$11:$G$143,4,FALSE))","v":"Bregy Uli / Lisi & Pasci"}]
["2021-09-09",{"$f":"IF(ISBLANK(D121),\"Alain, nix drischribu\",VLOOKUP(D121,'2021'!$A$11:$G$143,4,FALSE))","v":"Bregy Ralf & Adolf"},{"$f":"VLOOKUP(D121,'2021'!$A$11:$G$143,2,FALSE)","v":"Flacabre"},6,96,{"$f":"VLOOKUP(E121,'2021'!$A$11:$G$143,2,FALSE)","v":"Vanessa"},{"$f":"IF(ISBLANK(E121),\"hie eu nix drischribu\",VLOOKUP(E121,'2021'!$A$11:$G$143,4,FALSE))","v":"Williner Anton"}]
["2021-09-09",{"$f":"IF(ISBLANK(D122),\"Alain, nix drischribu\",VLOOKUP(D122,'2021'!$A$11:$G$143,4,FALSE))","v":"Williner Anton"},{"$f":"VLOOKUP(D122,'2021'!$A$11:$G$143,2,FALSE)","v":"Tira"},98,22,{"$f":"VLOOKUP(E122,'2021'!$A$11:$G$143,2,FALSE)","v":"Xaphir"},{"$f":"IF(ISBLANK(E122),\"hie eu nix drischribu\",VLOOKUP(E122,'2021'!$A$11:$G$143,4,FALSE))","v":"Bregy Uli / Lisi & Pasci"}]
["2021-09-09",{"$f":"IF(ISBLANK(D123),\"Alain, nix drischribu\",VLOOKUP(D123,'2021'!$A$11:$G$143,4,FALSE))","v":"Jäger Carlo & Lukas"},{"$f":"VLOOKUP(D123,'2021'!$A$11:$G$143,2,FALSE)","v":"Megane"},62,117,{"$f":"VLOOKUP(E123,'2021'!$A$11:$G$143,2,FALSE)","v":"Rigolo"},{"$f":"IF(ISBLANK(E123),\"hie eu nix drischribu\",VLOOKUP(E123,'2021'!$A$11:$G$143,4,FALSE))","v":"Zumofen / Gattlen"}]
["2021-09-09",{"$f":"IF(ISBLANK(D124),\"Alain, nix drischribu\",VLOOKUP(D124,'2021'!$A$11:$G$143,4,FALSE))","v":"Zumofen / Gattlen"},{"$f":"VLOOKUP(D124,'2021'!$A$11:$G$143,2,FALSE)","v":"Rigolo"},117,65,{"$f":"VLOOKUP(E124,'2021'!$A$11:$G$143,2,FALSE)","v":"Pivoine"},{"$f":"IF(ISBLANK(E124),\"hie eu nix drischribu\",VLOOKUP(E124,'2021'!$A$11:$G$143,4,FALSE))","v":"Jäger Carlo & Lukas"}]
["2021-09-09",{"$f":"IF(ISBLANK(D125),\"Alain, nix drischribu\",VLOOKUP(D125,'2021'!$A$11:$G$143,4,FALSE))","v":"Jäger Carlo & Lukas"},{"$f":"VLOOKUP(D125,'2021'!$A$11:$G$143,2,FALSE)","v":"Sera"},64,13,{"$f":"VLOOKUP(E125,'2021'!$A$11:$G$143,2,FALSE)","v":"Tequilla"},{"$f":"IF(ISBLANK(E125),\"hie eu nix drischribu\",VLOOKUP(E125,'2021'!$A$11:$G$143,4,FALSE))","v":"Bregy Silvan & Patrik"}]
["2021-09-08",{"$f":"IF(ISBLANK(D126),\"Alain, nix drischribu\",VLOOKUP(D126,'2021'!$A$11:$G$143,4,FALSE))","v":"Zumofen / Gattlen"},{"$f":"VLOOKUP(D126,'2021'!$A$11:$G$143,2,FALSE)","v":"Rena"},109,95,{"$f":"VLOOKUP(E126,'2021'!$A$11:$G$143,2,FALSE)","v":"Vivana"},{"$f":"IF(ISBLANK(E126),\"hie eu nix drischribu\",VLOOKUP(E126,'2021'!$A$11:$G$143,4,FALSE))","v":"Williner Anton"}]
["2021-09-08",{"$f":"IF(ISBLANK(D127),\"Alain, nix drischribu\",VLOOKUP(D127,'2021'!$A$11:$G$143,4,FALSE))","v":"Wyssen Diego & Madlen"},{"$f":"VLOOKUP(D127,'2021'!$A$11:$G$143,2,FALSE)","v":"Rijana"},99,86,{"$f":"VLOOKUP(E127,'2021'!$A$11:$G$143,2,FALSE)","v":"Tessa"},{"$f":"IF(ISBLANK(E127),\"hie eu nix drischribu\",VLOOKUP(E127,'2021'!$A$11:$G$143,4,FALSE))","v":"Sewer R. & Thommen S."}]
["2021-09-08",{"$f":"IF(ISBLANK(D128),\"Alain, nix drischribu\",VLOOKUP(D128,'2021'!$A$11:$G$143,4,FALSE))","v":"Jäger Carlo & Lukas"},{"$f":"VLOOKUP(D128,'2021'!$A$11:$G$143,2,FALSE)","v":"Flora"},54,63,{"$f":"VLOOKUP(E128,'2021'!$A$11:$G$143,2,FALSE)","v":"Metis"},{"$f":"IF(ISBLANK(E128),\"hie eu nix drischribu\",VLOOKUP(E128,'2021'!$A$11:$G$143,4,FALSE))","v":"Jäger Carlo & Lukas"}]
["2021-09-08",{"$f":"IF(ISBLANK(D129),\"Alain, nix drischribu\",VLOOKUP(D129,'2021'!$A$11:$G$143,4,FALSE))","v":"Bregy Ralf & Adolf"},{"$f":"VLOOKUP(D129,'2021'!$A$11:$G$143,2,FALSE)","v":"Canabis"},14,80,{"$f":"VLOOKUP(E129,'2021'!$A$11:$G$143,2,FALSE)","v":"Bonita"},{"$f":"IF(ISBLANK(E129),\"hie eu nix drischribu\",VLOOKUP(E129,'2021'!$A$11:$G$143,4,FALSE))","v":"Stallung Passeraub"}]
["2021-09-08",{"$f":"IF(ISBLANK(D130),\"Alain, nix drischribu\",VLOOKUP(D130,'2021'!$A$11:$G$143,4,FALSE))","v":"Wyssen Diego & Madlen"},{"$f":"VLOOKUP(D130,'2021'!$A$11:$G$143,2,FALSE)","v":"Rijana"},99,50,{"$f":"VLOOKUP(E130,'2021'!$A$11:$G$143,2,FALSE)","v":"Pruedence"},{"$f":"IF(ISBLANK(E130),\"hie eu nix drischribu\",VLOOKUP(E130,'2021'!$A$11:$G$143,4,FALSE))","v":"Hischier Pius"}]
["2021-09-08",{"$f":"IF(ISBLANK(D131),\"Alain, nix drischribu\",VLOOKUP(D131,'2021'!$A$11:$G$143,4,FALSE))","v":"Zumofen / Gattlen"},{"$f":"VLOOKUP(D131,'2021'!$A$11:$G$143,2,FALSE)","v":"Xena"},110,96,{"$f":"VLOOKUP(E131,'2021'!$A$11:$G$143,2,FALSE)","v":"Vanessa"},{"$f":"IF(ISBLANK(E131),\"hie eu nix drischribu\",VLOOKUP(E131,'2021'!$A$11:$G$143,4,FALSE))","v":"Williner Anton"}]
["2021-09-08",{"$f":"IF(ISBLANK(D132),\"Alain, nix drischribu\",VLOOKUP(D132,'2021'!$A$11:$G$143,4,FALSE))","v":"Fux W., J., & Wyer Piet"},{"$f":"VLOOKUP(D132,'2021'!$A$11:$G$143,2,FALSE)","v":"Bacardi"},39,96,{"$f":"VLOOKUP(E132,'2021'!$A$11:$G$143,2,FALSE)","v":"Vanessa"},{"$f":"IF(ISBLANK(E132),\"hie eu nix drischribu\",VLOOKUP(E132,'2021'!$A$11:$G$143,4,FALSE))","v":"Williner Anton"}]
["2021-09-08",{"$f":"IF(ISBLANK(D133),\"Alain, nix drischribu\",VLOOKUP(D133,'2021'!$A$11:$G$143,4,FALSE))","v":"Zumofen / Gattlen"},{"$f":"VLOOKUP(D133,'2021'!$A$11:$G$143,2,FALSE)","v":"Fayola"},119,96,{"$f":"VLOOKUP(E133,'2021'!$A$11:$G$143,2,FALSE)","v":"Vanessa"},{"$f":"IF(ISBLANK(E133),\"hie eu nix drischribu\",VLOOKUP(E133,'2021'!$A$11:$G$143,4,FALSE))","v":"Williner Anton"}]
["2021-09-08",{"$f":"IF(ISBLANK(D134),\"Alain, nix drischribu\",VLOOKUP(D134,'2021'!$A$11:$G$143,4,FALSE))","v":"Bregy Uli / Lisi & Pasci"},{"$f":"VLOOKUP(D134,'2021'!$A$11:$G$143,2,FALSE)","v":"Corona"},23,54,{"$f":"VLOOKUP(E134,'2021'!$A$11:$G$143,2,FALSE)","v":"Flora"},{"$f":"IF(ISBLANK(E134),\"hie eu nix drischribu\",VLOOKUP(E134,'2021'!$A$11:$G$143,4,FALSE))","v":"Jäger Carlo & Lukas"}]
["2021-09-08",{"$f":"IF(ISBLANK(D135),\"Alain, nix drischribu\",VLOOKUP(D135,'2021'!$A$11:$G$143,4,FALSE))","v":"Fux W., J., & Wyer Piet"},{"$f":"VLOOKUP(D135,'2021'!$A$11:$G$143,2,FALSE)","v":"Bastis"},31,83,{"$f":"VLOOKUP(E135,'2021'!$A$11:$G$143,2,FALSE)","v":"Cayenne"},{"$f":"IF(ISBLANK(E135),\"hie eu nix drischribu\",VLOOKUP(E135,'2021'!$A$11:$G$143,4,FALSE))","v":"Stallung zum Stäg"}]
["2021-09-08",{"$f":"IF(ISBLANK(D136),\"Alain, nix drischribu\",VLOOKUP(D136,'2021'!$A$11:$G$143,4,FALSE))","v":"Jäger Carlo & Lukas"},{"$f":"VLOOKUP(D136,'2021'!$A$11:$G$143,2,FALSE)","v":"Flora"},54,122,{"$f":"VLOOKUP(E136,'2021'!$A$11:$G$143,2,FALSE)","v":"Xana"},{"$f":"IF(ISBLANK(E136),\"hie eu nix drischribu\",VLOOKUP(E136,'2021'!$A$11:$G$143,4,FALSE))","v":"Zumofen / Gattlen"}]
["2021-09-08",{"$f":"IF(ISBLANK(D137),\"Alain, nix drischribu\",VLOOKUP(D137,'2021'!$A$11:$G$143,4,FALSE))","v":"Bregy Ralf & Adolf"},{"$f":"VLOOKUP(D137,'2021'!$A$11:$G$143,2,FALSE)","v":"Flacabre"},6,37,{"$f":"VLOOKUP(E137,'2021'!$A$11:$G$143,2,FALSE)","v":"Toscana"},{"$f":"IF(ISBLANK(E137),\"hie eu nix drischribu\",VLOOKUP(E137,'2021'!$A$11:$G$143,4,FALSE))","v":"Fux W., J., & Wyer Piet"}]
["2021-09-07",{"$f":"IF(ISBLANK(D138),\"Alain, nix drischribu\",VLOOKUP(D138,'2021'!$A$11:$G$143,4,FALSE))","v":"Fux W., J., & Wyer Piet"},{"$f":"VLOOKUP(D138,'2021'!$A$11:$G$143,2,FALSE)","v":"Toscana"},37,87,{"$f":"VLOOKUP(E138,'2021'!$A$11:$G$143,2,FALSE)","v":"Tiara"},{"$f":"IF(ISBLANK(E138),\"hie eu nix drischribu\",VLOOKUP(E138,'2021'!$A$11:$G$143,4,FALSE))","v":"Sewer R. & Thommen S."}]
["2021-09-07",{"$f":"IF(ISBLANK(D139),\"Alain, nix drischribu\",VLOOKUP(D139,'2021'!$A$11:$G$143,4,FALSE))","v":"Wyssen Diego & Madlen"},{"$f":"VLOOKUP(D139,'2021'!$A$11:$G$143,2,FALSE)","v":"Rasta"},102,61,{"$f":"VLOOKUP(E139,'2021'!$A$11:$G$143,2,FALSE)","v":"Grolla"},{"$f":"IF(ISBLANK(E139),\"hie eu nix drischribu\",VLOOKUP(E139,'2021'!$A$11:$G$143,4,FALSE))","v":"Jäger Carlo & Lukas"}]
["2021-09-07",{"$f":"IF(ISBLANK(D140),\"Alain, nix drischribu\",VLOOKUP(D140,'2021'!$A$11:$G$143,4,FALSE))","v":"Bregy Uli / Lisi & Pasci"},{"$f":"VLOOKUP(D140,'2021'!$A$11:$G$143,2,FALSE)","v":"Murphy"},16,53,{"$f":"VLOOKUP(E140,'2021'!$A$11:$G$143,2,FALSE)","v":"Caline"},{"$f":"IF(ISBLANK(E140),\"hie eu nix drischribu\",VLOOKUP(E140,'2021'!$A$11:$G$143,4,FALSE))","v":"Jäger Carlo & Lukas"}]
["2021-09-07",{"$f":"IF(ISBLANK(D141),\"Alain, nix drischribu\",VLOOKUP(D141,'2021'!$A$11:$G$143,4,FALSE))","v":"Sewer R. & Thommen S."},{"$f":"VLOOKUP(D141,'2021'!$A$11:$G$143,2,FALSE)","v":"Biscot"},89,68,{"$f":"VLOOKUP(E141,'2021'!$A$11:$G$143,2,FALSE)","v":"Baghira"},{"$f":"IF(ISBLANK(E141),\"hie eu nix drischribu\",VLOOKUP(E141,'2021'!$A$11:$G$143,4,FALSE))","v":"Mathieu Leander & Sascha"}]
["2021-09-07",{"$f":"IF(ISBLANK(D142),\"Alain, nix drischribu\",VLOOKUP(D142,'2021'!$A$11:$G$143,4,FALSE))","v":"Bregy Uli / Lisi & Pasci"},{"$f":"VLOOKUP(D142,'2021'!$A$11:$G$143,2,FALSE)","v":"Simba"},17,33,{"$f":"VLOOKUP(E142,'2021'!$A$11:$G$143,2,FALSE)","v":"Baquera"},{"$f":"IF(ISBLANK(E142),\"hie eu nix drischribu\",VLOOKUP(E142,'2021'!$A$11:$G$143,4,FALSE))","v":"Fux W., J., & Wyer Piet"}]
["2021-09-07",{"$f":"IF(ISBLANK(D143),\"Alain, nix drischribu\",VLOOKUP(D143,'2021'!$A$11:$G$143,4,FALSE))","v":"Stallung Passeraub"},{"$f":"VLOOKUP(D143,'2021'!$A$11:$G$143,2,FALSE)","v":"Ballerine"},78,119,{"$f":"VLOOKUP(E143,'2021'!$A$11:$G$143,2,FALSE)","v":"Fayola"},{"$f":"IF(ISBLANK(E143),\"hie eu nix drischribu\",VLOOKUP(E143,'2021'!$A$11:$G$143,4,FALSE))","v":"Zumofen / Gattlen"}]
["2021-09-06",{"$f":"IF(ISBLANK(D144),\"Alain, nix drischribu\",VLOOKUP(D144,'2021'!$A$11:$G$143,4,FALSE))","v":"Gebrüder Jäger"},{"$f":"VLOOKUP(D144,'2021'!$A$11:$G$143,2,FALSE)","v":"Lorens"},46,80,{"$f":"VLOOKUP(E144,'2021'!$A$11:$G$143,2,FALSE)","v":"Bonita"},{"$f":"IF(ISBLANK(E144),\"hie eu nix drischribu\",VLOOKUP(E144,'2021'!$A$11:$G$143,4,FALSE))","v":"Stallung Passeraub"}]
["2021-09-06",{"$f":"IF(ISBLANK(D145),\"Alain, nix drischribu\",VLOOKUP(D145,'2021'!$A$11:$G$143,4,FALSE))","v":"Bregy Silvan & Patrik"},{"$f":"VLOOKUP(D145,'2021'!$A$11:$G$143,2,FALSE)","v":"Milow"},12,103,{"$f":"VLOOKUP(E145,'2021'!$A$11:$G$143,2,FALSE)","v":"Xena"},{"$f":"IF(ISBLANK(E145),\"hie eu nix drischribu\",VLOOKUP(E145,'2021'!$A$11:$G$143,4,FALSE))","v":"Wyssen Diego & Madlen"}]
["2021-09-06",{"$f":"IF(ISBLANK(D146),\"Alain, nix drischribu\",VLOOKUP(D146,'2021'!$A$11:$G$143,4,FALSE))","v":"Zumofen / Gattlen"},{"$f":"VLOOKUP(D146,'2021'!$A$11:$G$143,2,FALSE)","v":"Rambo"},120,87,{"$f":"VLOOKUP(E146,'2021'!$A$11:$G$143,2,FALSE)","v":"Tiara"},{"$f":"IF(ISBLANK(E146),\"hie eu nix drischribu\",VLOOKUP(E146,'2021'!$A$11:$G$143,4,FALSE))","v":"Sewer R. & Thommen S."}]
["2021-09-06",{"$f":"IF(ISBLANK(D147),\"Alain, nix drischribu\",VLOOKUP(D147,'2021'!$A$11:$G$143,4,FALSE))","v":"Jäger Carlo & Lukas"},{"$f":"VLOOKUP(D147,'2021'!$A$11:$G$143,2,FALSE)","v":"Samba"},59,30,{"$f":"VLOOKUP(E147,'2021'!$A$11:$G$143,2,FALSE)","v":"Diamant"},{"$f":"IF(ISBLANK(E147),\"hie eu nix drischribu\",VLOOKUP(E147,'2021'!$A$11:$G$143,4,FALSE))","v":"Fux W., J., & Wyer Piet"}]
["2021-09-06",{"$f":"IF(ISBLANK(D148),\"Alain, nix drischribu\",VLOOKUP(D148,'2021'!$A$11:$G$143,4,FALSE))","v":"Zumofen / Gattlen"},{"$f":"VLOOKUP(D148,'2021'!$A$11:$G$143,2,FALSE)","v":"Rambo"},120,64,{"$f":"VLOOKUP(E148,'2021'!$A$11:$G$143,2,FALSE)","v":"Sera"},{"$f":"IF(ISBLANK(E148),\"hie eu nix drischribu\",VLOOKUP(E148,'2021'!$A$11:$G$143,4,FALSE))","v":"Jäger Carlo & Lukas"}]
["2021-09-06",{"$f":"IF(ISBLANK(D149),\"Alain, nix drischribu\",VLOOKUP(D149,'2021'!$A$11:$G$143,4,FALSE))","v":"Mathieu Leander & Sascha"},{"$f":"VLOOKUP(D149,'2021'!$A$11:$G$143,2,FALSE)","v":"Bavaria"},69,52,{"$f":"VLOOKUP(E149,'2021'!$A$11:$G$143,2,FALSE)","v":"Pablo"},{"$f":"IF(ISBLANK(E149),\"hie eu nix drischribu\",VLOOKUP(E149,'2021'!$A$11:$G$143,4,FALSE))","v":"Hischier Pius"}]
["2021-09-05",{"$f":"IF(ISBLANK(D150),\"Alain, nix drischribu\",VLOOKUP(D150,'2021'!$A$11:$G$143,4,FALSE))","v":"Bregy Uli / Lisi & Pasci"},{"$f":"VLOOKUP(D150,'2021'!$A$11:$G$143,2,FALSE)","v":"Murphy"},16,58,{"$f":"VLOOKUP(E150,'2021'!$A$11:$G$143,2,FALSE)","v":"Bataille"},{"$f":"IF(ISBLANK(E150),\"hie eu nix drischribu\",VLOOKUP(E150,'2021'!$A$11:$G$143,4,FALSE))","v":"Jäger Carlo & Lukas"}]
["2021-09-05",{"$f":"IF(ISBLANK(D151),\"Alain, nix drischribu\",VLOOKUP(D151,'2021'!$A$11:$G$143,4,FALSE))","v":"Bregy Ralf & Adolf"},{"$f":"VLOOKUP(D151,'2021'!$A$11:$G$143,2,FALSE)","v":"Flacabre"},6,37,{"$f":"VLOOKUP(E151,'2021'!$A$11:$G$143,2,FALSE)","v":"Toscana"},{"$f":"IF(ISBLANK(E151),\"hie eu nix drischribu\",VLOOKUP(E151,'2021'!$A$11:$G$143,4,FALSE))","v":"Fux W., J., & Wyer Piet"}]
["2021-09-05",{"$f":"IF(ISBLANK(D152),\"Alain, nix drischribu\",VLOOKUP(D152,'2021'!$A$11:$G$143,4,FALSE))","v":"Mathieu Leander & Sascha"},{"$f":"VLOOKUP(D152,'2021'!$A$11:$G$143,2,FALSE)","v":"Bavaria"},69,34,{"$f":"VLOOKUP(E152,'2021'!$A$11:$G$143,2,FALSE)","v":"Valaisanne"},{"$f":"IF(ISBLANK(E152),\"hie eu nix drischribu\",VLOOKUP(E152,'2021'!$A$11:$G$143,4,FALSE))","v":"Fux W., J., & Wyer Piet"}]
["2021-09-05",{"$f":"IF(ISBLANK(D153),\"Alain, nix drischribu\",VLOOKUP(D153,'2021'!$A$11:$G$143,4,FALSE))","v":"Zumofen / Gattlen"},{"$f":"VLOOKUP(D153,'2021'!$A$11:$G$143,2,FALSE)","v":"Violette"},108,63,{"$f":"VLOOKUP(E153,'2021'!$A$11:$G$143,2,FALSE)","v":"Metis"},{"$f":"IF(ISBLANK(E153),\"hie eu nix drischribu\",VLOOKUP(E153,'2021'!$A$11:$G$143,4,FALSE))","v":"Jäger Carlo & Lukas"}]
["2021-09-05",{"$f":"IF(ISBLANK(D154),\"Alain, nix drischribu\",VLOOKUP(D154,'2021'!$A$11:$G$143,4,FALSE))","v":"Zumofen / Gattlen"},{"$f":"VLOOKUP(D154,'2021'!$A$11:$G$143,2,FALSE)","v":"Violette"},108,15,{"$f":"VLOOKUP(E154,'2021'!$A$11:$G$143,2,FALSE)","v":"Cashida"},{"$f":"IF(ISBLANK(E154),\"hie eu nix drischribu\",VLOOKUP(E154,'2021'!$A$11:$G$143,4,FALSE))","v":"Bregy Ralf & Adolf"}]
["2021-09-05",{"$f":"IF(ISBLANK(D155),\"Alain, nix drischribu\",VLOOKUP(D155,'2021'!$A$11:$G$143,4,FALSE))","v":"Bregy Ralf & Adolf"},{"$f":"VLOOKUP(D155,'2021'!$A$11:$G$143,2,FALSE)","v":"Creola"},8,14,{"$f":"VLOOKUP(E155,'2021'!$A$11:$G$143,2,FALSE)","v":"Canabis"},{"$f":"IF(ISBLANK(E155),\"hie eu nix drischribu\",VLOOKUP(E155,'2021'!$A$11:$G$143,4,FALSE))","v":"Bregy Ralf & Adolf"}]
["2021-09-05",{"$f":"IF(ISBLANK(D156),\"Alain, nix drischribu\",VLOOKUP(D156,'2021'!$A$11:$G$143,4,FALSE))","v":"Zumofen / Gattlen"},{"$f":"VLOOKUP(D156,'2021'!$A$11:$G$143,2,FALSE)","v":"Rigolo"},117,62,{"$f":"VLOOKUP(E156,'2021'!$A$11:$G$143,2,FALSE)","v":"Megane"},{"$f":"IF(ISBLANK(E156),\"hie eu nix drischribu\",VLOOKUP(E156,'2021'!$A$11:$G$143,4,FALSE))","v":"Jäger Carlo & Lukas"}]
["2021-09-05",{"$f":"IF(ISBLANK(D157),\"Alain, nix drischribu\",VLOOKUP(D157,'2021'!$A$11:$G$143,4,FALSE))","v":"Fux W., J., & Wyer Piet"},{"$f":"VLOOKUP(D157,'2021'!$A$11:$G$143,2,FALSE)","v":"Valaisanne"},34,105,{"$f":"VLOOKUP(E157,'2021'!$A$11:$G$143,2,FALSE)","v":"Corona"},{"$f":"IF(ISBLANK(E157),\"hie eu nix drischribu\",VLOOKUP(E157,'2021'!$A$11:$G$143,4,FALSE))","v":"Zumoberhaus Pius"}]
["2021-09-04",{"$f":"IF(ISBLANK(D158),\"Alain, nix drischribu\",VLOOKUP(D158,'2021'!$A$11:$G$143,4,FALSE))","v":"Jäger Carlo & Lukas"},{"$f":"VLOOKUP(D158,'2021'!$A$11:$G$143,2,FALSE)","v":"Caline"},53,51,{"$f":"VLOOKUP(E158,'2021'!$A$11:$G$143,2,FALSE)","v":"Safira"},{"$f":"IF(ISBLANK(E158),\"hie eu nix drischribu\",VLOOKUP(E158,'2021'!$A$11:$G$143,4,FALSE))","v":"Hischier Pius"}]
["2021-09-04",{"$f":"IF(ISBLANK(D159),\"Alain, nix drischribu\",VLOOKUP(D159,'2021'!$A$11:$G$143,4,FALSE))","v":"Stallung Passeraub"},{"$f":"VLOOKUP(D159,'2021'!$A$11:$G$143,2,FALSE)","v":"Beres"},77,70,{"$f":"VLOOKUP(E159,'2021'!$A$11:$G$143,2,FALSE)","v":"Bonita"},{"$f":"IF(ISBLANK(E159),\"hie eu nix drischribu\",VLOOKUP(E159,'2021'!$A$11:$G$143,4,FALSE))","v":"Mathieu Leander & Sascha"}]
["2021-09-04",{"$f":"IF(ISBLANK(D160),\"Alain, nix drischribu\",VLOOKUP(D160,'2021'!$A$11:$G$143,4,FALSE))","v":"Bregy Uli / Lisi & Pasci"},{"$f":"VLOOKUP(D160,'2021'!$A$11:$G$143,2,FALSE)","v":"Corona"},23,92,{"$f":"VLOOKUP(E160,'2021'!$A$11:$G$143,2,FALSE)","v":"Tomba"},{"$f":"IF(ISBLANK(E160),\"hie eu nix drischribu\",VLOOKUP(E160,'2021'!$A$11:$G$143,4,FALSE))","v":"Tscherry Erwin & Bernhard"}]
["2021-09-04",{"$f":"IF(ISBLANK(D161),\"Alain, nix drischribu\",VLOOKUP(D161,'2021'!$A$11:$G$143,4,FALSE))","v":"Stallung Passeraub"},{"$f":"VLOOKUP(D161,'2021'!$A$11:$G$143,2,FALSE)","v":"Beres"},77,68,{"$f":"VLOOKUP(E161,'2021'!$A$11:$G$143,2,FALSE)","v":"Baghira"},{"$f":"IF(ISBLANK(E161),\"hie eu nix drischribu\",VLOOKUP(E161,'2021'!$A$11:$G$143,4,FALSE))","v":"Mathieu Leander & Sascha"}]
["2021-09-04",{"$f":"IF(ISBLANK(D162),\"Alain, nix drischribu\",VLOOKUP(D162,'2021'!$A$11:$G$143,4,FALSE))","v":"Stallung Passeraub"},{"$f":"VLOOKUP(D162,'2021'!$A$11:$G$143,2,FALSE)","v":"Bonita"},80,108,{"$f":"VLOOKUP(E162,'2021'!$A$11:$G$143,2,FALSE)","v":"Violette"},{"$f":"IF(ISBLANK(E162),\"hie eu nix drischribu\",VLOOKUP(E162,'2021'!$A$11:$G$143,4,FALSE))","v":"Zumofen / Gattlen"}]
["2021-09-04",{"$f":"IF(ISBLANK(D163),\"Alain, nix drischribu\",VLOOKUP(D163,'2021'!$A$11:$G$143,4,FALSE))","v":"Zumofen / Gattlen"},{"$f":"VLOOKUP(D163,'2021'!$A$11:$G$143,2,FALSE)","v":"Souris"},115,42,{"$f":"VLOOKUP(E163,'2021'!$A$11:$G$143,2,FALSE)","v":"Simba"},{"$f":"IF(ISBLANK(E163),\"hie eu nix drischribu\",VLOOKUP(E163,'2021'!$A$11:$G$143,4,FALSE))","v":"Gebrüder Jäger"}]
["2021-09-04",{"$f":"IF(ISBLANK(D164),\"Alain, nix drischribu\",VLOOKUP(D164,'2021'!$A$11:$G$143,4,FALSE))","v":"Sewer R. & Thommen S."},{"$f":"VLOOKUP(D164,'2021'!$A$11:$G$143,2,FALSE)","v":"Biscot"},89,43,{"$f":"VLOOKUP(E164,'2021'!$A$11:$G$143,2,FALSE)","v":"Dorina"},{"$f":"IF(ISBLANK(E164),\"hie eu nix drischribu\",VLOOKUP(E164,'2021'!$A$11:$G$143,4,FALSE))","v":"Gebrüder Jäger"}]
["2021-09-04",{"$f":"IF(ISBLANK(D165),\"Alain, nix drischribu\",VLOOKUP(D165,'2021'!$A$11:$G$143,4,FALSE))","v":"Fux W., J., & Wyer Piet"},{"$f":"VLOOKUP(D165,'2021'!$A$11:$G$143,2,FALSE)","v":"Bastis"},31,30,{"$f":"VLOOKUP(E165,'2021'!$A$11:$G$143,2,FALSE)","v":"Diamant"},{"$f":"IF(ISBLANK(E165),\"hie eu nix drischribu\",VLOOKUP(E165,'2021'!$A$11:$G$143,4,FALSE))","v":"Fux W., J., & Wyer Piet"}]
["2021-09-04",{"$f":"IF(ISBLANK(D166),\"Alain, nix drischribu\",VLOOKUP(D166,'2021'!$A$11:$G$143,4,FALSE))","v":"Stallung zum Stäg"},{"$f":"VLOOKUP(D166,'2021'!$A$11:$G$143,2,FALSE)","v":"Cayenne"},83,25,{"$f":"VLOOKUP(E166,'2021'!$A$11:$G$143,2,FALSE)","v":"Calette"},{"$f":"IF(ISBLANK(E166),\"hie eu nix drischribu\",VLOOKUP(E166,'2021'!$A$11:$G$143,4,FALSE))","v":"Bregy Uli / Lisi & Pasci"}]
["2021-09-04",{"$f":"IF(ISBLANK(D167),\"Alain, nix drischribu\",VLOOKUP(D167,'2021'!$A$11:$G$143,4,FALSE))","v":"Williner Anton"},{"$f":"VLOOKUP(D167,'2021'!$A$11:$G$143,2,FALSE)","v":"Tigra"},94,124,{"$f":"VLOOKUP(E167,'2021'!$A$11:$G$143,2,FALSE)","v":"Xara"},{"$f":"IF(ISBLANK(E167),\"hie eu nix drischribu\",VLOOKUP(E167,'2021'!$A$11:$G$143,4,FALSE))","v":"Zumofen / Gattlen"}]
["2021-09-04",{"$f":"IF(ISBLANK(D168),\"Alain, nix drischribu\",VLOOKUP(D168,'2021'!$A$11:$G$143,4,FALSE))","v":"Tscherry Erwin & Bernhard"},{"$f":"VLOOKUP(D168,'2021'!$A$11:$G$143,2,FALSE)","v":"Carolin"},91,72,{"$f":"VLOOKUP(E168,'2021'!$A$11:$G$143,2,FALSE)","v":"Babylon"},{"$f":"IF(ISBLANK(E168),\"hie eu nix drischribu\",VLOOKUP(E168,'2021'!$A$11:$G$143,4,FALSE))","v":"Mathieu Leander & Sascha"}]
["2021-09-03",{"$f":"IF(ISBLANK(D169),\"Alain, nix drischribu\",VLOOKUP(D169,'2021'!$A$11:$G$143,4,FALSE))","v":"Sewer R. & Thommen S."},{"$f":"VLOOKUP(D169,'2021'!$A$11:$G$143,2,FALSE)","v":"Bolera"},90,49,{"$f":"VLOOKUP(E169,'2021'!$A$11:$G$143,2,FALSE)","v":"Gina-Lisa"},{"$f":"IF(ISBLANK(E169),\"hie eu nix drischribu\",VLOOKUP(E169,'2021'!$A$11:$G$143,4,FALSE))","v":"Hischier Pius"}]
["2021-09-03",{"$f":"IF(ISBLANK(D170),\"Alain, nix drischribu\",VLOOKUP(D170,'2021'!$A$11:$G$143,4,FALSE))","v":"Bregy Silvan & Patrik"},{"$f":"VLOOKUP(D170,'2021'!$A$11:$G$143,2,FALSE)","v":"Tequilla"},13,87,{"$f":"VLOOKUP(E170,'2021'!$A$11:$G$143,2,FALSE)","v":"Tiara"},{"$f":"IF(ISBLANK(E170),\"hie eu nix drischribu\",VLOOKUP(E170,'2021'!$A$11:$G$143,4,FALSE))","v":"Sewer R. & Thommen S."}]
["2021-09-03",{"$f":"IF(ISBLANK(D171),\"Alain, nix drischribu\",VLOOKUP(D171,'2021'!$A$11:$G$143,4,FALSE))","v":"Zumofen / Gattlen"},{"$f":"VLOOKUP(D171,'2021'!$A$11:$G$143,2,FALSE)","v":"Vanda"},113,70,{"$f":"VLOOKUP(E171,'2021'!$A$11:$G$143,2,FALSE)","v":"Bonita"},{"$f":"IF(ISBLANK(E171),\"hie eu nix drischribu\",VLOOKUP(E171,'2021'!$A$11:$G$143,4,FALSE))","v":"Mathieu Leander & Sascha"}]
["2021-09-03",{"$f":"IF(ISBLANK(D172),\"Alain, nix drischribu\",VLOOKUP(D172,'2021'!$A$11:$G$143,4,FALSE))","v":"Stallung Passeraub"},{"$f":"VLOOKUP(D172,'2021'!$A$11:$G$143,2,FALSE)","v":"Bobino"},82,34,{"$f":"VLOOKUP(E172,'2021'!$A$11:$G$143,2,FALSE)","v":"Valaisanne"},{"$f":"IF(ISBLANK(E172),\"hie eu nix drischribu\",VLOOKUP(E172,'2021'!$A$11:$G$143,4,FALSE))","v":"Fux W., J., & Wyer Piet"}]
["2021-09-03",{"$f":"IF(ISBLANK(D173),\"Alain, nix drischribu\",VLOOKUP(D173,'2021'!$A$11:$G$143,4,FALSE))","v":"Bayard Medard & Gustav"},{"$f":"VLOOKUP(D173,'2021'!$A$11:$G$143,2,FALSE)","v":"Vampir"},4,111,{"$f":"VLOOKUP(E173,'2021'!$A$11:$G$143,2,FALSE)","v":"Palona"},{"$f":"IF(ISBLANK(E173),\"hie eu nix drischribu\",VLOOKUP(E173,'2021'!$A$11:$G$143,4,FALSE))","v":"Zumofen / Gattlen"}]
["2021-09-02",{"$f":"IF(ISBLANK(D174),\"Alain, nix drischribu\",VLOOKUP(D174,'2021'!$A$11:$G$143,4,FALSE))","v":"Williner Anton"},{"$f":"VLOOKUP(D174,'2021'!$A$11:$G$143,2,FALSE)","v":"Tigra"},94,80,{"$f":"VLOOKUP(E174,'2021'!$A$11:$G$143,2,FALSE)","v":"Bonita"},{"$f":"IF(ISBLANK(E174),\"hie eu nix drischribu\",VLOOKUP(E174,'2021'!$A$11:$G$143,4,FALSE))","v":"Stallung Passeraub"}]
["2021-09-02",{"$f":"IF(ISBLANK(D175),\"Alain, nix drischribu\",VLOOKUP(D175,'2021'!$A$11:$G$143,4,FALSE))","v":"Bregy Ralf & Adolf"},{"$f":"VLOOKUP(D175,'2021'!$A$11:$G$143,2,FALSE)","v":"Canabis"},14,29,{"$f":"VLOOKUP(E175,'2021'!$A$11:$G$143,2,FALSE)","v":"Bolero"},{"$f":"IF(ISBLANK(E175),\"hie eu nix drischribu\",VLOOKUP(E175,'2021'!$A$11:$G$143,4,FALSE))","v":"Fux W., J., & Wyer Piet"}]
["2021-09-02",{"$f":"IF(ISBLANK(D176),\"Alain, nix drischribu\",VLOOKUP(D176,'2021'!$A$11:$G$143,4,FALSE))","v":"Gebrüder Jäger"},{"$f":"VLOOKUP(D176,'2021'!$A$11:$G$143,2,FALSE)","v":"Lorens"},46,63,{"$f":"VLOOKUP(E176,'2021'!$A$11:$G$143,2,FALSE)","v":"Metis"},{"$f":"IF(ISBLANK(E176),\"hie eu nix drischribu\",VLOOKUP(E176,'2021'!$A$11:$G$143,4,FALSE))","v":"Jäger Carlo & Lukas"}]
["2021-09-02",{"$f":"IF(ISBLANK(D177),\"Alain, nix drischribu\",VLOOKUP(D177,'2021'!$A$11:$G$143,4,FALSE))","v":"Bregy Uli / Lisi & Pasci"},{"$f":"VLOOKUP(D177,'2021'!$A$11:$G$143,2,FALSE)","v":"Souki"},18,108,{"$f":"VLOOKUP(E177,'2021'!$A$11:$G$143,2,FALSE)","v":"Violette"},{"$f":"IF(ISBLANK(E177),\"hie eu nix drischribu\",VLOOKUP(E177,'2021'!$A$11:$G$143,4,FALSE))","v":"Zumofen / Gattlen"}]
["2021-09-02",{"$f":"IF(ISBLANK(D178),\"Alain, nix drischribu\",VLOOKUP(D178,'2021'!$A$11:$G$143,4,FALSE))","v":"Bregy Ralf & Adolf"},{"$f":"VLOOKUP(D178,'2021'!$A$11:$G$143,2,FALSE)","v":"Canabis"},14,19,{"$f":"VLOOKUP(E178,'2021'!$A$11:$G$143,2,FALSE)","v":"Tiranie"},{"$f":"IF(ISBLANK(E178),\"hie eu nix drischribu\",VLOOKUP(E178,'2021'!$A$11:$G$143,4,FALSE))","v":"Bregy Uli / Lisi & Pasci"}]
["2021-09-02",{"$f":"IF(ISBLANK(D179),\"Alain, nix drischribu\",VLOOKUP(D179,'2021'!$A$11:$G$143,4,FALSE))","v":"Zumofen / Gattlen"},{"$f":"VLOOKUP(D179,'2021'!$A$11:$G$143,2,FALSE)","v":"Rigolo"},117,57,{"$f":"VLOOKUP(E179,'2021'!$A$11:$G$143,2,FALSE)","v":"Prune"},{"$f":"IF(ISBLANK(E179),\"hie eu nix drischribu\",VLOOKUP(E179,'2021'!$A$11:$G$143,4,FALSE))","v":"Jäger Carlo & Lukas"}]
["2021-09-02",{"$f":"IF(ISBLANK(D180),\"Alain, nix drischribu\",VLOOKUP(D180,'2021'!$A$11:$G$143,4,FALSE))","v":"Zumofen / Gattlen"},{"$f":"VLOOKUP(D180,'2021'!$A$11:$G$143,2,FALSE)","v":"Vanda"},113,34,{"$f":"VLOOKUP(E180,'2021'!$A$11:$G$143,2,FALSE)","v":"Valaisanne"},{"$f":"IF(ISBLANK(E180),\"hie eu nix drischribu\",VLOOKUP(E180,'2021'!$A$11:$G$143,4,FALSE))","v":"Fux W., J., & Wyer Piet"}]
["2021-09-02",{"$f":"IF(ISBLANK(D181),\"Alain, nix drischribu\",VLOOKUP(D181,'2021'!$A$11:$G$143,4,FALSE))","v":"Zumofen / Gattlen"},{"$f":"VLOOKUP(D181,'2021'!$A$11:$G$143,2,FALSE)","v":"Maya"},114,85,{"$f":"VLOOKUP(E181,'2021'!$A$11:$G$143,2,FALSE)","v":"Samantha"},{"$f":"IF(ISBLANK(E181),\"hie eu nix drischribu\",VLOOKUP(E181,'2021'!$A$11:$G$143,4,FALSE))","v":"Sewer R. & Thommen S."}]
["2021-09-02",{"$f":"IF(ISBLANK(D182),\"Alain, nix drischribu\",VLOOKUP(D182,'2021'!$A$11:$G$143,4,FALSE))","v":"Zumofen / Gattlen"},{"$f":"VLOOKUP(D182,'2021'!$A$11:$G$143,2,FALSE)","v":"Violette"},108,24,{"$f":"VLOOKUP(E182,'2021'!$A$11:$G$143,2,FALSE)","v":"Catalina"},{"$f":"IF(ISBLANK(E182),\"hie eu nix drischribu\",VLOOKUP(E182,'2021'!$A$11:$G$143,4,FALSE))","v":"Bregy Uli / Lisi & Pasci"}]
["2021-09-02",{"$f":"IF(ISBLANK(D183),\"Alain, nix drischribu\",VLOOKUP(D183,'2021'!$A$11:$G$143,4,FALSE))","v":"Stallung Passeraub"},{"$f":"VLOOKUP(D183,'2021'!$A$11:$G$143,2,FALSE)","v":"Ballerine"},78,96,{"$f":"VLOOKUP(E183,'2021'!$A$11:$G$143,2,FALSE)","v":"Vanessa"},{"$f":"IF(ISBLANK(E183),\"hie eu nix drischribu\",VLOOKUP(E183,'2021'!$A$11:$G$143,4,FALSE))","v":"Williner Anton"}]
["2021-09-02",{"$f":"IF(ISBLANK(D184),\"Alain, nix drischribu\",VLOOKUP(D184,'2021'!$A$11:$G$143,4,FALSE))","v":"Hutter Richard "},{"$f":"VLOOKUP(D184,'2021'!$A$11:$G$143,2,FALSE)","v":"Pablo"},76,73,{"$f":"VLOOKUP(E184,'2021'!$A$11:$G$143,2,FALSE)","v":"Bajka"},{"$f":"IF(ISBLANK(E184),\"hie eu nix drischribu\",VLOOKUP(E184,'2021'!$A$11:$G$143,4,FALSE))","v":"Stallung Passeraub"}]
["2021-09-01",{"$f":"IF(ISBLANK(D185),\"Alain, nix drischribu\",VLOOKUP(D185,'2021'!$A$11:$G$143,4,FALSE))","v":"Jäger Carlo & Lukas"},{"$f":"VLOOKUP(D185,'2021'!$A$11:$G$143,2,FALSE)","v":"Mygale"},56,70,{"$f":"VLOOKUP(E185,'2021'!$A$11:$G$143,2,FALSE)","v":"Bonita"},{"$f":"IF(ISBLANK(E185),\"hie eu nix drischribu\",VLOOKUP(E185,'2021'!$A$11:$G$143,4,FALSE))","v":"Mathieu Leander & Sascha"}]
["2021-09-01",{"$f":"IF(ISBLANK(D186),\"Alain, nix drischribu\",VLOOKUP(D186,'2021'!$A$11:$G$143,4,FALSE))","v":"Jäger Carlo & Lukas"},{"$f":"VLOOKUP(D186,'2021'!$A$11:$G$143,2,FALSE)","v":"Metis"},63,43,{"$f":"VLOOKUP(E186,'2021'!$A$11:$G$143,2,FALSE)","v":"Dorina"},{"$f":"IF(ISBLANK(E186),\"hie eu nix drischribu\",VLOOKUP(E186,'2021'!$A$11:$G$143,4,FALSE))","v":"Gebrüder Jäger"}]
["2021-09-01",{"$f":"IF(ISBLANK(D187),\"Alain, nix drischribu\",VLOOKUP(D187,'2021'!$A$11:$G$143,4,FALSE))","v":"Jäger Carlo & Lukas"},{"$f":"VLOOKUP(D187,'2021'!$A$11:$G$143,2,FALSE)","v":"Metis"},63,108,{"$f":"VLOOKUP(E187,'2021'!$A$11:$G$143,2,FALSE)","v":"Violette"},{"$f":"IF(ISBLANK(E187),\"hie eu nix drischribu\",VLOOKUP(E187,'2021'!$A$11:$G$143,4,FALSE))","v":"Zumofen / Gattlen"}]
["2021-09-01",{"$f":"IF(ISBLANK(D188),\"Alain, nix drischribu\",VLOOKUP(D188,'2021'!$A$11:$G$143,4,FALSE))","v":"Bregy Ralf & Adolf"},{"$f":"VLOOKUP(D188,'2021'!$A$11:$G$143,2,FALSE)","v":"Cashida"},15,63,{"$f":"VLOOKUP(E188,'2021'!$A$11:$G$143,2,FALSE)","v":"Metis"},{"$f":"IF(ISBLANK(E188),\"hie eu nix drischribu\",VLOOKUP(E188,'2021'!$A$11:$G$143,4,FALSE))","v":"Jäger Carlo & Lukas"}]
["2021-09-01",{"$f":"IF(ISBLANK(D189),\"Alain, nix drischribu\",VLOOKUP(D189,'2021'!$A$11:$G$143,4,FALSE))","v":"Zumofen / Gattlen"},{"$f":"VLOOKUP(D189,'2021'!$A$11:$G$143,2,FALSE)","v":"Violette"},108,63,{"$f":"VLOOKUP(E189,'2021'!$A$11:$G$143,2,FALSE)","v":"Metis"},{"$f":"IF(ISBLANK(E189),\"hie eu nix drischribu\",VLOOKUP(E189,'2021'!$A$11:$G$143,4,FALSE))","v":"Jäger Carlo & Lukas"}]
["2021-09-01",{"$f":"IF(ISBLANK(D190),\"Alain, nix drischribu\",VLOOKUP(D190,'2021'!$A$11:$G$143,4,FALSE))","v":"Jäger Carlo & Lukas"},{"$f":"VLOOKUP(D190,'2021'!$A$11:$G$143,2,FALSE)","v":"Metis"},63,117,{"$f":"VLOOKUP(E190,'2021'!$A$11:$G$143,2,FALSE)","v":"Rigolo"},{"$f":"IF(ISBLANK(E190),\"hie eu nix drischribu\",VLOOKUP(E190,'2021'!$A$11:$G$143,4,FALSE))","v":"Zumofen / Gattlen"}]
["2021-09-01",{"$f":"IF(ISBLANK(D191),\"Alain, nix drischribu\",VLOOKUP(D191,'2021'!$A$11:$G$143,4,FALSE))","v":"Zumofen / Gattlen"},{"$f":"VLOOKUP(D191,'2021'!$A$11:$G$143,2,FALSE)","v":"Violette"},108,37,{"$f":"VLOOKUP(E191,'2021'!$A$11:$G$143,2,FALSE)","v":"Toscana"},{"$f":"IF(ISBLANK(E191),\"hie eu nix drischribu\",VLOOKUP(E191,'2021'!$A$11:$G$143,4,FALSE))","v":"Fux W., J., & Wyer Piet"}]
["2021-09-01",{"$f":"IF(ISBLANK(D192),\"Alain, nix drischribu\",VLOOKUP(D192,'2021'!$A$11:$G$143,4,FALSE))","v":"Wyssen Diego & Madlen"},{"$f":"VLOOKUP(D192,'2021'!$A$11:$G$143,2,FALSE)","v":"Xhyla"},104,37,{"$f":"VLOOKUP(E192,'2021'!$A$11:$G$143,2,FALSE)","v":"Toscana"},{"$f":"IF(ISBLANK(E192),\"hie eu nix drischribu\",VLOOKUP(E192,'2021'!$A$11:$G$143,4,FALSE))","v":"Fux W., J., & Wyer Piet"}]
["2021-09-01",{"$f":"IF(ISBLANK(D193),\"Alain, nix drischribu\",VLOOKUP(D193,'2021'!$A$11:$G$143,4,FALSE))","v":"Wyssen Diego & Madlen"},{"$f":"VLOOKUP(D193,'2021'!$A$11:$G$143,2,FALSE)","v":"Xhyla"},104,117,{"$f":"VLOOKUP(E193,'2021'!$A$11:$G$143,2,FALSE)","v":"Rigolo"},{"$f":"IF(ISBLANK(E193),\"hie eu nix drischribu\",VLOOKUP(E193,'2021'!$A$11:$G$143,4,FALSE))","v":"Zumofen / Gattlen"}]
["2021-09-01",{"$f":"IF(ISBLANK(D194),\"Alain, nix drischribu\",VLOOKUP(D194,'2021'!$A$11:$G$143,4,FALSE))","v":"Jäger Carlo & Lukas"},{"$f":"VLOOKUP(D194,'2021'!$A$11:$G$143,2,FALSE)","v":"Metis"},63,42,{"$f":"VLOOKUP(E194,'2021'!$A$11:$G$143,2,FALSE)","v":"Simba"},{"$f":"IF(ISBLANK(E194),\"hie eu nix drischribu\",VLOOKUP(E194,'2021'!$A$11:$G$143,4,FALSE))","v":"Gebrüder Jäger"}]
["2021-09-01",{"$f":"IF(ISBLANK(D195),\"Alain, nix drischribu\",VLOOKUP(D195,'2021'!$A$11:$G$143,4,FALSE))","v":"Bregy Uli / Lisi & Pasci"},{"$f":"VLOOKUP(D195,'2021'!$A$11:$G$143,2,FALSE)","v":"Souki"},18,50,{"$f":"VLOOKUP(E195,'2021'!$A$11:$G$143,2,FALSE)","v":"Pruedence"},{"$f":"IF(ISBLANK(E195),\"hie eu nix drischribu\",VLOOKUP(E195,'2021'!$A$11:$G$143,4,FALSE))","v":"Hischier Pius"}]
["2021-08-31",{"$f":"IF(ISBLANK(D196),\"Alain, nix drischribu\",VLOOKUP(D196,'[1]2021'!$A$11:$G$143,4,FALSE))","v":"Bregy Ralf & Adolf"},{"$f":"VLOOKUP(D196,'[1]2021'!$A$11:$G$143,2,FALSE)","v":"Diabolo"},10,20,{"$f":"VLOOKUP(E196,'[1]2021'!$A$11:$G$143,2,FALSE)","v":"Caline"},{"$f":"IF(ISBLANK(E196),\"hie eu nix drischribu\",VLOOKUP(E196,'[1]2021'!$A$11:$G$143,4,FALSE))","v":" Bregy Uli / Lisi & Pasci"}]
["2021-08-31",{"$f":"IF(ISBLANK(D197),\"Alain, nix drischribu\",VLOOKUP(D197,'[1]2021'!$A$11:$G$143,4,FALSE))","v":"Hischier H. & Bühlmann J."},{"$f":"VLOOKUP(D197,'[1]2021'!$A$11:$G$143,2,FALSE)","v":"Jamada"},48,17,{"$f":"VLOOKUP(E197,'[1]2021'!$A$11:$G$143,2,FALSE)","v":"Simba"},{"$f":"IF(ISBLANK(E197),\"hie eu nix drischribu\",VLOOKUP(E197,'[1]2021'!$A$11:$G$143,4,FALSE))","v":"Bregy Uli / Lisi & Pasci"}]
["2021-08-31",{"$f":"IF(ISBLANK(D198),\"Alain, nix drischribu\",VLOOKUP(D198,'[1]2021'!$A$11:$G$143,4,FALSE))","v":"Bregy Uli / Lisi & Pasci"},{"$f":"VLOOKUP(D198,'[1]2021'!$A$11:$G$143,2,FALSE)","v":"Souki"},18,118,{"$f":"VLOOKUP(E198,'[1]2021'!$A$11:$G$143,2,FALSE)","v":"Vesuv"},{"$f":"IF(ISBLANK(E198),\"hie eu nix drischribu\",VLOOKUP(E198,'[1]2021'!$A$11:$G$143,4,FALSE))","v":"Zumofen / Gattlen"}]
["2021-08-31",{"$f":"IF(ISBLANK(D199),\"Alain, nix drischribu\",VLOOKUP(D199,'[1]2021'!$A$11:$G$143,4,FALSE))","v":"Zumofen / Gattlen"},{"$f":"VLOOKUP(D199,'[1]2021'!$A$11:$G$143,2,FALSE)","v":"Violette"},108,32,{"$f":"VLOOKUP(E199,'[1]2021'!$A$11:$G$143,2,FALSE)","v":"Mystic"},{"$f":"IF(ISBLANK(E199),\"hie eu nix drischribu\",VLOOKUP(E199,'[1]2021'!$A$11:$G$143,4,FALSE))","v":"Fux W., J., & Wyer Piet"}]
["2021-08-31",{"$f":"IF(ISBLANK(D200),\"Alain, nix drischribu\",VLOOKUP(D200,'[1]2021'!$A$11:$G$143,4,FALSE))","v":"Zumofen / Gattlen"},{"$f":"VLOOKUP(D200,'[1]2021'!$A$11:$G$143,2,FALSE)","v":"Violette"},108,30,{"$f":"VLOOKUP(E200,'[1]2021'!$A$11:$G$143,2,FALSE)","v":"Diamant"},{"$f":"IF(ISBLANK(E200),\"hie eu nix drischribu\",VLOOKUP(E200,'[1]2021'!$A$11:$G$143,4,FALSE))","v":"Fux W., J., & Wyer Piet"}]
["2021-08-31",{"$f":"IF(ISBLANK(D201),\"Alain, nix drischribu\",VLOOKUP(D201,'[1]2021'!$A$11:$G$143,4,FALSE))","v":"Bregy Uli / Lisi & Pasci"},{"$f":"VLOOKUP(D201,'[1]2021'!$A$11:$G$143,2,FALSE)","v":"Murphy"},16,43,{"$f":"VLOOKUP(E201,'[1]2021'!$A$11:$G$143,2,FALSE)","v":"Dorina"},{"$f":"IF(ISBLANK(E201),\"hie eu nix drischribu\",VLOOKUP(E201,'[1]2021'!$A$11:$G$143,4,FALSE))","v":"Gebrüder Jäger"}]
["2021-08-31",{"$f":"IF(ISBLANK(D202),\"Alain, nix drischribu\",VLOOKUP(D202,'[1]2021'!$A$11:$G$143,4,FALSE))","v":"Stallung zum Stäg"},{"$f":"VLOOKUP(D202,'[1]2021'!$A$11:$G$143,2,FALSE)","v":"Cayenne"},83,1,{"$f":"VLOOKUP(E202,'[1]2021'!$A$11:$G$143,2,FALSE)","v":"Venus"},{"$f":"IF(ISBLANK(E202),\"hie eu nix drischribu\",VLOOKUP(E202,'[1]2021'!$A$11:$G$143,4,FALSE))","v":"Bayard Medard & Gustav"}]
["2021-08-31",{"$f":"IF(ISBLANK(D203),\"Alain, nix drischribu\",VLOOKUP(D203,'[1]2021'!$A$11:$G$143,4,FALSE))","v":"Zumofen / Gattlen"},{"$f":"VLOOKUP(D203,'[1]2021'!$A$11:$G$143,2,FALSE)","v":"Rambo"},120,80,{"$f":"VLOOKUP(E203,'[1]2021'!$A$11:$G$143,2,FALSE)","v":"Bonita"},{"$f":"IF(ISBLANK(E203),\"hie eu nix drischribu\",VLOOKUP(E203,'[1]2021'!$A$11:$G$143,4,FALSE))","v":"Stallung Passeraub"}]
["2021-08-31",{"$f":"IF(ISBLANK(D204),\"Alain, nix drischribu\",VLOOKUP(D204,'[1]2021'!$A$11:$G$143,4,FALSE))","v":"Bayard Medard & Gustav"},{"$f":"VLOOKUP(D204,'[1]2021'!$A$11:$G$143,2,FALSE)","v":"Venus"},1,89,{"$f":"VLOOKUP(E204,'[1]2021'!$A$11:$G$143,2,FALSE)","v":"Biscot"},{"$f":"IF(ISBLANK(E204),\"hie eu nix drischribu\",VLOOKUP(E204,'[1]2021'!$A$11:$G$143,4,FALSE))","v":"Sewer R. & Thommen S."}]
["2021-08-31",{"$f":"IF(ISBLANK(D205),\"Alain, nix drischribu\",VLOOKUP(D205,'[1]2021'!$A$11:$G$143,4,FALSE))","v":"Williner Anton"},{"$f":"VLOOKUP(D205,'[1]2021'!$A$11:$G$143,2,FALSE)","v":"Tigra"},94,6,{"$f":"VLOOKUP(E205,'[1]2021'!$A$11:$G$143,2,FALSE)","v":"Flacabre"},{"$f":"IF(ISBLANK(E205),\"hie eu nix drischribu\",VLOOKUP(E205,'[1]2021'!$A$11:$G$143,4,FALSE))","v":"Bregy Ralf & Adolf"}]
["2021-08-31",{"$f":"IF(ISBLANK(D206),\"Alain, nix drischribu\",VLOOKUP(D206,'[1]2021'!$A$11:$G$143,4,FALSE))","v":"Zumofen / Gattlen"},{"$f":"VLOOKUP(D206,'[1]2021'!$A$11:$G$143,2,FALSE)","v":"Vanda"},113,101,{"$f":"VLOOKUP(E206,'[1]2021'!$A$11:$G$143,2,FALSE)","v":"Xandria"},{"$f":"IF(ISBLANK(E206),\"hie eu nix drischribu\",VLOOKUP(E206,'[1]2021'!$A$11:$G$143,4,FALSE))","v":"Wyssen Diego & Madlen"}]
["2021-08-31",{"$f":"IF(ISBLANK(D207),\"Alain, nix drischribu\",VLOOKUP(D207,'[1]2021'!$A$11:$G$143,4,FALSE))","v":"Zumofen / Gattlen"},{"$f":"VLOOKUP(D207,'[1]2021'!$A$11:$G$143,2,FALSE)","v":"Fayola"},119,13,{"$f":"VLOOKUP(E207,'[1]2021'!$A$11:$G$143,2,FALSE)","v":"Tequilla"},{"$f":"IF(ISBLANK(E207),\"hie eu nix drischribu\",VLOOKUP(E207,'[1]2021'!$A$11:$G$143,4,FALSE))","v":"Bregy Silvan & Patrik"}]
["2021-08-31",{"$f":"IF(ISBLANK(D208),\"Alain, nix drischribu\",VLOOKUP(D208,'[1]2021'!$A$11:$G$143,4,FALSE))","v":"Sewer R. & Thommen S."},{"$f":"VLOOKUP(D208,'[1]2021'!$A$11:$G$143,2,FALSE)","v":"Samantha"},85,57,{"$f":"VLOOKUP(E208,'[1]2021'!$A$11:$G$143,2,FALSE)","v":"Prune"},{"$f":"IF(ISBLANK(E208),\"hie eu nix drischribu\",VLOOKUP(E208,'[1]2021'!$A$11:$G$143,4,FALSE))","v":"Jäger Carlo & Lukas"}]
["2021-08-31",{"$f":"IF(ISBLANK(D209),\"Alain, nix drischribu\",VLOOKUP(D209,'[1]2021'!$A$11:$G$143,4,FALSE))","v":"Stallung zum Stäg"},{"$f":"VLOOKUP(D209,'[1]2021'!$A$11:$G$143,2,FALSE)","v":"Cayenne"},83,57,{"$f":"VLOOKUP(E209,'[1]2021'!$A$11:$G$143,2,FALSE)","v":"Prune"},{"$f":"IF(ISBLANK(E209),\"hie eu nix drischribu\",VLOOKUP(E209,'[1]2021'!$A$11:$G$143,4,FALSE))","v":"Jäger Carlo & Lukas"}]
["2021-08-31",{"$f":"IF(ISBLANK(D210),\"Alain, nix drischribu\",VLOOKUP(D210,'[1]2021'!$A$11:$G$143,4,FALSE))","v":"Stallung Passeraub"},{"$f":"VLOOKUP(D210,'[1]2021'!$A$11:$G$143,2,FALSE)","v":"Bonita"},80,114,{"$f":"VLOOKUP(E210,'[1]2021'!$A$11:$G$143,2,FALSE)","v":"Maya"},{"$f":"IF(ISBLANK(E210),\"hie eu nix drischribu\",VLOOKUP(E210,'[1]2021'!$A$11:$G$143,4,FALSE))","v":"Zumofen / Gattlen"}]
["2021-08-30",{"$f":"IF(ISBLANK(D211),\"Alain, nix drischribu\",VLOOKUP(D211,'[1]2021'!$A$11:$G$143,4,FALSE))","v":"Mathieu Leander & Sascha"},{"$f":"VLOOKUP(D211,'[1]2021'!$A$11:$G$143,2,FALSE)","v":"Bavaria"},69,33,{"$f":"VLOOKUP(E211,'[1]2021'!$A$11:$G$143,2,FALSE)","v":"Baquera"},{"$f":"IF(ISBLANK(E211),\"hie eu nix drischribu\",VLOOKUP(E211,'[1]2021'!$A$11:$G$143,4,FALSE))","v":"Fux W., J., & Wyer Piet"}]
["2021-08-30",{"$f":"IF(ISBLANK(D212),\"Alain, nix drischribu\",VLOOKUP(D212,'[1]2021'!$A$11:$G$143,4,FALSE))","v":"Stallung Passeraub"},{"$f":"VLOOKUP(D212,'[1]2021'!$A$11:$G$143,2,FALSE)","v":"Bonita"},80,29,{"$f":"VLOOKUP(E212,'[1]2021'!$A$11:$G$143,2,FALSE)","v":"Bolero"},{"$f":"IF(ISBLANK(E212),\"hie eu nix drischribu\",VLOOKUP(E212,'[1]2021'!$A$11:$G$143,4,FALSE))","v":"Fux W., J., & Wyer Piet"}]
["2021-08-30",{"$f":"IF(ISBLANK(D213),\"Alain, nix drischribu\",VLOOKUP(D213,'[1]2021'!$A$11:$G$143,4,FALSE))","v":"Bregy Silvan & Patrik"},{"$f":"VLOOKUP(D213,'[1]2021'!$A$11:$G$143,2,FALSE)","v":"Milow"},12,14,{"$f":"VLOOKUP(E213,'[1]2021'!$A$11:$G$143,2,FALSE)","v":"Canabis"},{"$f":"IF(ISBLANK(E213),\"hie eu nix drischribu\",VLOOKUP(E213,'[1]2021'!$A$11:$G$143,4,FALSE))","v":"Bregy Ralf & Adolf"}]
["2021-08-30",{"$f":"IF(ISBLANK(D214),\"Alain, nix drischribu\",VLOOKUP(D214,'[1]2021'!$A$11:$G$143,4,FALSE))","v":"Bregy Ralf & Adolf"},{"$f":"VLOOKUP(D214,'[1]2021'!$A$11:$G$143,2,FALSE)","v":"Coquette"},9,95,{"$f":"VLOOKUP(E214,'[1]2021'!$A$11:$G$143,2,FALSE)","v":"Vivana"},{"$f":"IF(ISBLANK(E214),\"hie eu nix drischribu\",VLOOKUP(E214,'[1]2021'!$A$11:$G$143,4,FALSE))","v":"Williner Anton"}]
["2021-08-30",{"$f":"IF(ISBLANK(D215),\"Alain, nix drischribu\",VLOOKUP(D215,'[1]2021'!$A$11:$G$143,4,FALSE))","v":"Zumofen / Gattlen"},{"$f":"VLOOKUP(D215,'[1]2021'!$A$11:$G$143,2,FALSE)","v":"Rena"},109,89,{"$f":"VLOOKUP(E215,'[1]2021'!$A$11:$G$143,2,FALSE)","v":"Biscot"},{"$f":"IF(ISBLANK(E215),\"hie eu nix drischribu\",VLOOKUP(E215,'[1]2021'!$A$11:$G$143,4,FALSE))","v":"Sewer R. & Thommen S."}]
["2021-08-30",{"$f":"IF(ISBLANK(D216),\"Alain, nix drischribu\",VLOOKUP(D216,'[1]2021'!$A$11:$G$143,4,FALSE))","v":"Bregy Ralf & Adolf"},{"$f":"VLOOKUP(D216,'[1]2021'!$A$11:$G$143,2,FALSE)","v":"Canabis"},14,43,{"$f":"VLOOKUP(E216,'[1]2021'!$A$11:$G$143,2,FALSE)","v":"Dorina"},{"$f":"IF(ISBLANK(E216),\"hie eu nix drischribu\",VLOOKUP(E216,'[1]2021'!$A$11:$G$143,4,FALSE))","v":"Gebrüder Jäger"}]
["2021-08-30",{"$f":"IF(ISBLANK(D217),\"Alain, nix drischribu\",VLOOKUP(D217,'[1]2021'!$A$11:$G$143,4,FALSE))","v":"Jäger Carlo & Lukas"},{"$f":"VLOOKUP(D217,'[1]2021'!$A$11:$G$143,2,FALSE)","v":"Grolla"},61,89,{"$f":"VLOOKUP(E217,'[1]2021'!$A$11:$G$143,2,FALSE)","v":"Biscot"},{"$f":"IF(ISBLANK(E217),\"hie eu nix drischribu\",VLOOKUP(E217,'[1]2021'!$A$11:$G$143,4,FALSE))","v":"Sewer R. & Thommen S."}]
["2021-08-29",{"$f":"IF(ISBLANK(D218),\"Alain, nix drischribu\",VLOOKUP(D218,'[1]2021'!$A$11:$G$143,4,FALSE))","v":"Fam. Leiggener"},{"$f":"VLOOKUP(D218,'[1]2021'!$A$11:$G$143,2,FALSE)","v":"Rebell"},27,32,{"$f":"VLOOKUP(E218,'[1]2021'!$A$11:$G$143,2,FALSE)","v":"Mystic"},{"$f":"IF(ISBLANK(E218),\"hie eu nix drischribu\",VLOOKUP(E218,'[1]2021'!$A$11:$G$143,4,FALSE))","v":"Fux W., J., & Wyer Piet"}]
["2021-08-29",{"$f":"IF(ISBLANK(D219),\"Alain, nix drischribu\",VLOOKUP(D219,'[1]2021'!$A$11:$G$143,4,FALSE))","v":"Williner Anton"},{"$f":"VLOOKUP(D219,'[1]2021'!$A$11:$G$143,2,FALSE)","v":"Vivana"},95,89,{"$f":"VLOOKUP(E219,'[1]2021'!$A$11:$G$143,2,FALSE)","v":"Biscot"},{"$f":"IF(ISBLANK(E219),\"hie eu nix drischribu\",VLOOKUP(E219,'[1]2021'!$A$11:$G$143,4,FALSE))","v":"Sewer R. & Thommen S."}]
["2021-08-29",{"$f":"IF(ISBLANK(D220),\"Alain, nix drischribu\",VLOOKUP(D220,'[1]2021'!$A$11:$G$143,4,FALSE))","v":"Bayard Medard & Gustav"},{"$f":"VLOOKUP(D220,'[1]2021'!$A$11:$G$143,2,FALSE)","v":"Vampir"},4,53,{"$f":"VLOOKUP(E220,'[1]2021'!$A$11:$G$143,2,FALSE)","v":"Caline"},{"$f":"IF(ISBLANK(E220),\"hie eu nix drischribu\",VLOOKUP(E220,'[1]2021'!$A$11:$G$143,4,FALSE))","v":"Jäger Carlo & Lukas"}]
["2021-08-29",{"$f":"IF(ISBLANK(D221),\"Alain, nix drischribu\",VLOOKUP(D221,'[1]2021'!$A$11:$G$143,4,FALSE))","v":"Jäger Carlo & Lukas"},{"$f":"VLOOKUP(D221,'[1]2021'!$A$11:$G$143,2,FALSE)","v":"Prune"},57,92,{"$f":"VLOOKUP(E221,'[1]2021'!$A$11:$G$143,2,FALSE)","v":"Tomba"},{"$f":"IF(ISBLANK(E221),\"hie eu nix drischribu\",VLOOKUP(E221,'[1]2021'!$A$11:$G$143,4,FALSE))","v":"Tscherry Erwin & Bernhard"}]
["2021-08-29",{"$f":"IF(ISBLANK(D222),\"Alain, nix drischribu\",VLOOKUP(D222,'[1]2021'!$A$11:$G$143,4,FALSE))","v":"Mathieu Leander & Sascha"},{"$f":"VLOOKUP(D222,'[1]2021'!$A$11:$G$143,2,FALSE)","v":"Bavaria"},69,106,{"$f":"VLOOKUP(E222,'[1]2021'!$A$11:$G$143,2,FALSE)","v":"Miss"},{"$f":"IF(ISBLANK(E222),\"hie eu nix drischribu\",VLOOKUP(E222,'[1]2021'!$A$11:$G$143,4,FALSE))","v":"Zumoberhaus Pius"}]
["2021-08-28",{"$f":"IF(ISBLANK(D223),\"Alain, nix drischribu\",VLOOKUP(D223,'[1]2021'!$A$11:$G$143,4,FALSE))","v":"Stallung Passeraub"},{"$f":"VLOOKUP(D223,'[1]2021'!$A$11:$G$143,2,FALSE)","v":"Beres"},77,47,{"$f":"VLOOKUP(E223,'[1]2021'!$A$11:$G$143,2,FALSE)","v":"Lenja"},{"$f":"IF(ISBLANK(E223),\"hie eu nix drischribu\",VLOOKUP(E223,'[1]2021'!$A$11:$G$143,4,FALSE))","v":"Hischier H. & Bühlmann J."}]
["2021-08-28",{"$f":"IF(ISBLANK(D224),\"Alain, nix drischribu\",VLOOKUP(D224,'[1]2021'!$A$11:$G$143,4,FALSE))","v":"Stallung zum Stäg"},{"$f":"VLOOKUP(D224,'[1]2021'!$A$11:$G$143,2,FALSE)","v":"Cayenne"},83,29,{"$f":"VLOOKUP(E224,'[1]2021'!$A$11:$G$143,2,FALSE)","v":"Bolero"},{"$f":"IF(ISBLANK(E224),\"hie eu nix drischribu\",VLOOKUP(E224,'[1]2021'!$A$11:$G$143,4,FALSE))","v":"Fux W., J., & Wyer Piet"}]
["2021-08-28",{"$f":"IF(ISBLANK(D225),\"Alain, nix drischribu\",VLOOKUP(D225,'[1]2021'!$A$11:$G$143,4,FALSE))","v":"Williner Anton"},{"$f":"VLOOKUP(D225,'[1]2021'!$A$11:$G$143,2,FALSE)","v":"Vivana"},95,6,{"$f":"VLOOKUP(E225,'[1]2021'!$A$11:$G$143,2,FALSE)","v":"Flacabre"},{"$f":"IF(ISBLANK(E225),\"hie eu nix drischribu\",VLOOKUP(E225,'[1]2021'!$A$11:$G$143,4,FALSE))","v":"Bregy Ralf & Adolf"}]
["2021-08-28",{"$f":"IF(ISBLANK(D226),\"Alain, nix drischribu\",VLOOKUP(D226,'[1]2021'!$A$11:$G$143,4,FALSE))","v":"Zumofen / Gattlen"},{"$f":"VLOOKUP(D226,'[1]2021'!$A$11:$G$143,2,FALSE)","v":"Xana"},122,23,{"$f":"VLOOKUP(E226,'[1]2021'!$A$11:$G$143,2,FALSE)","v":"Corona"},{"$f":"IF(ISBLANK(E226),\"hie eu nix drischribu\",VLOOKUP(E226,'[1]2021'!$A$11:$G$143,4,FALSE))","v":"Bregy Uli / Lisi & Pasci"}]
["2021-08-28",{"$f":"IF(ISBLANK(D227),\"Alain, nix drischribu\",VLOOKUP(D227,'[1]2021'!$A$11:$G$143,4,FALSE))","v":"Stallung Passeraub"},{"$f":"VLOOKUP(D227,'[1]2021'!$A$11:$G$143,2,FALSE)","v":"Bajka"},73,49,{"$f":"VLOOKUP(E227,'[1]2021'!$A$11:$G$143,2,FALSE)","v":"Gina-Lisa"},{"$f":"IF(ISBLANK(E227),\"hie eu nix drischribu\",VLOOKUP(E227,'[1]2021'!$A$11:$G$143,4,FALSE))","v":"Hischier Pius"}]
["2021-08-27",{"$f":"IF(ISBLANK(D228),\"Alain, nix drischribu\",VLOOKUP(D228,'[1]2021'!$A$11:$G$143,4,FALSE))","v":"Zumofen / Gattlen"},{"$f":"VLOOKUP(D228,'[1]2021'!$A$11:$G$143,2,FALSE)","v":"Rigolo"},117,58,{"$f":"VLOOKUP(E228,'[1]2021'!$A$11:$G$143,2,FALSE)","v":"Bataille"},{"$f":"IF(ISBLANK(E228),\"hie eu nix drischribu\",VLOOKUP(E228,'[1]2021'!$A$11:$G$143,4,FALSE))","v":"Jäger Carlo & Lukas"}]
["2021-08-27",{"$f":"IF(ISBLANK(D229),\"Alain, nix drischribu\",VLOOKUP(D229,'[1]2021'!$A$11:$G$143,4,FALSE))","v":"Wyssen Diego & Madlen"},{"$f":"VLOOKUP(D229,'[1]2021'!$A$11:$G$143,2,FALSE)","v":"Rasta"},102,31,{"$f":"VLOOKUP(E229,'[1]2021'!$A$11:$G$143,2,FALSE)","v":"Bastis"},{"$f":"IF(ISBLANK(E229),\"hie eu nix drischribu\",VLOOKUP(E229,'[1]2021'!$A$11:$G$143,4,FALSE))","v":"Fux W., J., & Wyer Piet"}]
["2021-08-27",{"$f":"IF(ISBLANK(D230),\"Alain, nix drischribu\",VLOOKUP(D230,'[1]2021'!$A$11:$G$143,4,FALSE))","v":"Zumofen / Gattlen"},{"$f":"VLOOKUP(D230,'[1]2021'!$A$11:$G$143,2,FALSE)","v":"Violin"},107,31,{"$f":"VLOOKUP(E230,'[1]2021'!$A$11:$G$143,2,FALSE)","v":"Bastis"},{"$f":"IF(ISBLANK(E230),\"hie eu nix drischribu\",VLOOKUP(E230,'[1]2021'!$A$11:$G$143,4,FALSE))","v":"Fux W., J., & Wyer Piet"}]
["2021-08-27",{"$f":"IF(ISBLANK(D231),\"Alain, nix drischribu\",VLOOKUP(D231,'[1]2021'!$A$11:$G$143,4,FALSE))","v":"Williner Anton"},{"$f":"VLOOKUP(D231,'[1]2021'!$A$11:$G$143,2,FALSE)","v":"Vivana"},95,67,{"$f":"VLOOKUP(E231,'[1]2021'!$A$11:$G$143,2,FALSE)","v":"Tokio"},{"$f":"IF(ISBLANK(E231),\"hie eu nix drischribu\",VLOOKUP(E231,'[1]2021'!$A$11:$G$143,4,FALSE))","v":"Jäger Carlo & Lukas"}]
["2021-08-27",{"$f":"IF(ISBLANK(D232),\"Alain, nix drischribu\",VLOOKUP(D232,'[1]2021'!$A$11:$G$143,4,FALSE))","v":"Williner Anton"},{"$f":"VLOOKUP(D232,'[1]2021'!$A$11:$G$143,2,FALSE)","v":"Vivana"},95,89,{"$f":"VLOOKUP(E232,'[1]2021'!$A$11:$G$143,2,FALSE)","v":"Biscot"},{"$f":"IF(ISBLANK(E232),\"hie eu nix drischribu\",VLOOKUP(E232,'[1]2021'!$A$11:$G$143,4,FALSE))","v":"Sewer R. & Thommen S."}]
["2021-08-27",{"$f":"IF(ISBLANK(D233),\"Alain, nix drischribu\",VLOOKUP(D233,'[1]2021'!$A$11:$G$143,4,FALSE))","v":"Sewer R. & Thommen S."},{"$f":"VLOOKUP(D233,'[1]2021'!$A$11:$G$143,2,FALSE)","v":"Bolera"},90,59,{"$f":"VLOOKUP(E233,'[1]2021'!$A$11:$G$143,2,FALSE)","v":"Samba"},{"$f":"IF(ISBLANK(E233),\"hie eu nix drischribu\",VLOOKUP(E233,'[1]2021'!$A$11:$G$143,4,FALSE))","v":"Jäger Carlo & Lukas"}]
["2021-08-26",{"$f":"IF(ISBLANK(D234),\"Alain, nix drischribu\",VLOOKUP(D234,'[1]2021'!$A$11:$G$143,4,FALSE))","v":"Stallung Passeraub"},{"$f":"VLOOKUP(D234,'[1]2021'!$A$11:$G$143,2,FALSE)","v":"Ballerine"},78,119,{"$f":"VLOOKUP(E234,'[1]2021'!$A$11:$G$143,2,FALSE)","v":"Fayola"},{"$f":"IF(ISBLANK(E234),\"hie eu nix drischribu\",VLOOKUP(E234,'[1]2021'!$A$11:$G$143,4,FALSE))","v":"Zumofen / Gattlen"}]
["2021-08-26",{"$f":"IF(ISBLANK(D235),\"Alain, nix drischribu\",VLOOKUP(D235,'[1]2021'!$A$11:$G$143,4,FALSE))","v":"Wyssen Diego & Madlen"},{"$f":"VLOOKUP(D235,'[1]2021'!$A$11:$G$143,2,FALSE)","v":"Xena"},103,37,{"$f":"VLOOKUP(E235,'[1]2021'!$A$11:$G$143,2,FALSE)","v":"Toscana"},{"$f":"IF(ISBLANK(E235),\"hie eu nix drischribu\",VLOOKUP(E235,'[1]2021'!$A$11:$G$143,4,FALSE))","v":"Fux W., J., & Wyer Piet"}]
["2021-08-26",{"$f":"IF(ISBLANK(D236),\"Alain, nix drischribu\",VLOOKUP(D236,'[1]2021'!$A$11:$G$143,4,FALSE))","v":"Fux W., J., & Wyer Piet"},{"$f":"VLOOKUP(D236,'[1]2021'!$A$11:$G$143,2,FALSE)","v":"Mystic"},32,123,{"$f":"VLOOKUP(E236,'[1]2021'!$A$11:$G$143,2,FALSE)","v":"Fachita"},{"$f":"IF(ISBLANK(E236),\"hie eu nix drischribu\",VLOOKUP(E236,'[1]2021'!$A$11:$G$143,4,FALSE))","v":"Zumofen / Gattlen"}]
["2021-08-26",{"$f":"IF(ISBLANK(D237),\"Alain, nix drischribu\",VLOOKUP(D237,'[1]2021'!$A$11:$G$143,4,FALSE))","v":"Bregy Silvan & Patrik"},{"$f":"VLOOKUP(D237,'[1]2021'!$A$11:$G$143,2,FALSE)","v":"Tequilla"},13,17,{"$f":"VLOOKUP(E237,'[1]2021'!$A$11:$G$143,2,FALSE)","v":"Simba"},{"$f":"IF(ISBLANK(E237),\"hie eu nix drischribu\",VLOOKUP(E237,'[1]2021'!$A$11:$G$143,4,FALSE))","v":"Bregy Uli / Lisi & Pasci"}]
["2021-08-26",{"$f":"IF(ISBLANK(D238),\"Alain, nix drischribu\",VLOOKUP(D238,'[1]2021'!$A$11:$G$143,4,FALSE))","v":"Wyssen Diego & Madlen"},{"$f":"VLOOKUP(D238,'[1]2021'!$A$11:$G$143,2,FALSE)","v":"Xantara"},100,106,{"$f":"VLOOKUP(E238,'[1]2021'!$A$11:$G$143,2,FALSE)","v":"Miss"},{"$f":"IF(ISBLANK(E238),\"hie eu nix drischribu\",VLOOKUP(E238,'[1]2021'!$A$11:$G$143,4,FALSE))","v":"Zumoberhaus Pius"}]
["2021-08-26",{"$f":"IF(ISBLANK(D239),\"Alain, nix drischribu\",VLOOKUP(D239,'[1]2021'!$A$11:$G$143,4,FALSE))","v":" Bregy Uli / Lisi & Pasci"},{"$f":"VLOOKUP(D239,'[1]2021'!$A$11:$G$143,2,FALSE)","v":"Caline"},20,32,{"$f":"VLOOKUP(E239,'[1]2021'!$A$11:$G$143,2,FALSE)","v":"Mystic"},{"$f":"IF(ISBLANK(E239),\"hie eu nix drischribu\",VLOOKUP(E239,'[1]2021'!$A$11:$G$143,4,FALSE))","v":"Fux W., J., & Wyer Piet"}]
["2021-08-26",{"$f":"IF(ISBLANK(D240),\"Alain, nix drischribu\",VLOOKUP(D240,'[1]2021'!$A$11:$G$143,4,FALSE))","v":"Fux W., J., & Wyer Piet"},{"$f":"VLOOKUP(D240,'[1]2021'!$A$11:$G$143,2,FALSE)","v":"Toscana"},37,111,{"$f":"VLOOKUP(E240,'[1]2021'!$A$11:$G$143,2,FALSE)","v":"Palona"},{"$f":"IF(ISBLANK(E240),\"hie eu nix drischribu\",VLOOKUP(E240,'[1]2021'!$A$11:$G$143,4,FALSE))","v":"Zumofen / Gattlen"}]
["2021-08-26",{"$f":"IF(ISBLANK(D241),\"Alain, nix drischribu\",VLOOKUP(D241,'[1]2021'!$A$11:$G$143,4,FALSE))","v":"Fux W., J., & Wyer Piet"},{"$f":"VLOOKUP(D241,'[1]2021'!$A$11:$G$143,2,FALSE)","v":"Toscana"},37,6,{"$f":"VLOOKUP(E241,'[1]2021'!$A$11:$G$143,2,FALSE)","v":"Flacabre"},{"$f":"IF(ISBLANK(E241),\"hie eu nix drischribu\",VLOOKUP(E241,'[1]2021'!$A$11:$G$143,4,FALSE))","v":"Bregy Ralf & Adolf"}]
["2021-08-26",{"$f":"IF(ISBLANK(D242),\"Alain, nix drischribu\",VLOOKUP(D242,'[1]2021'!$A$11:$G$143,4,FALSE))","v":"Bregy Ralf & Adolf"},{"$f":"VLOOKUP(D242,'[1]2021'!$A$11:$G$143,2,FALSE)","v":"Flacabre"},6,103,{"$f":"VLOOKUP(E242,'[1]2021'!$A$11:$G$143,2,FALSE)","v":"Xena"},{"$f":"IF(ISBLANK(E242),\"hie eu nix drischribu\",VLOOKUP(E242,'[1]2021'!$A$11:$G$143,4,FALSE))","v":"Wyssen Diego & Madlen"}]
["2021-08-26",{"$f":"IF(ISBLANK(D243),\"Alain, nix drischribu\",VLOOKUP(D243,'[1]2021'!$A$11:$G$143,4,FALSE))","v":"Williner Anton"},{"$f":"VLOOKUP(D243,'[1]2021'!$A$11:$G$143,2,FALSE)","v":"Tigra"},94,37,{"$f":"VLOOKUP(E243,'[1]2021'!$A$11:$G$143,2,FALSE)","v":"Toscana"},{"$f":"IF(ISBLANK(E243),\"hie eu nix drischribu\",VLOOKUP(E243,'[1]2021'!$A$11:$G$143,4,FALSE))","v":"Fux W., J., & Wyer Piet"}]
["2021-08-26",{"$f":"IF(ISBLANK(D244),\"Alain, nix drischribu\",VLOOKUP(D244,'[1]2021'!$A$11:$G$143,4,FALSE))","v":"Williner Anton"},{"$f":"VLOOKUP(D244,'[1]2021'!$A$11:$G$143,2,FALSE)","v":"Vivana"},95,34,{"$f":"VLOOKUP(E244,'[1]2021'!$A$11:$G$143,2,FALSE)","v":"Valaisanne"},{"$f":"IF(ISBLANK(E244),\"hie eu nix drischribu\",VLOOKUP(E244,'[1]2021'!$A$11:$G$143,4,FALSE))","v":"Fux W., J., & Wyer Piet"}]
["2021-08-26",{"$f":"IF(ISBLANK(D245),\"Alain, nix drischribu\",VLOOKUP(D245,'[1]2021'!$A$11:$G$143,4,FALSE))","v":"Fam. Leiggener"},{"$f":"VLOOKUP(D245,'[1]2021'!$A$11:$G$143,2,FALSE)","v":"Rebell"},27,32,{"$f":"VLOOKUP(E245,'[1]2021'!$A$11:$G$143,2,FALSE)","v":"Mystic"},{"$f":"IF(ISBLANK(E245),\"hie eu nix drischribu\",VLOOKUP(E245,'[1]2021'!$A$11:$G$143,4,FALSE))","v":"Fux W., J., & Wyer Piet"}]
["2021-08-26",{"$f":"IF(ISBLANK(D246),\"Alain, nix drischribu\",VLOOKUP(D246,'[1]2021'!$A$11:$G$143,4,FALSE))","v":"Zumofen / Gattlen"},{"$f":"VLOOKUP(D246,'[1]2021'!$A$11:$G$143,2,FALSE)","v":"Rigolo"},117,37,{"$f":"VLOOKUP(E246,'[1]2021'!$A$11:$G$143,2,FALSE)","v":"Toscana"},{"$f":"IF(ISBLANK(E246),\"hie eu nix drischribu\",VLOOKUP(E246,'[1]2021'!$A$11:$G$143,4,FALSE))","v":"Fux W., J., & Wyer Piet"}]
["2021-08-26",{"$f":"IF(ISBLANK(D247),\"Alain, nix drischribu\",VLOOKUP(D247,'[1]2021'!$A$11:$G$143,4,FALSE))","v":"Fam. Leiggener"},{"$f":"VLOOKUP(D247,'[1]2021'!$A$11:$G$143,2,FALSE)","v":"Baron"},28,97,{"$f":"VLOOKUP(E247,'[1]2021'!$A$11:$G$143,2,FALSE)","v":"Violine"},{"$f":"IF(ISBLANK(E247),\"hie eu nix drischribu\",VLOOKUP(E247,'[1]2021'!$A$11:$G$143,4,FALSE))","v":"Williner Anton"}]
["2021-08-26",{"$f":"IF(ISBLANK(D248),\"Alain, nix drischribu\",VLOOKUP(D248,'[1]2021'!$A$11:$G$143,4,FALSE))","v":"Stallung Passeraub"},{"$f":"VLOOKUP(D248,'[1]2021'!$A$11:$G$143,2,FALSE)","v":"Bobino"},82,93,{"$f":"VLOOKUP(E248,'[1]2021'!$A$11:$G$143,2,FALSE)","v":"Tonic"},{"$f":"IF(ISBLANK(E248),\"hie eu nix drischribu\",VLOOKUP(E248,'[1]2021'!$A$11:$G$143,4,FALSE))","v":"Williner Anton"}]
["2021-08-26",{"$f":"IF(ISBLANK(D249),\"Alain, nix drischribu\",VLOOKUP(D249,'[1]2021'!$A$11:$G$143,4,FALSE))","v":"Fux W., J., & Wyer Piet"},{"$f":"VLOOKUP(D249,'[1]2021'!$A$11:$G$143,2,FALSE)","v":"Valaisanne"},34,106,{"$f":"VLOOKUP(E249,'[1]2021'!$A$11:$G$143,2,FALSE)","v":"Miss"},{"$f":"IF(ISBLANK(E249),\"hie eu nix drischribu\",VLOOKUP(E249,'[1]2021'!$A$11:$G$143,4,FALSE))","v":"Zumoberhaus Pius"}]
["2021-08-26",{"$f":"IF(ISBLANK(D250),\"Alain, nix drischribu\",VLOOKUP(D250,'[1]2021'!$A$11:$G$143,4,FALSE))","v":"Bregy Silvan & Patrik"},{"$f":"VLOOKUP(D250,'[1]2021'!$A$11:$G$143,2,FALSE)","v":"Tequilla"},13,32,{"$f":"VLOOKUP(E250,'[1]2021'!$A$11:$G$143,2,FALSE)","v":"Mystic"},{"$f":"IF(ISBLANK(E250),\"hie eu nix drischribu\",VLOOKUP(E250,'[1]2021'!$A$11:$G$143,4,FALSE))","v":"Fux W., J., & Wyer Piet"}]
["2021-08-26",{"$f":"IF(ISBLANK(D251),\"Alain, nix drischribu\",VLOOKUP(D251,'[1]2021'!$A$11:$G$143,4,FALSE))","v":"Zumofen / Gattlen"},{"$f":"VLOOKUP(D251,'[1]2021'!$A$11:$G$143,2,FALSE)","v":"Pinoccio"},116,33,{"$f":"VLOOKUP(E251,'[1]2021'!$A$11:$G$143,2,FALSE)","v":"Baquera"},{"$f":"IF(ISBLANK(E251),\"hie eu nix drischribu\",VLOOKUP(E251,'[1]2021'!$A$11:$G$143,4,FALSE))","v":"Fux W., J., & Wyer Piet"}]
["2021-08-26",{"$f":"IF(ISBLANK(D252),\"Alain, nix drischribu\",VLOOKUP(D252,'[1]2021'!$A$11:$G$143,4,FALSE))","v":"Williner Anton"},{"$f":"VLOOKUP(D252,'[1]2021'!$A$11:$G$143,2,FALSE)","v":"Vanessa"},96,118,{"$f":"VLOOKUP(E252,'[1]2021'!$A$11:$G$143,2,FALSE)","v":"Vesuv"},{"$f":"IF(ISBLANK(E252),\"hie eu nix drischribu\",VLOOKUP(E252,'[1]2021'!$A$11:$G$143,4,FALSE))","v":"Zumofen / Gattlen"}]
["2021-08-26",{"$f":"IF(ISBLANK(D253),\"Alain, nix drischribu\",VLOOKUP(D253,'[1]2021'!$A$11:$G$143,4,FALSE))","v":"Zumofen / Gattlen"},{"$f":"VLOOKUP(D253,'[1]2021'!$A$11:$G$143,2,FALSE)","v":"Xana"},122,34,{"$f":"VLOOKUP(E253,'[1]2021'!$A$11:$G$143,2,FALSE)","v":"Valaisanne"},{"$f":"IF(ISBLANK(E253),\"hie eu nix drischribu\",VLOOKUP(E253,'[1]2021'!$A$11:$G$143,4,FALSE))","v":"Fux W., J., & Wyer Piet"}]
["2021-08-26",{"$f":"IF(ISBLANK(D254),\"Alain, nix drischribu\",VLOOKUP(D254,'[1]2021'!$A$11:$G$143,4,FALSE))","v":"Gebrüder Jäger"},{"$f":"VLOOKUP(D254,'[1]2021'!$A$11:$G$143,2,FALSE)","v":"Simba"},42,66,{"$f":"VLOOKUP(E254,'[1]2021'!$A$11:$G$143,2,FALSE)","v":"Taverne"},{"$f":"IF(ISBLANK(E254),\"hie eu nix drischribu\",VLOOKUP(E254,'[1]2021'!$A$11:$G$143,4,FALSE))","v":"Jäger Carlo & Lukas"}]
["2021-08-26",{"$f":"IF(ISBLANK(D255),\"Alain, nix drischribu\",VLOOKUP(D255,'[1]2021'!$A$11:$G$143,4,FALSE))","v":"Bregy Uli / Lisi & Pasci"},{"$f":"VLOOKUP(D255,'[1]2021'!$A$11:$G$143,2,FALSE)","v":"Calette"},25,40,{"$f":"VLOOKUP(E255,'[1]2021'!$A$11:$G$143,2,FALSE)","v":"Tina"},{"$f":"IF(ISBLANK(E255),\"hie eu nix drischribu\",VLOOKUP(E255,'[1]2021'!$A$11:$G$143,4,FALSE))","v":"Gebrüder Jäger"}]
["2021-08-26",{"$f":"IF(ISBLANK(D256),\"Alain, nix drischribu\",VLOOKUP(D256,'[1]2021'!$A$11:$G$143,4,FALSE))","v":"Zumofen / Gattlen"},{"$f":"VLOOKUP(D256,'[1]2021'!$A$11:$G$143,2,FALSE)","v":"Maya"},114,105,{"$f":"VLOOKUP(E256,'[1]2021'!$A$11:$G$143,2,FALSE)","v":"Corona"},{"$f":"IF(ISBLANK(E256),\"hie eu nix drischribu\",VLOOKUP(E256,'[1]2021'!$A$11:$G$143,4,FALSE))","v":"Zumoberhaus Pius"}]
["2021-08-26",{"$f":"IF(ISBLANK(D257),\"Alain, nix drischribu\",VLOOKUP(D257,'[1]2021'!$A$11:$G$143,4,FALSE))","v":"Zumofen / Gattlen"},{"$f":"VLOOKUP(D257,'[1]2021'!$A$11:$G$143,2,FALSE)","v":"Pinoccio"},116,105,{"$f":"VLOOKUP(E257,'[1]2021'!$A$11:$G$143,2,FALSE)","v":"Corona"},{"$f":"IF(ISBLANK(E257),\"hie eu nix drischribu\",VLOOKUP(E257,'[1]2021'!$A$11:$G$143,4,FALSE))","v":"Zumoberhaus Pius"}]
["2021-08-26",{"$f":"IF(ISBLANK(D258),\"Alain, nix drischribu\",VLOOKUP(D258,'[1]2021'!$A$11:$G$143,4,FALSE))","v":"Hischier Pius"},{"$f":"VLOOKUP(D258,'[1]2021'!$A$11:$G$143,2,FALSE)","v":"Gina-Lisa"},49,71,{"$f":"VLOOKUP(E258,'[1]2021'!$A$11:$G$143,2,FALSE)","v":"Balea"},{"$f":"IF(ISBLANK(E258),\"hie eu nix drischribu\",VLOOKUP(E258,'[1]2021'!$A$11:$G$143,4,FALSE))","v":"Mathieu Leander & Sascha"}]
["2021-08-26",{"$f":"IF(ISBLANK(D259),\"Alain, nix drischribu\",VLOOKUP(D259,'[1]2021'!$A$11:$G$143,4,FALSE))","v":"Bregy Uli / Lisi & Pasci"},{"$f":"VLOOKUP(D259,'[1]2021'!$A$11:$G$143,2,FALSE)","v":"Corona"},23,59,{"$f":"VLOOKUP(E259,'[1]2021'!$A$11:$G$143,2,FALSE)","v":"Samba"},{"$f":"IF(ISBLANK(E259),\"hie eu nix drischribu\",VLOOKUP(E259,'[1]2021'!$A$11:$G$143,4,FALSE))","v":"Jäger Carlo & Lukas"}]
["2021-08-26",{"$f":"IF(ISBLANK(D260),\"Alain, nix drischribu\",VLOOKUP(D260,'[1]2021'!$A$11:$G$143,4,FALSE))","v":"Gebrüder Jäger"},{"$f":"VLOOKUP(D260,'[1]2021'!$A$11:$G$143,2,FALSE)","v":"Tara"},41,123,{"$f":"VLOOKUP(E260,'[1]2021'!$A$11:$G$143,2,FALSE)","v":"Fachita"},{"$f":"IF(ISBLANK(E260),\"hie eu nix drischribu\",VLOOKUP(E260,'[1]2021'!$A$11:$G$143,4,FALSE))","v":"Zumofen / Gattlen"}]
["2021-08-26",{"$f":"IF(ISBLANK(D261),\"Alain, nix drischribu\",VLOOKUP(D261,'[1]2021'!$A$11:$G$143,4,FALSE))","v":"Mathieu Leander & Sascha"},{"$f":"VLOOKUP(D261,'[1]2021'!$A$11:$G$143,2,FALSE)","v":"Babylon"},72,91,{"$f":"VLOOKUP(E261,'[1]2021'!$A$11:$G$143,2,FALSE)","v":"Carolin"},{"$f":"IF(ISBLANK(E261),\"hie eu nix drischribu\",VLOOKUP(E261,'[1]2021'!$A$11:$G$143,4,FALSE))","v":"Tscherry Erwin & Bernhard"}]
["2021-08-26",{"$f":"IF(ISBLANK(D262),\"Alain, nix drischribu\",VLOOKUP(D262,'[1]2021'!$A$11:$G$143,4,FALSE))","v":"Zumofen / Gattlen"},{"$f":"VLOOKUP(D262,'[1]2021'!$A$11:$G$143,2,FALSE)","v":"Rena"},109,1,{"$f":"VLOOKUP(E262,'[1]2021'!$A$11:$G$143,2,FALSE)","v":"Venus"},{"$f":"IF(ISBLANK(E262),\"hie eu nix drischribu\",VLOOKUP(E262,'[1]2021'!$A$11:$G$143,4,FALSE))","v":"Bayard Medard & Gustav"}]
["2021-08-25",{"$f":"IF(ISBLANK(D263),\"Alain, nix drischribu\",VLOOKUP(D263,'[1]2021'!$A$11:$G$143,4,FALSE))","v":"Stallung Passeraub"},{"$f":"VLOOKUP(D263,'[1]2021'!$A$11:$G$143,2,FALSE)","v":"Ballerine"},78,43,{"$f":"VLOOKUP(E263,'[1]2021'!$A$11:$G$143,2,FALSE)","v":"Dorina"},{"$f":"IF(ISBLANK(E263),\"hie eu nix drischribu\",VLOOKUP(E263,'[1]2021'!$A$11:$G$143,4,FALSE))","v":"Gebrüder Jäger"}]
["2021-08-25",{"$f":"IF(ISBLANK(D264),\"Alain, nix drischribu\",VLOOKUP(D264,'[1]2021'!$A$11:$G$143,4,FALSE))","v":"Bregy Uli / Lisi & Pasci"},{"$f":"VLOOKUP(D264,'[1]2021'!$A$11:$G$143,2,FALSE)","v":"Bora"},21,53,{"$f":"VLOOKUP(E264,'[1]2021'!$A$11:$G$143,2,FALSE)","v":"Caline"},{"$f":"IF(ISBLANK(E264),\"hie eu nix drischribu\",VLOOKUP(E264,'[1]2021'!$A$11:$G$143,4,FALSE))","v":"Jäger Carlo & Lukas"}]
["2021-08-25",{"$f":"IF(ISBLANK(D265),\"Alain, nix drischribu\",VLOOKUP(D265,'[1]2021'!$A$11:$G$143,4,FALSE))","v":"Zumofen / Gattlen"},{"$f":"VLOOKUP(D265,'[1]2021'!$A$11:$G$143,2,FALSE)","v":"Rigolo"},117,104,{"$f":"VLOOKUP(E265,'[1]2021'!$A$11:$G$143,2,FALSE)","v":"Xhyla"},{"$f":"IF(ISBLANK(E265),\"hie eu nix drischribu\",VLOOKUP(E265,'[1]2021'!$A$11:$G$143,4,FALSE))","v":"Wyssen Diego & Madlen"}]
["2021-08-25",{"$f":"IF(ISBLANK(D266),\"Alain, nix drischribu\",VLOOKUP(D266,'[1]2021'!$A$11:$G$143,4,FALSE))","v":"Williner Anton"},{"$f":"VLOOKUP(D266,'[1]2021'!$A$11:$G$143,2,FALSE)","v":"Vivana"},95,40,{"$f":"VLOOKUP(E266,'[1]2021'!$A$11:$G$143,2,FALSE)","v":"Tina"},{"$f":"IF(ISBLANK(E266),\"hie eu nix drischribu\",VLOOKUP(E266,'[1]2021'!$A$11:$G$143,4,FALSE))","v":"Gebrüder Jäger"}]
["2021-08-25",{"$f":"IF(ISBLANK(D267),\"Alain, nix drischribu\",VLOOKUP(D267,'[1]2021'!$A$11:$G$143,4,FALSE))","v":"Bregy Ralf & Adolf"},{"$f":"VLOOKUP(D267,'[1]2021'!$A$11:$G$143,2,FALSE)","v":"Canabis"},14,95,{"$f":"VLOOKUP(E267,'[1]2021'!$A$11:$G$143,2,FALSE)","v":"Vivana"},{"$f":"IF(ISBLANK(E267),\"hie eu nix drischribu\",VLOOKUP(E267,'[1]2021'!$A$11:$G$143,4,FALSE))","v":"Williner Anton"}]
["2021-08-25",{"$f":"IF(ISBLANK(D268),\"Alain, nix drischribu\",VLOOKUP(D268,'[1]2021'!$A$11:$G$143,4,FALSE))","v":"Zumofen / Gattlen"},{"$f":"VLOOKUP(D268,'[1]2021'!$A$11:$G$143,2,FALSE)","v":"Rena"},109,14,{"$f":"VLOOKUP(E268,'[1]2021'!$A$11:$G$143,2,FALSE)","v":"Canabis"},{"$f":"IF(ISBLANK(E268),\"hie eu nix drischribu\",VLOOKUP(E268,'[1]2021'!$A$11:$G$143,4,FALSE))","v":"Bregy Ralf & Adolf"}]
["2021-08-25",{"$f":"IF(ISBLANK(D269),\"Alain, nix drischribu\",VLOOKUP(D269,'[1]2021'!$A$11:$G$143,4,FALSE))","v":"Zimmermann Ivan & Monika"},{"$f":"VLOOKUP(D269,'[1]2021'!$A$11:$G$143,2,FALSE)","v":"Riva"},112,65,{"$f":"VLOOKUP(E269,'[1]2021'!$A$11:$G$143,2,FALSE)","v":"Pivoine"},{"$f":"IF(ISBLANK(E269),\"hie eu nix drischribu\",VLOOKUP(E269,'[1]2021'!$A$11:$G$143,4,FALSE))","v":"Jäger Carlo & Lukas"}]
["2021-08-25",{"$f":"IF(ISBLANK(D270),\"Alain, nix drischribu\",VLOOKUP(D270,'[1]2021'!$A$11:$G$143,4,FALSE))","v":"Zumofen / Gattlen"},{"$f":"VLOOKUP(D270,'[1]2021'!$A$11:$G$143,2,FALSE)","v":"Souris"},115,65,{"$f":"VLOOKUP(E270,'[1]2021'!$A$11:$G$143,2,FALSE)","v":"Pivoine"},{"$f":"IF(ISBLANK(E270),\"hie eu nix drischribu\",VLOOKUP(E270,'[1]2021'!$A$11:$G$143,4,FALSE))","v":"Jäger Carlo & Lukas"}]
["2021-08-25",{"$f":"IF(ISBLANK(D271),\"Alain, nix drischribu\",VLOOKUP(D271,'[1]2021'!$A$11:$G$143,4,FALSE))","v":"Stallung Passeraub"},{"$f":"VLOOKUP(D271,'[1]2021'!$A$11:$G$143,2,FALSE)","v":"Bajka"},73,122,{"$f":"VLOOKUP(E271,'[1]2021'!$A$11:$G$143,2,FALSE)","v":"Xana"},{"$f":"IF(ISBLANK(E271),\"hie eu nix drischribu\",VLOOKUP(E271,'[1]2021'!$A$11:$G$143,4,FALSE))","v":"Zumofen / Gattlen"}]
["2021-08-25",{"$f":"IF(ISBLANK(D272),\"Alain, nix drischribu\",VLOOKUP(D272,'[1]2021'!$A$11:$G$143,4,FALSE))","v":"Stallung Passeraub"},{"$f":"VLOOKUP(D272,'[1]2021'!$A$11:$G$143,2,FALSE)","v":"Ballerine"},78,21,{"$f":"VLOOKUP(E272,'[1]2021'!$A$11:$G$143,2,FALSE)","v":"Bora"},{"$f":"IF(ISBLANK(E272),\"hie eu nix drischribu\",VLOOKUP(E272,'[1]2021'!$A$11:$G$143,4,FALSE))","v":"Bregy Uli / Lisi & Pasci"}]
["2021-08-25",{"$f":"IF(ISBLANK(D273),\"Alain, nix drischribu\",VLOOKUP(D273,'[1]2021'!$A$11:$G$143,4,FALSE))","v":"Bregy Ralf & Adolf"},{"$f":"VLOOKUP(D273,'[1]2021'!$A$11:$G$143,2,FALSE)","v":"Canabis"},14,65,{"$f":"VLOOKUP(E273,'[1]2021'!$A$11:$G$143,2,FALSE)","v":"Pivoine"},{"$f":"IF(ISBLANK(E273),\"hie eu nix drischribu\",VLOOKUP(E273,'[1]2021'!$A$11:$G$143,4,FALSE))","v":"Jäger Carlo & Lukas"}]
["2021-08-25",{"$f":"IF(ISBLANK(D274),\"Alain, nix drischribu\",VLOOKUP(D274,'[1]2021'!$A$11:$G$143,4,FALSE))","v":"Jäger Carlo & Lukas"},{"$f":"VLOOKUP(D274,'[1]2021'!$A$11:$G$143,2,FALSE)","v":"Pivoine"},65,117,{"$f":"VLOOKUP(E274,'[1]2021'!$A$11:$G$143,2,FALSE)","v":"Rigolo"},{"$f":"IF(ISBLANK(E274),\"hie eu nix drischribu\",VLOOKUP(E274,'[1]2021'!$A$11:$G$143,4,FALSE))","v":"Zumofen / Gattlen"}]
["2021-08-25",{"$f":"IF(ISBLANK(D275),\"Alain, nix drischribu\",VLOOKUP(D275,'[1]2021'!$A$11:$G$143,4,FALSE))","v":"Stallung Passeraub"},{"$f":"VLOOKUP(D275,'[1]2021'!$A$11:$G$143,2,FALSE)","v":"Ballerine"},78,65,{"$f":"VLOOKUP(E275,'[1]2021'!$A$11:$G$143,2,FALSE)","v":"Pivoine"},{"$f":"IF(ISBLANK(E275),\"hie eu nix drischribu\",VLOOKUP(E275,'[1]2021'!$A$11:$G$143,4,FALSE))","v":"Jäger Carlo & Lukas"}]
["2021-08-25",{"$f":"IF(ISBLANK(D276),\"Alain, nix drischribu\",VLOOKUP(D276,'[1]2021'!$A$11:$G$143,4,FALSE))","v":"Bregy Uli / Lisi & Pasci"},{"$f":"VLOOKUP(D276,'[1]2021'!$A$11:$G$143,2,FALSE)","v":"Bora"},21,14,{"$f":"VLOOKUP(E276,'[1]2021'!$A$11:$G$143,2,FALSE)","v":"Canabis"},{"$f":"IF(ISBLANK(E276),\"hie eu nix drischribu\",VLOOKUP(E276,'[1]2021'!$A$11:$G$143,4,FALSE))","v":"Bregy Ralf & Adolf"}]
["2021-08-25",{"$f":"IF(ISBLANK(D277),\"Alain, nix drischribu\",VLOOKUP(D277,'[1]2021'!$A$11:$G$143,4,FALSE))","v":"Stallung Passeraub"},{"$f":"VLOOKUP(D277,'[1]2021'!$A$11:$G$143,2,FALSE)","v":"Marla"},79,48,{"$f":"VLOOKUP(E277,'[1]2021'!$A$11:$G$143,2,FALSE)","v":"Jamada"},{"$f":"IF(ISBLANK(E277),\"hie eu nix drischribu\",VLOOKUP(E277,'[1]2021'!$A$11:$G$143,4,FALSE))","v":"Hischier H. & Bühlmann J."}]
["2021-08-25",{"$f":"IF(ISBLANK(D278),\"Alain, nix drischribu\",VLOOKUP(D278,'[1]2021'!$A$11:$G$143,4,FALSE))","v":"Hischier Pius"},{"$f":"VLOOKUP(D278,'[1]2021'!$A$11:$G$143,2,FALSE)","v":"Pablo"},52,111,{"$f":"VLOOKUP(E278,'[1]2021'!$A$11:$G$143,2,FALSE)","v":"Palona"},{"$f":"IF(ISBLANK(E278),\"hie eu nix drischribu\",VLOOKUP(E278,'[1]2021'!$A$11:$G$143,4,FALSE))","v":"Zumofen / Gattlen"}]
["2021-08-25",{"$f":"IF(ISBLANK(D279),\"Alain, nix drischribu\",VLOOKUP(D279,'[1]2021'!$A$11:$G$143,4,FALSE))","v":"Jäger Carlo & Lukas"},{"$f":"VLOOKUP(D279,'[1]2021'!$A$11:$G$143,2,FALSE)","v":"Pivoine"},65,15,{"$f":"VLOOKUP(E279,'[1]2021'!$A$11:$G$143,2,FALSE)","v":"Cashida"},{"$f":"IF(ISBLANK(E279),\"hie eu nix drischribu\",VLOOKUP(E279,'[1]2021'!$A$11:$G$143,4,FALSE))","v":"Bregy Ralf & Adolf"}]
["2021-08-25",{"$f":"IF(ISBLANK(D280),\"Alain, nix drischribu\",VLOOKUP(D280,'[1]2021'!$A$11:$G$143,4,FALSE))","v":"Jäger Carlo & Lukas"},{"$f":"VLOOKUP(D280,'[1]2021'!$A$11:$G$143,2,FALSE)","v":"Pivoine"},65,43,{"$f":"VLOOKUP(E280,'[1]2021'!$A$11:$G$143,2,FALSE)","v":"Dorina"},{"$f":"IF(ISBLANK(E280),\"hie eu nix drischribu\",VLOOKUP(E280,'[1]2021'!$A$11:$G$143,4,FALSE))","v":"Gebrüder Jäger"}]
["2021-08-25",{"$f":"IF(ISBLANK(D281),\"Alain, nix drischribu\",VLOOKUP(D281,'[1]2021'!$A$11:$G$143,4,FALSE))","v":"Wyssen Diego & Madlen"},{"$f":"VLOOKUP(D281,'[1]2021'!$A$11:$G$143,2,FALSE)","v":"Xhyla"},104,115,{"$f":"VLOOKUP(E281,'[1]2021'!$A$11:$G$143,2,FALSE)","v":"Souris"},{"$f":"IF(ISBLANK(E281),\"hie eu nix drischribu\",VLOOKUP(E281,'[1]2021'!$A$11:$G$143,4,FALSE))","v":"Zumofen / Gattlen"}]
["2021-08-25",{"$f":"IF(ISBLANK(D282),\"Alain, nix drischribu\",VLOOKUP(D282,'[1]2021'!$A$11:$G$143,4,FALSE))","v":"Gebrüder Jäger"},{"$f":"VLOOKUP(D282,'[1]2021'!$A$11:$G$143,2,FALSE)","v":"Dorina"},43,48,{"$f":"VLOOKUP(E282,'[1]2021'!$A$11:$G$143,2,FALSE)","v":"Jamada"},{"$f":"IF(ISBLANK(E282),\"hie eu nix drischribu\",VLOOKUP(E282,'[1]2021'!$A$11:$G$143,4,FALSE))","v":"Hischier H. & Bühlmann J."}]
["2021-08-25",{"$f":"IF(ISBLANK(D283),\"Alain, nix drischribu\",VLOOKUP(D283,'[1]2021'!$A$11:$G$143,4,FALSE))","v":"Bregy Uli / Lisi & Pasci"},{"$f":"VLOOKUP(D283,'[1]2021'!$A$11:$G$143,2,FALSE)","v":"Catalina"},24,54,{"$f":"VLOOKUP(E283,'[1]2021'!$A$11:$G$143,2,FALSE)","v":"Flora"},{"$f":"IF(ISBLANK(E283),\"hie eu nix drischribu\",VLOOKUP(E283,'[1]2021'!$A$11:$G$143,4,FALSE))","v":"Jäger Carlo & Lukas"}]
["2021-08-25",{"$f":"IF(ISBLANK(D284),\"Alain, nix drischribu\",VLOOKUP(D284,'[1]2021'!$A$11:$G$143,4,FALSE))","v":"Jäger Carlo & Lukas"},{"$f":"VLOOKUP(D284,'[1]2021'!$A$11:$G$143,2,FALSE)","v":"Caline"},53,48,{"$f":"VLOOKUP(E284,'[1]2021'!$A$11:$G$143,2,FALSE)","v":"Jamada"},{"$f":"IF(ISBLANK(E284),\"hie eu nix drischribu\",VLOOKUP(E284,'[1]2021'!$A$11:$G$143,4,FALSE))","v":"Hischier H. & Bühlmann J."}]
["2021-08-25",{"$f":"IF(ISBLANK(D285),\"Alain, nix drischribu\",VLOOKUP(D285,'[1]2021'!$A$11:$G$143,4,FALSE))","v":"Jäger Carlo & Lukas"},{"$f":"VLOOKUP(D285,'[1]2021'!$A$11:$G$143,2,FALSE)","v":"Flora"},54,3,{"$f":"VLOOKUP(E285,'[1]2021'!$A$11:$G$143,2,FALSE)","v":"Priska"},{"$f":"IF(ISBLANK(E285),\"hie eu nix drischribu\",VLOOKUP(E285,'[1]2021'!$A$11:$G$143,4,FALSE))","v":"Bayard Medard & Gustav"}]
["2021-08-25",{"$f":"IF(ISBLANK(D286),\"Alain, nix drischribu\",VLOOKUP(D286,'[1]2021'!$A$11:$G$143,4,FALSE))","v":"Mathieu Leander & Sascha"},{"$f":"VLOOKUP(D286,'[1]2021'!$A$11:$G$143,2,FALSE)","v":"Baghira"},68,49,{"$f":"VLOOKUP(E286,'[1]2021'!$A$11:$G$143,2,FALSE)","v":"Gina-Lisa"},{"$f":"IF(ISBLANK(E286),\"hie eu nix drischribu\",VLOOKUP(E286,'[1]2021'!$A$11:$G$143,4,FALSE))","v":"Hischier Pius"}]
["2021-08-25",{"$f":"IF(ISBLANK(D287),\"Alain, nix drischribu\",VLOOKUP(D287,'[1]2021'!$A$11:$G$143,4,FALSE))","v":"Bayard Medard & Gustav"},{"$f":"VLOOKUP(D287,'[1]2021'!$A$11:$G$143,2,FALSE)","v":"Priska"},3,57,{"$f":"VLOOKUP(E287,'[1]2021'!$A$11:$G$143,2,FALSE)","v":"Prune"},{"$f":"IF(ISBLANK(E287),\"hie eu nix drischribu\",VLOOKUP(E287,'[1]2021'!$A$11:$G$143,4,FALSE))","v":"Jäger Carlo & Lukas"}]
["2021-08-25",{"$f":"IF(ISBLANK(D288),\"Alain, nix drischribu\",VLOOKUP(D288,'[1]2021'!$A$11:$G$143,4,FALSE))","v":"Zumofen / Gattlen"},{"$f":"VLOOKUP(D288,'[1]2021'!$A$11:$G$143,2,FALSE)","v":"Raja"},121,85,{"$f":"VLOOKUP(E288,'[1]2021'!$A$11:$G$143,2,FALSE)","v":"Samantha"},{"$f":"IF(ISBLANK(E288),\"hie eu nix drischribu\",VLOOKUP(E288,'[1]2021'!$A$11:$G$143,4,FALSE))","v":"Sewer R. & Thommen S."}]
["2021-08-25",{"$f":"IF(ISBLANK(D289),\"Alain, nix drischribu\",VLOOKUP(D289,'[1]2021'!$A$11:$G$143,4,FALSE))","v":"Zumofen / Gattlen"},{"$f":"VLOOKUP(D289,'[1]2021'!$A$11:$G$143,2,FALSE)","v":"Rigolo"},117,47,{"$f":"VLOOKUP(E289,'[1]2021'!$A$11:$G$143,2,FALSE)","v":"Lenja"},{"$f":"IF(ISBLANK(E289),\"hie eu nix drischribu\",VLOOKUP(E289,'[1]2021'!$A$11:$G$143,4,FALSE))","v":"Hischier H. & Bühlmann J."}]
["2021-08-25",{"$f":"IF(ISBLANK(D290),\"Alain, nix drischribu\",VLOOKUP(D290,'[1]2021'!$A$11:$G$143,4,FALSE))","v":"Hischier Pius"},{"$f":"VLOOKUP(D290,'[1]2021'!$A$11:$G$143,2,FALSE)","v":"Safira"},51,47,{"$f":"VLOOKUP(E290,'[1]2021'!$A$11:$G$143,2,FALSE)","v":"Lenja"},{"$f":"IF(ISBLANK(E290),\"hie eu nix drischribu\",VLOOKUP(E290,'[1]2021'!$A$11:$G$143,4,FALSE))","v":"Hischier H. & Bühlmann J."}]
["2021-08-25",{"$f":"IF(ISBLANK(D291),\"Alain, nix drischribu\",VLOOKUP(D291,'[1]2021'!$A$11:$G$143,4,FALSE))","v":"Bregy Uli / Lisi & Pasci"},{"$f":"VLOOKUP(D291,'[1]2021'!$A$11:$G$143,2,FALSE)","v":"Souki"},18,6,{"$f":"VLOOKUP(E291,'[1]2021'!$A$11:$G$143,2,FALSE)","v":"Flacabre"},{"$f":"IF(ISBLANK(E291),\"hie eu nix drischribu\",VLOOKUP(E291,'[1]2021'!$A$11:$G$143,4,FALSE))","v":"Bregy Ralf & Adolf"}]
["2021-08-25",{"$f":"IF(ISBLANK(D292),\"Alain, nix drischribu\",VLOOKUP(D292,'[1]2021'!$A$11:$G$143,4,FALSE))","v":"Zumofen / Gattlen"},{"$f":"VLOOKUP(D292,'[1]2021'!$A$11:$G$143,2,FALSE)","v":"Rigolo"},117,61,{"$f":"VLOOKUP(E292,'[1]2021'!$A$11:$G$143,2,FALSE)","v":"Grolla"},{"$f":"IF(ISBLANK(E292),\"hie eu nix drischribu\",VLOOKUP(E292,'[1]2021'!$A$11:$G$143,4,FALSE))","v":"Jäger Carlo & Lukas"}]
["2021-08-25",{"$f":"IF(ISBLANK(D293),\"Alain, nix drischribu\",VLOOKUP(D293,'[1]2021'!$A$11:$G$143,4,FALSE))","v":"Zumofen / Gattlen"},{"$f":"VLOOKUP(D293,'[1]2021'!$A$11:$G$143,2,FALSE)","v":"Xara"},124,25,{"$f":"VLOOKUP(E293,'[1]2021'!$A$11:$G$143,2,FALSE)","v":"Calette"},{"$f":"IF(ISBLANK(E293),\"hie eu nix drischribu\",VLOOKUP(E293,'[1]2021'!$A$11:$G$143,4,FALSE))","v":"Bregy Uli / Lisi & Pasci"}]
["2021-08-25",{"$f":"IF(ISBLANK(D294),\"Alain, nix drischribu\",VLOOKUP(D294,'[1]2021'!$A$11:$G$143,4,FALSE))","v":"Gebrüder Jäger"},{"$f":"VLOOKUP(D294,'[1]2021'!$A$11:$G$143,2,FALSE)","v":"Tanja"},45,44,{"$f":"VLOOKUP(E294,'[1]2021'!$A$11:$G$143,2,FALSE)","v":"Tiara"},{"$f":"IF(ISBLANK(E294),\"hie eu nix drischribu\",VLOOKUP(E294,'[1]2021'!$A$11:$G$143,4,FALSE))","v":"Gebrüder Jäger"}]
["2021-08-25",{"$f":"IF(ISBLANK(D295),\"Alain, nix drischribu\",VLOOKUP(D295,'[1]2021'!$A$11:$G$143,4,FALSE))","v":"Bregy Uli / Lisi & Pasci"},{"$f":"VLOOKUP(D295,'[1]2021'!$A$11:$G$143,2,FALSE)","v":"Tiranie"},19,9,{"$f":"VLOOKUP(E295,'[1]2021'!$A$11:$G$143,2,FALSE)","v":"Coquette"},{"$f":"IF(ISBLANK(E295),\"hie eu nix drischribu\",VLOOKUP(E295,'[1]2021'!$A$11:$G$143,4,FALSE))","v":"Bregy Ralf & Adolf"}]
["2021-08-24",{"$f":"IF(ISBLANK(D296),\"Alain, nix drischribu\",VLOOKUP(D296,'[1]2021'!$A$11:$G$143,4,FALSE))","v":"Gebrüder Jäger"},{"$f":"VLOOKUP(D296,'[1]2021'!$A$11:$G$143,2,FALSE)","v":"Tara"},41,100,{"$f":"VLOOKUP(E296,'[1]2021'!$A$11:$G$143,2,FALSE)","v":"Xantara"},{"$f":"IF(ISBLANK(E296),\"hie eu nix drischribu\",VLOOKUP(E296,'[1]2021'!$A$11:$G$143,4,FALSE))","v":"Wyssen Diego & Madlen"}]
["2021-08-24",{"$f":"IF(ISBLANK(D297),\"Alain, nix drischribu\",VLOOKUP(D297,'[1]2021'!$A$11:$G$143,4,FALSE))","v":"Fam. Leiggener"},{"$f":"VLOOKUP(D297,'[1]2021'!$A$11:$G$143,2,FALSE)","v":"Rebell"},27,61,{"$f":"VLOOKUP(E297,'[1]2021'!$A$11:$G$143,2,FALSE)","v":"Grolla"},{"$f":"IF(ISBLANK(E297),\"hie eu nix drischribu\",VLOOKUP(E297,'[1]2021'!$A$11:$G$143,4,FALSE))","v":"Jäger Carlo & Lukas"}]
["2021-08-24",{"$f":"IF(ISBLANK(D298),\"Alain, nix drischribu\",VLOOKUP(D298,'[1]2021'!$A$11:$G$143,4,FALSE))","v":"Fux W., J., & Wyer Piet"},{"$f":"VLOOKUP(D298,'[1]2021'!$A$11:$G$143,2,FALSE)","v":"Toscana"},37,14,{"$f":"VLOOKUP(E298,'[1]2021'!$A$11:$G$143,2,FALSE)","v":"Canabis"},{"$f":"IF(ISBLANK(E298),\"hie eu nix drischribu\",VLOOKUP(E298,'[1]2021'!$A$11:$G$143,4,FALSE))","v":"Bregy Ralf & Adolf"}]
["2021-08-24",{"$f":"IF(ISBLANK(D299),\"Alain, nix drischribu\",VLOOKUP(D299,'[1]2021'!$A$11:$G$143,4,FALSE))","v":"Bregy Ralf & Adolf"},{"$f":"VLOOKUP(D299,'[1]2021'!$A$11:$G$143,2,FALSE)","v":"Canabis"},14,29,{"$f":"VLOOKUP(E299,'[1]2021'!$A$11:$G$143,2,FALSE)","v":"Bolero"},{"$f":"IF(ISBLANK(E299),\"hie eu nix drischribu\",VLOOKUP(E299,'[1]2021'!$A$11:$G$143,4,FALSE))","v":"Fux W., J., & Wyer Piet"}]
["2021-08-24",{"$f":"IF(ISBLANK(D300),\"Alain, nix drischribu\",VLOOKUP(D300,'[1]2021'!$A$11:$G$143,4,FALSE))","v":"Fux W., J., & Wyer Piet"},{"$f":"VLOOKUP(D300,'[1]2021'!$A$11:$G$143,2,FALSE)","v":"Bolero"},29,14,{"$f":"VLOOKUP(E300,'[1]2021'!$A$11:$G$143,2,FALSE)","v":"Canabis"},{"$f":"IF(ISBLANK(E300),\"hie eu nix drischribu\",VLOOKUP(E300,'[1]2021'!$A$11:$G$143,4,FALSE))","v":"Bregy Ralf & Adolf"}]
["2021-08-24",{"$f":"IF(ISBLANK(D301),\"Alain, nix drischribu\",VLOOKUP(D301,'[1]2021'!$A$11:$G$143,4,FALSE))","v":"Bayard Medard & Gustav"},{"$f":"VLOOKUP(D301,'[1]2021'!$A$11:$G$143,2,FALSE)","v":"Fantastic"},2,92,{"$f":"VLOOKUP(E301,'[1]2021'!$A$11:$G$143,2,FALSE)","v":"Tomba"},{"$f":"IF(ISBLANK(E301),\"hie eu nix drischribu\",VLOOKUP(E301,'[1]2021'!$A$11:$G$143,4,FALSE))","v":"Tscherry Erwin & Bernhard"}]
["2021-08-24",{"$f":"IF(ISBLANK(D302),\"Alain, nix drischribu\",VLOOKUP(D302,'[1]2021'!$A$11:$G$143,4,FALSE))","v":"Stallung Passeraub"},{"$f":"VLOOKUP(D302,'[1]2021'!$A$11:$G$143,2,FALSE)","v":"Ballerine"},78,119,{"$f":"VLOOKUP(E302,'[1]2021'!$A$11:$G$143,2,FALSE)","v":"Fayola"},{"$f":"IF(ISBLANK(E302),\"hie eu nix drischribu\",VLOOKUP(E302,'[1]2021'!$A$11:$G$143,4,FALSE))","v":"Zumofen / Gattlen"}]
["2021-08-24",{"$f":"IF(ISBLANK(D303),\"Alain, nix drischribu\",VLOOKUP(D303,'[1]2021'!$A$11:$G$143,4,FALSE))","v":"Bregy Uli / Lisi & Pasci"},{"$f":"VLOOKUP(D303,'[1]2021'!$A$11:$G$143,2,FALSE)","v":"Cataleya"},26,53,{"$f":"VLOOKUP(E303,'[1]2021'!$A$11:$G$143,2,FALSE)","v":"Caline"},{"$f":"IF(ISBLANK(E303),\"hie eu nix drischribu\",VLOOKUP(E303,'[1]2021'!$A$11:$G$143,4,FALSE))","v":"Jäger Carlo & Lukas"}]
["2021-08-24",{"$f":"IF(ISBLANK(D304),\"Alain, nix drischribu\",VLOOKUP(D304,'[1]2021'!$A$11:$G$143,4,FALSE))","v":"Bregy Ralf & Adolf"},{"$f":"VLOOKUP(D304,'[1]2021'!$A$11:$G$143,2,FALSE)","v":"Canabis"},14,95,{"$f":"VLOOKUP(E304,'[1]2021'!$A$11:$G$143,2,FALSE)","v":"Vivana"},{"$f":"IF(ISBLANK(E304),\"hie eu nix drischribu\",VLOOKUP(E304,'[1]2021'!$A$11:$G$143,4,FALSE))","v":"Williner Anton"}]
["2021-08-24",{"$f":"IF(ISBLANK(D305),\"Alain, nix drischribu\",VLOOKUP(D305,'[1]2021'!$A$11:$G$143,4,FALSE))","v":"Bregy Uli / Lisi & Pasci"},{"$f":"VLOOKUP(D305,'[1]2021'!$A$11:$G$143,2,FALSE)","v":"Tiranie"},19,22,{"$f":"VLOOKUP(E305,'[1]2021'!$A$11:$G$143,2,FALSE)","v":"Xaphir"},{"$f":"IF(ISBLANK(E305),\"hie eu nix drischribu\",VLOOKUP(E305,'[1]2021'!$A$11:$G$143,4,FALSE))","v":"Bregy Uli / Lisi & Pasci"}]
["2021-08-24",{"$f":"IF(ISBLANK(D306),\"Alain, nix drischribu\",VLOOKUP(D306,'[1]2021'!$A$11:$G$143,4,FALSE))","v":"Bayard Medard & Gustav"},{"$f":"VLOOKUP(D306,'[1]2021'!$A$11:$G$143,2,FALSE)","v":"Venus"},1,60,{"$f":"VLOOKUP(E306,'[1]2021'!$A$11:$G$143,2,FALSE)","v":"Bayonne"},{"$f":"IF(ISBLANK(E306),\"hie eu nix drischribu\",VLOOKUP(E306,'[1]2021'!$A$11:$G$143,4,FALSE))","v":"Jäger Carlo & Lukas"}]
["2021-08-24",{"$f":"IF(ISBLANK(D307),\"Alain, nix drischribu\",VLOOKUP(D307,'[1]2021'!$A$11:$G$143,4,FALSE))","v":"Bregy Ralf & Adolf"},{"$f":"VLOOKUP(D307,'[1]2021'!$A$11:$G$143,2,FALSE)","v":"Canaille"},7,8,{"$f":"VLOOKUP(E307,'[1]2021'!$A$11:$G$143,2,FALSE)","v":"Creola"},{"$f":"IF(ISBLANK(E307),\"hie eu nix drischribu\",VLOOKUP(E307,'[1]2021'!$A$11:$G$143,4,FALSE))","v":"Bregy Ralf & Adolf"}]
["2021-08-24",{"$f":"IF(ISBLANK(D308),\"Alain, nix drischribu\",VLOOKUP(D308,'[1]2021'!$A$11:$G$143,4,FALSE))","v":"Zumofen / Gattlen"},{"$f":"VLOOKUP(D308,'[1]2021'!$A$11:$G$143,2,FALSE)","v":"Xena"},110,8,{"$f":"VLOOKUP(E308,'[1]2021'!$A$11:$G$143,2,FALSE)","v":"Creola"},{"$f":"IF(ISBLANK(E308),\"hie eu nix drischribu\",VLOOKUP(E308,'[1]2021'!$A$11:$G$143,4,FALSE))","v":"Bregy Ralf & Adolf"}]
["2021-08-24",{"$f":"IF(ISBLANK(D309),\"Alain, nix drischribu\",VLOOKUP(D309,'[1]2021'!$A$11:$G$143,4,FALSE))","v":"Bayard Medard & Gustav"},{"$f":"VLOOKUP(D309,'[1]2021'!$A$11:$G$143,2,FALSE)","v":"Venus"},1,105,{"$f":"VLOOKUP(E309,'[1]2021'!$A$11:$G$143,2,FALSE)","v":"Corona"},{"$f":"IF(ISBLANK(E309),\"hie eu nix drischribu\",VLOOKUP(E309,'[1]2021'!$A$11:$G$143,4,FALSE))","v":"Zumoberhaus Pius"}]
["2021-08-24",{"$f":"IF(ISBLANK(D310),\"Alain, nix drischribu\",VLOOKUP(D310,'[1]2021'!$A$11:$G$143,4,FALSE))","v":"Bregy Uli / Lisi & Pasci"},{"$f":"VLOOKUP(D310,'[1]2021'!$A$11:$G$143,2,FALSE)","v":"Catalina"},24,123,{"$f":"VLOOKUP(E310,'[1]2021'!$A$11:$G$143,2,FALSE)","v":"Fachita"},{"$f":"IF(ISBLANK(E310),\"hie eu nix drischribu\",VLOOKUP(E310,'[1]2021'!$A$11:$G$143,4,FALSE))","v":"Zumofen / Gattlen"}]
["2021-08-24",{"$f":"IF(ISBLANK(D311),\"Alain, nix drischribu\",VLOOKUP(D311,'[1]2021'!$A$11:$G$143,4,FALSE))","v":"Wyssen Diego & Madlen"},{"$f":"VLOOKUP(D311,'[1]2021'!$A$11:$G$143,2,FALSE)","v":"Xena"},103,37,{"$f":"VLOOKUP(E311,'[1]2021'!$A$11:$G$143,2,FALSE)","v":"Toscana"},{"$f":"IF(ISBLANK(E311),\"hie eu nix drischribu\",VLOOKUP(E311,'[1]2021'!$A$11:$G$143,4,FALSE))","v":"Fux W., J., & Wyer Piet"}]
["2021-08-24",{"$f":"IF(ISBLANK(D312),\"Alain, nix drischribu\",VLOOKUP(D312,'[1]2021'!$A$11:$G$143,4,FALSE))","v":"Stallung Passeraub"},{"$f":"VLOOKUP(D312,'[1]2021'!$A$11:$G$143,2,FALSE)","v":"Ballerine"},78,37,{"$f":"VLOOKUP(E312,'[1]2021'!$A$11:$G$143,2,FALSE)","v":"Toscana"},{"$f":"IF(ISBLANK(E312),\"hie eu nix drischribu\",VLOOKUP(E312,'[1]2021'!$A$11:$G$143,4,FALSE))","v":"Fux W., J., & Wyer Piet"}]
["2021-08-23",{"$f":"IF(ISBLANK(D313),\"Alain, nix drischribu\",VLOOKUP(D313,'[1]2021'!$A$11:$G$143,4,FALSE))","v":"Fux W., J., & Wyer Piet"},{"$f":"VLOOKUP(D313,'[1]2021'!$A$11:$G$143,2,FALSE)","v":"Bacardi"},39,124,{"$f":"VLOOKUP(E313,'[1]2021'!$A$11:$G$143,2,FALSE)","v":"Xara"},{"$f":"IF(ISBLANK(E313),\"hie eu nix drischribu\",VLOOKUP(E313,'[1]2021'!$A$11:$G$143,4,FALSE))","v":"Zumofen / Gattlen"}]
["2021-08-23",{"$f":"IF(ISBLANK(D314),\"Alain, nix drischribu\",VLOOKUP(D314,'[1]2021'!$A$11:$G$143,4,FALSE))","v":"Stallung Passeraub"},{"$f":"VLOOKUP(D314,'[1]2021'!$A$11:$G$143,2,FALSE)","v":"Ballerine"},78,83,{"$f":"VLOOKUP(E314,'[1]2021'!$A$11:$G$143,2,FALSE)","v":"Cayenne"},{"$f":"IF(ISBLANK(E314),\"hie eu nix drischribu\",VLOOKUP(E314,'[1]2021'!$A$11:$G$143,4,FALSE))","v":"Stallung zum Stäg"}]
["2021-08-23",{"$f":"IF(ISBLANK(D315),\"Alain, nix drischribu\",VLOOKUP(D315,'[1]2021'!$A$11:$G$143,4,FALSE))","v":"Stallung Passeraub"},{"$f":"VLOOKUP(D315,'[1]2021'!$A$11:$G$143,2,FALSE)","v":"Beres"},77,33,{"$f":"VLOOKUP(E315,'[1]2021'!$A$11:$G$143,2,FALSE)","v":"Baquera"},{"$f":"IF(ISBLANK(E315),\"hie eu nix drischribu\",VLOOKUP(E315,'[1]2021'!$A$11:$G$143,4,FALSE))","v":"Fux W., J., & Wyer Piet"}]
["2021-08-23",{"$f":"IF(ISBLANK(D316),\"Alain, nix drischribu\",VLOOKUP(D316,'[1]2021'!$A$11:$G$143,4,FALSE))","v":"Zumofen / Gattlen"},{"$f":"VLOOKUP(D316,'[1]2021'!$A$11:$G$143,2,FALSE)","v":"Rigolo"},117,83,{"$f":"VLOOKUP(E316,'[1]2021'!$A$11:$G$143,2,FALSE)","v":"Cayenne"},{"$f":"IF(ISBLANK(E316),\"hie eu nix drischribu\",VLOOKUP(E316,'[1]2021'!$A$11:$G$143,4,FALSE))","v":"Stallung zum Stäg"}]
["2021-08-23",{"$f":"IF(ISBLANK(D317),\"Alain, nix drischribu\",VLOOKUP(D317,'[1]2021'!$A$11:$G$143,4,FALSE))","v":"Bregy Ralf & Adolf"},{"$f":"VLOOKUP(D317,'[1]2021'!$A$11:$G$143,2,FALSE)","v":"Flacabre"},6,103,{"$f":"VLOOKUP(E317,'[1]2021'!$A$11:$G$143,2,FALSE)","v":"Xena"},{"$f":"IF(ISBLANK(E317),\"hie eu nix drischribu\",VLOOKUP(E317,'[1]2021'!$A$11:$G$143,4,FALSE))","v":"Wyssen Diego & Madlen"}]
["2021-08-22",{"$f":"IF(ISBLANK(D318),\"Alain, nix drischribu\",VLOOKUP(D318,'[1]2021'!$A$11:$G$143,4,FALSE))","v":"Bregy Uli / Lisi & Pasci"},{"$f":"VLOOKUP(D318,'[1]2021'!$A$11:$G$143,2,FALSE)","v":"Calette"},25,118,{"$f":"VLOOKUP(E318,'[1]2021'!$A$11:$G$143,2,FALSE)","v":"Vesuv"},{"$f":"IF(ISBLANK(E318),\"hie eu nix drischribu\",VLOOKUP(E318,'[1]2021'!$A$11:$G$143,4,FALSE))","v":"Zumofen / Gattlen"}]
["2021-08-22",{"$f":"IF(ISBLANK(D319),\"Alain, nix drischribu\",VLOOKUP(D319,'[1]2021'!$A$11:$G$143,4,FALSE))","v":"Bregy Ralf & Adolf"},{"$f":"VLOOKUP(D319,'[1]2021'!$A$11:$G$143,2,FALSE)","v":"Cashida"},15,61,{"$f":"VLOOKUP(E319,'[1]2021'!$A$11:$G$143,2,FALSE)","v":"Grolla"},{"$f":"IF(ISBLANK(E319),\"hie eu nix drischribu\",VLOOKUP(E319,'[1]2021'!$A$11:$G$143,4,FALSE))","v":"Jäger Carlo & Lukas"}]
["2021-08-22",{"$f":"IF(ISBLANK(D320),\"Alain, nix drischribu\",VLOOKUP(D320,'[1]2021'!$A$11:$G$143,4,FALSE))","v":"Williner Anton"},{"$f":"VLOOKUP(D320,'[1]2021'!$A$11:$G$143,2,FALSE)","v":"Tigra"},94,22,{"$f":"VLOOKUP(E320,'[1]2021'!$A$11:$G$143,2,FALSE)","v":"Xaphir"},{"$f":"IF(ISBLANK(E320),\"hie eu nix drischribu\",VLOOKUP(E320,'[1]2021'!$A$11:$G$143,4,FALSE))","v":"Bregy Uli / Lisi & Pasci"}]
["2021-08-22",{"$f":"IF(ISBLANK(D321),\"Alain, nix drischribu\",VLOOKUP(D321,'[1]2021'!$A$11:$G$143,4,FALSE))","v":"Bregy Ralf & Adolf"},{"$f":"VLOOKUP(D321,'[1]2021'!$A$11:$G$143,2,FALSE)","v":"Cashida"},15,103,{"$f":"VLOOKUP(E321,'[1]2021'!$A$11:$G$143,2,FALSE)","v":"Xena"},{"$f":"IF(ISBLANK(E321),\"hie eu nix drischribu\",VLOOKUP(E321,'[1]2021'!$A$11:$G$143,4,FALSE))","v":"Wyssen Diego & Madlen"}]
["2021-08-22",{"$f":"IF(ISBLANK(D322),\"Alain, nix drischribu\",VLOOKUP(D322,'[1]2021'!$A$11:$G$143,4,FALSE))","v":"Jäger Carlo & Lukas"},{"$f":"VLOOKUP(D322,'[1]2021'!$A$11:$G$143,2,FALSE)","v":"Caline"},53,100,{"$f":"VLOOKUP(E322,'[1]2021'!$A$11:$G$143,2,FALSE)","v":"Xantara"},{"$f":"IF(ISBLANK(E322),\"hie eu nix drischribu\",VLOOKUP(E322,'[1]2021'!$A$11:$G$143,4,FALSE))","v":"Wyssen Diego & Madlen"}]
["2021-08-22",{"$f":"IF(ISBLANK(D323),\"Alain, nix drischribu\",VLOOKUP(D323,'[1]2021'!$A$11:$G$143,4,FALSE))","v":"Sewer R. & Thommen S."},{"$f":"VLOOKUP(D323,'[1]2021'!$A$11:$G$143,2,FALSE)","v":"Samantha"},85,31,{"$f":"VLOOKUP(E323,'[1]2021'!$A$11:$G$143,2,FALSE)","v":"Bastis"},{"$f":"IF(ISBLANK(E323),\"hie eu nix drischribu\",VLOOKUP(E323,'[1]2021'!$A$11:$G$143,4,FALSE))","v":"Fux W., J., & Wyer Piet"}]
["2021-08-22",{"$f":"IF(ISBLANK(D324),\"Alain, nix drischribu\",VLOOKUP(D324,'[1]2021'!$A$11:$G$143,4,FALSE))","v":"Bregy Uli / Lisi & Pasci"},{"$f":"VLOOKUP(D324,'[1]2021'!$A$11:$G$143,2,FALSE)","v":"Xaphir"},22,89,{"$f":"VLOOKUP(E324,'[1]2021'!$A$11:$G$143,2,FALSE)","v":"Biscot"},{"$f":"IF(ISBLANK(E324),\"hie eu nix drischribu\",VLOOKUP(E324,'[1]2021'!$A$11:$G$143,4,FALSE))","v":"Sewer R. & Thommen S."}]
["2021-08-22",{"$f":"IF(ISBLANK(D325),\"Alain, nix drischribu\",VLOOKUP(D325,'[1]2021'!$A$11:$G$143,4,FALSE))","v":"Bregy Uli / Lisi & Pasci"},{"$f":"VLOOKUP(D325,'[1]2021'!$A$11:$G$143,2,FALSE)","v":"Xaphir"},22,77,{"$f":"VLOOKUP(E325,'[1]2021'!$A$11:$G$143,2,FALSE)","v":"Beres"},{"$f":"IF(ISBLANK(E325),\"hie eu nix drischribu\",VLOOKUP(E325,'[1]2021'!$A$11:$G$143,4,FALSE))","v":"Stallung Passeraub"}]
["2021-08-22",{"$f":"IF(ISBLANK(D326),\"Alain, nix drischribu\",VLOOKUP(D326,'[1]2021'!$A$11:$G$143,4,FALSE))","v":"Fam. Leiggener"},{"$f":"VLOOKUP(D326,'[1]2021'!$A$11:$G$143,2,FALSE)","v":"Rebell"},27,113,{"$f":"VLOOKUP(E326,'[1]2021'!$A$11:$G$143,2,FALSE)","v":"Vanda"},{"$f":"IF(ISBLANK(E326),\"hie eu nix drischribu\",VLOOKUP(E326,'[1]2021'!$A$11:$G$143,4,FALSE))","v":"Zumofen / Gattlen"}]
["2021-08-21",{"$f":"IF(ISBLANK(D327),\"Alain, nix drischribu\",VLOOKUP(D327,'[1]2021'!$A$11:$G$143,4,FALSE))","v":"Bregy Ralf & Adolf"},{"$f":"VLOOKUP(D327,'[1]2021'!$A$11:$G$143,2,FALSE)","v":"Canabis"},14,96,{"$f":"VLOOKUP(E327,'[1]2021'!$A$11:$G$143,2,FALSE)","v":"Vanessa"},{"$f":"IF(ISBLANK(E327),\"hie eu nix drischribu\",VLOOKUP(E327,'[1]2021'!$A$11:$G$143,4,FALSE))","v":"Williner Anton"}]
["2021-08-21",{"$f":"IF(ISBLANK(D328),\"Alain, nix drischribu\",VLOOKUP(D328,'[1]2021'!$A$11:$G$143,4,FALSE))","v":"Bregy Uli / Lisi & Pasci"},{"$f":"VLOOKUP(D328,'[1]2021'!$A$11:$G$143,2,FALSE)","v":"Bora"},21,30,{"$f":"VLOOKUP(E328,'[1]2021'!$A$11:$G$143,2,FALSE)","v":"Diamant"},{"$f":"IF(ISBLANK(E328),\"hie eu nix drischribu\",VLOOKUP(E328,'[1]2021'!$A$11:$G$143,4,FALSE))","v":"Fux W., J., & Wyer Piet"}]
["2021-08-21",{"$f":"IF(ISBLANK(D329),\"Alain, nix drischribu\",VLOOKUP(D329,'[1]2021'!$A$11:$G$143,4,FALSE))","v":" Bregy Uli / Lisi & Pasci"},{"$f":"VLOOKUP(D329,'[1]2021'!$A$11:$G$143,2,FALSE)","v":"Caline"},20,124,{"$f":"VLOOKUP(E329,'[1]2021'!$A$11:$G$143,2,FALSE)","v":"Xara"},{"$f":"IF(ISBLANK(E329),\"hie eu nix drischribu\",VLOOKUP(E329,'[1]2021'!$A$11:$G$143,4,FALSE))","v":"Zumofen / Gattlen"}]
["2021-08-21",{"$f":"IF(ISBLANK(D330),\"Alain, nix drischribu\",VLOOKUP(D330,'[1]2021'!$A$11:$G$143,4,FALSE))","v":"Bregy Uli / Lisi & Pasci"},{"$f":"VLOOKUP(D330,'[1]2021'!$A$11:$G$143,2,FALSE)","v":"Calette"},25,114,{"$f":"VLOOKUP(E330,'[1]2021'!$A$11:$G$143,2,FALSE)","v":"Maya"},{"$f":"IF(ISBLANK(E330),\"hie eu nix drischribu\",VLOOKUP(E330,'[1]2021'!$A$11:$G$143,4,FALSE))","v":"Zumofen / Gattlen"}]
["2021-08-21",{"$f":"IF(ISBLANK(D331),\"Alain, nix drischribu\",VLOOKUP(D331,'[1]2021'!$A$11:$G$143,4,FALSE))","v":"Zumofen / Gattlen"},{"$f":"VLOOKUP(D331,'[1]2021'!$A$11:$G$143,2,FALSE)","v":"Fayola"},119,36,{"$f":"VLOOKUP(E331,'[1]2021'!$A$11:$G$143,2,FALSE)","v":"Calmy"},{"$f":"IF(ISBLANK(E331),\"hie eu nix drischribu\",VLOOKUP(E331,'[1]2021'!$A$11:$G$143,4,FALSE))","v":"Fux W., J., & Wyer Piet"}]
["2021-08-21",{"$f":"IF(ISBLANK(D332),\"Alain, nix drischribu\",VLOOKUP(D332,'[1]2021'!$A$11:$G$143,4,FALSE))","v":"Bregy Ralf & Adolf"},{"$f":"VLOOKUP(D332,'[1]2021'!$A$11:$G$143,2,FALSE)","v":"Flacabre"},6,96,{"$f":"VLOOKUP(E332,'[1]2021'!$A$11:$G$143,2,FALSE)","v":"Vanessa"},{"$f":"IF(ISBLANK(E332),\"hie eu nix drischribu\",VLOOKUP(E332,'[1]2021'!$A$11:$G$143,4,FALSE))","v":"Williner Anton"}]
["2021-08-21",{"$f":"IF(ISBLANK(D333),\"Alain, nix drischribu\",VLOOKUP(D333,'[1]2021'!$A$11:$G$143,4,FALSE))","v":"Zumofen / Gattlen"},{"$f":"VLOOKUP(D333,'[1]2021'!$A$11:$G$143,2,FALSE)","v":"Rigolo"},117,83,{"$f":"VLOOKUP(E333,'[1]2021'!$A$11:$G$143,2,FALSE)","v":"Cayenne"},{"$f":"IF(ISBLANK(E333),\"hie eu nix drischribu\",VLOOKUP(E333,'[1]2021'!$A$11:$G$143,4,FALSE))","v":"Stallung zum Stäg"}]
["2021-08-20",{"$f":"IF(ISBLANK(D334),\"Alain, nix drischribu\",VLOOKUP(D334,'[1]2021'!$A$11:$G$143,4,FALSE))","v":"Bregy Uli / Lisi & Pasci"},{"$f":"VLOOKUP(D334,'[1]2021'!$A$11:$G$143,2,FALSE)","v":"Tiranie"},19,85,{"$f":"VLOOKUP(E334,'[1]2021'!$A$11:$G$143,2,FALSE)","v":"Samantha"},{"$f":"IF(ISBLANK(E334),\"hie eu nix drischribu\",VLOOKUP(E334,'[1]2021'!$A$11:$G$143,4,FALSE))","v":"Sewer R. & Thommen S."}]
["2021-08-20",{"$f":"IF(ISBLANK(D335),\"Alain, nix drischribu\",VLOOKUP(D335,'[1]2021'!$A$11:$G$143,4,FALSE))","v":"Jäger Carlo & Lukas"},{"$f":"VLOOKUP(D335,'[1]2021'!$A$11:$G$143,2,FALSE)","v":"Megane"},62,96,{"$f":"VLOOKUP(E335,'[1]2021'!$A$11:$G$143,2,FALSE)","v":"Vanessa"},{"$f":"IF(ISBLANK(E335),\"hie eu nix drischribu\",VLOOKUP(E335,'[1]2021'!$A$11:$G$143,4,FALSE))","v":"Williner Anton"}]
["2021-08-20",{"$f":"IF(ISBLANK(D336),\"Alain, nix drischribu\",VLOOKUP(D336,'[1]2021'!$A$11:$G$143,4,FALSE))","v":"Sewer R. & Thommen S."},{"$f":"VLOOKUP(D336,'[1]2021'!$A$11:$G$143,2,FALSE)","v":"Samantha"},85,106,{"$f":"VLOOKUP(E336,'[1]2021'!$A$11:$G$143,2,FALSE)","v":"Miss"},{"$f":"IF(ISBLANK(E336),\"hie eu nix drischribu\",VLOOKUP(E336,'[1]2021'!$A$11:$G$143,4,FALSE))","v":"Zumoberhaus Pius"}]
["2021-08-20",{"$f":"IF(ISBLANK(D337),\"Alain, nix drischribu\",VLOOKUP(D337,'[1]2021'!$A$11:$G$143,4,FALSE))","v":"Zumofen / Gattlen"},{"$f":"VLOOKUP(D337,'[1]2021'!$A$11:$G$143,2,FALSE)","v":"Vanda"},113,98,{"$f":"VLOOKUP(E337,'[1]2021'!$A$11:$G$143,2,FALSE)","v":"Tira"},{"$f":"IF(ISBLANK(E337),\"hie eu nix drischribu\",VLOOKUP(E337,'[1]2021'!$A$11:$G$143,4,FALSE))","v":"Williner Anton"}]
["2021-08-20",{"$f":"IF(ISBLANK(D338),\"Alain, nix drischribu\",VLOOKUP(D338,'[1]2021'!$A$11:$G$143,4,FALSE))","v":"Williner Anton"},{"$f":"VLOOKUP(D338,'[1]2021'!$A$11:$G$143,2,FALSE)","v":"Vanessa"},96,113,{"$f":"VLOOKUP(E338,'[1]2021'!$A$11:$G$143,2,FALSE)","v":"Vanda"},{"$f":"IF(ISBLANK(E338),\"hie eu nix drischribu\",VLOOKUP(E338,'[1]2021'!$A$11:$G$143,4,FALSE))","v":"Zumofen / Gattlen"}]
["2021-08-20",{"$f":"IF(ISBLANK(D339),\"Alain, nix drischribu\",VLOOKUP(D339,'[1]2021'!$A$11:$G$143,4,FALSE))","v":"Zumofen / Gattlen"},{"$f":"VLOOKUP(D339,'[1]2021'!$A$11:$G$143,2,FALSE)","v":"Vanda"},113,96,{"$f":"VLOOKUP(E339,'[1]2021'!$A$11:$G$143,2,FALSE)","v":"Vanessa"},{"$f":"IF(ISBLANK(E339),\"hie eu nix drischribu\",VLOOKUP(E339,'[1]2021'!$A$11:$G$143,4,FALSE))","v":"Williner Anton"}]
["2021-08-20",{"$f":"IF(ISBLANK(D340),\"Alain, nix drischribu\",VLOOKUP(D340,'[1]2021'!$A$11:$G$143,4,FALSE))","v":"Williner Anton"},{"$f":"VLOOKUP(D340,'[1]2021'!$A$11:$G$143,2,FALSE)","v":"Tira"},98,109,{"$f":"VLOOKUP(E340,'[1]2021'!$A$11:$G$143,2,FALSE)","v":"Rena"},{"$f":"IF(ISBLANK(E340),\"hie eu nix drischribu\",VLOOKUP(E340,'[1]2021'!$A$11:$G$143,4,FALSE))","v":"Zumofen / Gattlen"}]
["2021-08-20",{"$f":"IF(ISBLANK(D341),\"Alain, nix drischribu\",VLOOKUP(D341,'[1]2021'!$A$11:$G$143,4,FALSE))","v":"Zumoberhaus Pius"},{"$f":"VLOOKUP(D341,'[1]2021'!$A$11:$G$143,2,FALSE)","v":"Miss"},106,22,{"$f":"VLOOKUP(E341,'[1]2021'!$A$11:$G$143,2,FALSE)","v":"Xaphir"},{"$f":"IF(ISBLANK(E341),\"hie eu nix drischribu\",VLOOKUP(E341,'[1]2021'!$A$11:$G$143,4,FALSE))","v":"Bregy Uli / Lisi & Pasci"}]
["2021-08-20",{"$f":"IF(ISBLANK(D342),\"Alain, nix drischribu\",VLOOKUP(D342,'[1]2021'!$A$11:$G$143,4,FALSE))","v":"Bregy Ralf & Adolf"},{"$f":"VLOOKUP(D342,'[1]2021'!$A$11:$G$143,2,FALSE)","v":"Canabis"},14,103,{"$f":"VLOOKUP(E342,'[1]2021'!$A$11:$G$143,2,FALSE)","v":"Xena"},{"$f":"IF(ISBLANK(E342),\"hie eu nix drischribu\",VLOOKUP(E342,'[1]2021'!$A$11:$G$143,4,FALSE))","v":"Wyssen Diego & Madlen"}]
["2021-08-20",{"$f":"IF(ISBLANK(D343),\"Alain, nix drischribu\",VLOOKUP(D343,'[1]2021'!$A$11:$G$143,4,FALSE))","v":"Bregy Ralf & Adolf"},{"$f":"VLOOKUP(D343,'[1]2021'!$A$11:$G$143,2,FALSE)","v":"Coquette"},9,103,{"$f":"VLOOKUP(E343,'[1]2021'!$A$11:$G$143,2,FALSE)","v":"Xena"},{"$f":"IF(ISBLANK(E343),\"hie eu nix drischribu\",VLOOKUP(E343,'[1]2021'!$A$11:$G$143,4,FALSE))","v":"Wyssen Diego & Madlen"}]
["2021-08-20",{"$f":"IF(ISBLANK(D344),\"Alain, nix drischribu\",VLOOKUP(D344,'[1]2021'!$A$11:$G$143,4,FALSE))","v":"Bayard Medard & Gustav"},{"$f":"VLOOKUP(D344,'[1]2021'!$A$11:$G$143,2,FALSE)","v":"Pandera"},5,2,{"$f":"VLOOKUP(E344,'[1]2021'!$A$11:$G$143,2,FALSE)","v":"Fantastic"},{"$f":"IF(ISBLANK(E344),\"hie eu nix drischribu\",VLOOKUP(E344,'[1]2021'!$A$11:$G$143,4,FALSE))","v":"Bayard Medard & Gustav"}]
["2021-08-20",{"$f":"IF(ISBLANK(D345),\"Alain, nix drischribu\",VLOOKUP(D345,'[1]2021'!$A$11:$G$143,4,FALSE))","v":"Zumofen / Gattlen"},{"$f":"VLOOKUP(D345,'[1]2021'!$A$11:$G$143,2,FALSE)","v":"Vanda"},113,101,{"$f":"VLOOKUP(E345,'[1]2021'!$A$11:$G$143,2,FALSE)","v":"Xandria"},{"$f":"IF(ISBLANK(E345),\"hie eu nix drischribu\",VLOOKUP(E345,'[1]2021'!$A$11:$G$143,4,FALSE))","v":"Wyssen Diego & Madlen"}]
["2021-08-20",{"$f":"IF(ISBLANK(D346),\"Alain, nix drischribu\",VLOOKUP(D346,'[1]2021'!$A$11:$G$143,4,FALSE))","v":"Williner Anton"},{"$f":"VLOOKUP(D346,'[1]2021'!$A$11:$G$143,2,FALSE)","v":"Vanessa"},96,101,{"$f":"VLOOKUP(E346,'[1]2021'!$A$11:$G$143,2,FALSE)","v":"Xandria"},{"$f":"IF(ISBLANK(E346),\"hie eu nix drischribu\",VLOOKUP(E346,'[1]2021'!$A$11:$G$143,4,FALSE))","v":"Wyssen Diego & Madlen"}]
["2021-08-20",{"$f":"IF(ISBLANK(D347),\"Alain, nix drischribu\",VLOOKUP(D347,'[1]2021'!$A$11:$G$143,4,FALSE))","v":"Zumofen / Gattlen"},{"$f":"VLOOKUP(D347,'[1]2021'!$A$11:$G$143,2,FALSE)","v":"Vanda"},113,43,{"$f":"VLOOKUP(E347,'[1]2021'!$A$11:$G$143,2,FALSE)","v":"Dorina"},{"$f":"IF(ISBLANK(E347),\"hie eu nix drischribu\",VLOOKUP(E347,'[1]2021'!$A$11:$G$143,4,FALSE))","v":"Gebrüder Jäger"}]
["2021-08-20",{"$f":"IF(ISBLANK(D348),\"Alain, nix drischribu\",VLOOKUP(D348,'[1]2021'!$A$11:$G$143,4,FALSE))","v":"Bayard Medard & Gustav"},{"$f":"VLOOKUP(D348,'[1]2021'!$A$11:$G$143,2,FALSE)","v":"Fantastic"},2,113,{"$f":"VLOOKUP(E348,'[1]2021'!$A$11:$G$143,2,FALSE)","v":"Vanda"},{"$f":"IF(ISBLANK(E348),\"hie eu nix drischribu\",VLOOKUP(E348,'[1]2021'!$A$11:$G$143,4,FALSE))","v":"Zumofen / Gattlen"}]
["2021-08-20",{"$f":"IF(ISBLANK(D349),\"Alain, nix drischribu\",VLOOKUP(D349,'[1]2021'!$A$11:$G$143,4,FALSE))","v":"Bregy Ralf & Adolf"},{"$f":"VLOOKUP(D349,'[1]2021'!$A$11:$G$143,2,FALSE)","v":"Creola"},8,46,{"$f":"VLOOKUP(E349,'[1]2021'!$A$11:$G$143,2,FALSE)","v":"Lorens"},{"$f":"IF(ISBLANK(E349),\"hie eu nix drischribu\",VLOOKUP(E349,'[1]2021'!$A$11:$G$143,4,FALSE))","v":"Gebrüder Jäger"}]
["2021-08-20",{"$f":"IF(ISBLANK(D350),\"Alain, nix drischribu\",VLOOKUP(D350,'[1]2021'!$A$11:$G$143,4,FALSE))","v":"Bayard Medard & Gustav"},{"$f":"VLOOKUP(D350,'[1]2021'!$A$11:$G$143,2,FALSE)","v":"Vampir"},4,53,{"$f":"VLOOKUP(E350,'[1]2021'!$A$11:$G$143,2,FALSE)","v":"Caline"},{"$f":"IF(ISBLANK(E350),\"hie eu nix drischribu\",VLOOKUP(E350,'[1]2021'!$A$11:$G$143,4,FALSE))","v":"Jäger Carlo & Lukas"}]
["2021-08-20",{"$f":"IF(ISBLANK(D351),\"Alain, nix drischribu\",VLOOKUP(D351,'[1]2021'!$A$11:$G$143,4,FALSE))","v":"Zumofen / Gattlen"},{"$f":"VLOOKUP(D351,'[1]2021'!$A$11:$G$143,2,FALSE)","v":"Rena"},109,15,{"$f":"VLOOKUP(E351,'[1]2021'!$A$11:$G$143,2,FALSE)","v":"Cashida"},{"$f":"IF(ISBLANK(E351),\"hie eu nix drischribu\",VLOOKUP(E351,'[1]2021'!$A$11:$G$143,4,FALSE))","v":"Bregy Ralf & Adolf"}]
["2021-08-20",{"$f":"IF(ISBLANK(D352),\"Alain, nix drischribu\",VLOOKUP(D352,'[1]2021'!$A$11:$G$143,4,FALSE))","v":"Stallung Passeraub"},{"$f":"VLOOKUP(D352,'[1]2021'!$A$11:$G$143,2,FALSE)","v":"Ballerine"},78,14,{"$f":"VLOOKUP(E352,'[1]2021'!$A$11:$G$143,2,FALSE)","v":"Canabis"},{"$f":"IF(ISBLANK(E352),\"hie eu nix drischribu\",VLOOKUP(E352,'[1]2021'!$A$11:$G$143,4,FALSE))","v":"Bregy Ralf & Adolf"}]
["2021-08-20",{"$f":"IF(ISBLANK(D353),\"Alain, nix drischribu\",VLOOKUP(D353,'[1]2021'!$A$11:$G$143,4,FALSE))","v":"Stallung Passeraub"},{"$f":"VLOOKUP(D353,'[1]2021'!$A$11:$G$143,2,FALSE)","v":"Ballerine"},78,87,{"$f":"VLOOKUP(E353,'[1]2021'!$A$11:$G$143,2,FALSE)","v":"Tiara"},{"$f":"IF(ISBLANK(E353),\"hie eu nix drischribu\",VLOOKUP(E353,'[1]2021'!$A$11:$G$143,4,FALSE))","v":"Sewer R. & Thommen S."}]
["2021-08-20",{"$f":"IF(ISBLANK(D354),\"Alain, nix drischribu\",VLOOKUP(D354,'[1]2021'!$A$11:$G$143,4,FALSE))","v":"Wyssen Diego & Madlen"},{"$f":"VLOOKUP(D354,'[1]2021'!$A$11:$G$143,2,FALSE)","v":"Rasta"},102,83,{"$f":"VLOOKUP(E354,'[1]2021'!$A$11:$G$143,2,FALSE)","v":"Cayenne"},{"$f":"IF(ISBLANK(E354),\"hie eu nix drischribu\",VLOOKUP(E354,'[1]2021'!$A$11:$G$143,4,FALSE))","v":"Stallung zum Stäg"}]
["2021-08-20",{"$f":"IF(ISBLANK(D355),\"Alain, nix drischribu\",VLOOKUP(D355,'[1]2021'!$A$11:$G$143,4,FALSE))","v":"Wyssen Diego & Madlen"},{"$f":"VLOOKUP(D355,'[1]2021'!$A$11:$G$143,2,FALSE)","v":"Xantara"},100,99,{"$f":"VLOOKUP(E355,'[1]2021'!$A$11:$G$143,2,FALSE)","v":"Rijana"},{"$f":"IF(ISBLANK(E355),\"hie eu nix drischribu\",VLOOKUP(E355,'[1]2021'!$A$11:$G$143,4,FALSE))","v":"Wyssen Diego & Madlen"}]
["2021-08-20",{"$f":"IF(ISBLANK(D356),\"Alain, nix drischribu\",VLOOKUP(D356,'[1]2021'!$A$11:$G$143,4,FALSE))","v":"Williner Anton"},{"$f":"VLOOKUP(D356,'[1]2021'!$A$11:$G$143,2,FALSE)","v":"Vanessa"},96,2,{"$f":"VLOOKUP(E356,'[1]2021'!$A$11:$G$143,2,FALSE)","v":"Fantastic"},{"$f":"IF(ISBLANK(E356),\"hie eu nix drischribu\",VLOOKUP(E356,'[1]2021'!$A$11:$G$143,4,FALSE))","v":"Bayard Medard & Gustav"}]
["2021-08-19",{"$f":"IF(ISBLANK(D357),\"Alain, nix drischribu\",VLOOKUP(D357,'[1]2021'!$A$11:$G$143,4,FALSE))","v":"Bayard Medard & Gustav"},{"$f":"VLOOKUP(D357,'[1]2021'!$A$11:$G$143,2,FALSE)","v":"Pandera"},5,123,{"$f":"VLOOKUP(E357,'[1]2021'!$A$11:$G$143,2,FALSE)","v":"Fachita"},{"$f":"IF(ISBLANK(E357),\"hie eu nix drischribu\",VLOOKUP(E357,'[1]2021'!$A$11:$G$143,4,FALSE))","v":"Zumofen / Gattlen"}]
["2021-08-19",{"$f":"IF(ISBLANK(D358),\"Alain, nix drischribu\",VLOOKUP(D358,'[1]2021'!$A$11:$G$143,4,FALSE))","v":"Bregy Ralf & Adolf"},{"$f":"VLOOKUP(D358,'[1]2021'!$A$11:$G$143,2,FALSE)","v":"Canaille"},7,120,{"$f":"VLOOKUP(E358,'[1]2021'!$A$11:$G$143,2,FALSE)","v":"Rambo"},{"$f":"IF(ISBLANK(E358),\"hie eu nix drischribu\",VLOOKUP(E358,'[1]2021'!$A$11:$G$143,4,FALSE))","v":"Zumofen / Gattlen"}]
["2021-08-19",{"$f":"IF(ISBLANK(D359),\"Alain, nix drischribu\",VLOOKUP(D359,'[1]2021'!$A$11:$G$143,4,FALSE))","v":"Zumofen / Gattlen"},{"$f":"VLOOKUP(D359,'[1]2021'!$A$11:$G$143,2,FALSE)","v":"Rambo"},120,111,{"$f":"VLOOKUP(E359,'[1]2021'!$A$11:$G$143,2,FALSE)","v":"Palona"},{"$f":"IF(ISBLANK(E359),\"hie eu nix drischribu\",VLOOKUP(E359,'[1]2021'!$A$11:$G$143,4,FALSE))","v":"Zumofen / Gattlen"}]
["2021-08-19",{"$f":"IF(ISBLANK(D360),\"Alain, nix drischribu\",VLOOKUP(D360,'[1]2021'!$A$11:$G$143,4,FALSE))","v":"Zumofen / Gattlen"},{"$f":"VLOOKUP(D360,'[1]2021'!$A$11:$G$143,2,FALSE)","v":"Rambo"},120,15,{"$f":"VLOOKUP(E360,'[1]2021'!$A$11:$G$143,2,FALSE)","v":"Cashida"},{"$f":"IF(ISBLANK(E360),\"hie eu nix drischribu\",VLOOKUP(E360,'[1]2021'!$A$11:$G$143,4,FALSE))","v":"Bregy Ralf & Adolf"}]
["2021-08-19",{"$f":"IF(ISBLANK(D361),\"Alain, nix drischribu\",VLOOKUP(D361,'[1]2021'!$A$11:$G$143,4,FALSE))","v":"Bregy Ralf & Adolf"},{"$f":"VLOOKUP(D361,'[1]2021'!$A$11:$G$143,2,FALSE)","v":"Diabolo"},10,65,{"$f":"VLOOKUP(E361,'[1]2021'!$A$11:$G$143,2,FALSE)","v":"Pivoine"},{"$f":"IF(ISBLANK(E361),\"hie eu nix drischribu\",VLOOKUP(E361,'[1]2021'!$A$11:$G$143,4,FALSE))","v":"Jäger Carlo & Lukas"}]
["2021-08-18",{"$f":"IF(ISBLANK(D362),\"Alain, nix drischribu\",VLOOKUP(D362,'[1]2021'!$A$11:$G$143,4,FALSE))","v":"Zumofen / Gattlen"},{"$f":"VLOOKUP(D362,'[1]2021'!$A$11:$G$143,2,FALSE)","v":"Violette"},108,63,{"$f":"VLOOKUP(E362,'[1]2021'!$A$11:$G$143,2,FALSE)","v":"Metis"},{"$f":"IF(ISBLANK(E362),\"hie eu nix drischribu\",VLOOKUP(E362,'[1]2021'!$A$11:$G$143,4,FALSE))","v":"Jäger Carlo & Lukas"}]
["2021-08-18",{"$f":"IF(ISBLANK(D363),\"Alain, nix drischribu\",VLOOKUP(D363,'[1]2021'!$A$11:$G$143,4,FALSE))","v":"Bregy Ralf & Adolf"},{"$f":"VLOOKUP(D363,'[1]2021'!$A$11:$G$143,2,FALSE)","v":"Cashida"},15,61,{"$f":"VLOOKUP(E363,'[1]2021'!$A$11:$G$143,2,FALSE)","v":"Grolla"},{"$f":"IF(ISBLANK(E363),\"hie eu nix drischribu\",VLOOKUP(E363,'[1]2021'!$A$11:$G$143,4,FALSE))","v":"Jäger Carlo & Lukas"}]
["2021-08-18",{"$f":"IF(ISBLANK(D364),\"Alain, nix drischribu\",VLOOKUP(D364,'[1]2021'!$A$11:$G$143,4,FALSE))","v":"Stallung Passeraub"},{"$f":"VLOOKUP(D364,'[1]2021'!$A$11:$G$143,2,FALSE)","v":"Bobino"},82,61,{"$f":"VLOOKUP(E364,'[1]2021'!$A$11:$G$143,2,FALSE)","v":"Grolla"},{"$f":"IF(ISBLANK(E364),\"hie eu nix drischribu\",VLOOKUP(E364,'[1]2021'!$A$11:$G$143,4,FALSE))","v":"Jäger Carlo & Lukas"}]
["2021-08-18",{"$f":"IF(ISBLANK(D365),\"Alain, nix drischribu\",VLOOKUP(D365,'[1]2021'!$A$11:$G$143,4,FALSE))","v":"Mathieu Leander & Sascha"},{"$f":"VLOOKUP(D365,'[1]2021'!$A$11:$G$143,2,FALSE)","v":"Bonita"},70,106,{"$f":"VLOOKUP(E365,'[1]2021'!$A$11:$G$143,2,FALSE)","v":"Miss"},{"$f":"IF(ISBLANK(E365),\"hie eu nix drischribu\",VLOOKUP(E365,'[1]2021'!$A$11:$G$143,4,FALSE))","v":"Zumoberhaus Pius"}]
["2021-08-17",{"$f":"IF(ISBLANK(D366),\"Alain, nix drischribu\",VLOOKUP(D366,'[1]2021'!$A$11:$G$143,4,FALSE))","v":"Mathieu Leander & Sascha"},{"$f":"VLOOKUP(D366,'[1]2021'!$A$11:$G$143,2,FALSE)","v":"Baghira"},68,40,{"$f":"VLOOKUP(E366,'[1]2021'!$A$11:$G$143,2,FALSE)","v":"Tina"},{"$f":"IF(ISBLANK(E366),\"hie eu nix drischribu\",VLOOKUP(E366,'[1]2021'!$A$11:$G$143,4,FALSE))","v":"Gebrüder Jäger"}]
["2021-08-17",{"$f":"IF(ISBLANK(D367),\"Alain, nix drischribu\",VLOOKUP(D367,'[1]2021'!$A$11:$G$143,4,FALSE))","v":"Bayard Medard & Gustav"},{"$f":"VLOOKUP(D367,'[1]2021'!$A$11:$G$143,2,FALSE)","v":"Venus"},1,42,{"$f":"VLOOKUP(E367,'[1]2021'!$A$11:$G$143,2,FALSE)","v":"Simba"},{"$f":"IF(ISBLANK(E367),\"hie eu nix drischribu\",VLOOKUP(E367,'[1]2021'!$A$11:$G$143,4,FALSE))","v":"Gebrüder Jäger"}]
["2021-08-17",{"$f":"IF(ISBLANK(D368),\"Alain, nix drischribu\",VLOOKUP(D368,'[1]2021'!$A$11:$G$143,4,FALSE))","v":"Mathieu Leander & Sascha"},{"$f":"VLOOKUP(D368,'[1]2021'!$A$11:$G$143,2,FALSE)","v":"Baghira"},68,73,{"$f":"VLOOKUP(E368,'[1]2021'!$A$11:$G$143,2,FALSE)","v":"Bajka"},{"$f":"IF(ISBLANK(E368),\"hie eu nix drischribu\",VLOOKUP(E368,'[1]2021'!$A$11:$G$143,4,FALSE))","v":"Stallung Passeraub"}]
["2021-08-17",{"$f":"IF(ISBLANK(D369),\"Alain, nix drischribu\",VLOOKUP(D369,'[1]2021'!$A$11:$G$143,4,FALSE))","v":"Bregy Uli / Lisi & Pasci"},{"$f":"VLOOKUP(D369,'[1]2021'!$A$11:$G$143,2,FALSE)","v":"Murphy"},16,121,{"$f":"VLOOKUP(E369,'[1]2021'!$A$11:$G$143,2,FALSE)","v":"Raja"},{"$f":"IF(ISBLANK(E369),\"hie eu nix drischribu\",VLOOKUP(E369,'[1]2021'!$A$11:$G$143,4,FALSE))","v":"Zumofen / Gattlen"}]
["2021-08-17",{"$f":"IF(ISBLANK(D370),\"Alain, nix drischribu\",VLOOKUP(D370,'[1]2021'!$A$11:$G$143,4,FALSE))","v":"Jäger Carlo & Lukas"},{"$f":"VLOOKUP(D370,'[1]2021'!$A$11:$G$143,2,FALSE)","v":"Sera"},64,123,{"$f":"VLOOKUP(E370,'[1]2021'!$A$11:$G$143,2,FALSE)","v":"Fachita"},{"$f":"IF(ISBLANK(E370),\"hie eu nix drischribu\",VLOOKUP(E370,'[1]2021'!$A$11:$G$143,4,FALSE))","v":"Zumofen / Gattlen"}]
["2021-08-16",{"$f":"IF(ISBLANK(D371),\"Alain, nix drischribu\",VLOOKUP(D371,'[1]2021'!$A$11:$G$143,4,FALSE))","v":"Jäger Carlo & Lukas"},{"$f":"VLOOKUP(D371,'[1]2021'!$A$11:$G$143,2,FALSE)","v":"Megane"},62,117,{"$f":"VLOOKUP(E371,'[1]2021'!$A$11:$G$143,2,FALSE)","v":"Rigolo"},{"$f":"IF(ISBLANK(E371),\"hie eu nix drischribu\",VLOOKUP(E371,'[1]2021'!$A$11:$G$143,4,FALSE))","v":"Zumofen / Gattlen"}]
["2021-08-16",{"$f":"IF(ISBLANK(D372),\"Alain, nix drischribu\",VLOOKUP(D372,'[1]2021'!$A$11:$G$143,4,FALSE))","v":"Zumofen / Gattlen"},{"$f":"VLOOKUP(D372,'[1]2021'!$A$11:$G$143,2,FALSE)","v":"Rigolo"},117,108,{"$f":"VLOOKUP(E372,'[1]2021'!$A$11:$G$143,2,FALSE)","v":"Violette"},{"$f":"IF(ISBLANK(E372),\"hie eu nix drischribu\",VLOOKUP(E372,'[1]2021'!$A$11:$G$143,4,FALSE))","v":"Zumofen / Gattlen"}]
["2021-08-16",{"$f":"IF(ISBLANK(D373),\"Alain, nix drischribu\",VLOOKUP(D373,'[1]2021'!$A$11:$G$143,4,FALSE))","v":"Williner Anton"},{"$f":"VLOOKUP(D373,'[1]2021'!$A$11:$G$143,2,FALSE)","v":"Tonic"},93,44,{"$f":"VLOOKUP(E373,'[1]2021'!$A$11:$G$143,2,FALSE)","v":"Tiara"},{"$f":"IF(ISBLANK(E373),\"hie eu nix drischribu\",VLOOKUP(E373,'[1]2021'!$A$11:$G$143,4,FALSE))","v":"Gebrüder Jäger"}]
["2021-08-16",{"$f":"IF(ISBLANK(D374),\"Alain, nix drischribu\",VLOOKUP(D374,'[1]2021'!$A$11:$G$143,4,FALSE))","v":"Williner Anton"},{"$f":"VLOOKUP(D374,'[1]2021'!$A$11:$G$143,2,FALSE)","v":"Tigra"},94,108,{"$f":"VLOOKUP(E374,'[1]2021'!$A$11:$G$143,2,FALSE)","v":"Violette"},{"$f":"IF(ISBLANK(E374),\"hie eu nix drischribu\",VLOOKUP(E374,'[1]2021'!$A$11:$G$143,4,FALSE))","v":"Zumofen / Gattlen"}]
["2021-08-16",{"$f":"IF(ISBLANK(D375),\"Alain, nix drischribu\",VLOOKUP(D375,'[1]2021'!$A$11:$G$143,4,FALSE))","v":"Zumofen / Gattlen"},{"$f":"VLOOKUP(D375,'[1]2021'!$A$11:$G$143,2,FALSE)","v":"Fayola"},119,83,{"$f":"VLOOKUP(E375,'[1]2021'!$A$11:$G$143,2,FALSE)","v":"Cayenne"},{"$f":"IF(ISBLANK(E375),\"hie eu nix drischribu\",VLOOKUP(E375,'[1]2021'!$A$11:$G$143,4,FALSE))","v":"Stallung zum Stäg"}]
["2021-08-15",{"$f":"IF(ISBLANK(D376),\"Alain, nix drischribu\",VLOOKUP(D376,'[1]2021'!$A$11:$G$143,4,FALSE))","v":"Bayard Medard & Gustav"},{"$f":"VLOOKUP(D376,'[1]2021'!$A$11:$G$143,2,FALSE)","v":"Vampir"},4,124,{"$f":"VLOOKUP(E376,'[1]2021'!$A$11:$G$143,2,FALSE)","v":"Xara"},{"$f":"IF(ISBLANK(E376),\"hie eu nix drischribu\",VLOOKUP(E376,'[1]2021'!$A$11:$G$143,4,FALSE))","v":"Zumofen / Gattlen"}]
["2021-08-15",{"$f":"IF(ISBLANK(D377),\"Alain, nix drischribu\",VLOOKUP(D377,'[1]2021'!$A$11:$G$143,4,FALSE))","v":"Zumofen / Gattlen"},{"$f":"VLOOKUP(D377,'[1]2021'!$A$11:$G$143,2,FALSE)","v":"Xara"},124,3,{"$f":"VLOOKUP(E377,'[1]2021'!$A$11:$G$143,2,FALSE)","v":"Priska"},{"$f":"IF(ISBLANK(E377),\"hie eu nix drischribu\",VLOOKUP(E377,'[1]2021'!$A$11:$G$143,4,FALSE))","v":"Bayard Medard & Gustav"}]
["2021-08-15",{"$f":"IF(ISBLANK(D378),\"Alain, nix drischribu\",VLOOKUP(D378,'[1]2021'!$A$11:$G$143,4,FALSE))","v":"Fam. Leiggener"},{"$f":"VLOOKUP(D378,'[1]2021'!$A$11:$G$143,2,FALSE)","v":"Baron"},28,32,{"$f":"VLOOKUP(E378,'[1]2021'!$A$11:$G$143,2,FALSE)","v":"Mystic"},{"$f":"IF(ISBLANK(E378),\"hie eu nix drischribu\",VLOOKUP(E378,'[1]2021'!$A$11:$G$143,4,FALSE))","v":"Fux W., J., & Wyer Piet"}]
["2021-08-15",{"$f":"IF(ISBLANK(D379),\"Alain, nix drischribu\",VLOOKUP(D379,'[1]2021'!$A$11:$G$143,4,FALSE))","v":"Bregy Ralf & Adolf"},{"$f":"VLOOKUP(D379,'[1]2021'!$A$11:$G$143,2,FALSE)","v":"Cashida"},15,61,{"$f":"VLOOKUP(E379,'[1]2021'!$A$11:$G$143,2,FALSE)","v":"Grolla"},{"$f":"IF(ISBLANK(E379),\"hie eu nix drischribu\",VLOOKUP(E379,'[1]2021'!$A$11:$G$143,4,FALSE))","v":"Jäger Carlo & Lukas"}]
["2021-08-15",{"$f":"IF(ISBLANK(D380),\"Alain, nix drischribu\",VLOOKUP(D380,'[1]2021'!$A$11:$G$143,4,FALSE))","v":"Bregy Ralf & Adolf"},{"$f":"VLOOKUP(D380,'[1]2021'!$A$11:$G$143,2,FALSE)","v":"Cashida"},15,27,{"$f":"VLOOKUP(E380,'[1]2021'!$A$11:$G$143,2,FALSE)","v":"Rebell"},{"$f":"IF(ISBLANK(E380),\"hie eu nix drischribu\",VLOOKUP(E380,'[1]2021'!$A$11:$G$143,4,FALSE))","v":"Fam. Leiggener"}]
["2021-08-15",{"$f":"IF(ISBLANK(D381),\"Alain, nix drischribu\",VLOOKUP(D381,'[1]2021'!$A$11:$G$143,4,FALSE))","v":"Fam. Leiggener"},{"$f":"VLOOKUP(D381,'[1]2021'!$A$11:$G$143,2,FALSE)","v":"Rebell"},27,6,{"$f":"VLOOKUP(E381,'[1]2021'!$A$11:$G$143,2,FALSE)","v":"Flacabre"},{"$f":"IF(ISBLANK(E381),\"hie eu nix drischribu\",VLOOKUP(E381,'[1]2021'!$A$11:$G$143,4,FALSE))","v":"Bregy Ralf & Adolf"}]
["2021-08-15",{"$f":"IF(ISBLANK(D382),\"Alain, nix drischribu\",VLOOKUP(D382,'[1]2021'!$A$11:$G$143,4,FALSE))","v":"Bregy Ralf & Adolf"},{"$f":"VLOOKUP(D382,'[1]2021'!$A$11:$G$143,2,FALSE)","v":"Flacabre"},6,46,{"$f":"VLOOKUP(E382,'[1]2021'!$A$11:$G$143,2,FALSE)","v":"Lorens"},{"$f":"IF(ISBLANK(E382),\"hie eu nix drischribu\",VLOOKUP(E382,'[1]2021'!$A$11:$G$143,4,FALSE))","v":"Gebrüder Jäger"}]
["2021-08-15",{"$f":"IF(ISBLANK(D383),\"Alain, nix drischribu\",VLOOKUP(D383,'[1]2021'!$A$11:$G$143,4,FALSE))","v":"Williner Anton"},{"$f":"VLOOKUP(D383,'[1]2021'!$A$11:$G$143,2,FALSE)","v":"Vivana"},95,115,{"$f":"VLOOKUP(E383,'[1]2021'!$A$11:$G$143,2,FALSE)","v":"Souris"},{"$f":"IF(ISBLANK(E383),\"hie eu nix drischribu\",VLOOKUP(E383,'[1]2021'!$A$11:$G$143,4,FALSE))","v":"Zumofen / Gattlen"}]
["2021-08-15",{"$f":"IF(ISBLANK(D384),\"Alain, nix drischribu\",VLOOKUP(D384,'[1]2021'!$A$11:$G$143,4,FALSE))","v":"Fux W., J., & Wyer Piet"},{"$f":"VLOOKUP(D384,'[1]2021'!$A$11:$G$143,2,FALSE)","v":"Bacardi"},39,3,{"$f":"VLOOKUP(E384,'[1]2021'!$A$11:$G$143,2,FALSE)","v":"Priska"},{"$f":"IF(ISBLANK(E384),\"hie eu nix drischribu\",VLOOKUP(E384,'[1]2021'!$A$11:$G$143,4,FALSE))","v":"Bayard Medard & Gustav"}]
["2021-08-15",{"$f":"IF(ISBLANK(D385),\"Alain, nix drischribu\",VLOOKUP(D385,'[1]2021'!$A$11:$G$143,4,FALSE))","v":"Wyssen Diego & Madlen"},{"$f":"VLOOKUP(D385,'[1]2021'!$A$11:$G$143,2,FALSE)","v":"Xandria"},101,72,{"$f":"VLOOKUP(E385,'[1]2021'!$A$11:$G$143,2,FALSE)","v":"Babylon"},{"$f":"IF(ISBLANK(E385),\"hie eu nix drischribu\",VLOOKUP(E385,'[1]2021'!$A$11:$G$143,4,FALSE))","v":"Mathieu Leander & Sascha"}]
["2021-08-15",{"$f":"IF(ISBLANK(D386),\"Alain, nix drischribu\",VLOOKUP(D386,'[1]2021'!$A$11:$G$143,4,FALSE))","v":" Bregy Uli / Lisi & Pasci"},{"$f":"VLOOKUP(D386,'[1]2021'!$A$11:$G$143,2,FALSE)","v":"Caline"},20,42,{"$f":"VLOOKUP(E386,'[1]2021'!$A$11:$G$143,2,FALSE)","v":"Simba"},{"$f":"IF(ISBLANK(E386),\"hie eu nix drischribu\",VLOOKUP(E386,'[1]2021'!$A$11:$G$143,4,FALSE))","v":"Gebrüder Jäger"}]
["2021-08-15",{"$f":"IF(ISBLANK(D387),\"Alain, nix drischribu\",VLOOKUP(D387,'[1]2021'!$A$11:$G$143,4,FALSE))","v":"Zumofen / Gattlen"},{"$f":"VLOOKUP(D387,'[1]2021'!$A$11:$G$143,2,FALSE)","v":"Xana"},122,33,{"$f":"VLOOKUP(E387,'[1]2021'!$A$11:$G$143,2,FALSE)","v":"Baquera"},{"$f":"IF(ISBLANK(E387),\"hie eu nix drischribu\",VLOOKUP(E387,'[1]2021'!$A$11:$G$143,4,FALSE))","v":"Fux W., J., & Wyer Piet"}]
["2021-08-15",{"$f":"IF(ISBLANK(D388),\"Alain, nix drischribu\",VLOOKUP(D388,'[1]2021'!$A$11:$G$143,4,FALSE))","v":"Bregy Ralf & Adolf"},{"$f":"VLOOKUP(D388,'[1]2021'!$A$11:$G$143,2,FALSE)","v":"Canabis"},14,95,{"$f":"VLOOKUP(E388,'[1]2021'!$A$11:$G$143,2,FALSE)","v":"Vivana"},{"$f":"IF(ISBLANK(E388),\"hie eu nix drischribu\",VLOOKUP(E388,'[1]2021'!$A$11:$G$143,4,FALSE))","v":"Williner Anton"}]
["2021-08-15",{"$f":"IF(ISBLANK(D389),\"Alain, nix drischribu\",VLOOKUP(D389,'[1]2021'!$A$11:$G$143,4,FALSE))","v":"Jäger Carlo & Lukas"},{"$f":"VLOOKUP(D389,'[1]2021'!$A$11:$G$143,2,FALSE)","v":"Tokio"},67,43,{"$f":"VLOOKUP(E389,'[1]2021'!$A$11:$G$143,2,FALSE)","v":"Dorina"},{"$f":"IF(ISBLANK(E389),\"hie eu nix drischribu\",VLOOKUP(E389,'[1]2021'!$A$11:$G$143,4,FALSE))","v":"Gebrüder Jäger"}]
["2021-08-15",{"$f":"IF(ISBLANK(D390),\"Alain, nix drischribu\",VLOOKUP(D390,'[1]2021'!$A$11:$G$143,4,FALSE))","v":"Jäger Carlo & Lukas"},{"$f":"VLOOKUP(D390,'[1]2021'!$A$11:$G$143,2,FALSE)","v":"Metis"},63,108,{"$f":"VLOOKUP(E390,'[1]2021'!$A$11:$G$143,2,FALSE)","v":"Violette"},{"$f":"IF(ISBLANK(E390),\"hie eu nix drischribu\",VLOOKUP(E390,'[1]2021'!$A$11:$G$143,4,FALSE))","v":"Zumofen / Gattlen"}]
["2021-08-14",{"$f":"IF(ISBLANK(D391),\"Alain, nix drischribu\",VLOOKUP(D391,'[1]2021'!$A$11:$G$143,4,FALSE))","v":"Bregy Silvan & Patrik"},{"$f":"VLOOKUP(D391,'[1]2021'!$A$11:$G$143,2,FALSE)","v":"Milow"},12,34,{"$f":"VLOOKUP(E391,'[1]2021'!$A$11:$G$143,2,FALSE)","v":"Valaisanne"},{"$f":"IF(ISBLANK(E391),\"hie eu nix drischribu\",VLOOKUP(E391,'[1]2021'!$A$11:$G$143,4,FALSE))","v":"Fux W., J., & Wyer Piet"}]
["2021-08-14",{"$f":"IF(ISBLANK(D392),\"Alain, nix drischribu\",VLOOKUP(D392,'[1]2021'!$A$11:$G$143,4,FALSE))","v":"Fux W., J., & Wyer Piet"},{"$f":"VLOOKUP(D392,'[1]2021'!$A$11:$G$143,2,FALSE)","v":"Valaisanne"},34,68,{"$f":"VLOOKUP(E392,'[1]2021'!$A$11:$G$143,2,FALSE)","v":"Baghira"},{"$f":"IF(ISBLANK(E392),\"hie eu nix drischribu\",VLOOKUP(E392,'[1]2021'!$A$11:$G$143,4,FALSE))","v":"Mathieu Leander & Sascha"}]
["2021-08-14",{"$f":"IF(ISBLANK(D393),\"Alain, nix drischribu\",VLOOKUP(D393,'[1]2021'!$A$11:$G$143,4,FALSE))","v":"Sewer R. & Thommen S."},{"$f":"VLOOKUP(D393,'[1]2021'!$A$11:$G$143,2,FALSE)","v":"Samantha"},85,33,{"$f":"VLOOKUP(E393,'[1]2021'!$A$11:$G$143,2,FALSE)","v":"Baquera"},{"$f":"IF(ISBLANK(E393),\"hie eu nix drischribu\",VLOOKUP(E393,'[1]2021'!$A$11:$G$143,4,FALSE))","v":"Fux W., J., & Wyer Piet"}]
["2021-08-14",{"$f":"IF(ISBLANK(D394),\"Alain, nix drischribu\",VLOOKUP(D394,'[1]2021'!$A$11:$G$143,4,FALSE))","v":"Zumofen / Gattlen"},{"$f":"VLOOKUP(D394,'[1]2021'!$A$11:$G$143,2,FALSE)","v":"Fachita"},123,89,{"$f":"VLOOKUP(E394,'[1]2021'!$A$11:$G$143,2,FALSE)","v":"Biscot"},{"$f":"IF(ISBLANK(E394),\"hie eu nix drischribu\",VLOOKUP(E394,'[1]2021'!$A$11:$G$143,4,FALSE))","v":"Sewer R. & Thommen S."}]
["2021-08-14",{"$f":"IF(ISBLANK(D395),\"Alain, nix drischribu\",VLOOKUP(D395,'[1]2021'!$A$11:$G$143,4,FALSE))","v":"Zumofen / Gattlen"},{"$f":"VLOOKUP(D395,'[1]2021'!$A$11:$G$143,2,FALSE)","v":"Fachita"},123,31,{"$f":"VLOOKUP(E395,'[1]2021'!$A$11:$G$143,2,FALSE)","v":"Bastis"},{"$f":"IF(ISBLANK(E395),\"hie eu nix drischribu\",VLOOKUP(E395,'[1]2021'!$A$11:$G$143,4,FALSE))","v":"Fux W., J., & Wyer Piet"}]
["2021-08-14",{"$f":"IF(ISBLANK(D396),\"Alain, nix drischribu\",VLOOKUP(D396,'[1]2021'!$A$11:$G$143,4,FALSE))","v":"Hischier H. & Bühlmann J."},{"$f":"VLOOKUP(D396,'[1]2021'!$A$11:$G$143,2,FALSE)","v":"Lenja"},47,31,{"$f":"VLOOKUP(E396,'[1]2021'!$A$11:$G$143,2,FALSE)","v":"Bastis"},{"$f":"IF(ISBLANK(E396),\"hie eu nix drischribu\",VLOOKUP(E396,'[1]2021'!$A$11:$G$143,4,FALSE))","v":"Fux W., J., & Wyer Piet"}]
["2021-08-14",{"$f":"IF(ISBLANK(D397),\"Alain, nix drischribu\",VLOOKUP(D397,'[1]2021'!$A$11:$G$143,4,FALSE))","v":"Bayard Medard & Gustav"},{"$f":"VLOOKUP(D397,'[1]2021'!$A$11:$G$143,2,FALSE)","v":"Vampir"},4,89,{"$f":"VLOOKUP(E397,'[1]2021'!$A$11:$G$143,2,FALSE)","v":"Biscot"},{"$f":"IF(ISBLANK(E397),\"hie eu nix drischribu\",VLOOKUP(E397,'[1]2021'!$A$11:$G$143,4,FALSE))","v":"Sewer R. & Thommen S."}]
["2021-08-14",{"$f":"IF(ISBLANK(D398),\"Alain, nix drischribu\",VLOOKUP(D398,'[1]2021'!$A$11:$G$143,4,FALSE))","v":"Bregy Uli / Lisi & Pasci"},{"$f":"VLOOKUP(D398,'[1]2021'!$A$11:$G$143,2,FALSE)","v":"Xaphir"},22,115,{"$f":"VLOOKUP(E398,'[1]2021'!$A$11:$G$143,2,FALSE)","v":"Souris"},{"$f":"IF(ISBLANK(E398),\"hie eu nix drischribu\",VLOOKUP(E398,'[1]2021'!$A$11:$G$143,4,FALSE))","v":"Zumofen / Gattlen"}]
["2021-08-14",{"$f":"IF(ISBLANK(D399),\"Alain, nix drischribu\",VLOOKUP(D399,'[1]2021'!$A$11:$G$143,4,FALSE))","v":"Fux W., J., & Wyer Piet"},{"$f":"VLOOKUP(D399,'[1]2021'!$A$11:$G$143,2,FALSE)","v":"Baquera"},33,86,{"$f":"VLOOKUP(E399,'[1]2021'!$A$11:$G$143,2,FALSE)","v":"Tessa"},{"$f":"IF(ISBLANK(E399),\"hie eu nix drischribu\",VLOOKUP(E399,'[1]2021'!$A$11:$G$143,4,FALSE))","v":"Sewer R. & Thommen S."}]
["2021-08-13",{"$f":"IF(ISBLANK(D400),\"Alain, nix drischribu\",VLOOKUP(D400,'[1]2021'!$A$11:$G$143,4,FALSE))","v":"Williner Anton"},{"$f":"VLOOKUP(D400,'[1]2021'!$A$11:$G$143,2,FALSE)","v":"Tigra"},94,120,{"$f":"VLOOKUP(E400,'[1]2021'!$A$11:$G$143,2,FALSE)","v":"Rambo"},{"$f":"IF(ISBLANK(E400),\"hie eu nix drischribu\",VLOOKUP(E400,'[1]2021'!$A$11:$G$143,4,FALSE))","v":"Zumofen / Gattlen"}]
["2021-08-13",{"$f":"IF(ISBLANK(D401),\"Alain, nix drischribu\",VLOOKUP(D401,'[1]2021'!$A$11:$G$143,4,FALSE))","v":"Bregy Ralf & Adolf"},{"$f":"VLOOKUP(D401,'[1]2021'!$A$11:$G$143,2,FALSE)","v":"Creola"},8,20,{"$f":"VLOOKUP(E401,'[1]2021'!$A$11:$G$143,2,FALSE)","v":"Caline"},{"$f":"IF(ISBLANK(E401),\"hie eu nix drischribu\",VLOOKUP(E401,'[1]2021'!$A$11:$G$143,4,FALSE))","v":" Bregy Uli / Lisi & Pasci"}]
["2021-08-13",{"$f":"IF(ISBLANK(D402),\"Alain, nix drischribu\",VLOOKUP(D402,'[1]2021'!$A$11:$G$143,4,FALSE))","v":"Williner Anton"},{"$f":"VLOOKUP(D402,'[1]2021'!$A$11:$G$143,2,FALSE)","v":"Tigra"},94,25,{"$f":"VLOOKUP(E402,'[1]2021'!$A$11:$G$143,2,FALSE)","v":"Calette"},{"$f":"IF(ISBLANK(E402),\"hie eu nix drischribu\",VLOOKUP(E402,'[1]2021'!$A$11:$G$143,4,FALSE))","v":"Bregy Uli / Lisi & Pasci"}]
["2021-08-13",{"$f":"IF(ISBLANK(D403),\"Alain, nix drischribu\",VLOOKUP(D403,'[1]2021'!$A$11:$G$143,4,FALSE))","v":"Stallung Passeraub"},{"$f":"VLOOKUP(D403,'[1]2021'!$A$11:$G$143,2,FALSE)","v":"Ballerine"},78,32,{"$f":"VLOOKUP(E403,'[1]2021'!$A$11:$G$143,2,FALSE)","v":"Mystic"},{"$f":"IF(ISBLANK(E403),\"hie eu nix drischribu\",VLOOKUP(E403,'[1]2021'!$A$11:$G$143,4,FALSE))","v":"Fux W., J., & Wyer Piet"}]
["2021-08-13",{"$f":"IF(ISBLANK(D404),\"Alain, nix drischribu\",VLOOKUP(D404,'[1]2021'!$A$11:$G$143,4,FALSE))","v":"Gebrüder Jäger"},{"$f":"VLOOKUP(D404,'[1]2021'!$A$11:$G$143,2,FALSE)","v":"Lorens"},46,14,{"$f":"VLOOKUP(E404,'[1]2021'!$A$11:$G$143,2,FALSE)","v":"Canabis"},{"$f":"IF(ISBLANK(E404),\"hie eu nix drischribu\",VLOOKUP(E404,'[1]2021'!$A$11:$G$143,4,FALSE))","v":"Bregy Ralf & Adolf"}]
["2021-08-13",{"$f":"IF(ISBLANK(D405),\"Alain, nix drischribu\",VLOOKUP(D405,'[1]2021'!$A$11:$G$143,4,FALSE))","v":"Bregy Ralf & Adolf"},{"$f":"VLOOKUP(D405,'[1]2021'!$A$11:$G$143,2,FALSE)","v":"Flacabre"},6,74,{"$f":"VLOOKUP(E405,'[1]2021'!$A$11:$G$143,2,FALSE)","v":"Beryl"},{"$f":"IF(ISBLANK(E405),\"hie eu nix drischribu\",VLOOKUP(E405,'[1]2021'!$A$11:$G$143,4,FALSE))","v":"Stallung Passeraub"}]
["2021-08-12",{"$f":"IF(ISBLANK(D406),\"Alain, nix drischribu\",VLOOKUP(D406,'[1]2021'!$A$11:$G$143,4,FALSE))","v":"Zumofen / Gattlen"},{"$f":"VLOOKUP(D406,'[1]2021'!$A$11:$G$143,2,FALSE)","v":"Violette"},108,50,{"$f":"VLOOKUP(E406,'[1]2021'!$A$11:$G$143,2,FALSE)","v":"Pruedence"},{"$f":"IF(ISBLANK(E406),\"hie eu nix drischribu\",VLOOKUP(E406,'[1]2021'!$A$11:$G$143,4,FALSE))","v":"Hischier Pius"}]
["2021-08-12",{"$f":"IF(ISBLANK(D407),\"Alain, nix drischribu\",VLOOKUP(D407,'[1]2021'!$A$11:$G$143,4,FALSE))","v":"Fux W., J., & Wyer Piet"},{"$f":"VLOOKUP(D407,'[1]2021'!$A$11:$G$143,2,FALSE)","v":"Bastis"},31,123,{"$f":"VLOOKUP(E407,'[1]2021'!$A$11:$G$143,2,FALSE)","v":"Fachita"},{"$f":"IF(ISBLANK(E407),\"hie eu nix drischribu\",VLOOKUP(E407,'[1]2021'!$A$11:$G$143,4,FALSE))","v":"Zumofen / Gattlen"}]
["2021-08-12",{"$f":"IF(ISBLANK(D408),\"Alain, nix drischribu\",VLOOKUP(D408,'[1]2021'!$A$11:$G$143,4,FALSE))","v":"Bayard Medard & Gustav"},{"$f":"VLOOKUP(D408,'[1]2021'!$A$11:$G$143,2,FALSE)","v":"Venus"},1,47,{"$f":"VLOOKUP(E408,'[1]2021'!$A$11:$G$143,2,FALSE)","v":"Lenja"},{"$f":"IF(ISBLANK(E408),\"hie eu nix drischribu\",VLOOKUP(E408,'[1]2021'!$A$11:$G$143,4,FALSE))","v":"Hischier H. & Bühlmann J."}]
["2021-08-12",{"$f":"IF(ISBLANK(D409),\"Alain, nix drischribu\",VLOOKUP(D409,'[1]2021'!$A$11:$G$143,4,FALSE))","v":"Zumofen / Gattlen"},{"$f":"VLOOKUP(D409,'[1]2021'!$A$11:$G$143,2,FALSE)","v":"Souris"},115,47,{"$f":"VLOOKUP(E409,'[1]2021'!$A$11:$G$143,2,FALSE)","v":"Lenja"},{"$f":"IF(ISBLANK(E409),\"hie eu nix drischribu\",VLOOKUP(E409,'[1]2021'!$A$11:$G$143,4,FALSE))","v":"Hischier H. & Bühlmann J."}]
["2021-08-12",{"$f":"IF(ISBLANK(D410),\"Alain, nix drischribu\",VLOOKUP(D410,'[1]2021'!$A$11:$G$143,4,FALSE))","v":"Fux W., J., & Wyer Piet"},{"$f":"VLOOKUP(D410,'[1]2021'!$A$11:$G$143,2,FALSE)","v":"Bolero"},29,111,{"$f":"VLOOKUP(E410,'[1]2021'!$A$11:$G$143,2,FALSE)","v":"Palona"},{"$f":"IF(ISBLANK(E410),\"hie eu nix drischribu\",VLOOKUP(E410,'[1]2021'!$A$11:$G$143,4,FALSE))","v":"Zumofen / Gattlen"}]
["2021-08-12",{"$f":"IF(ISBLANK(D411),\"Alain, nix drischribu\",VLOOKUP(D411,'[1]2021'!$A$11:$G$143,4,FALSE))","v":"Fux W., J., & Wyer Piet"},{"$f":"VLOOKUP(D411,'[1]2021'!$A$11:$G$143,2,FALSE)","v":"Toscana"},37,6,{"$f":"VLOOKUP(E411,'[1]2021'!$A$11:$G$143,2,FALSE)","v":"Flacabre"},{"$f":"IF(ISBLANK(E411),\"hie eu nix drischribu\",VLOOKUP(E411,'[1]2021'!$A$11:$G$143,4,FALSE))","v":"Bregy Ralf & Adolf"}]
["2021-08-12",{"$f":"IF(ISBLANK(D412),\"Alain, nix drischribu\",VLOOKUP(D412,'[1]2021'!$A$11:$G$143,4,FALSE))","v":"Bregy Ralf & Adolf"},{"$f":"VLOOKUP(D412,'[1]2021'!$A$11:$G$143,2,FALSE)","v":"Flacabre"},6,30,{"$f":"VLOOKUP(E412,'[1]2021'!$A$11:$G$143,2,FALSE)","v":"Diamant"},{"$f":"IF(ISBLANK(E412),\"hie eu nix drischribu\",VLOOKUP(E412,'[1]2021'!$A$11:$G$143,4,FALSE))","v":"Fux W., J., & Wyer Piet"}]
["2021-08-11",{"$f":"IF(ISBLANK(D413),\"Alain, nix drischribu\",VLOOKUP(D413,'[1]2021'!$A$11:$G$143,4,FALSE))","v":"Bayard Medard & Gustav"},{"$f":"VLOOKUP(D413,'[1]2021'!$A$11:$G$143,2,FALSE)","v":"Venus"},1,42,{"$f":"VLOOKUP(E413,'[1]2021'!$A$11:$G$143,2,FALSE)","v":"Simba"},{"$f":"IF(ISBLANK(E413),\"hie eu nix drischribu\",VLOOKUP(E413,'[1]2021'!$A$11:$G$143,4,FALSE))","v":"Gebrüder Jäger"}]
["2021-08-11",{"$f":"IF(ISBLANK(D414),\"Alain, nix drischribu\",VLOOKUP(D414,'[1]2021'!$A$11:$G$143,4,FALSE))","v":"Fux W., J., & Wyer Piet"},{"$f":"VLOOKUP(D414,'[1]2021'!$A$11:$G$143,2,FALSE)","v":"Toscana"},37,83,{"$f":"VLOOKUP(E414,'[1]2021'!$A$11:$G$143,2,FALSE)","v":"Cayenne"},{"$f":"IF(ISBLANK(E414),\"hie eu nix drischribu\",VLOOKUP(E414,'[1]2021'!$A$11:$G$143,4,FALSE))","v":"Stallung zum Stäg"}]
["2021-08-11",{"$f":"IF(ISBLANK(D415),\"Alain, nix drischribu\",VLOOKUP(D415,'[1]2021'!$A$11:$G$143,4,FALSE))","v":"Bayard Medard & Gustav"},{"$f":"VLOOKUP(D415,'[1]2021'!$A$11:$G$143,2,FALSE)","v":"Pandera"},5,43,{"$f":"VLOOKUP(E415,'[1]2021'!$A$11:$G$143,2,FALSE)","v":"Dorina"},{"$f":"IF(ISBLANK(E415),\"hie eu nix drischribu\",VLOOKUP(E415,'[1]2021'!$A$11:$G$143,4,FALSE))","v":"Gebrüder Jäger"}]
["2021-08-11",{"$f":"IF(ISBLANK(D416),\"Alain, nix drischribu\",VLOOKUP(D416,'[1]2021'!$A$11:$G$143,4,FALSE))","v":"Zumofen / Gattlen"},{"$f":"VLOOKUP(D416,'[1]2021'!$A$11:$G$143,2,FALSE)","v":"Rambo"},120,46,{"$f":"VLOOKUP(E416,'[1]2021'!$A$11:$G$143,2,FALSE)","v":"Lorens"},{"$f":"IF(ISBLANK(E416),\"hie eu nix drischribu\",VLOOKUP(E416,'[1]2021'!$A$11:$G$143,4,FALSE))","v":"Gebrüder Jäger"}]
["2021-08-10",{"$f":"IF(ISBLANK(D417),\"Alain, nix drischribu\",VLOOKUP(D417,'2021'!$A$11:$G$143,4,FALSE))","v":"Bregy Ralf & Adolf"},{"$f":"VLOOKUP(D417,'2021'!$A$11:$G$143,2,FALSE)","v":"Canaille"},7,110,{"$f":"VLOOKUP(E417,'2021'!$A$11:$G$143,2,FALSE)","v":"Xena"},{"$f":"IF(ISBLANK(E417),\"hie eu nix drischribu\",VLOOKUP(E417,'2021'!$A$11:$G$143,4,FALSE))","v":"Zumofen / Gattlen"}]
["2021-08-10",{"$f":"IF(ISBLANK(D418),\"Alain, nix drischribu\",VLOOKUP(D418,'2021'!$A$11:$G$143,4,FALSE))","v":"Zumofen / Gattlen"},{"$f":"VLOOKUP(D418,'2021'!$A$11:$G$143,2,FALSE)","v":"Rena"},109,104,{"$f":"VLOOKUP(E418,'2021'!$A$11:$G$143,2,FALSE)","v":"Xhyla"},{"$f":"IF(ISBLANK(E418),\"hie eu nix drischribu\",VLOOKUP(E418,'2021'!$A$11:$G$143,4,FALSE))","v":"Wyssen Diego & Madlen"}]
["2021-08-10",{"$f":"IF(ISBLANK(D419),\"Alain, nix drischribu\",VLOOKUP(D419,'2021'!$A$11:$G$143,4,FALSE))","v":"Bregy Ralf & Adolf"},{"$f":"VLOOKUP(D419,'2021'!$A$11:$G$143,2,FALSE)","v":"Creola"},8,120,{"$f":"VLOOKUP(E419,'2021'!$A$11:$G$143,2,FALSE)","v":"Rambo"},{"$f":"IF(ISBLANK(E419),\"hie eu nix drischribu\",VLOOKUP(E419,'2021'!$A$11:$G$143,4,FALSE))","v":"Zumofen / Gattlen"}]
["2021-08-10",{"$f":"IF(ISBLANK(D420),\"Alain, nix drischribu\",VLOOKUP(D420,'2021'!$A$11:$G$143,4,FALSE))","v":"Bregy Ralf & Adolf"},{"$f":"VLOOKUP(D420,'2021'!$A$11:$G$143,2,FALSE)","v":"Creola"},8,118,{"$f":"VLOOKUP(E420,'2021'!$A$11:$G$143,2,FALSE)","v":"Vesuv"},{"$f":"IF(ISBLANK(E420),\"hie eu nix drischribu\",VLOOKUP(E420,'2021'!$A$11:$G$143,4,FALSE))","v":"Zumofen / Gattlen"}]
["2021-08-10",{"$f":"IF(ISBLANK(D421),\"Alain, nix drischribu\",VLOOKUP(D421,'2021'!$A$11:$G$143,4,FALSE))","v":"Zumofen / Gattlen"},{"$f":"VLOOKUP(D421,'2021'!$A$11:$G$143,2,FALSE)","v":"Rambo"},120,20,{"$f":"VLOOKUP(E421,'2021'!$A$11:$G$143,2,FALSE)","v":"Caline"},{"$f":"IF(ISBLANK(E421),\"hie eu nix drischribu\",VLOOKUP(E421,'2021'!$A$11:$G$143,4,FALSE))","v":" Bregy Uli / Lisi & Pasci"}]
["2021-08-10",{"$f":"IF(ISBLANK(D422),\"Alain, nix drischribu\",VLOOKUP(D422,'2021'!$A$11:$G$143,4,FALSE))","v":"Stallung zum Stäg"},{"$f":"VLOOKUP(D422,'2021'!$A$11:$G$143,2,FALSE)","v":"Cayenne"},83,30,{"$f":"VLOOKUP(E422,'2021'!$A$11:$G$143,2,FALSE)","v":"Diamant"},{"$f":"IF(ISBLANK(E422),\"hie eu nix drischribu\",VLOOKUP(E422,'2021'!$A$11:$G$143,4,FALSE))","v":"Fux W., J., & Wyer Piet"}]
["2021-08-10",{"$f":"IF(ISBLANK(D423),\"Alain, nix drischribu\",VLOOKUP(D423,'2021'!$A$11:$G$143,4,FALSE))","v":"Stallung Passeraub"},{"$f":"VLOOKUP(D423,'2021'!$A$11:$G$143,2,FALSE)","v":"Beres"},77,16,{"$f":"VLOOKUP(E423,'2021'!$A$11:$G$143,2,FALSE)","v":"Murphy"},{"$f":"IF(ISBLANK(E423),\"hie eu nix drischribu\",VLOOKUP(E423,'2021'!$A$11:$G$143,4,FALSE))","v":"Bregy Uli / Lisi & Pasci"}]
["2021-08-10",{"$f":"IF(ISBLANK(D424),\"Alain, nix drischribu\",VLOOKUP(D424,'2021'!$A$11:$G$143,4,FALSE))","v":"Zumofen / Gattlen"},{"$f":"VLOOKUP(D424,'2021'!$A$11:$G$143,2,FALSE)","v":"Souris"},115,42,{"$f":"VLOOKUP(E424,'2021'!$A$11:$G$143,2,FALSE)","v":"Simba"},{"$f":"IF(ISBLANK(E424),\"hie eu nix drischribu\",VLOOKUP(E424,'2021'!$A$11:$G$143,4,FALSE))","v":"Gebrüder Jäger"}]
["2021-08-10",{"$f":"IF(ISBLANK(D425),\"Alain, nix drischribu\",VLOOKUP(D425,'2021'!$A$11:$G$143,4,FALSE))","v":"Zumofen / Gattlen"},{"$f":"VLOOKUP(D425,'2021'!$A$11:$G$143,2,FALSE)","v":"Rambo"},120,109,{"$f":"VLOOKUP(E425,'2021'!$A$11:$G$143,2,FALSE)","v":"Rena"},{"$f":"IF(ISBLANK(E425),\"hie eu nix drischribu\",VLOOKUP(E425,'2021'!$A$11:$G$143,4,FALSE))","v":"Zumofen / Gattlen"}]
["2021-08-10",{"$f":"IF(ISBLANK(D426),\"Alain, nix drischribu\",VLOOKUP(D426,'2021'!$A$11:$G$143,4,FALSE))","v":"Zumofen / Gattlen"},{"$f":"VLOOKUP(D426,'2021'!$A$11:$G$143,2,FALSE)","v":"Rena"},109,96,{"$f":"VLOOKUP(E426,'2021'!$A$11:$G$143,2,FALSE)","v":"Vanessa"},{"$f":"IF(ISBLANK(E426),\"hie eu nix drischribu\",VLOOKUP(E426,'2021'!$A$11:$G$143,4,FALSE))","v":"Williner Anton"}]
["2021-08-10",{"$f":"IF(ISBLANK(D427),\"Alain, nix drischribu\",VLOOKUP(D427,'2021'!$A$11:$G$143,4,FALSE))","v":"Zumofen / Gattlen"},{"$f":"VLOOKUP(D427,'2021'!$A$11:$G$143,2,FALSE)","v":"Violette"},108,8,{"$f":"VLOOKUP(E427,'2021'!$A$11:$G$143,2,FALSE)","v":"Creola"},{"$f":"IF(ISBLANK(E427),\"hie eu nix drischribu\",VLOOKUP(E427,'2021'!$A$11:$G$143,4,FALSE))","v":"Bregy Ralf & Adolf"}]
["2021-08-10",{"$f":"IF(ISBLANK(D428),\"Alain, nix drischribu\",VLOOKUP(D428,'2021'!$A$11:$G$143,4,FALSE))","v":"Stallung Passeraub"},{"$f":"VLOOKUP(D428,'2021'!$A$11:$G$143,2,FALSE)","v":"Ballerine"},78,115,{"$f":"VLOOKUP(E428,'2021'!$A$11:$G$143,2,FALSE)","v":"Souris"},{"$f":"IF(ISBLANK(E428),\"hie eu nix drischribu\",VLOOKUP(E428,'2021'!$A$11:$G$143,4,FALSE))","v":"Zumofen / Gattlen"}]
["2021-08-10",{"$f":"IF(ISBLANK(D429),\"Alain, nix drischribu\",VLOOKUP(D429,'2021'!$A$11:$G$143,4,FALSE))","v":"Jäger Carlo & Lukas"},{"$f":"VLOOKUP(D429,'2021'!$A$11:$G$143,2,FALSE)","v":"Mygale"},56,105,{"$f":"VLOOKUP(E429,'2021'!$A$11:$G$143,2,FALSE)","v":"Corona"},{"$f":"IF(ISBLANK(E429),\"hie eu nix drischribu\",VLOOKUP(E429,'2021'!$A$11:$G$143,4,FALSE))","v":"Zumoberhaus Pius"}]
["2021-08-10",{"$f":"IF(ISBLANK(D430),\"Alain, nix drischribu\",VLOOKUP(D430,'2021'!$A$11:$G$143,4,FALSE))","v":"Hutter Richard"},{"$f":"VLOOKUP(D430,'2021'!$A$11:$G$143,2,FALSE)","v":"Fägär"},81,53,{"$f":"VLOOKUP(E430,'2021'!$A$11:$G$143,2,FALSE)","v":"Caline"},{"$f":"IF(ISBLANK(E430),\"hie eu nix drischribu\",VLOOKUP(E430,'2021'!$A$11:$G$143,4,FALSE))","v":"Jäger Carlo & Lukas"}]
["2021-08-10",{"$f":"IF(ISBLANK(D431),\"Alain, nix drischribu\",VLOOKUP(D431,'2021'!$A$11:$G$143,4,FALSE))","v":"Williner Anton"},{"$f":"VLOOKUP(D431,'2021'!$A$11:$G$143,2,FALSE)","v":"Violine"},97,89,{"$f":"VLOOKUP(E431,'2021'!$A$11:$G$143,2,FALSE)","v":"Biscot"},{"$f":"IF(ISBLANK(E431),\"hie eu nix drischribu\",VLOOKUP(E431,'2021'!$A$11:$G$143,4,FALSE))","v":"Sewer R. & Thommen S."}]
["2021-08-10",{"$f":"IF(ISBLANK(D432),\"Alain, nix drischribu\",VLOOKUP(D432,'2021'!$A$11:$G$143,4,FALSE))","v":"Williner Anton"},{"$f":"VLOOKUP(D432,'2021'!$A$11:$G$143,2,FALSE)","v":"Tigra"},94,81,{"$f":"VLOOKUP(E432,'2021'!$A$11:$G$143,2,FALSE)","v":"Fägär"},{"$f":"IF(ISBLANK(E432),\"hie eu nix drischribu\",VLOOKUP(E432,'2021'!$A$11:$G$143,4,FALSE))","v":"Hutter Richard"}]
["2021-08-09",{"$f":"IF(ISBLANK(D433),\"Alain, nix drischribu\",VLOOKUP(D433,'2021'!$A$11:$G$143,4,FALSE))","v":"Sewer R. & Thommen S."},{"$f":"VLOOKUP(D433,'2021'!$A$11:$G$143,2,FALSE)","v":"Malice"},88,90,{"$f":"VLOOKUP(E433,'2021'!$A$11:$G$143,2,FALSE)","v":"Bolera"},{"$f":"IF(ISBLANK(E433),\"hie eu nix drischribu\",VLOOKUP(E433,'2021'!$A$11:$G$143,4,FALSE))","v":"Sewer R. & Thommen S."}]
["2021-08-09",{"$f":"IF(ISBLANK(D434),\"Alain, nix drischribu\",VLOOKUP(D434,'2021'!$A$11:$G$143,4,FALSE))","v":"Bregy Uli / Lisi & Pasci"},{"$f":"VLOOKUP(D434,'2021'!$A$11:$G$143,2,FALSE)","v":"Bora"},21,88,{"$f":"VLOOKUP(E434,'2021'!$A$11:$G$143,2,FALSE)","v":"Malice"},{"$f":"IF(ISBLANK(E434),\"hie eu nix drischribu\",VLOOKUP(E434,'2021'!$A$11:$G$143,4,FALSE))","v":"Sewer R. & Thommen S."}]
["2021-08-09",{"$f":"IF(ISBLANK(D435),\"Alain, nix drischribu\",VLOOKUP(D435,'2021'!$A$11:$G$143,4,FALSE))","v":"Zumofen / Gattlen"},{"$f":"VLOOKUP(D435,'2021'!$A$11:$G$143,2,FALSE)","v":"Vesuv"},118,90,{"$f":"VLOOKUP(E435,'2021'!$A$11:$G$143,2,FALSE)","v":"Bolera"},{"$f":"IF(ISBLANK(E435),\"hie eu nix drischribu\",VLOOKUP(E435,'2021'!$A$11:$G$143,4,FALSE))","v":"Sewer R. & Thommen S."}]
["2021-08-09",{"$f":"IF(ISBLANK(D436),\"Alain, nix drischribu\",VLOOKUP(D436,'2021'!$A$11:$G$143,4,FALSE))","v":"Stallung zum Stäg"},{"$f":"VLOOKUP(D436,'2021'!$A$11:$G$143,2,FALSE)","v":"Cayenne"},83,97,{"$f":"VLOOKUP(E436,'2021'!$A$11:$G$143,2,FALSE)","v":"Violine"},{"$f":"IF(ISBLANK(E436),\"hie eu nix drischribu\",VLOOKUP(E436,'2021'!$A$11:$G$143,4,FALSE))","v":"Williner Anton"}]
["2021-08-09",{"$f":"IF(ISBLANK(D437),\"Alain, nix drischribu\",VLOOKUP(D437,'2021'!$A$11:$G$143,4,FALSE))","v":"Zumofen / Gattlen"},{"$f":"VLOOKUP(D437,'2021'!$A$11:$G$143,2,FALSE)","v":"Souris"},115,4,{"$f":"VLOOKUP(E437,'2021'!$A$11:$G$143,2,FALSE)","v":"Vampir"},{"$f":"IF(ISBLANK(E437),\"hie eu nix drischribu\",VLOOKUP(E437,'2021'!$A$11:$G$143,4,FALSE))","v":"Bayard Medard & Gustav"}]
["2021-08-09",{"$f":"IF(ISBLANK(D438),\"Alain, nix drischribu\",VLOOKUP(D438,'2021'!$A$11:$G$143,4,FALSE))","v":"Zumofen / Gattlen"},{"$f":"VLOOKUP(D438,'2021'!$A$11:$G$143,2,FALSE)","v":"Vanda"},113,61,{"$f":"VLOOKUP(E438,'2021'!$A$11:$G$143,2,FALSE)","v":"Grolla"},{"$f":"IF(ISBLANK(E438),\"hie eu nix drischribu\",VLOOKUP(E438,'2021'!$A$11:$G$143,4,FALSE))","v":"Jäger Carlo & Lukas"}]
["2021-08-09",{"$f":"IF(ISBLANK(D439),\"Alain, nix drischribu\",VLOOKUP(D439,'2021'!$A$11:$G$143,4,FALSE))","v":"Bregy Ralf & Adolf"},{"$f":"VLOOKUP(D439,'2021'!$A$11:$G$143,2,FALSE)","v":"Diabolo"},10,103,{"$f":"VLOOKUP(E439,'2021'!$A$11:$G$143,2,FALSE)","v":"Xena"},{"$f":"IF(ISBLANK(E439),\"hie eu nix drischribu\",VLOOKUP(E439,'2021'!$A$11:$G$143,4,FALSE))","v":"Wyssen Diego & Madlen"}]
["2021-08-09",{"$f":"IF(ISBLANK(D440),\"Alain, nix drischribu\",VLOOKUP(D440,'2021'!$A$11:$G$143,4,FALSE))","v":"Fux W., J., & Wyer Piet"},{"$f":"VLOOKUP(D440,'2021'!$A$11:$G$143,2,FALSE)","v":"Toscana"},37,108,{"$f":"VLOOKUP(E440,'2021'!$A$11:$G$143,2,FALSE)","v":"Violette"},{"$f":"IF(ISBLANK(E440),\"hie eu nix drischribu\",VLOOKUP(E440,'2021'!$A$11:$G$143,4,FALSE))","v":"Zumofen / Gattlen"}]
["2021-08-08",{"$f":"IF(ISBLANK(D441),\"Alain, nix drischribu\",VLOOKUP(D441,'2021'!$A$11:$G$143,4,FALSE))","v":"Bregy Ralf & Adolf"},{"$f":"VLOOKUP(D441,'2021'!$A$11:$G$143,2,FALSE)","v":"Canaille"},7,8,{"$f":"VLOOKUP(E441,'2021'!$A$11:$G$143,2,FALSE)","v":"Creola"},{"$f":"IF(ISBLANK(E441),\"hie eu nix drischribu\",VLOOKUP(E441,'2021'!$A$11:$G$143,4,FALSE))","v":"Bregy Ralf & Adolf"}]
["2021-08-08",{"$f":"IF(ISBLANK(D442),\"Alain, nix drischribu\",VLOOKUP(D442,'2021'!$A$11:$G$143,4,FALSE))","v":"Williner Anton"},{"$f":"VLOOKUP(D442,'2021'!$A$11:$G$143,2,FALSE)","v":"Vivana"},95,106,{"$f":"VLOOKUP(E442,'2021'!$A$11:$G$143,2,FALSE)","v":"Miss"},{"$f":"IF(ISBLANK(E442),\"hie eu nix drischribu\",VLOOKUP(E442,'2021'!$A$11:$G$143,4,FALSE))","v":"Zumoberhaus Pius"}]
["2021-08-08",{"$f":"IF(ISBLANK(D443),\"Alain, nix drischribu\",VLOOKUP(D443,'2021'!$A$11:$G$143,4,FALSE))","v":"Fux W., J., & Wyer Piet"},{"$f":"VLOOKUP(D443,'2021'!$A$11:$G$143,2,FALSE)","v":"Baquera"},33,35,{"$f":"VLOOKUP(E443,'2021'!$A$11:$G$143,2,FALSE)","v":"Pampère"},{"$f":"IF(ISBLANK(E443),\"hie eu nix drischribu\",VLOOKUP(E443,'2021'!$A$11:$G$143,4,FALSE))","v":"Fux W., J., & Wyer Piet"}]
["2021-08-08",{"$f":"IF(ISBLANK(D444),\"Alain, nix drischribu\",VLOOKUP(D444,'2021'!$A$11:$G$143,4,FALSE))","v":"Williner Anton"},{"$f":"VLOOKUP(D444,'2021'!$A$11:$G$143,2,FALSE)","v":"Vivana"},95,6,{"$f":"VLOOKUP(E444,'2021'!$A$11:$G$143,2,FALSE)","v":"Flacabre"},{"$f":"IF(ISBLANK(E444),\"hie eu nix drischribu\",VLOOKUP(E444,'2021'!$A$11:$G$143,4,FALSE))","v":"Bregy Ralf & Adolf"}]
["2021-08-08",{"$f":"IF(ISBLANK(D445),\"Alain, nix drischribu\",VLOOKUP(D445,'2021'!$A$11:$G$143,4,FALSE))","v":"Bayard Medard & Gustav"},{"$f":"VLOOKUP(D445,'2021'!$A$11:$G$143,2,FALSE)","v":"Pandera"},5,32,{"$f":"VLOOKUP(E445,'2021'!$A$11:$G$143,2,FALSE)","v":"Mystic"},{"$f":"IF(ISBLANK(E445),\"hie eu nix drischribu\",VLOOKUP(E445,'2021'!$A$11:$G$143,4,FALSE))","v":"Fux W., J., & Wyer Piet"}]
["2021-08-08",{"$f":"IF(ISBLANK(D446),\"Alain, nix drischribu\",VLOOKUP(D446,'2021'!$A$11:$G$143,4,FALSE))","v":"Fux W., J., & Wyer Piet"},{"$f":"VLOOKUP(D446,'2021'!$A$11:$G$143,2,FALSE)","v":"Calmy"},36,2,{"$f":"VLOOKUP(E446,'2021'!$A$11:$G$143,2,FALSE)","v":"Fantastic"},{"$f":"IF(ISBLANK(E446),\"hie eu nix drischribu\",VLOOKUP(E446,'2021'!$A$11:$G$143,4,FALSE))","v":"Bayard Medard & Gustav"}]
["2021-08-08",{"$f":"IF(ISBLANK(D447),\"Alain, nix drischribu\",VLOOKUP(D447,'2021'!$A$11:$G$143,4,FALSE))","v":"Bregy Uli / Lisi & Pasci"},{"$f":"VLOOKUP(D447,'2021'!$A$11:$G$143,2,FALSE)","v":"Simba"},17,36,{"$f":"VLOOKUP(E447,'2021'!$A$11:$G$143,2,FALSE)","v":"Calmy"},{"$f":"IF(ISBLANK(E447),\"hie eu nix drischribu\",VLOOKUP(E447,'2021'!$A$11:$G$143,4,FALSE))","v":"Fux W., J., & Wyer Piet"}]
["2021-08-08",{"$f":"IF(ISBLANK(D448),\"Alain, nix drischribu\",VLOOKUP(D448,'2021'!$A$11:$G$143,4,FALSE))","v":"Williner Anton"},{"$f":"VLOOKUP(D448,'2021'!$A$11:$G$143,2,FALSE)","v":"Vivana"},95,10,{"$f":"VLOOKUP(E448,'2021'!$A$11:$G$143,2,FALSE)","v":"Diabolo"},{"$f":"IF(ISBLANK(E448),\"hie eu nix drischribu\",VLOOKUP(E448,'2021'!$A$11:$G$143,4,FALSE))","v":"Bregy Ralf & Adolf"}]
["2021-08-08",{"$f":"IF(ISBLANK(D449),\"Alain, nix drischribu\",VLOOKUP(D449,'2021'!$A$11:$G$143,4,FALSE))","v":"Bregy Ralf & Adolf"},{"$f":"VLOOKUP(D449,'2021'!$A$11:$G$143,2,FALSE)","v":"Flacabre"},6,61,{"$f":"VLOOKUP(E449,'2021'!$A$11:$G$143,2,FALSE)","v":"Grolla"},{"$f":"IF(ISBLANK(E449),\"hie eu nix drischribu\",VLOOKUP(E449,'2021'!$A$11:$G$143,4,FALSE))","v":"Jäger Carlo & Lukas"}]
["2021-08-08",{"$f":"IF(ISBLANK(D450),\"Alain, nix drischribu\",VLOOKUP(D450,'2021'!$A$11:$G$143,4,FALSE))","v":"Zumofen / Gattlen"},{"$f":"VLOOKUP(D450,'2021'!$A$11:$G$143,2,FALSE)","v":"Rena"},109,29,{"$f":"VLOOKUP(E450,'2021'!$A$11:$G$143,2,FALSE)","v":"Bolero"},{"$f":"IF(ISBLANK(E450),\"hie eu nix drischribu\",VLOOKUP(E450,'2021'!$A$11:$G$143,4,FALSE))","v":"Fux W., J., & Wyer Piet"}]
["2021-08-08",{"$f":"IF(ISBLANK(D451),\"Alain, nix drischribu\",VLOOKUP(D451,'2021'!$A$11:$G$143,4,FALSE))","v":"Bregy Ralf & Adolf"},{"$f":"VLOOKUP(D451,'2021'!$A$11:$G$143,2,FALSE)","v":"Canaille"},7,110,{"$f":"VLOOKUP(E451,'2021'!$A$11:$G$143,2,FALSE)","v":"Xena"},{"$f":"IF(ISBLANK(E451),\"hie eu nix drischribu\",VLOOKUP(E451,'2021'!$A$11:$G$143,4,FALSE))","v":"Zumofen / Gattlen"}]
["2021-08-07",{"$f":"IF(ISBLANK(D452),\"Alain, nix drischribu\",VLOOKUP(D452,'2021'!$A$11:$G$143,4,FALSE))","v":"Fam. Leiggener"},{"$f":"VLOOKUP(D452,'2021'!$A$11:$G$143,2,FALSE)","v":"Rebell"},27,109,{"$f":"VLOOKUP(E452,'2021'!$A$11:$G$143,2,FALSE)","v":"Rena"},{"$f":"IF(ISBLANK(E452),\"hie eu nix drischribu\",VLOOKUP(E452,'2021'!$A$11:$G$143,4,FALSE))","v":"Zumofen / Gattlen"}]
["2021-08-07",{"$f":"IF(ISBLANK(D453),\"Alain, nix drischribu\",VLOOKUP(D453,'2021'!$A$11:$G$143,4,FALSE))","v":"Gebrüder Jäger"},{"$f":"VLOOKUP(D453,'2021'!$A$11:$G$143,2,FALSE)","v":"Simba"},42,109,{"$f":"VLOOKUP(E453,'2021'!$A$11:$G$143,2,FALSE)","v":"Rena"},{"$f":"IF(ISBLANK(E453),\"hie eu nix drischribu\",VLOOKUP(E453,'2021'!$A$11:$G$143,4,FALSE))","v":"Zumofen / Gattlen"}]
["2021-08-07",{"$f":"IF(ISBLANK(D454),\"Alain, nix drischribu\",VLOOKUP(D454,'2021'!$A$11:$G$143,4,FALSE))","v":"Wyssen Diego & Madlen"},{"$f":"VLOOKUP(D454,'2021'!$A$11:$G$143,2,FALSE)","v":"Rasta"},102,122,{"$f":"VLOOKUP(E454,'2021'!$A$11:$G$143,2,FALSE)","v":"Xana"},{"$f":"IF(ISBLANK(E454),\"hie eu nix drischribu\",VLOOKUP(E454,'2021'!$A$11:$G$143,4,FALSE))","v":"Zumofen / Gattlen"}]
["2021-08-07",{"$f":"IF(ISBLANK(D455),\"Alain, nix drischribu\",VLOOKUP(D455,'2021'!$A$11:$G$143,4,FALSE))","v":"Bregy Ralf & Adolf"},{"$f":"VLOOKUP(D455,'2021'!$A$11:$G$143,2,FALSE)","v":"Coquette"},9,67,{"$f":"VLOOKUP(E455,'2021'!$A$11:$G$143,2,FALSE)","v":"Tokio"},{"$f":"IF(ISBLANK(E455),\"hie eu nix drischribu\",VLOOKUP(E455,'2021'!$A$11:$G$143,4,FALSE))","v":"Jäger Carlo & Lukas"}]
["2021-08-07",{"$f":"IF(ISBLANK(D456),\"Alain, nix drischribu\",VLOOKUP(D456,'2021'!$A$11:$G$143,4,FALSE))","v":"Williner Anton"},{"$f":"VLOOKUP(D456,'2021'!$A$11:$G$143,2,FALSE)","v":"Tonic"},93,40,{"$f":"VLOOKUP(E456,'2021'!$A$11:$G$143,2,FALSE)","v":"Tina"},{"$f":"IF(ISBLANK(E456),\"hie eu nix drischribu\",VLOOKUP(E456,'2021'!$A$11:$G$143,4,FALSE))","v":"Gebrüder Jäger"}]
["2021-08-07",{"$f":"IF(ISBLANK(D457),\"Alain, nix drischribu\",VLOOKUP(D457,'2021'!$A$11:$G$143,4,FALSE))","v":"Zumofen / Gattlen"},{"$f":"VLOOKUP(D457,'2021'!$A$11:$G$143,2,FALSE)","v":"Vanda"},113,25,{"$f":"VLOOKUP(E457,'2021'!$A$11:$G$143,2,FALSE)","v":"Calette"},{"$f":"IF(ISBLANK(E457),\"hie eu nix drischribu\",VLOOKUP(E457,'2021'!$A$11:$G$143,4,FALSE))","v":"Bregy Uli / Lisi & Pasci"}]
["2021-08-07",{"$f":"IF(ISBLANK(D458),\"Alain, nix drischribu\",VLOOKUP(D458,'2021'!$A$11:$G$143,4,FALSE))","v":"Jäger Carlo & Lukas"},{"$f":"VLOOKUP(D458,'2021'!$A$11:$G$143,2,FALSE)","v":"Bayonne"},60,121,{"$f":"VLOOKUP(E458,'2021'!$A$11:$G$143,2,FALSE)","v":"Raja"},{"$f":"IF(ISBLANK(E458),\"hie eu nix drischribu\",VLOOKUP(E458,'2021'!$A$11:$G$143,4,FALSE))","v":"Zumofen / Gattlen"}]
["2021-08-07",{"$f":"IF(ISBLANK(D459),\"Alain, nix drischribu\",VLOOKUP(D459,'2021'!$A$11:$G$143,4,FALSE))","v":"Fux W., J., & Wyer Piet"},{"$f":"VLOOKUP(D459,'2021'!$A$11:$G$143,2,FALSE)","v":"Bacardi"},39,41,{"$f":"VLOOKUP(E459,'2021'!$A$11:$G$143,2,FALSE)","v":"Tara"},{"$f":"IF(ISBLANK(E459),\"hie eu nix drischribu\",VLOOKUP(E459,'2021'!$A$11:$G$143,4,FALSE))","v":"Gebrüder Jäger"}]
["2021-08-07",{"$f":"IF(ISBLANK(D460),\"Alain, nix drischribu\",VLOOKUP(D460,'2021'!$A$11:$G$143,4,FALSE))","v":"Hutter Richard "},{"$f":"VLOOKUP(D460,'2021'!$A$11:$G$143,2,FALSE)","v":"Pablo"},76,79,{"$f":"VLOOKUP(E460,'2021'!$A$11:$G$143,2,FALSE)","v":"Marla"},{"$f":"IF(ISBLANK(E460),\"hie eu nix drischribu\",VLOOKUP(E460,'2021'!$A$11:$G$143,4,FALSE))","v":"Stallung Passeraub"}]
["2021-08-07",{"$f":"IF(ISBLANK(D461),\"Alain, nix drischribu\",VLOOKUP(D461,'2021'!$A$11:$G$143,4,FALSE))","v":"Fux W., J., & Wyer Piet"},{"$f":"VLOOKUP(D461,'2021'!$A$11:$G$143,2,FALSE)","v":"Toscana"},37,6,{"$f":"VLOOKUP(E461,'2021'!$A$11:$G$143,2,FALSE)","v":"Flacabre"},{"$f":"IF(ISBLANK(E461),\"hie eu nix drischribu\",VLOOKUP(E461,'2021'!$A$11:$G$143,4,FALSE))","v":"Bregy Ralf & Adolf"}]
["2021-08-07",{"$f":"IF(ISBLANK(D462),\"Alain, nix drischribu\",VLOOKUP(D462,'2021'!$A$11:$G$143,4,FALSE))","v":"Bregy Ralf & Adolf"},{"$f":"VLOOKUP(D462,'2021'!$A$11:$G$143,2,FALSE)","v":"Coquette"},9,41,{"$f":"VLOOKUP(E462,'2021'!$A$11:$G$143,2,FALSE)","v":"Tara"},{"$f":"IF(ISBLANK(E462),\"hie eu nix drischribu\",VLOOKUP(E462,'2021'!$A$11:$G$143,4,FALSE))","v":"Gebrüder Jäger"}]
["2021-08-07",{"$f":"IF(ISBLANK(D463),\"Alain, nix drischribu\",VLOOKUP(D463,'2021'!$A$11:$G$143,4,FALSE))","v":"Wyssen Diego & Madlen"},{"$f":"VLOOKUP(D463,'2021'!$A$11:$G$143,2,FALSE)","v":"Rasta"},102,43,{"$f":"VLOOKUP(E463,'2021'!$A$11:$G$143,2,FALSE)","v":"Dorina"},{"$f":"IF(ISBLANK(E463),\"hie eu nix drischribu\",VLOOKUP(E463,'2021'!$A$11:$G$143,4,FALSE))","v":"Gebrüder Jäger"}]
["2021-08-07",{"$f":"IF(ISBLANK(D464),\"Alain, nix drischribu\",VLOOKUP(D464,'2021'!$A$11:$G$143,4,FALSE))","v":"Gebrüder Jäger"},{"$f":"VLOOKUP(D464,'2021'!$A$11:$G$143,2,FALSE)","v":"Tina"},40,100,{"$f":"VLOOKUP(E464,'2021'!$A$11:$G$143,2,FALSE)","v":"Xantara"},{"$f":"IF(ISBLANK(E464),\"hie eu nix drischribu\",VLOOKUP(E464,'2021'!$A$11:$G$143,4,FALSE))","v":"Wyssen Diego & Madlen"}]
["2021-08-07",{"$f":"IF(ISBLANK(D465),\"Alain, nix drischribu\",VLOOKUP(D465,'2021'!$A$11:$G$143,4,FALSE))","v":"Zumofen / Gattlen"},{"$f":"VLOOKUP(D465,'2021'!$A$11:$G$143,2,FALSE)","v":"Raja"},121,40,{"$f":"VLOOKUP(E465,'2021'!$A$11:$G$143,2,FALSE)","v":"Tina"},{"$f":"IF(ISBLANK(E465),\"hie eu nix drischribu\",VLOOKUP(E465,'2021'!$A$11:$G$143,4,FALSE))","v":"Gebrüder Jäger"}]
["2021-08-07",{"$f":"IF(ISBLANK(D466),\"Alain, nix drischribu\",VLOOKUP(D466,'2021'!$A$11:$G$143,4,FALSE))","v":"Jäger Carlo & Lukas"},{"$f":"VLOOKUP(D466,'2021'!$A$11:$G$143,2,FALSE)","v":"Caline"},53,17,{"$f":"VLOOKUP(E466,'2021'!$A$11:$G$143,2,FALSE)","v":"Simba"},{"$f":"IF(ISBLANK(E466),\"hie eu nix drischribu\",VLOOKUP(E466,'2021'!$A$11:$G$143,4,FALSE))","v":"Bregy Uli / Lisi & Pasci"}]
["2021-08-06",{"$f":"IF(ISBLANK(D467),\"Alain, nix drischribu\",VLOOKUP(D467,'2021'!$A$11:$G$143,4,FALSE))","v":"Gebrüder Jäger"},{"$f":"VLOOKUP(D467,'2021'!$A$11:$G$143,2,FALSE)","v":"Simba"},42,115,{"$f":"VLOOKUP(E467,'2021'!$A$11:$G$143,2,FALSE)","v":"Souris"},{"$f":"IF(ISBLANK(E467),\"hie eu nix drischribu\",VLOOKUP(E467,'2021'!$A$11:$G$143,4,FALSE))","v":"Zumofen / Gattlen"}]
["2021-08-06",{"$f":"IF(ISBLANK(D468),\"Alain, nix drischribu\",VLOOKUP(D468,'2021'!$A$11:$G$143,4,FALSE))","v":"Fux W., J., & Wyer Piet"},{"$f":"VLOOKUP(D468,'2021'!$A$11:$G$143,2,FALSE)","v":"Toscana"},37,53,{"$f":"VLOOKUP(E468,'2021'!$A$11:$G$143,2,FALSE)","v":"Caline"},{"$f":"IF(ISBLANK(E468),\"hie eu nix drischribu\",VLOOKUP(E468,'2021'!$A$11:$G$143,4,FALSE))","v":"Jäger Carlo & Lukas"}]
["2021-08-06",{"$f":"IF(ISBLANK(D469),\"Alain, nix drischribu\",VLOOKUP(D469,'2021'!$A$11:$G$143,4,FALSE))","v":"Bayard Medard & Gustav"},{"$f":"VLOOKUP(D469,'2021'!$A$11:$G$143,2,FALSE)","v":"Pandera"},5,29,{"$f":"VLOOKUP(E469,'2021'!$A$11:$G$143,2,FALSE)","v":"Bolero"},{"$f":"IF(ISBLANK(E469),\"hie eu nix drischribu\",VLOOKUP(E469,'2021'!$A$11:$G$143,4,FALSE))","v":"Fux W., J., & Wyer Piet"}]
["2021-08-06",{"$f":"IF(ISBLANK(D470),\"Alain, nix drischribu\",VLOOKUP(D470,'2021'!$A$11:$G$143,4,FALSE))","v":"Stallung Passeraub"},{"$f":"VLOOKUP(D470,'2021'!$A$11:$G$143,2,FALSE)","v":"Ballerine"},78,20,{"$f":"VLOOKUP(E470,'2021'!$A$11:$G$143,2,FALSE)","v":"Caline"},{"$f":"IF(ISBLANK(E470),\"hie eu nix drischribu\",VLOOKUP(E470,'2021'!$A$11:$G$143,4,FALSE))","v":" Bregy Uli / Lisi & Pasci"}]
["2021-08-06",{"$f":"IF(ISBLANK(D471),\"Alain, nix drischribu\",VLOOKUP(D471,'2021'!$A$11:$G$143,4,FALSE))","v":"Bregy Ralf & Adolf"},{"$f":"VLOOKUP(D471,'2021'!$A$11:$G$143,2,FALSE)","v":"Coquette"},9,65,{"$f":"VLOOKUP(E471,'2021'!$A$11:$G$143,2,FALSE)","v":"Pivoine"},{"$f":"IF(ISBLANK(E471),\"hie eu nix drischribu\",VLOOKUP(E471,'2021'!$A$11:$G$143,4,FALSE))","v":"Jäger Carlo & Lukas"}]
["2021-08-06",{"$f":"IF(ISBLANK(D472),\"Alain, nix drischribu\",VLOOKUP(D472,'2021'!$A$11:$G$143,4,FALSE))","v":"Zumofen / Gattlen"},{"$f":"VLOOKUP(D472,'2021'!$A$11:$G$143,2,FALSE)","v":"Pinoccio"},116,9,{"$f":"VLOOKUP(E472,'2021'!$A$11:$G$143,2,FALSE)","v":"Coquette"},{"$f":"IF(ISBLANK(E472),\"hie eu nix drischribu\",VLOOKUP(E472,'2021'!$A$11:$G$143,4,FALSE))","v":"Bregy Ralf & Adolf"}]
["2021-08-06",{"$f":"IF(ISBLANK(D473),\"Alain, nix drischribu\",VLOOKUP(D473,'2021'!$A$11:$G$143,4,FALSE))","v":"Bregy Ralf & Adolf"},{"$f":"VLOOKUP(D473,'2021'!$A$11:$G$143,2,FALSE)","v":"Creola"},8,115,{"$f":"VLOOKUP(E473,'2021'!$A$11:$G$143,2,FALSE)","v":"Souris"},{"$f":"IF(ISBLANK(E473),\"hie eu nix drischribu\",VLOOKUP(E473,'2021'!$A$11:$G$143,4,FALSE))","v":"Zumofen / Gattlen"}]
["2021-08-06",{"$f":"IF(ISBLANK(D474),\"Alain, nix drischribu\",VLOOKUP(D474,'2021'!$A$11:$G$143,4,FALSE))","v":"Williner Anton"},{"$f":"VLOOKUP(D474,'2021'!$A$11:$G$143,2,FALSE)","v":"Tonic"},93,28,{"$f":"VLOOKUP(E474,'2021'!$A$11:$G$143,2,FALSE)","v":"Baron"},{"$f":"IF(ISBLANK(E474),\"hie eu nix drischribu\",VLOOKUP(E474,'2021'!$A$11:$G$143,4,FALSE))","v":"Fam. Leiggener"}]
["2021-08-06",{"$f":"IF(ISBLANK(D475),\"Alain, nix drischribu\",VLOOKUP(D475,'2021'!$A$11:$G$143,4,FALSE))","v":"Zumofen / Gattlen"},{"$f":"VLOOKUP(D475,'2021'!$A$11:$G$143,2,FALSE)","v":"Rambo"},120,43,{"$f":"VLOOKUP(E475,'2021'!$A$11:$G$143,2,FALSE)","v":"Dorina"},{"$f":"IF(ISBLANK(E475),\"hie eu nix drischribu\",VLOOKUP(E475,'2021'!$A$11:$G$143,4,FALSE))","v":"Gebrüder Jäger"}]
["2021-08-06",{"$f":"IF(ISBLANK(D476),\"Alain, nix drischribu\",VLOOKUP(D476,'2021'!$A$11:$G$143,4,FALSE))","v":"Fam. Leiggener"},{"$f":"VLOOKUP(D476,'2021'!$A$11:$G$143,2,FALSE)","v":"Baron"},28,72,{"$f":"VLOOKUP(E476,'2021'!$A$11:$G$143,2,FALSE)","v":"Babylon"},{"$f":"IF(ISBLANK(E476),\"hie eu nix drischribu\",VLOOKUP(E476,'2021'!$A$11:$G$143,4,FALSE))","v":"Mathieu Leander & Sascha"}]
["2021-08-06",{"$f":"IF(ISBLANK(D477),\"Alain, nix drischribu\",VLOOKUP(D477,'2021'!$A$11:$G$143,4,FALSE))","v":"Gebrüder Jäger"},{"$f":"VLOOKUP(D477,'2021'!$A$11:$G$143,2,FALSE)","v":"Simba"},42,115,{"$f":"VLOOKUP(E477,'2021'!$A$11:$G$143,2,FALSE)","v":"Souris"},{"$f":"IF(ISBLANK(E477),\"hie eu nix drischribu\",VLOOKUP(E477,'2021'!$A$11:$G$143,4,FALSE))","v":"Zumofen / Gattlen"}]
["2021-08-06",{"$f":"IF(ISBLANK(D478),\"Alain, nix drischribu\",VLOOKUP(D478,'2021'!$A$11:$G$143,4,FALSE))","v":"Bregy Uli / Lisi & Pasci"},{"$f":"VLOOKUP(D478,'2021'!$A$11:$G$143,2,FALSE)","v":"Bora"},21,34,{"$f":"VLOOKUP(E478,'2021'!$A$11:$G$143,2,FALSE)","v":"Valaisanne"},{"$f":"IF(ISBLANK(E478),\"hie eu nix drischribu\",VLOOKUP(E478,'2021'!$A$11:$G$143,4,FALSE))","v":"Fux W., J., & Wyer Piet"}]
["2021-08-06",{"$f":"IF(ISBLANK(D479),\"Alain, nix drischribu\",VLOOKUP(D479,'2021'!$A$11:$G$143,4,FALSE))","v":"Fux W., J., & Wyer Piet"},{"$f":"VLOOKUP(D479,'2021'!$A$11:$G$143,2,FALSE)","v":"Valaisanne"},34,79,{"$f":"VLOOKUP(E479,'2021'!$A$11:$G$143,2,FALSE)","v":"Marla"},{"$f":"IF(ISBLANK(E479),\"hie eu nix drischribu\",VLOOKUP(E479,'2021'!$A$11:$G$143,4,FALSE))","v":"Stallung Passeraub"}]
["2021-08-06",{"$f":"IF(ISBLANK(D480),\"Alain, nix drischribu\",VLOOKUP(D480,'2021'!$A$11:$G$143,4,FALSE))","v":"Bregy Ralf & Adolf"},{"$f":"VLOOKUP(D480,'2021'!$A$11:$G$143,2,FALSE)","v":"Canabis"},14,102,{"$f":"VLOOKUP(E480,'2021'!$A$11:$G$143,2,FALSE)","v":"Rasta"},{"$f":"IF(ISBLANK(E480),\"hie eu nix drischribu\",VLOOKUP(E480,'2021'!$A$11:$G$143,4,FALSE))","v":"Wyssen Diego & Madlen"}]
["2021-08-05",{"$f":"IF(ISBLANK(D481),\"Alain, nix drischribu\",VLOOKUP(D481,'2021'!$A$11:$G$143,4,FALSE))","v":"Jäger Carlo & Lukas"},{"$f":"VLOOKUP(D481,'2021'!$A$11:$G$143,2,FALSE)","v":"Caline"},53,87,{"$f":"VLOOKUP(E481,'2021'!$A$11:$G$143,2,FALSE)","v":"Tiara"},{"$f":"IF(ISBLANK(E481),\"hie eu nix drischribu\",VLOOKUP(E481,'2021'!$A$11:$G$143,4,FALSE))","v":"Sewer R. & Thommen S."}]
["2021-08-05",{"$f":"IF(ISBLANK(D482),\"Alain, nix drischribu\",VLOOKUP(D482,'2021'!$A$11:$G$143,4,FALSE))","v":"Bayard Medard & Gustav"},{"$f":"VLOOKUP(D482,'2021'!$A$11:$G$143,2,FALSE)","v":"Fantastic"},2,111,{"$f":"VLOOKUP(E482,'2021'!$A$11:$G$143,2,FALSE)","v":"Palona"},{"$f":"IF(ISBLANK(E482),\"hie eu nix drischribu\",VLOOKUP(E482,'2021'!$A$11:$G$143,4,FALSE))","v":"Zumofen / Gattlen"}]
["2021-08-05",{"$f":"IF(ISBLANK(D483),\"Alain, nix drischribu\",VLOOKUP(D483,'2021'!$A$11:$G$143,4,FALSE))","v":"Hischier Pius"},{"$f":"VLOOKUP(D483,'2021'!$A$11:$G$143,2,FALSE)","v":"Gina-Lisa"},49,99,{"$f":"VLOOKUP(E483,'2021'!$A$11:$G$143,2,FALSE)","v":"Rijana"},{"$f":"IF(ISBLANK(E483),\"hie eu nix drischribu\",VLOOKUP(E483,'2021'!$A$11:$G$143,4,FALSE))","v":"Wyssen Diego & Madlen"}]
["2021-08-05",{"$f":"IF(ISBLANK(D484),\"Alain, nix drischribu\",VLOOKUP(D484,'2021'!$A$11:$G$143,4,FALSE))","v":"Williner Anton"},{"$f":"VLOOKUP(D484,'2021'!$A$11:$G$143,2,FALSE)","v":"Vanessa"},96,98,{"$f":"VLOOKUP(E484,'2021'!$A$11:$G$143,2,FALSE)","v":"Tira"},{"$f":"IF(ISBLANK(E484),\"hie eu nix drischribu\",VLOOKUP(E484,'2021'!$A$11:$G$143,4,FALSE))","v":"Williner Anton"}]
["2021-08-05",{"$f":"IF(ISBLANK(D485),\"Alain, nix drischribu\",VLOOKUP(D485,'2021'!$A$11:$G$143,4,FALSE))","v":"Zumofen / Gattlen"},{"$f":"VLOOKUP(D485,'2021'!$A$11:$G$143,2,FALSE)","v":"Maya"},114,9,{"$f":"VLOOKUP(E485,'2021'!$A$11:$G$143,2,FALSE)","v":"Coquette"},{"$f":"IF(ISBLANK(E485),\"hie eu nix drischribu\",VLOOKUP(E485,'2021'!$A$11:$G$143,4,FALSE))","v":"Bregy Ralf & Adolf"}]
["2021-08-05",{"$f":"IF(ISBLANK(D486),\"Alain, nix drischribu\",VLOOKUP(D486,'2021'!$A$11:$G$143,4,FALSE))","v":"Jäger Carlo & Lukas"},{"$f":"VLOOKUP(D486,'2021'!$A$11:$G$143,2,FALSE)","v":"Grolla"},61,17,{"$f":"VLOOKUP(E486,'2021'!$A$11:$G$143,2,FALSE)","v":"Simba"},{"$f":"IF(ISBLANK(E486),\"hie eu nix drischribu\",VLOOKUP(E486,'2021'!$A$11:$G$143,4,FALSE))","v":"Bregy Uli / Lisi & Pasci"}]
["2021-08-05",{"$f":"IF(ISBLANK(D487),\"Alain, nix drischribu\",VLOOKUP(D487,'2021'!$A$11:$G$143,4,FALSE))","v":"Zumofen / Gattlen"},{"$f":"VLOOKUP(D487,'2021'!$A$11:$G$143,2,FALSE)","v":"Vesuv"},118,38,{"$f":"VLOOKUP(E487,'2021'!$A$11:$G$143,2,FALSE)","v":"Bresil"},{"$f":"IF(ISBLANK(E487),\"hie eu nix drischribu\",VLOOKUP(E487,'2021'!$A$11:$G$143,4,FALSE))","v":"Fux W., J., & Wyer Piet"}]
["2021-08-05",{"$f":"IF(ISBLANK(D488),\"Alain, nix drischribu\",VLOOKUP(D488,'2021'!$A$11:$G$143,4,FALSE))","v":"Zumofen / Gattlen"},{"$f":"VLOOKUP(D488,'2021'!$A$11:$G$143,2,FALSE)","v":"Souris"},115,28,{"$f":"VLOOKUP(E488,'2021'!$A$11:$G$143,2,FALSE)","v":"Baron"},{"$f":"IF(ISBLANK(E488),\"hie eu nix drischribu\",VLOOKUP(E488,'2021'!$A$11:$G$143,4,FALSE))","v":"Fam. Leiggener"}]
["2021-08-04",{"$f":"IF(ISBLANK(D489),\"Alain, nix drischribu\",VLOOKUP(D489,'2021'!$A$11:$G$143,4,FALSE))","v":"Hutter Richard "},{"$f":"VLOOKUP(D489,'2021'!$A$11:$G$143,2,FALSE)","v":"Pablo"},76,79,{"$f":"VLOOKUP(E489,'2021'!$A$11:$G$143,2,FALSE)","v":"Marla"},{"$f":"IF(ISBLANK(E489),\"hie eu nix drischribu\",VLOOKUP(E489,'2021'!$A$11:$G$143,4,FALSE))","v":"Stallung Passeraub"}]
["2021-08-04",{"$f":"IF(ISBLANK(D490),\"Alain, nix drischribu\",VLOOKUP(D490,'2021'!$A$11:$G$143,4,FALSE))","v":"Bregy Uli / Lisi & Pasci"},{"$f":"VLOOKUP(D490,'2021'!$A$11:$G$143,2,FALSE)","v":"Simba"},17,99,{"$f":"VLOOKUP(E490,'2021'!$A$11:$G$143,2,FALSE)","v":"Rijana"},{"$f":"IF(ISBLANK(E490),\"hie eu nix drischribu\",VLOOKUP(E490,'2021'!$A$11:$G$143,4,FALSE))","v":"Wyssen Diego & Madlen"}]
["2021-08-04",{"$f":"IF(ISBLANK(D491),\"Alain, nix drischribu\",VLOOKUP(D491,'2021'!$A$11:$G$143,4,FALSE))","v":"Bregy Silvan & Patrik"},{"$f":"VLOOKUP(D491,'2021'!$A$11:$G$143,2,FALSE)","v":"Milow"},12,98,{"$f":"VLOOKUP(E491,'2021'!$A$11:$G$143,2,FALSE)","v":"Tira"},{"$f":"IF(ISBLANK(E491),\"hie eu nix drischribu\",VLOOKUP(E491,'2021'!$A$11:$G$143,4,FALSE))","v":"Williner Anton"}]
["2021-08-04",{"$f":"IF(ISBLANK(D492),\"Alain, nix drischribu\",VLOOKUP(D492,'2021'!$A$11:$G$143,4,FALSE))","v":"Stallung Passeraub"},{"$f":"VLOOKUP(D492,'2021'!$A$11:$G$143,2,FALSE)","v":"Marla"},79,76,{"$f":"VLOOKUP(E492,'2021'!$A$11:$G$143,2,FALSE)","v":"Pablo"},{"$f":"IF(ISBLANK(E492),\"hie eu nix drischribu\",VLOOKUP(E492,'2021'!$A$11:$G$143,4,FALSE))","v":"Hutter Richard "}]
["2021-08-04",{"$f":"IF(ISBLANK(D493),\"Alain, nix drischribu\",VLOOKUP(D493,'2021'!$A$11:$G$143,4,FALSE))","v":"Jäger Carlo & Lukas"},{"$f":"VLOOKUP(D493,'2021'!$A$11:$G$143,2,FALSE)","v":"Metis"},63,58,{"$f":"VLOOKUP(E493,'2021'!$A$11:$G$143,2,FALSE)","v":"Bataille"},{"$f":"IF(ISBLANK(E493),\"hie eu nix drischribu\",VLOOKUP(E493,'2021'!$A$11:$G$143,4,FALSE))","v":"Jäger Carlo & Lukas"}]
["2021-08-03",{"$f":"IF(ISBLANK(D494),\"Alain, nix drischribu\",VLOOKUP(D494,'2021'!$A$11:$G$143,4,FALSE))","v":"Zumofen / Gattlen"},{"$f":"VLOOKUP(D494,'2021'!$A$11:$G$143,2,FALSE)","v":"Fayola"},119,53,{"$f":"VLOOKUP(E494,'2021'!$A$11:$G$143,2,FALSE)","v":"Caline"},{"$f":"IF(ISBLANK(E494),\"hie eu nix drischribu\",VLOOKUP(E494,'2021'!$A$11:$G$143,4,FALSE))","v":"Jäger Carlo & Lukas"}]
["2021-08-03",{"$f":"IF(ISBLANK(D495),\"Alain, nix drischribu\",VLOOKUP(D495,'2021'!$A$11:$G$143,4,FALSE))","v":"Jäger Carlo & Lukas"},{"$f":"VLOOKUP(D495,'2021'!$A$11:$G$143,2,FALSE)","v":"Caline"},53,107,{"$f":"VLOOKUP(E495,'2021'!$A$11:$G$143,2,FALSE)","v":"Violin"},{"$f":"IF(ISBLANK(E495),\"hie eu nix drischribu\",VLOOKUP(E495,'2021'!$A$11:$G$143,4,FALSE))","v":"Zumofen / Gattlen"}]
["2021-08-03",{"$f":"IF(ISBLANK(D496),\"Alain, nix drischribu\",VLOOKUP(D496,'2021'!$A$11:$G$143,4,FALSE))","v":"Zumofen / Gattlen"},{"$f":"VLOOKUP(D496,'2021'!$A$11:$G$143,2,FALSE)","v":"Vanda"},113,83,{"$f":"VLOOKUP(E496,'2021'!$A$11:$G$143,2,FALSE)","v":"Cayenne"},{"$f":"IF(ISBLANK(E496),\"hie eu nix drischribu\",VLOOKUP(E496,'2021'!$A$11:$G$143,4,FALSE))","v":"Stallung zum Stäg"}]
["2021-08-03",{"$f":"IF(ISBLANK(D497),\"Alain, nix drischribu\",VLOOKUP(D497,'2021'!$A$11:$G$143,4,FALSE))","v":"Zumofen / Gattlen"},{"$f":"VLOOKUP(D497,'2021'!$A$11:$G$143,2,FALSE)","v":"Violin"},107,124,{"$f":"VLOOKUP(E497,'2021'!$A$11:$G$143,2,FALSE)","v":"Xara"},{"$f":"IF(ISBLANK(E497),\"hie eu nix drischribu\",VLOOKUP(E497,'2021'!$A$11:$G$143,4,FALSE))","v":"Zumofen / Gattlen"}]
["2021-08-03",{"$f":"IF(ISBLANK(D498),\"Alain, nix drischribu\",VLOOKUP(D498,'2021'!$A$11:$G$143,4,FALSE))","v":"Jäger Carlo & Lukas"},{"$f":"VLOOKUP(D498,'2021'!$A$11:$G$143,2,FALSE)","v":"Caline"},53,107,{"$f":"VLOOKUP(E498,'2021'!$A$11:$G$143,2,FALSE)","v":"Violin"},{"$f":"IF(ISBLANK(E498),\"hie eu nix drischribu\",VLOOKUP(E498,'2021'!$A$11:$G$143,4,FALSE))","v":"Zumofen / Gattlen"}]
["2021-08-03",{"$f":"IF(ISBLANK(D499),\"Alain, nix drischribu\",VLOOKUP(D499,'2021'!$A$11:$G$143,4,FALSE))","v":"Bregy Ralf & Adolf"},{"$f":"VLOOKUP(D499,'2021'!$A$11:$G$143,2,FALSE)","v":"Diabolo"},10,95,{"$f":"VLOOKUP(E499,'2021'!$A$11:$G$143,2,FALSE)","v":"Vivana"},{"$f":"IF(ISBLANK(E499),\"hie eu nix drischribu\",VLOOKUP(E499,'2021'!$A$11:$G$143,4,FALSE))","v":"Williner Anton"}]
["2021-08-03",{"$f":"IF(ISBLANK(D500),\"Alain, nix drischribu\",VLOOKUP(D500,'2021'!$A$11:$G$143,4,FALSE))","v":"Zumofen / Gattlen"},{"$f":"VLOOKUP(D500,'2021'!$A$11:$G$143,2,FALSE)","v":"Rambo"},120,46,{"$f":"VLOOKUP(E500,'2021'!$A$11:$G$143,2,FALSE)","v":"Lorens"},{"$f":"IF(ISBLANK(E500),\"hie eu nix drischribu\",VLOOKUP(E500,'2021'!$A$11:$G$143,4,FALSE))","v":"Gebrüder Jäger"}]
["2021-08-03",{"$f":"IF(ISBLANK(D501),\"Alain, nix drischribu\",VLOOKUP(D501,'2021'!$A$11:$G$143,4,FALSE))","v":"Jäger Carlo & Lukas"},{"$f":"VLOOKUP(D501,'2021'!$A$11:$G$143,2,FALSE)","v":"Caline"},53,4,{"$f":"VLOOKUP(E501,'2021'!$A$11:$G$143,2,FALSE)","v":"Vampir"},{"$f":"IF(ISBLANK(E501),\"hie eu nix drischribu\",VLOOKUP(E501,'2021'!$A$11:$G$143,4,FALSE))","v":"Bayard Medard & Gustav"}]
["2021-08-03",{"$f":"IF(ISBLANK(D502),\"Alain, nix drischribu\",VLOOKUP(D502,'2021'!$A$11:$G$143,4,FALSE))","v":"Fux W., J., & Wyer Piet"},{"$f":"VLOOKUP(D502,'2021'!$A$11:$G$143,2,FALSE)","v":"Mystic"},32,35,{"$f":"VLOOKUP(E502,'2021'!$A$11:$G$143,2,FALSE)","v":"Pampère"},{"$f":"IF(ISBLANK(E502),\"hie eu nix drischribu\",VLOOKUP(E502,'2021'!$A$11:$G$143,4,FALSE))","v":"Fux W., J., & Wyer Piet"}]
["2021-08-03",{"$f":"IF(ISBLANK(D503),\"Alain, nix drischribu\",VLOOKUP(D503,'2021'!$A$11:$G$143,4,FALSE))","v":"Stallung Passeraub"},{"$f":"VLOOKUP(D503,'2021'!$A$11:$G$143,2,FALSE)","v":"Marla"},79,115,{"$f":"VLOOKUP(E503,'2021'!$A$11:$G$143,2,FALSE)","v":"Souris"},{"$f":"IF(ISBLANK(E503),\"hie eu nix drischribu\",VLOOKUP(E503,'2021'!$A$11:$G$143,4,FALSE))","v":"Zumofen / Gattlen"}]
["2021-08-03",{"$f":"IF(ISBLANK(D504),\"Alain, nix drischribu\",VLOOKUP(D504,'2021'!$A$11:$G$143,4,FALSE))","v":"Zumofen / Gattlen"},{"$f":"VLOOKUP(D504,'2021'!$A$11:$G$143,2,FALSE)","v":"Souris"},115,8,{"$f":"VLOOKUP(E504,'2021'!$A$11:$G$143,2,FALSE)","v":"Creola"},{"$f":"IF(ISBLANK(E504),\"hie eu nix drischribu\",VLOOKUP(E504,'2021'!$A$11:$G$143,4,FALSE))","v":"Bregy Ralf & Adolf"}]
["2021-08-03",{"$f":"IF(ISBLANK(D505),\"Alain, nix drischribu\",VLOOKUP(D505,'2021'!$A$11:$G$143,4,FALSE))","v":"Hutter Richard "},{"$f":"VLOOKUP(D505,'2021'!$A$11:$G$143,2,FALSE)","v":"Pablo"},76,106,{"$f":"VLOOKUP(E505,'2021'!$A$11:$G$143,2,FALSE)","v":"Miss"},{"$f":"IF(ISBLANK(E505),\"hie eu nix drischribu\",VLOOKUP(E505,'2021'!$A$11:$G$143,4,FALSE))","v":"Zumoberhaus Pius"}]
["2021-08-02",{"$f":"IF(ISBLANK(D506),\"Alain, nix drischribu\",VLOOKUP(D506,'2021'!$A$11:$G$143,4,FALSE))","v":"Bregy Ralf & Adolf"},{"$f":"VLOOKUP(D506,'2021'!$A$11:$G$143,2,FALSE)","v":"Flacabre"},6,100,{"$f":"VLOOKUP(E506,'2021'!$A$11:$G$143,2,FALSE)","v":"Xantara"},{"$f":"IF(ISBLANK(E506),\"hie eu nix drischribu\",VLOOKUP(E506,'2021'!$A$11:$G$143,4,FALSE))","v":"Wyssen Diego & Madlen"}]
["2021-08-02",{"$f":"IF(ISBLANK(D507),\"Alain, nix drischribu\",VLOOKUP(D507,'2021'!$A$11:$G$143,4,FALSE))","v":"Stallung Passeraub"},{"$f":"VLOOKUP(D507,'2021'!$A$11:$G$143,2,FALSE)","v":"Menance"},75,57,{"$f":"VLOOKUP(E507,'2021'!$A$11:$G$143,2,FALSE)","v":"Prune"},{"$f":"IF(ISBLANK(E507),\"hie eu nix drischribu\",VLOOKUP(E507,'2021'!$A$11:$G$143,4,FALSE))","v":"Jäger Carlo & Lukas"}]
["2021-08-02",{"$f":"IF(ISBLANK(D508),\"Alain, nix drischribu\",VLOOKUP(D508,'2021'!$A$11:$G$143,4,FALSE))","v":"Bregy Uli / Lisi & Pasci"},{"$f":"VLOOKUP(D508,'2021'!$A$11:$G$143,2,FALSE)","v":"Xaphir"},22,65,{"$f":"VLOOKUP(E508,'2021'!$A$11:$G$143,2,FALSE)","v":"Pivoine"},{"$f":"IF(ISBLANK(E508),\"hie eu nix drischribu\",VLOOKUP(E508,'2021'!$A$11:$G$143,4,FALSE))","v":"Jäger Carlo & Lukas"}]
["2021-08-01",{"$f":"IF(ISBLANK(D509),\"Alain, nix drischribu\",VLOOKUP(D509,'2021'!$A$11:$G$143,4,FALSE))","v":"Zumofen / Gattlen"},{"$f":"VLOOKUP(D509,'2021'!$A$11:$G$143,2,FALSE)","v":"Rambo"},120,46,{"$f":"VLOOKUP(E509,'2021'!$A$11:$G$143,2,FALSE)","v":"Lorens"},{"$f":"IF(ISBLANK(E509),\"hie eu nix drischribu\",VLOOKUP(E509,'2021'!$A$11:$G$143,4,FALSE))","v":"Gebrüder Jäger"}]
["2021-08-01",{"$f":"IF(ISBLANK(D510),\"Alain, nix drischribu\",VLOOKUP(D510,'2021'!$A$11:$G$143,4,FALSE))","v":"Fux W., J., & Wyer Piet"},{"$f":"VLOOKUP(D510,'2021'!$A$11:$G$143,2,FALSE)","v":"Toscana"},37,114,{"$f":"VLOOKUP(E510,'2021'!$A$11:$G$143,2,FALSE)","v":"Maya"},{"$f":"IF(ISBLANK(E510),\"hie eu nix drischribu\",VLOOKUP(E510,'2021'!$A$11:$G$143,4,FALSE))","v":"Zumofen / Gattlen"}]
["2021-08-01",{"$f":"IF(ISBLANK(D511),\"Alain, nix drischribu\",VLOOKUP(D511,'2021'!$A$11:$G$143,4,FALSE))","v":"Jäger Carlo & Lukas"},{"$f":"VLOOKUP(D511,'2021'!$A$11:$G$143,2,FALSE)","v":"Caline"},53,42,{"$f":"VLOOKUP(E511,'2021'!$A$11:$G$143,2,FALSE)","v":"Simba"},{"$f":"IF(ISBLANK(E511),\"hie eu nix drischribu\",VLOOKUP(E511,'2021'!$A$11:$G$143,4,FALSE))","v":"Gebrüder Jäger"}]
["2021-07-31",{"$f":"IF(ISBLANK(D512),\"Alain, nix drischribu\",VLOOKUP(D512,'2021'!$A$11:$G$143,4,FALSE))","v":"Bregy Uli / Lisi & Pasci"},{"$f":"VLOOKUP(D512,'2021'!$A$11:$G$143,2,FALSE)","v":"Tiranie"},19,43,{"$f":"VLOOKUP(E512,'2021'!$A$11:$G$143,2,FALSE)","v":"Dorina"},{"$f":"IF(ISBLANK(E512),\"hie eu nix drischribu\",VLOOKUP(E512,'2021'!$A$11:$G$143,4,FALSE))","v":"Gebrüder Jäger"}]
["2021-07-31",{"$f":"IF(ISBLANK(D513),\"Alain, nix drischribu\",VLOOKUP(D513,'2021'!$A$11:$G$143,4,FALSE))","v":"Fux W., J., & Wyer Piet"},{"$f":"VLOOKUP(D513,'2021'!$A$11:$G$143,2,FALSE)","v":"Bastis"},31,52,{"$f":"VLOOKUP(E513,'2021'!$A$11:$G$143,2,FALSE)","v":"Pablo"},{"$f":"IF(ISBLANK(E513),\"hie eu nix drischribu\",VLOOKUP(E513,'2021'!$A$11:$G$143,4,FALSE))","v":"Hischier Pius"}]
["2021-07-31",{"$f":"IF(ISBLANK(D514),\"Alain, nix drischribu\",VLOOKUP(D514,'2021'!$A$11:$G$143,4,FALSE))","v":"Zumofen / Gattlen"},{"$f":"VLOOKUP(D514,'2021'!$A$11:$G$143,2,FALSE)","v":"Fayola"},119,46,{"$f":"VLOOKUP(E514,'2021'!$A$11:$G$143,2,FALSE)","v":"Lorens"},{"$f":"IF(ISBLANK(E514),\"hie eu nix drischribu\",VLOOKUP(E514,'2021'!$A$11:$G$143,4,FALSE))","v":"Gebrüder Jäger"}]
["2021-07-31",{"$f":"IF(ISBLANK(D515),\"Alain, nix drischribu\",VLOOKUP(D515,'2021'!$A$11:$G$143,4,FALSE))","v":"Zumofen / Gattlen"},{"$f":"VLOOKUP(D515,'2021'!$A$11:$G$143,2,FALSE)","v":"Rambo"},120,46,{"$f":"VLOOKUP(E515,'2021'!$A$11:$G$143,2,FALSE)","v":"Lorens"},{"$f":"IF(ISBLANK(E515),\"hie eu nix drischribu\",VLOOKUP(E515,'2021'!$A$11:$G$143,4,FALSE))","v":"Gebrüder Jäger"}]
["2021-07-31",{"$f":"IF(ISBLANK(D516),\"Alain, nix drischribu\",VLOOKUP(D516,'2021'!$A$11:$G$143,4,FALSE))","v":"Bregy Ralf & Adolf"},{"$f":"VLOOKUP(D516,'2021'!$A$11:$G$143,2,FALSE)","v":"Diabolo"},10,46,{"$f":"VLOOKUP(E516,'2021'!$A$11:$G$143,2,FALSE)","v":"Lorens"},{"$f":"IF(ISBLANK(E516),\"hie eu nix drischribu\",VLOOKUP(E516,'2021'!$A$11:$G$143,4,FALSE))","v":"Gebrüder Jäger"}]
["2021-07-31",{"$f":"IF(ISBLANK(D517),\"Alain, nix drischribu\",VLOOKUP(D517,'2021'!$A$11:$G$143,4,FALSE))","v":"Fux W., J., & Wyer Piet"},{"$f":"VLOOKUP(D517,'2021'!$A$11:$G$143,2,FALSE)","v":"Bastis"},31,23,{"$f":"VLOOKUP(E517,'2021'!$A$11:$G$143,2,FALSE)","v":"Corona"},{"$f":"IF(ISBLANK(E517),\"hie eu nix drischribu\",VLOOKUP(E517,'2021'!$A$11:$G$143,4,FALSE))","v":"Bregy Uli / Lisi & Pasci"}]
["2021-07-31",{"$f":"IF(ISBLANK(D518),\"Alain, nix drischribu\",VLOOKUP(D518,'2021'!$A$11:$G$143,4,FALSE))","v":"Hutter Richard "},{"$f":"VLOOKUP(D518,'2021'!$A$11:$G$143,2,FALSE)","v":"Pablo"},76,99,{"$f":"VLOOKUP(E518,'2021'!$A$11:$G$143,2,FALSE)","v":"Rijana"},{"$f":"IF(ISBLANK(E518),\"hie eu nix drischribu\",VLOOKUP(E518,'2021'!$A$11:$G$143,4,FALSE))","v":"Wyssen Diego & Madlen"}]
["2021-07-31",{"$f":"IF(ISBLANK(D519),\"Alain, nix drischribu\",VLOOKUP(D519,'2021'!$A$11:$G$143,4,FALSE))","v":"Zumofen / Gattlen"},{"$f":"VLOOKUP(D519,'2021'!$A$11:$G$143,2,FALSE)","v":"Violette"},108,14,{"$f":"VLOOKUP(E519,'2021'!$A$11:$G$143,2,FALSE)","v":"Canabis"},{"$f":"IF(ISBLANK(E519),\"hie eu nix drischribu\",VLOOKUP(E519,'2021'!$A$11:$G$143,4,FALSE))","v":"Bregy Ralf & Adolf"}]
["2021-07-31",{"$f":"IF(ISBLANK(D520),\"Alain, nix drischribu\",VLOOKUP(D520,'2021'!$A$11:$G$143,4,FALSE))","v":"Bregy Silvan & Patrik"},{"$f":"VLOOKUP(D520,'2021'!$A$11:$G$143,2,FALSE)","v":"Milow"},12,46,{"$f":"VLOOKUP(E520,'2021'!$A$11:$G$143,2,FALSE)","v":"Lorens"},{"$f":"IF(ISBLANK(E520),\"hie eu nix drischribu\",VLOOKUP(E520,'2021'!$A$11:$G$143,4,FALSE))","v":"Gebrüder Jäger"}]
["2021-07-31",{"$f":"IF(ISBLANK(D521),\"Alain, nix drischribu\",VLOOKUP(D521,'2021'!$A$11:$G$143,4,FALSE))","v":"Zumofen / Gattlen"},{"$f":"VLOOKUP(D521,'2021'!$A$11:$G$143,2,FALSE)","v":"Fayola"},119,46,{"$f":"VLOOKUP(E521,'2021'!$A$11:$G$143,2,FALSE)","v":"Lorens"},{"$f":"IF(ISBLANK(E521),\"hie eu nix drischribu\",VLOOKUP(E521,'2021'!$A$11:$G$143,4,FALSE))","v":"Gebrüder Jäger"}]
["2021-07-31",{"$f":"IF(ISBLANK(D522),\"Alain, nix drischribu\",VLOOKUP(D522,'2021'!$A$11:$G$143,4,FALSE))","v":"Bregy Uli / Lisi & Pasci"},{"$f":"VLOOKUP(D522,'2021'!$A$11:$G$143,2,FALSE)","v":"Tiranie"},19,56,{"$f":"VLOOKUP(E522,'2021'!$A$11:$G$143,2,FALSE)","v":"Mygale"},{"$f":"IF(ISBLANK(E522),\"hie eu nix drischribu\",VLOOKUP(E522,'2021'!$A$11:$G$143,4,FALSE))","v":"Jäger Carlo & Lukas"}]
["2021-07-31",{"$f":"IF(ISBLANK(D523),\"Alain, nix drischribu\",VLOOKUP(D523,'2021'!$A$11:$G$143,4,FALSE))","v":"Zumofen / Gattlen"},{"$f":"VLOOKUP(D523,'2021'!$A$11:$G$143,2,FALSE)","v":"Raja"},121,68,{"$f":"VLOOKUP(E523,'2021'!$A$11:$G$143,2,FALSE)","v":"Baghira"},{"$f":"IF(ISBLANK(E523),\"hie eu nix drischribu\",VLOOKUP(E523,'2021'!$A$11:$G$143,4,FALSE))","v":"Mathieu Leander & Sascha"}]
["2021-07-31",{"$f":"IF(ISBLANK(D524),\"Alain, nix drischribu\",VLOOKUP(D524,'2021'!$A$11:$G$143,4,FALSE))","v":"Gebrüder Jäger"},{"$f":"VLOOKUP(D524,'2021'!$A$11:$G$143,2,FALSE)","v":"Dorina"},43,114,{"$f":"VLOOKUP(E524,'2021'!$A$11:$G$143,2,FALSE)","v":"Maya"},{"$f":"IF(ISBLANK(E524),\"hie eu nix drischribu\",VLOOKUP(E524,'2021'!$A$11:$G$143,4,FALSE))","v":"Zumofen / Gattlen"}]
["2021-07-31",{"$f":"IF(ISBLANK(D525),\"Alain, nix drischribu\",VLOOKUP(D525,'2021'!$A$11:$G$143,4,FALSE))","v":"Jäger Carlo & Lukas"},{"$f":"VLOOKUP(D525,'2021'!$A$11:$G$143,2,FALSE)","v":"Tokio"},67,6,{"$f":"VLOOKUP(E525,'2021'!$A$11:$G$143,2,FALSE)","v":"Flacabre"},{"$f":"IF(ISBLANK(E525),\"hie eu nix drischribu\",VLOOKUP(E525,'2021'!$A$11:$G$143,4,FALSE))","v":"Bregy Ralf & Adolf"}]
["2021-07-31",{"$f":"IF(ISBLANK(D526),\"Alain, nix drischribu\",VLOOKUP(D526,'2021'!$A$11:$G$143,4,FALSE))","v":"Jäger Carlo & Lukas"},{"$f":"VLOOKUP(D526,'2021'!$A$11:$G$143,2,FALSE)","v":"Caline"},53,83,{"$f":"VLOOKUP(E526,'2021'!$A$11:$G$143,2,FALSE)","v":"Cayenne"},{"$f":"IF(ISBLANK(E526),\"hie eu nix drischribu\",VLOOKUP(E526,'2021'!$A$11:$G$143,4,FALSE))","v":"Stallung zum Stäg"}]
["2021-07-31",{"$f":"IF(ISBLANK(D527),\"Alain, nix drischribu\",VLOOKUP(D527,'2021'!$A$11:$G$143,4,FALSE))","v":"Stallung Passeraub"},{"$f":"VLOOKUP(D527,'2021'!$A$11:$G$143,2,FALSE)","v":"Ballerine"},78,120,{"$f":"VLOOKUP(E527,'2021'!$A$11:$G$143,2,FALSE)","v":"Rambo"},{"$f":"IF(ISBLANK(E527),\"hie eu nix drischribu\",VLOOKUP(E527,'2021'!$A$11:$G$143,4,FALSE))","v":"Zumofen / Gattlen"}]
["2021-07-31",{"$f":"IF(ISBLANK(D528),\"Alain, nix drischribu\",VLOOKUP(D528,'2021'!$A$11:$G$143,4,FALSE))","v":"Zumofen / Gattlen"},{"$f":"VLOOKUP(D528,'2021'!$A$11:$G$143,2,FALSE)","v":"Rambo"},120,78,{"$f":"VLOOKUP(E528,'2021'!$A$11:$G$143,2,FALSE)","v":"Ballerine"},{"$f":"IF(ISBLANK(E528),\"hie eu nix drischribu\",VLOOKUP(E528,'2021'!$A$11:$G$143,4,FALSE))","v":"Stallung Passeraub"}]
["2021-07-31",{"$f":"IF(ISBLANK(D529),\"Alain, nix drischribu\",VLOOKUP(D529,'2021'!$A$11:$G$143,4,FALSE))","v":"Tscherry Erwin & Bernhard"},{"$f":"VLOOKUP(D529,'2021'!$A$11:$G$143,2,FALSE)","v":"Carolin"},91,93,{"$f":"VLOOKUP(E529,'2021'!$A$11:$G$143,2,FALSE)","v":"Tonic"},{"$f":"IF(ISBLANK(E529),\"hie eu nix drischribu\",VLOOKUP(E529,'2021'!$A$11:$G$143,4,FALSE))","v":"Williner Anton"}]
["2021-07-31",{"$f":"IF(ISBLANK(D530),\"Alain, nix drischribu\",VLOOKUP(D530,'2021'!$A$11:$G$143,4,FALSE))","v":"Bayard Medard & Gustav"},{"$f":"VLOOKUP(D530,'2021'!$A$11:$G$143,2,FALSE)","v":"Vampir"},4,54,{"$f":"VLOOKUP(E530,'2021'!$A$11:$G$143,2,FALSE)","v":"Flora"},{"$f":"IF(ISBLANK(E530),\"hie eu nix drischribu\",VLOOKUP(E530,'2021'!$A$11:$G$143,4,FALSE))","v":"Jäger Carlo & Lukas"}]
["2021-07-31",{"$f":"IF(ISBLANK(D531),\"Alain, nix drischribu\",VLOOKUP(D531,'2021'!$A$11:$G$143,4,FALSE))","v":"Jäger Carlo & Lukas"},{"$f":"VLOOKUP(D531,'2021'!$A$11:$G$143,2,FALSE)","v":"Grolla"},61,39,{"$f":"VLOOKUP(E531,'2021'!$A$11:$G$143,2,FALSE)","v":"Bacardi"},{"$f":"IF(ISBLANK(E531),\"hie eu nix drischribu\",VLOOKUP(E531,'2021'!$A$11:$G$143,4,FALSE))","v":"Fux W., J., & Wyer Piet"}]
["2021-07-30",{"$f":"IF(ISBLANK(D532),\"Alain, nix drischribu\",VLOOKUP(D532,'2021'!$A$11:$G$143,4,FALSE))","v":"Zumofen / Gattlen"},{"$f":"VLOOKUP(D532,'2021'!$A$11:$G$143,2,FALSE)","v":"Pinoccio"},116,54,{"$f":"VLOOKUP(E532,'2021'!$A$11:$G$143,2,FALSE)","v":"Flora"},{"$f":"IF(ISBLANK(E532),\"hie eu nix drischribu\",VLOOKUP(E532,'2021'!$A$11:$G$143,4,FALSE))","v":"Jäger Carlo & Lukas"}]
["2021-07-30",{"$f":"IF(ISBLANK(D533),\"Alain, nix drischribu\",VLOOKUP(D533,'2021'!$A$11:$G$143,4,FALSE))","v":"Zumofen / Gattlen"},{"$f":"VLOOKUP(D533,'2021'!$A$11:$G$143,2,FALSE)","v":"Maya"},114,99,{"$f":"VLOOKUP(E533,'2021'!$A$11:$G$143,2,FALSE)","v":"Rijana"},{"$f":"IF(ISBLANK(E533),\"hie eu nix drischribu\",VLOOKUP(E533,'2021'!$A$11:$G$143,4,FALSE))","v":"Wyssen Diego & Madlen"}]
["2021-07-30",{"$f":"IF(ISBLANK(D534),\"Alain, nix drischribu\",VLOOKUP(D534,'2021'!$A$11:$G$143,4,FALSE))","v":"Zumofen / Gattlen"},{"$f":"VLOOKUP(D534,'2021'!$A$11:$G$143,2,FALSE)","v":"Fayola"},119,15,{"$f":"VLOOKUP(E534,'2021'!$A$11:$G$143,2,FALSE)","v":"Cashida"},{"$f":"IF(ISBLANK(E534),\"hie eu nix drischribu\",VLOOKUP(E534,'2021'!$A$11:$G$143,4,FALSE))","v":"Bregy Ralf & Adolf"}]
["2021-07-30",{"$f":"IF(ISBLANK(D535),\"Alain, nix drischribu\",VLOOKUP(D535,'2021'!$A$11:$G$143,4,FALSE))","v":"Wyssen Diego & Madlen"},{"$f":"VLOOKUP(D535,'2021'!$A$11:$G$143,2,FALSE)","v":"Xhyla"},104,57,{"$f":"VLOOKUP(E535,'2021'!$A$11:$G$143,2,FALSE)","v":"Prune"},{"$f":"IF(ISBLANK(E535),\"hie eu nix drischribu\",VLOOKUP(E535,'2021'!$A$11:$G$143,4,FALSE))","v":"Jäger Carlo & Lukas"}]
["2021-07-30",{"$f":"IF(ISBLANK(D536),\"Alain, nix drischribu\",VLOOKUP(D536,'2021'!$A$11:$G$143,4,FALSE))","v":"Fux W., J., & Wyer Piet"},{"$f":"VLOOKUP(D536,'2021'!$A$11:$G$143,2,FALSE)","v":"Bastis"},31,2,{"$f":"VLOOKUP(E536,'2021'!$A$11:$G$143,2,FALSE)","v":"Fantastic"},{"$f":"IF(ISBLANK(E536),\"hie eu nix drischribu\",VLOOKUP(E536,'2021'!$A$11:$G$143,4,FALSE))","v":"Bayard Medard & Gustav"}]
["2021-07-30",{"$f":"IF(ISBLANK(D537),\"Alain, nix drischribu\",VLOOKUP(D537,'2021'!$A$11:$G$143,4,FALSE))","v":"Fux W., J., & Wyer Piet"},{"$f":"VLOOKUP(D537,'2021'!$A$11:$G$143,2,FALSE)","v":"Bolero"},29,113,{"$f":"VLOOKUP(E537,'2021'!$A$11:$G$143,2,FALSE)","v":"Vanda"},{"$f":"IF(ISBLANK(E537),\"hie eu nix drischribu\",VLOOKUP(E537,'2021'!$A$11:$G$143,4,FALSE))","v":"Zumofen / Gattlen"}]
["2021-07-30",{"$f":"IF(ISBLANK(D538),\"Alain, nix drischribu\",VLOOKUP(D538,'2021'!$A$11:$G$143,4,FALSE))","v":"Bregy Uli / Lisi & Pasci"},{"$f":"VLOOKUP(D538,'2021'!$A$11:$G$143,2,FALSE)","v":"Souki"},18,118,{"$f":"VLOOKUP(E538,'2021'!$A$11:$G$143,2,FALSE)","v":"Vesuv"},{"$f":"IF(ISBLANK(E538),\"hie eu nix drischribu\",VLOOKUP(E538,'2021'!$A$11:$G$143,4,FALSE))","v":"Zumofen / Gattlen"}]
["2021-07-30",{"$f":"IF(ISBLANK(D539),\"Alain, nix drischribu\",VLOOKUP(D539,'2021'!$A$11:$G$143,4,FALSE))","v":"Bayard Medard & Gustav"},{"$f":"VLOOKUP(D539,'2021'!$A$11:$G$143,2,FALSE)","v":"Fantastic"},2,111,{"$f":"VLOOKUP(E539,'2021'!$A$11:$G$143,2,FALSE)","v":"Palona"},{"$f":"IF(ISBLANK(E539),\"hie eu nix drischribu\",VLOOKUP(E539,'2021'!$A$11:$G$143,4,FALSE))","v":"Zumofen / Gattlen"}]
["2021-07-30",{"$f":"IF(ISBLANK(D540),\"Alain, nix drischribu\",VLOOKUP(D540,'2021'!$A$11:$G$143,4,FALSE))","v":"Zumofen / Gattlen"},{"$f":"VLOOKUP(D540,'2021'!$A$11:$G$143,2,FALSE)","v":"Fayola"},119,18,{"$f":"VLOOKUP(E540,'2021'!$A$11:$G$143,2,FALSE)","v":"Souki"},{"$f":"IF(ISBLANK(E540),\"hie eu nix drischribu\",VLOOKUP(E540,'2021'!$A$11:$G$143,4,FALSE))","v":"Bregy Uli / Lisi & Pasci"}]
["2021-07-30",{"$f":"IF(ISBLANK(D541),\"Alain, nix drischribu\",VLOOKUP(D541,'2021'!$A$11:$G$143,4,FALSE))","v":"Zumofen / Gattlen"},{"$f":"VLOOKUP(D541,'2021'!$A$11:$G$143,2,FALSE)","v":"Vanda"},113,53,{"$f":"VLOOKUP(E541,'2021'!$A$11:$G$143,2,FALSE)","v":"Caline"},{"$f":"IF(ISBLANK(E541),\"hie eu nix drischribu\",VLOOKUP(E541,'2021'!$A$11:$G$143,4,FALSE))","v":"Jäger Carlo & Lukas"}]
["2021-07-30",{"$f":"IF(ISBLANK(D542),\"Alain, nix drischribu\",VLOOKUP(D542,'2021'!$A$11:$G$143,4,FALSE))","v":"Wyssen Diego & Madlen"},{"$f":"VLOOKUP(D542,'2021'!$A$11:$G$143,2,FALSE)","v":"Rijana"},99,92,{"$f":"VLOOKUP(E542,'2021'!$A$11:$G$143,2,FALSE)","v":"Tomba"},{"$f":"IF(ISBLANK(E542),\"hie eu nix drischribu\",VLOOKUP(E542,'2021'!$A$11:$G$143,4,FALSE))","v":"Tscherry Erwin & Bernhard"}]
["2021-07-30",{"$f":"IF(ISBLANK(D543),\"Alain, nix drischribu\",VLOOKUP(D543,'2021'!$A$11:$G$143,4,FALSE))","v":"Williner Anton"},{"$f":"VLOOKUP(D543,'2021'!$A$11:$G$143,2,FALSE)","v":"Vanessa"},96,60,{"$f":"VLOOKUP(E543,'2021'!$A$11:$G$143,2,FALSE)","v":"Bayonne"},{"$f":"IF(ISBLANK(E543),\"hie eu nix drischribu\",VLOOKUP(E543,'2021'!$A$11:$G$143,4,FALSE))","v":"Jäger Carlo & Lukas"}]
["2021-07-30",{"$f":"IF(ISBLANK(D544),\"Alain, nix drischribu\",VLOOKUP(D544,'2021'!$A$11:$G$143,4,FALSE))","v":"Jäger Carlo & Lukas"},{"$f":"VLOOKUP(D544,'2021'!$A$11:$G$143,2,FALSE)","v":"Sera"},64,18,{"$f":"VLOOKUP(E544,'2021'!$A$11:$G$143,2,FALSE)","v":"Souki"},{"$f":"IF(ISBLANK(E544),\"hie eu nix drischribu\",VLOOKUP(E544,'2021'!$A$11:$G$143,4,FALSE))","v":"Bregy Uli / Lisi & Pasci"}]
["2021-07-30",{"$f":"IF(ISBLANK(D545),\"Alain, nix drischribu\",VLOOKUP(D545,'2021'!$A$11:$G$143,4,FALSE))","v":"Bregy Ralf & Adolf"},{"$f":"VLOOKUP(D545,'2021'!$A$11:$G$143,2,FALSE)","v":"Flacabre"},6,96,{"$f":"VLOOKUP(E545,'2021'!$A$11:$G$143,2,FALSE)","v":"Vanessa"},{"$f":"IF(ISBLANK(E545),\"hie eu nix drischribu\",VLOOKUP(E545,'2021'!$A$11:$G$143,4,FALSE))","v":"Williner Anton"}]
["2021-07-30",{"$f":"IF(ISBLANK(D546),\"Alain, nix drischribu\",VLOOKUP(D546,'2021'!$A$11:$G$143,4,FALSE))","v":"Gebrüder Jäger"},{"$f":"VLOOKUP(D546,'2021'!$A$11:$G$143,2,FALSE)","v":"Dorina"},43,15,{"$f":"VLOOKUP(E546,'2021'!$A$11:$G$143,2,FALSE)","v":"Cashida"},{"$f":"IF(ISBLANK(E546),\"hie eu nix drischribu\",VLOOKUP(E546,'2021'!$A$11:$G$143,4,FALSE))","v":"Bregy Ralf & Adolf"}]
["2021-07-30",{"$f":"IF(ISBLANK(D547),\"Alain, nix drischribu\",VLOOKUP(D547,'2021'!$A$11:$G$143,4,FALSE))","v":"Zumofen / Gattlen"},{"$f":"VLOOKUP(D547,'2021'!$A$11:$G$143,2,FALSE)","v":"Fayola"},119,46,{"$f":"VLOOKUP(E547,'2021'!$A$11:$G$143,2,FALSE)","v":"Lorens"},{"$f":"IF(ISBLANK(E547),\"hie eu nix drischribu\",VLOOKUP(E547,'2021'!$A$11:$G$143,4,FALSE))","v":"Gebrüder Jäger"}]
["2021-07-30",{"$f":"IF(ISBLANK(D548),\"Alain, nix drischribu\",VLOOKUP(D548,'2021'!$A$11:$G$143,4,FALSE))","v":"Gebrüder Jäger"},{"$f":"VLOOKUP(D548,'2021'!$A$11:$G$143,2,FALSE)","v":"Simba"},42,121,{"$f":"VLOOKUP(E548,'2021'!$A$11:$G$143,2,FALSE)","v":"Raja"},{"$f":"IF(ISBLANK(E548),\"hie eu nix drischribu\",VLOOKUP(E548,'2021'!$A$11:$G$143,4,FALSE))","v":"Zumofen / Gattlen"}]
["2021-07-30",{"$f":"IF(ISBLANK(D549),\"Alain, nix drischribu\",VLOOKUP(D549,'2021'!$A$11:$G$143,4,FALSE))","v":"Gebrüder Jäger"},{"$f":"VLOOKUP(D549,'2021'!$A$11:$G$143,2,FALSE)","v":"Tiara"},44,31,{"$f":"VLOOKUP(E549,'2021'!$A$11:$G$143,2,FALSE)","v":"Bastis"},{"$f":"IF(ISBLANK(E549),\"hie eu nix drischribu\",VLOOKUP(E549,'2021'!$A$11:$G$143,4,FALSE))","v":"Fux W., J., & Wyer Piet"}]
["2021-07-30",{"$f":"IF(ISBLANK(D550),\"Alain, nix drischribu\",VLOOKUP(D550,'2021'!$A$11:$G$143,4,FALSE))","v":"Stallung zum Stäg"},{"$f":"VLOOKUP(D550,'2021'!$A$11:$G$143,2,FALSE)","v":"Cayenne"},83,122,{"$f":"VLOOKUP(E550,'2021'!$A$11:$G$143,2,FALSE)","v":"Xana"},{"$f":"IF(ISBLANK(E550),\"hie eu nix drischribu\",VLOOKUP(E550,'2021'!$A$11:$G$143,4,FALSE))","v":"Zumofen / Gattlen"}]
["2021-07-30",{"$f":"IF(ISBLANK(D551),\"Alain, nix drischribu\",VLOOKUP(D551,'2021'!$A$11:$G$143,4,FALSE))","v":"Zumoberhaus Pius"},{"$f":"VLOOKUP(D551,'2021'!$A$11:$G$143,2,FALSE)","v":"Corona"},105,99,{"$f":"VLOOKUP(E551,'2021'!$A$11:$G$143,2,FALSE)","v":"Rijana"},{"$f":"IF(ISBLANK(E551),\"hie eu nix drischribu\",VLOOKUP(E551,'2021'!$A$11:$G$143,4,FALSE))","v":"Wyssen Diego & Madlen"}]
["2021-07-30",{"$f":"IF(ISBLANK(D552),\"Alain, nix drischribu\",VLOOKUP(D552,'2021'!$A$11:$G$143,4,FALSE))","v":"Bregy Uli / Lisi & Pasci"},{"$f":"VLOOKUP(D552,'2021'!$A$11:$G$143,2,FALSE)","v":"Souki"},18,26,{"$f":"VLOOKUP(E552,'2021'!$A$11:$G$143,2,FALSE)","v":"Cataleya"},{"$f":"IF(ISBLANK(E552),\"hie eu nix drischribu\",VLOOKUP(E552,'2021'!$A$11:$G$143,4,FALSE))","v":"Bregy Uli / Lisi & Pasci"}]
["2021-07-30",{"$f":"IF(ISBLANK(D553),\"Alain, nix drischribu\",VLOOKUP(D553,'2021'!$A$11:$G$143,4,FALSE))","v":"Gebrüder Jäger"},{"$f":"VLOOKUP(D553,'2021'!$A$11:$G$143,2,FALSE)","v":"Simba"},42,96,{"$f":"VLOOKUP(E553,'2021'!$A$11:$G$143,2,FALSE)","v":"Vanessa"},{"$f":"IF(ISBLANK(E553),\"hie eu nix drischribu\",VLOOKUP(E553,'2021'!$A$11:$G$143,4,FALSE))","v":"Williner Anton"}]
["2021-07-29",{"$f":"IF(ISBLANK(D554),\"Alain, nix drischribu\",VLOOKUP(D554,'2021'!$A$11:$G$143,4,FALSE))","v":"Stallung Passeraub"},{"$f":"VLOOKUP(D554,'2021'!$A$11:$G$143,2,FALSE)","v":"Ballerine"},78,28,{"$f":"VLOOKUP(E554,'2021'!$A$11:$G$143,2,FALSE)","v":"Baron"},{"$f":"IF(ISBLANK(E554),\"hie eu nix drischribu\",VLOOKUP(E554,'2021'!$A$11:$G$143,4,FALSE))","v":"Fam. Leiggener"}]
["2021-07-29",{"$f":"IF(ISBLANK(D555),\"Alain, nix drischribu\",VLOOKUP(D555,'2021'!$A$11:$G$143,4,FALSE))","v":"Stallung Passeraub"},{"$f":"VLOOKUP(D555,'2021'!$A$11:$G$143,2,FALSE)","v":"Bonita"},80,37,{"$f":"VLOOKUP(E555,'2021'!$A$11:$G$143,2,FALSE)","v":"Toscana"},{"$f":"IF(ISBLANK(E555),\"hie eu nix drischribu\",VLOOKUP(E555,'2021'!$A$11:$G$143,4,FALSE))","v":"Fux W., J., & Wyer Piet"}]
["2021-07-29",{"$f":"IF(ISBLANK(D556),\"Alain, nix drischribu\",VLOOKUP(D556,'2021'!$A$11:$G$143,4,FALSE))","v":"Jäger Carlo & Lukas"},{"$f":"VLOOKUP(D556,'2021'!$A$11:$G$143,2,FALSE)","v":"Sera"},64,37,{"$f":"VLOOKUP(E556,'2021'!$A$11:$G$143,2,FALSE)","v":"Toscana"},{"$f":"IF(ISBLANK(E556),\"hie eu nix drischribu\",VLOOKUP(E556,'2021'!$A$11:$G$143,4,FALSE))","v":"Fux W., J., & Wyer Piet"}]
["2021-07-29",{"$f":"IF(ISBLANK(D557),\"Alain, nix drischribu\",VLOOKUP(D557,'2021'!$A$11:$G$143,4,FALSE))","v":"Bregy Ralf & Adolf"},{"$f":"VLOOKUP(D557,'2021'!$A$11:$G$143,2,FALSE)","v":"Flacabre"},6,21,{"$f":"VLOOKUP(E557,'2021'!$A$11:$G$143,2,FALSE)","v":"Bora"},{"$f":"IF(ISBLANK(E557),\"hie eu nix drischribu\",VLOOKUP(E557,'2021'!$A$11:$G$143,4,FALSE))","v":"Bregy Uli / Lisi & Pasci"}]
["2021-07-29",{"$f":"IF(ISBLANK(D558),\"Alain, nix drischribu\",VLOOKUP(D558,'2021'!$A$11:$G$143,4,FALSE))","v":"Zumofen / Gattlen"},{"$f":"VLOOKUP(D558,'2021'!$A$11:$G$143,2,FALSE)","v":"Violette"},108,16,{"$f":"VLOOKUP(E558,'2021'!$A$11:$G$143,2,FALSE)","v":"Murphy"},{"$f":"IF(ISBLANK(E558),\"hie eu nix drischribu\",VLOOKUP(E558,'2021'!$A$11:$G$143,4,FALSE))","v":"Bregy Uli / Lisi & Pasci"}]
["2021-07-29",{"$f":"IF(ISBLANK(D559),\"Alain, nix drischribu\",VLOOKUP(D559,'2021'!$A$11:$G$143,4,FALSE))","v":"Fux W., J., & Wyer Piet"},{"$f":"VLOOKUP(D559,'2021'!$A$11:$G$143,2,FALSE)","v":"Toscana"},37,6,{"$f":"VLOOKUP(E559,'2021'!$A$11:$G$143,2,FALSE)","v":"Flacabre"},{"$f":"IF(ISBLANK(E559),\"hie eu nix drischribu\",VLOOKUP(E559,'2021'!$A$11:$G$143,4,FALSE))","v":"Bregy Ralf & Adolf"}]
["2021-07-29",{"$f":"IF(ISBLANK(D560),\"Alain, nix drischribu\",VLOOKUP(D560,'2021'!$A$11:$G$143,4,FALSE))","v":"Stallung Passeraub"},{"$f":"VLOOKUP(D560,'2021'!$A$11:$G$143,2,FALSE)","v":"Bobino"},82,37,{"$f":"VLOOKUP(E560,'2021'!$A$11:$G$143,2,FALSE)","v":"Toscana"},{"$f":"IF(ISBLANK(E560),\"hie eu nix drischribu\",VLOOKUP(E560,'2021'!$A$11:$G$143,4,FALSE))","v":"Fux W., J., & Wyer Piet"}]
["2021-07-29",{"$f":"IF(ISBLANK(D561),\"Alain, nix drischribu\",VLOOKUP(D561,'2021'!$A$11:$G$143,4,FALSE))","v":"Zumofen / Gattlen"},{"$f":"VLOOKUP(D561,'2021'!$A$11:$G$143,2,FALSE)","v":"Souris"},115,93,{"$f":"VLOOKUP(E561,'2021'!$A$11:$G$143,2,FALSE)","v":"Tonic"},{"$f":"IF(ISBLANK(E561),\"hie eu nix drischribu\",VLOOKUP(E561,'2021'!$A$11:$G$143,4,FALSE))","v":"Williner Anton"}]
["2021-07-29",{"$f":"IF(ISBLANK(D562),\"Alain, nix drischribu\",VLOOKUP(D562,'2021'!$A$11:$G$143,4,FALSE))","v":"Tscherry Erwin & Bernhard"},{"$f":"VLOOKUP(D562,'2021'!$A$11:$G$143,2,FALSE)","v":"Carolin"},91,60,{"$f":"VLOOKUP(E562,'2021'!$A$11:$G$143,2,FALSE)","v":"Bayonne"},{"$f":"IF(ISBLANK(E562),\"hie eu nix drischribu\",VLOOKUP(E562,'2021'!$A$11:$G$143,4,FALSE))","v":"Jäger Carlo & Lukas"}]
["2021-07-29",{"$f":"IF(ISBLANK(D563),\"Alain, nix drischribu\",VLOOKUP(D563,'2021'!$A$11:$G$143,4,FALSE))","v":"Tscherry Erwin & Bernhard"},{"$f":"VLOOKUP(D563,'2021'!$A$11:$G$143,2,FALSE)","v":"Carolin"},91,85,{"$f":"VLOOKUP(E563,'2021'!$A$11:$G$143,2,FALSE)","v":"Samantha"},{"$f":"IF(ISBLANK(E563),\"hie eu nix drischribu\",VLOOKUP(E563,'2021'!$A$11:$G$143,4,FALSE))","v":"Sewer R. & Thommen S."}]
["2021-07-29",{"$f":"IF(ISBLANK(D564),\"Alain, nix drischribu\",VLOOKUP(D564,'2021'!$A$11:$G$143,4,FALSE))","v":"Bayard Medard & Gustav"},{"$f":"VLOOKUP(D564,'2021'!$A$11:$G$143,2,FALSE)","v":"Fantastic"},2,118,{"$f":"VLOOKUP(E564,'2021'!$A$11:$G$143,2,FALSE)","v":"Vesuv"},{"$f":"IF(ISBLANK(E564),\"hie eu nix drischribu\",VLOOKUP(E564,'2021'!$A$11:$G$143,4,FALSE))","v":"Zumofen / Gattlen"}]
["2021-07-29",{"$f":"IF(ISBLANK(D565),\"Alain, nix drischribu\",VLOOKUP(D565,'2021'!$A$11:$G$143,4,FALSE))","v":"Bayard Medard & Gustav"},{"$f":"VLOOKUP(D565,'2021'!$A$11:$G$143,2,FALSE)","v":"Pandera"},5,61,{"$f":"VLOOKUP(E565,'2021'!$A$11:$G$143,2,FALSE)","v":"Grolla"},{"$f":"IF(ISBLANK(E565),\"hie eu nix drischribu\",VLOOKUP(E565,'2021'!$A$11:$G$143,4,FALSE))","v":"Jäger Carlo & Lukas"}]
["2021-07-29",{"$f":"IF(ISBLANK(D566),\"Alain, nix drischribu\",VLOOKUP(D566,'2021'!$A$11:$G$143,4,FALSE))","v":"Jäger Carlo & Lukas"},{"$f":"VLOOKUP(D566,'2021'!$A$11:$G$143,2,FALSE)","v":"Taverne"},66,88,{"$f":"VLOOKUP(E566,'2021'!$A$11:$G$143,2,FALSE)","v":"Malice"},{"$f":"IF(ISBLANK(E566),\"hie eu nix drischribu\",VLOOKUP(E566,'2021'!$A$11:$G$143,4,FALSE))","v":"Sewer R. & Thommen S."}]
["2021-07-29",{"$f":"IF(ISBLANK(D567),\"Alain, nix drischribu\",VLOOKUP(D567,'2021'!$A$11:$G$143,4,FALSE))","v":"Sewer R. & Thommen S."},{"$f":"VLOOKUP(D567,'2021'!$A$11:$G$143,2,FALSE)","v":"Malice"},88,89,{"$f":"VLOOKUP(E567,'2021'!$A$11:$G$143,2,FALSE)","v":"Biscot"},{"$f":"IF(ISBLANK(E567),\"hie eu nix drischribu\",VLOOKUP(E567,'2021'!$A$11:$G$143,4,FALSE))","v":"Sewer R. & Thommen S."}]
["2021-07-29",{"$f":"IF(ISBLANK(D568),\"Alain, nix drischribu\",VLOOKUP(D568,'2021'!$A$11:$G$143,4,FALSE))","v":"Stallung Passeraub"},{"$f":"VLOOKUP(D568,'2021'!$A$11:$G$143,2,FALSE)","v":"Menance"},75,88,{"$f":"VLOOKUP(E568,'2021'!$A$11:$G$143,2,FALSE)","v":"Malice"},{"$f":"IF(ISBLANK(E568),\"hie eu nix drischribu\",VLOOKUP(E568,'2021'!$A$11:$G$143,4,FALSE))","v":"Sewer R. & Thommen S."}]
["2021-07-29",{"$f":"IF(ISBLANK(D569),\"Alain, nix drischribu\",VLOOKUP(D569,'2021'!$A$11:$G$143,4,FALSE))","v":"Jäger Carlo & Lukas"},{"$f":"VLOOKUP(D569,'2021'!$A$11:$G$143,2,FALSE)","v":"Mygale"},56,121,{"$f":"VLOOKUP(E569,'2021'!$A$11:$G$143,2,FALSE)","v":"Raja"},{"$f":"IF(ISBLANK(E569),\"hie eu nix drischribu\",VLOOKUP(E569,'2021'!$A$11:$G$143,4,FALSE))","v":"Zumofen / Gattlen"}]
["2021-07-29",{"$f":"IF(ISBLANK(D570),\"Alain, nix drischribu\",VLOOKUP(D570,'2021'!$A$11:$G$143,4,FALSE))","v":"Bregy Silvan & Patrik"},{"$f":"VLOOKUP(D570,'2021'!$A$11:$G$143,2,FALSE)","v":"Milow"},12,119,{"$f":"VLOOKUP(E570,'2021'!$A$11:$G$143,2,FALSE)","v":"Fayola"},{"$f":"IF(ISBLANK(E570),\"hie eu nix drischribu\",VLOOKUP(E570,'2021'!$A$11:$G$143,4,FALSE))","v":"Zumofen / Gattlen"}]
["2021-07-29",{"$f":"IF(ISBLANK(D571),\"Alain, nix drischribu\",VLOOKUP(D571,'2021'!$A$11:$G$143,4,FALSE))","v":"Bregy Uli / Lisi & Pasci"},{"$f":"VLOOKUP(D571,'2021'!$A$11:$G$143,2,FALSE)","v":"Bora"},21,115,{"$f":"VLOOKUP(E571,'2021'!$A$11:$G$143,2,FALSE)","v":"Souris"},{"$f":"IF(ISBLANK(E571),\"hie eu nix drischribu\",VLOOKUP(E571,'2021'!$A$11:$G$143,4,FALSE))","v":"Zumofen / Gattlen"}]
["2021-07-29",{"$f":"IF(ISBLANK(D572),\"Alain, nix drischribu\",VLOOKUP(D572,'2021'!$A$11:$G$143,4,FALSE))","v":"Tscherry Erwin & Bernhard"},{"$f":"VLOOKUP(D572,'2021'!$A$11:$G$143,2,FALSE)","v":"Tomba"},92,86,{"$f":"VLOOKUP(E572,'2021'!$A$11:$G$143,2,FALSE)","v":"Tessa"},{"$f":"IF(ISBLANK(E572),\"hie eu nix drischribu\",VLOOKUP(E572,'2021'!$A$11:$G$143,4,FALSE))","v":"Sewer R. & Thommen S."}]
["2021-07-29",{"$f":"IF(ISBLANK(D573),\"Alain, nix drischribu\",VLOOKUP(D573,'2021'!$A$11:$G$143,4,FALSE))","v":"Mathieu Leander & Sascha"},{"$f":"VLOOKUP(D573,'2021'!$A$11:$G$143,2,FALSE)","v":"Babylon"},72,86,{"$f":"VLOOKUP(E573,'2021'!$A$11:$G$143,2,FALSE)","v":"Tessa"},{"$f":"IF(ISBLANK(E573),\"hie eu nix drischribu\",VLOOKUP(E573,'2021'!$A$11:$G$143,4,FALSE))","v":"Sewer R. & Thommen S."}]
["2021-07-28",{"$f":"IF(ISBLANK(D574),\"Alain, nix drischribu\",VLOOKUP(D574,'2021'!$A$11:$G$143,4,FALSE))","v":"Hischier Pius"},{"$f":"VLOOKUP(D574,'2021'!$A$11:$G$143,2,FALSE)","v":"Pablo"},52,116,{"$f":"VLOOKUP(E574,'2021'!$A$11:$G$143,2,FALSE)","v":"Pinoccio"},{"$f":"IF(ISBLANK(E574),\"hie eu nix drischribu\",VLOOKUP(E574,'2021'!$A$11:$G$143,4,FALSE))","v":"Zumofen / Gattlen"}]
["2021-07-28",{"$f":"IF(ISBLANK(D575),\"Alain, nix drischribu\",VLOOKUP(D575,'2021'!$A$11:$G$143,4,FALSE))","v":"Zumofen / Gattlen"},{"$f":"VLOOKUP(D575,'2021'!$A$11:$G$143,2,FALSE)","v":"Xena"},110,14,{"$f":"VLOOKUP(E575,'2021'!$A$11:$G$143,2,FALSE)","v":"Canabis"},{"$f":"IF(ISBLANK(E575),\"hie eu nix drischribu\",VLOOKUP(E575,'2021'!$A$11:$G$143,4,FALSE))","v":"Bregy Ralf & Adolf"}]
["2021-07-28",{"$f":"IF(ISBLANK(D576),\"Alain, nix drischribu\",VLOOKUP(D576,'2021'!$A$11:$G$143,4,FALSE))","v":"Zumofen / Gattlen"},{"$f":"VLOOKUP(D576,'2021'!$A$11:$G$143,2,FALSE)","v":"Rena"},109,6,{"$f":"VLOOKUP(E576,'2021'!$A$11:$G$143,2,FALSE)","v":"Flacabre"},{"$f":"IF(ISBLANK(E576),\"hie eu nix drischribu\",VLOOKUP(E576,'2021'!$A$11:$G$143,4,FALSE))","v":"Bregy Ralf & Adolf"}]
["2021-07-28",{"$f":"IF(ISBLANK(D577),\"Alain, nix drischribu\",VLOOKUP(D577,'2021'!$A$11:$G$143,4,FALSE))","v":"Zumofen / Gattlen"},{"$f":"VLOOKUP(D577,'2021'!$A$11:$G$143,2,FALSE)","v":"Fayola"},119,78,{"$f":"VLOOKUP(E577,'2021'!$A$11:$G$143,2,FALSE)","v":"Ballerine"},{"$f":"IF(ISBLANK(E577),\"hie eu nix drischribu\",VLOOKUP(E577,'2021'!$A$11:$G$143,4,FALSE))","v":"Stallung Passeraub"}]
["2021-07-28",{"$f":"IF(ISBLANK(D578),\"Alain, nix drischribu\",VLOOKUP(D578,'2021'!$A$11:$G$143,4,FALSE))","v":"Zumofen / Gattlen"},{"$f":"VLOOKUP(D578,'2021'!$A$11:$G$143,2,FALSE)","v":"Violette"},108,43,{"$f":"VLOOKUP(E578,'2021'!$A$11:$G$143,2,FALSE)","v":"Dorina"},{"$f":"IF(ISBLANK(E578),\"hie eu nix drischribu\",VLOOKUP(E578,'2021'!$A$11:$G$143,4,FALSE))","v":"Gebrüder Jäger"}]
["2021-07-28",{"$f":"IF(ISBLANK(D579),\"Alain, nix drischribu\",VLOOKUP(D579,'2021'!$A$11:$G$143,4,FALSE))","v":"Williner Anton"},{"$f":"VLOOKUP(D579,'2021'!$A$11:$G$143,2,FALSE)","v":"Violine"},97,25,{"$f":"VLOOKUP(E579,'2021'!$A$11:$G$143,2,FALSE)","v":"Calette"},{"$f":"IF(ISBLANK(E579),\"hie eu nix drischribu\",VLOOKUP(E579,'2021'!$A$11:$G$143,4,FALSE))","v":"Bregy Uli / Lisi & Pasci"}]
["2021-07-28",{"$f":"IF(ISBLANK(D580),\"Alain, nix drischribu\",VLOOKUP(D580,'2021'!$A$11:$G$143,4,FALSE))","v":"Jäger Carlo & Lukas"},{"$f":"VLOOKUP(D580,'2021'!$A$11:$G$143,2,FALSE)","v":"Prune"},57,76,{"$f":"VLOOKUP(E580,'2021'!$A$11:$G$143,2,FALSE)","v":"Pablo"},{"$f":"IF(ISBLANK(E580),\"hie eu nix drischribu\",VLOOKUP(E580,'2021'!$A$11:$G$143,4,FALSE))","v":"Hutter Richard "}]
["2021-07-28",{"$f":"IF(ISBLANK(D581),\"Alain, nix drischribu\",VLOOKUP(D581,'2021'!$A$11:$G$143,4,FALSE))","v":"Bayard Medard & Gustav"},{"$f":"VLOOKUP(D581,'2021'!$A$11:$G$143,2,FALSE)","v":"Pandera"},5,17,{"$f":"VLOOKUP(E581,'2021'!$A$11:$G$143,2,FALSE)","v":"Simba"},{"$f":"IF(ISBLANK(E581),\"hie eu nix drischribu\",VLOOKUP(E581,'2021'!$A$11:$G$143,4,FALSE))","v":"Bregy Uli / Lisi & Pasci"}]
["2021-07-28",{"$f":"IF(ISBLANK(D582),\"Alain, nix drischribu\",VLOOKUP(D582,'2021'!$A$11:$G$143,4,FALSE))","v":"Zumofen / Gattlen"},{"$f":"VLOOKUP(D582,'2021'!$A$11:$G$143,2,FALSE)","v":"Pinoccio"},116,28,{"$f":"VLOOKUP(E582,'2021'!$A$11:$G$143,2,FALSE)","v":"Baron"},{"$f":"IF(ISBLANK(E582),\"hie eu nix drischribu\",VLOOKUP(E582,'2021'!$A$11:$G$143,4,FALSE))","v":"Fam. Leiggener"}]
["2021-07-28",{"$f":"IF(ISBLANK(D583),\"Alain, nix drischribu\",VLOOKUP(D583,'2021'!$A$11:$G$143,4,FALSE))","v":"Wyssen Diego & Madlen"},{"$f":"VLOOKUP(D583,'2021'!$A$11:$G$143,2,FALSE)","v":"Rasta"},102,61,{"$f":"VLOOKUP(E583,'2021'!$A$11:$G$143,2,FALSE)","v":"Grolla"},{"$f":"IF(ISBLANK(E583),\"hie eu nix drischribu\",VLOOKUP(E583,'2021'!$A$11:$G$143,4,FALSE))","v":"Jäger Carlo & Lukas"}]
["2021-07-28",{"$f":"IF(ISBLANK(D584),\"Alain, nix drischribu\",VLOOKUP(D584,'2021'!$A$11:$G$143,4,FALSE))","v":"Bayard Medard & Gustav"},{"$f":"VLOOKUP(D584,'2021'!$A$11:$G$143,2,FALSE)","v":"Vampir"},4,68,{"$f":"VLOOKUP(E584,'2021'!$A$11:$G$143,2,FALSE)","v":"Baghira"},{"$f":"IF(ISBLANK(E584),\"hie eu nix drischribu\",VLOOKUP(E584,'2021'!$A$11:$G$143,4,FALSE))","v":"Mathieu Leander & Sascha"}]
["2021-07-28",{"$f":"IF(ISBLANK(D585),\"Alain, nix drischribu\",VLOOKUP(D585,'2021'!$A$11:$G$143,4,FALSE))","v":"Jäger Carlo & Lukas"},{"$f":"VLOOKUP(D585,'2021'!$A$11:$G$143,2,FALSE)","v":"Pivoine"},65,6,{"$f":"VLOOKUP(E585,'2021'!$A$11:$G$143,2,FALSE)","v":"Flacabre"},{"$f":"IF(ISBLANK(E585),\"hie eu nix drischribu\",VLOOKUP(E585,'2021'!$A$11:$G$143,4,FALSE))","v":"Bregy Ralf & Adolf"}]
["2021-07-01",{"$f":"IF(ISBLANK(D586),\"Alain, nix drischribu\",VLOOKUP(D586,'2021'!$A$11:$G$143,4,FALSE))","v":"Zumofen / Gattlen"},{"$f":"VLOOKUP(D586,'2021'!$A$11:$G$143,2,FALSE)","v":"Rambo"},120,24,{"$f":"VLOOKUP(E586,'2021'!$A$11:$G$143,2,FALSE)","v":"Catalina"},{"$f":"IF(ISBLANK(E586),\"hie eu nix drischribu\",VLOOKUP(E586,'2021'!$A$11:$G$143,4,FALSE))","v":"Bregy Uli / Lisi & Pasci"}]
["2021-07-27",{"$f":"IF(ISBLANK(D587),\"Alain, nix drischribu\",VLOOKUP(D587,'2021'!$A$11:$G$143,4,FALSE))","v":"Williner Anton"},{"$f":"VLOOKUP(D587,'2021'!$A$11:$G$143,2,FALSE)","v":"Tonic"},93,75,{"$f":"VLOOKUP(E587,'2021'!$A$11:$G$143,2,FALSE)","v":"Menance"},{"$f":"IF(ISBLANK(E587),\"hie eu nix drischribu\",VLOOKUP(E587,'2021'!$A$11:$G$143,4,FALSE))","v":"Stallung Passeraub"}]
["2021-07-27",{"$f":"IF(ISBLANK(D588),\"Alain, nix drischribu\",VLOOKUP(D588,'2021'!$A$11:$G$143,4,FALSE))","v":"Stallung Passeraub"},{"$f":"VLOOKUP(D588,'2021'!$A$11:$G$143,2,FALSE)","v":"Marla"},79,17,{"$f":"VLOOKUP(E588,'2021'!$A$11:$G$143,2,FALSE)","v":"Simba"},{"$f":"IF(ISBLANK(E588),\"hie eu nix drischribu\",VLOOKUP(E588,'2021'!$A$11:$G$143,4,FALSE))","v":"Bregy Uli / Lisi & Pasci"}]
["2021-07-27",{"$f":"IF(ISBLANK(D589),\"Alain, nix drischribu\",VLOOKUP(D589,'2021'!$A$11:$G$143,4,FALSE))","v":"Williner Anton"},{"$f":"VLOOKUP(D589,'2021'!$A$11:$G$143,2,FALSE)","v":"Tonic"},93,76,{"$f":"VLOOKUP(E589,'2021'!$A$11:$G$143,2,FALSE)","v":"Pablo"},{"$f":"IF(ISBLANK(E589),\"hie eu nix drischribu\",VLOOKUP(E589,'2021'!$A$11:$G$143,4,FALSE))","v":"Hutter Richard "}]
["2021-07-27",{"$f":"IF(ISBLANK(D590),\"Alain, nix drischribu\",VLOOKUP(D590,'2021'!$A$11:$G$143,4,FALSE))","v":"Bregy Silvan & Patrik"},{"$f":"VLOOKUP(D590,'2021'!$A$11:$G$143,2,FALSE)","v":"Milow"},12,6,{"$f":"VLOOKUP(E590,'2021'!$A$11:$G$143,2,FALSE)","v":"Flacabre"},{"$f":"IF(ISBLANK(E590),\"hie eu nix drischribu\",VLOOKUP(E590,'2021'!$A$11:$G$143,4,FALSE))","v":"Bregy Ralf & Adolf"}]
["2021-07-27",{"$f":"IF(ISBLANK(D591),\"Alain, nix drischribu\",VLOOKUP(D591,'2021'!$A$11:$G$143,4,FALSE))","v":"Zumofen / Gattlen"},{"$f":"VLOOKUP(D591,'2021'!$A$11:$G$143,2,FALSE)","v":"Rigolo"},117,37,{"$f":"VLOOKUP(E591,'2021'!$A$11:$G$143,2,FALSE)","v":"Toscana"},{"$f":"IF(ISBLANK(E591),\"hie eu nix drischribu\",VLOOKUP(E591,'2021'!$A$11:$G$143,4,FALSE))","v":"Fux W., J., & Wyer Piet"}]
["2021-07-27",{"$f":"IF(ISBLANK(D592),\"Alain, nix drischribu\",VLOOKUP(D592,'2021'!$A$11:$G$143,4,FALSE))","v":"Jäger Carlo & Lukas"},{"$f":"VLOOKUP(D592,'2021'!$A$11:$G$143,2,FALSE)","v":"Taverne"},66,114,{"$f":"VLOOKUP(E592,'2021'!$A$11:$G$143,2,FALSE)","v":"Maya"},{"$f":"IF(ISBLANK(E592),\"hie eu nix drischribu\",VLOOKUP(E592,'2021'!$A$11:$G$143,4,FALSE))","v":"Zumofen / Gattlen"}]
["2021-07-27",{"$f":"IF(ISBLANK(D593),\"Alain, nix drischribu\",VLOOKUP(D593,'2021'!$A$11:$G$143,4,FALSE))","v":"Zumofen / Gattlen"},{"$f":"VLOOKUP(D593,'2021'!$A$11:$G$143,2,FALSE)","v":"Xena"},110,46,{"$f":"VLOOKUP(E593,'2021'!$A$11:$G$143,2,FALSE)","v":"Lorens"},{"$f":"IF(ISBLANK(E593),\"hie eu nix drischribu\",VLOOKUP(E593,'2021'!$A$11:$G$143,4,FALSE))","v":"Gebrüder Jäger"}]
["2021-07-27",{"$f":"IF(ISBLANK(D594),\"Alain, nix drischribu\",VLOOKUP(D594,'2021'!$A$11:$G$143,4,FALSE))","v":"Jäger Carlo & Lukas"},{"$f":"VLOOKUP(D594,'2021'!$A$11:$G$143,2,FALSE)","v":"Metis"},63,17,{"$f":"VLOOKUP(E594,'2021'!$A$11:$G$143,2,FALSE)","v":"Simba"},{"$f":"IF(ISBLANK(E594),\"hie eu nix drischribu\",VLOOKUP(E594,'2021'!$A$11:$G$143,4,FALSE))","v":"Bregy Uli / Lisi & Pasci"}]
["2021-07-27",{"$f":"IF(ISBLANK(D595),\"Alain, nix drischribu\",VLOOKUP(D595,'2021'!$A$11:$G$143,4,FALSE))","v":"Sewer R. & Thommen S."},{"$f":"VLOOKUP(D595,'2021'!$A$11:$G$143,2,FALSE)","v":"Malice"},88,25,{"$f":"VLOOKUP(E595,'2021'!$A$11:$G$143,2,FALSE)","v":"Calette"},{"$f":"IF(ISBLANK(E595),\"hie eu nix drischribu\",VLOOKUP(E595,'2021'!$A$11:$G$143,4,FALSE))","v":"Bregy Uli / Lisi & Pasci"}]
["2021-07-27",{"$f":"IF(ISBLANK(D596),\"Alain, nix drischribu\",VLOOKUP(D596,'2021'!$A$11:$G$143,4,FALSE))","v":"Zumofen / Gattlen"},{"$f":"VLOOKUP(D596,'2021'!$A$11:$G$143,2,FALSE)","v":"Vesuv"},118,32,{"$f":"VLOOKUP(E596,'2021'!$A$11:$G$143,2,FALSE)","v":"Mystic"},{"$f":"IF(ISBLANK(E596),\"hie eu nix drischribu\",VLOOKUP(E596,'2021'!$A$11:$G$143,4,FALSE))","v":"Fux W., J., & Wyer Piet"}]
["2021-07-27",{"$f":"IF(ISBLANK(D597),\"Alain, nix drischribu\",VLOOKUP(D597,'2021'!$A$11:$G$143,4,FALSE))","v":"Jäger Carlo & Lukas"},{"$f":"VLOOKUP(D597,'2021'!$A$11:$G$143,2,FALSE)","v":"Metis"},63,58,{"$f":"VLOOKUP(E597,'2021'!$A$11:$G$143,2,FALSE)","v":"Bataille"},{"$f":"IF(ISBLANK(E597),\"hie eu nix drischribu\",VLOOKUP(E597,'2021'!$A$11:$G$143,4,FALSE))","v":"Jäger Carlo & Lukas"}]
["2021-07-27",{"$f":"IF(ISBLANK(D598),\"Alain, nix drischribu\",VLOOKUP(D598,'2021'!$A$11:$G$143,4,FALSE))","v":"Jäger Carlo & Lukas"},{"$f":"VLOOKUP(D598,'2021'!$A$11:$G$143,2,FALSE)","v":"Sera"},64,109,{"$f":"VLOOKUP(E598,'2021'!$A$11:$G$143,2,FALSE)","v":"Rena"},{"$f":"IF(ISBLANK(E598),\"hie eu nix drischribu\",VLOOKUP(E598,'2021'!$A$11:$G$143,4,FALSE))","v":"Zumofen / Gattlen"}]
["2021-07-27",{"$f":"IF(ISBLANK(D599),\"Alain, nix drischribu\",VLOOKUP(D599,'2021'!$A$11:$G$143,4,FALSE))","v":"Wyssen Diego & Madlen"},{"$f":"VLOOKUP(D599,'2021'!$A$11:$G$143,2,FALSE)","v":"Xhyla"},104,45,{"$f":"VLOOKUP(E599,'2021'!$A$11:$G$143,2,FALSE)","v":"Tanja"},{"$f":"IF(ISBLANK(E599),\"hie eu nix drischribu\",VLOOKUP(E599,'2021'!$A$11:$G$143,4,FALSE))","v":"Gebrüder Jäger"}]
["2021-07-27",{"$f":"IF(ISBLANK(D600),\"Alain, nix drischribu\",VLOOKUP(D600,'2021'!$A$11:$G$143,4,FALSE))","v":"Zimmermann Ivan & Monika"},{"$f":"VLOOKUP(D600,'2021'!$A$11:$G$143,2,FALSE)","v":"Riva"},112,63,{"$f":"VLOOKUP(E600,'2021'!$A$11:$G$143,2,FALSE)","v":"Metis"},{"$f":"IF(ISBLANK(E600),\"hie eu nix drischribu\",VLOOKUP(E600,'2021'!$A$11:$G$143,4,FALSE))","v":"Jäger Carlo & Lukas"}]
["2021-07-27",{"$f":"IF(ISBLANK(D601),\"Alain, nix drischribu\",VLOOKUP(D601,'2021'!$A$11:$G$143,4,FALSE))","v":"Jäger Carlo & Lukas"},{"$f":"VLOOKUP(D601,'2021'!$A$11:$G$143,2,FALSE)","v":"Metis"},63,58,{"$f":"VLOOKUP(E601,'2021'!$A$11:$G$143,2,FALSE)","v":"Bataille"},{"$f":"IF(ISBLANK(E601),\"hie eu nix drischribu\",VLOOKUP(E601,'2021'!$A$11:$G$143,4,FALSE))","v":"Jäger Carlo & Lukas"}]
["2021-07-26",{"$f":"IF(ISBLANK(D602),\"Alain, nix drischribu\",VLOOKUP(D602,'2021'!$A$11:$G$143,4,FALSE))","v":"Jäger Carlo & Lukas"},{"$f":"VLOOKUP(D602,'2021'!$A$11:$G$143,2,FALSE)","v":"Sera"},64,15,{"$f":"VLOOKUP(E602,'2021'!$A$11:$G$143,2,FALSE)","v":"Cashida"},{"$f":"IF(ISBLANK(E602),\"hie eu nix drischribu\",VLOOKUP(E602,'2021'!$A$11:$G$143,4,FALSE))","v":"Bregy Ralf & Adolf"}]
["2021-07-26",{"$f":"IF(ISBLANK(D603),\"Alain, nix drischribu\",VLOOKUP(D603,'2021'!$A$11:$G$143,4,FALSE))","v":"Stallung Passeraub"},{"$f":"VLOOKUP(D603,'2021'!$A$11:$G$143,2,FALSE)","v":"Beres"},77,83,{"$f":"VLOOKUP(E603,'2021'!$A$11:$G$143,2,FALSE)","v":"Cayenne"},{"$f":"IF(ISBLANK(E603),\"hie eu nix drischribu\",VLOOKUP(E603,'2021'!$A$11:$G$143,4,FALSE))","v":"Stallung zum Stäg"}]
["2021-07-26",{"$f":"IF(ISBLANK(D604),\"Alain, nix drischribu\",VLOOKUP(D604,'2021'!$A$11:$G$143,4,FALSE))","v":"Hischier H. & Bühlmann J."},{"$f":"VLOOKUP(D604,'2021'!$A$11:$G$143,2,FALSE)","v":"Jamada"},48,34,{"$f":"VLOOKUP(E604,'2021'!$A$11:$G$143,2,FALSE)","v":"Valaisanne"},{"$f":"IF(ISBLANK(E604),\"hie eu nix drischribu\",VLOOKUP(E604,'2021'!$A$11:$G$143,4,FALSE))","v":"Fux W., J., & Wyer Piet"}]
["2021-07-26",{"$f":"IF(ISBLANK(D605),\"Alain, nix drischribu\",VLOOKUP(D605,'2021'!$A$11:$G$143,4,FALSE))","v":"Bregy Uli / Lisi & Pasci"},{"$f":"VLOOKUP(D605,'2021'!$A$11:$G$143,2,FALSE)","v":"Bora"},21,61,{"$f":"VLOOKUP(E605,'2021'!$A$11:$G$143,2,FALSE)","v":"Grolla"},{"$f":"IF(ISBLANK(E605),\"hie eu nix drischribu\",VLOOKUP(E605,'2021'!$A$11:$G$143,4,FALSE))","v":"Jäger Carlo & Lukas"}]
["2021-07-26",{"$f":"IF(ISBLANK(D606),\"Alain, nix drischribu\",VLOOKUP(D606,'2021'!$A$11:$G$143,4,FALSE))","v":"Fux W., J., & Wyer Piet"},{"$f":"VLOOKUP(D606,'2021'!$A$11:$G$143,2,FALSE)","v":"Bacardi"},39,21,{"$f":"VLOOKUP(E606,'2021'!$A$11:$G$143,2,FALSE)","v":"Bora"},{"$f":"IF(ISBLANK(E606),\"hie eu nix drischribu\",VLOOKUP(E606,'2021'!$A$11:$G$143,4,FALSE))","v":"Bregy Uli / Lisi & Pasci"}]
["2021-07-26",{"$f":"IF(ISBLANK(D607),\"Alain, nix drischribu\",VLOOKUP(D607,'2021'!$A$11:$G$143,4,FALSE))","v":"Bregy Ralf & Adolf"},{"$f":"VLOOKUP(D607,'2021'!$A$11:$G$143,2,FALSE)","v":"Canaille"},7,109,{"$f":"VLOOKUP(E607,'2021'!$A$11:$G$143,2,FALSE)","v":"Rena"},{"$f":"IF(ISBLANK(E607),\"hie eu nix drischribu\",VLOOKUP(E607,'2021'!$A$11:$G$143,4,FALSE))","v":"Zumofen / Gattlen"}]
["2021-07-26",{"$f":"IF(ISBLANK(D608),\"Alain, nix drischribu\",VLOOKUP(D608,'2021'!$A$11:$G$143,4,FALSE))","v":"Bregy Uli / Lisi & Pasci"},{"$f":"VLOOKUP(D608,'2021'!$A$11:$G$143,2,FALSE)","v":"Murphy"},16,63,{"$f":"VLOOKUP(E608,'2021'!$A$11:$G$143,2,FALSE)","v":"Metis"},{"$f":"IF(ISBLANK(E608),\"hie eu nix drischribu\",VLOOKUP(E608,'2021'!$A$11:$G$143,4,FALSE))","v":"Jäger Carlo & Lukas"}]
["2021-07-26",{"$f":"IF(ISBLANK(D609),\"Alain, nix drischribu\",VLOOKUP(D609,'2021'!$A$11:$G$143,4,FALSE))","v":"Gebrüder Jäger"},{"$f":"VLOOKUP(D609,'2021'!$A$11:$G$143,2,FALSE)","v":"Simba"},42,17,{"$f":"VLOOKUP(E609,'2021'!$A$11:$G$143,2,FALSE)","v":"Simba"},{"$f":"IF(ISBLANK(E609),\"hie eu nix drischribu\",VLOOKUP(E609,'2021'!$A$11:$G$143,4,FALSE))","v":"Bregy Uli / Lisi & Pasci"}]
["2021-07-26",{"$f":"IF(ISBLANK(D610),\"Alain, nix drischribu\",VLOOKUP(D610,'2021'!$A$11:$G$143,4,FALSE))","v":"Stallung Passeraub"},{"$f":"VLOOKUP(D610,'2021'!$A$11:$G$143,2,FALSE)","v":"Ballerine"},78,109,{"$f":"VLOOKUP(E610,'2021'!$A$11:$G$143,2,FALSE)","v":"Rena"},{"$f":"IF(ISBLANK(E610),\"hie eu nix drischribu\",VLOOKUP(E610,'2021'!$A$11:$G$143,4,FALSE))","v":"Zumofen / Gattlen"}]
["2021-07-26",{"$f":"IF(ISBLANK(D611),\"Alain, nix drischribu\",VLOOKUP(D611,'2021'!$A$11:$G$143,4,FALSE))","v":"Bregy Ralf & Adolf"},{"$f":"VLOOKUP(D611,'2021'!$A$11:$G$143,2,FALSE)","v":"Diabolo"},10,46,{"$f":"VLOOKUP(E611,'2021'!$A$11:$G$143,2,FALSE)","v":"Lorens"},{"$f":"IF(ISBLANK(E611),\"hie eu nix drischribu\",VLOOKUP(E611,'2021'!$A$11:$G$143,4,FALSE))","v":"Gebrüder Jäger"}]
["2021-07-26",{"$f":"IF(ISBLANK(D612),\"Alain, nix drischribu\",VLOOKUP(D612,'2021'!$A$11:$G$143,4,FALSE))","v":"Jäger Carlo & Lukas"},{"$f":"VLOOKUP(D612,'2021'!$A$11:$G$143,2,FALSE)","v":"Mygale"},56,36,{"$f":"VLOOKUP(E612,'2021'!$A$11:$G$143,2,FALSE)","v":"Calmy"},{"$f":"IF(ISBLANK(E612),\"hie eu nix drischribu\",VLOOKUP(E612,'2021'!$A$11:$G$143,4,FALSE))","v":"Fux W., J., & Wyer Piet"}]
["2021-07-26",{"$f":"IF(ISBLANK(D613),\"Alain, nix drischribu\",VLOOKUP(D613,'2021'!$A$11:$G$143,4,FALSE))","v":"Williner Anton"},{"$f":"VLOOKUP(D613,'2021'!$A$11:$G$143,2,FALSE)","v":"Tira"},98,45,{"$f":"VLOOKUP(E613,'2021'!$A$11:$G$143,2,FALSE)","v":"Tanja"},{"$f":"IF(ISBLANK(E613),\"hie eu nix drischribu\",VLOOKUP(E613,'2021'!$A$11:$G$143,4,FALSE))","v":"Gebrüder Jäger"}]
["2021-07-26",{"$f":"IF(ISBLANK(D614),\"Alain, nix drischribu\",VLOOKUP(D614,'2021'!$A$11:$G$143,4,FALSE))","v":"Jäger Carlo & Lukas"},{"$f":"VLOOKUP(D614,'2021'!$A$11:$G$143,2,FALSE)","v":"Mygale"},56,88,{"$f":"VLOOKUP(E614,'2021'!$A$11:$G$143,2,FALSE)","v":"Malice"},{"$f":"IF(ISBLANK(E614),\"hie eu nix drischribu\",VLOOKUP(E614,'2021'!$A$11:$G$143,4,FALSE))","v":"Sewer R. & Thommen S."}]
["2021-07-26",{"$f":"IF(ISBLANK(D615),\"Alain, nix drischribu\",VLOOKUP(D615,'2021'!$A$11:$G$143,4,FALSE))","v":"Zumofen / Gattlen"},{"$f":"VLOOKUP(D615,'2021'!$A$11:$G$143,2,FALSE)","v":"Rambo"},120,21,{"$f":"VLOOKUP(E615,'2021'!$A$11:$G$143,2,FALSE)","v":"Bora"},{"$f":"IF(ISBLANK(E615),\"hie eu nix drischribu\",VLOOKUP(E615,'2021'!$A$11:$G$143,4,FALSE))","v":"Bregy Uli / Lisi & Pasci"}]
["2021-07-26",{"$f":"IF(ISBLANK(D616),\"Alain, nix drischribu\",VLOOKUP(D616,'2021'!$A$11:$G$143,4,FALSE))","v":"Bregy Uli / Lisi & Pasci"},{"$f":"VLOOKUP(D616,'2021'!$A$11:$G$143,2,FALSE)","v":"Bora"},21,22,{"$f":"VLOOKUP(E616,'2021'!$A$11:$G$143,2,FALSE)","v":"Xaphir"},{"$f":"IF(ISBLANK(E616),\"hie eu nix drischribu\",VLOOKUP(E616,'2021'!$A$11:$G$143,4,FALSE))","v":"Bregy Uli / Lisi & Pasci"}]
["2021-07-26",{"$f":"IF(ISBLANK(D617),\"Alain, nix drischribu\",VLOOKUP(D617,'2021'!$A$11:$G$143,4,FALSE))","v":"Stallung Passeraub"},{"$f":"VLOOKUP(D617,'2021'!$A$11:$G$143,2,FALSE)","v":"Marla"},79,36,{"$f":"VLOOKUP(E617,'2021'!$A$11:$G$143,2,FALSE)","v":"Calmy"},{"$f":"IF(ISBLANK(E617),\"hie eu nix drischribu\",VLOOKUP(E617,'2021'!$A$11:$G$143,4,FALSE))","v":"Fux W., J., & Wyer Piet"}]
["2021-07-26",{"$f":"IF(ISBLANK(D618),\"Alain, nix drischribu\",VLOOKUP(D618,'2021'!$A$11:$G$143,4,FALSE))","v":"Zumofen / Gattlen"},{"$f":"VLOOKUP(D618,'2021'!$A$11:$G$143,2,FALSE)","v":"Fachita"},123,50,{"$f":"VLOOKUP(E618,'2021'!$A$11:$G$143,2,FALSE)","v":"Pruedence"},{"$f":"IF(ISBLANK(E618),\"hie eu nix drischribu\",VLOOKUP(E618,'2021'!$A$11:$G$143,4,FALSE))","v":"Hischier Pius"}]
["2021-07-26",{"$f":"IF(ISBLANK(D619),\"Alain, nix drischribu\",VLOOKUP(D619,'2021'!$A$11:$G$143,4,FALSE))","v":"Jäger Carlo & Lukas"},{"$f":"VLOOKUP(D619,'2021'!$A$11:$G$143,2,FALSE)","v":"Sera"},64,15,{"$f":"VLOOKUP(E619,'2021'!$A$11:$G$143,2,FALSE)","v":"Cashida"},{"$f":"IF(ISBLANK(E619),\"hie eu nix drischribu\",VLOOKUP(E619,'2021'!$A$11:$G$143,4,FALSE))","v":"Bregy Ralf & Adolf"}]
["2021-07-26",{"$f":"IF(ISBLANK(D620),\"Alain, nix drischribu\",VLOOKUP(D620,'2021'!$A$11:$G$143,4,FALSE))","v":"Stallung Passeraub"},{"$f":"VLOOKUP(D620,'2021'!$A$11:$G$143,2,FALSE)","v":"Ballerine"},78,42,{"$f":"VLOOKUP(E620,'2021'!$A$11:$G$143,2,FALSE)","v":"Simba"},{"$f":"IF(ISBLANK(E620),\"hie eu nix drischribu\",VLOOKUP(E620,'2021'!$A$11:$G$143,4,FALSE))","v":"Gebrüder Jäger"}]
["2021-07-25",{"$f":"IF(ISBLANK(D621),\"Alain, nix drischribu\",VLOOKUP(D621,'2021'!$A$11:$G$143,4,FALSE))","v":"Bregy Ralf & Adolf"},{"$f":"VLOOKUP(D621,'2021'!$A$11:$G$143,2,FALSE)","v":"Coquette"},9,53,{"$f":"VLOOKUP(E621,'2021'!$A$11:$G$143,2,FALSE)","v":"Caline"},{"$f":"IF(ISBLANK(E621),\"hie eu nix drischribu\",VLOOKUP(E621,'2021'!$A$11:$G$143,4,FALSE))","v":"Jäger Carlo & Lukas"}]
["2021-07-25",{"$f":"IF(ISBLANK(D622),\"Alain, nix drischribu\",VLOOKUP(D622,'2021'!$A$11:$G$143,4,FALSE))","v":"Bregy Ralf & Adolf"},{"$f":"VLOOKUP(D622,'2021'!$A$11:$G$143,2,FALSE)","v":"Flacabre"},6,45,{"$f":"VLOOKUP(E622,'2021'!$A$11:$G$143,2,FALSE)","v":"Tanja"},{"$f":"IF(ISBLANK(E622),\"hie eu nix drischribu\",VLOOKUP(E622,'2021'!$A$11:$G$143,4,FALSE))","v":"Gebrüder Jäger"}]
["2021-07-25",{"$f":"IF(ISBLANK(D623),\"Alain, nix drischribu\",VLOOKUP(D623,'2021'!$A$11:$G$143,4,FALSE))","v":"Stallung Passeraub"},{"$f":"VLOOKUP(D623,'2021'!$A$11:$G$143,2,FALSE)","v":"Bobino"},82,62,{"$f":"VLOOKUP(E623,'2021'!$A$11:$G$143,2,FALSE)","v":"Megane"},{"$f":"IF(ISBLANK(E623),\"hie eu nix drischribu\",VLOOKUP(E623,'2021'!$A$11:$G$143,4,FALSE))","v":"Jäger Carlo & Lukas"}]
["2021-07-25",{"$f":"IF(ISBLANK(D624),\"Alain, nix drischribu\",VLOOKUP(D624,'2021'!$A$11:$G$143,4,FALSE))","v":"Stallung Passeraub"},{"$f":"VLOOKUP(D624,'2021'!$A$11:$G$143,2,FALSE)","v":"Bonita"},80,49,{"$f":"VLOOKUP(E624,'2021'!$A$11:$G$143,2,FALSE)","v":"Gina-Lisa"},{"$f":"IF(ISBLANK(E624),\"hie eu nix drischribu\",VLOOKUP(E624,'2021'!$A$11:$G$143,4,FALSE))","v":"Hischier Pius"}]
["2021-07-25",{"$f":"IF(ISBLANK(D625),\"Alain, nix drischribu\",VLOOKUP(D625,'2021'!$A$11:$G$143,4,FALSE))","v":"Jäger Carlo & Lukas"},{"$f":"VLOOKUP(D625,'2021'!$A$11:$G$143,2,FALSE)","v":"Caline"},53,28,{"$f":"VLOOKUP(E625,'2021'!$A$11:$G$143,2,FALSE)","v":"Baron"},{"$f":"IF(ISBLANK(E625),\"hie eu nix drischribu\",VLOOKUP(E625,'2021'!$A$11:$G$143,4,FALSE))","v":"Fam. Leiggener"}]
["2021-07-25",{"$f":"IF(ISBLANK(D626),\"Alain, nix drischribu\",VLOOKUP(D626,'2021'!$A$11:$G$143,4,FALSE))","v":"Stallung Passeraub"},{"$f":"VLOOKUP(D626,'2021'!$A$11:$G$143,2,FALSE)","v":"Bobino"},82,15,{"$f":"VLOOKUP(E626,'2021'!$A$11:$G$143,2,FALSE)","v":"Cashida"},{"$f":"IF(ISBLANK(E626),\"hie eu nix drischribu\",VLOOKUP(E626,'2021'!$A$11:$G$143,4,FALSE))","v":"Bregy Ralf & Adolf"}]
["2021-07-25",{"$f":"IF(ISBLANK(D627),\"Alain, nix drischribu\",VLOOKUP(D627,'2021'!$A$11:$G$143,4,FALSE))","v":"Hischier Pius"},{"$f":"VLOOKUP(D627,'2021'!$A$11:$G$143,2,FALSE)","v":"Safira"},51,40,{"$f":"VLOOKUP(E627,'2021'!$A$11:$G$143,2,FALSE)","v":"Tina"},{"$f":"IF(ISBLANK(E627),\"hie eu nix drischribu\",VLOOKUP(E627,'2021'!$A$11:$G$143,4,FALSE))","v":"Gebrüder Jäger"}]
["2021-07-25",{"$f":"IF(ISBLANK(D628),\"Alain, nix drischribu\",VLOOKUP(D628,'2021'!$A$11:$G$143,4,FALSE))","v":"Hischier H. & Bühlmann J."},{"$f":"VLOOKUP(D628,'2021'!$A$11:$G$143,2,FALSE)","v":"Jamada"},48,73,{"$f":"VLOOKUP(E628,'2021'!$A$11:$G$143,2,FALSE)","v":"Bajka"},{"$f":"IF(ISBLANK(E628),\"hie eu nix drischribu\",VLOOKUP(E628,'2021'!$A$11:$G$143,4,FALSE))","v":"Stallung Passeraub"}]
["2021-07-25",{"$f":"IF(ISBLANK(D629),\"Alain, nix drischribu\",VLOOKUP(D629,'2021'!$A$11:$G$143,4,FALSE))","v":"Stallung Passeraub"},{"$f":"VLOOKUP(D629,'2021'!$A$11:$G$143,2,FALSE)","v":"Ballerine"},78,15,{"$f":"VLOOKUP(E629,'2021'!$A$11:$G$143,2,FALSE)","v":"Cashida"},{"$f":"IF(ISBLANK(E629),\"hie eu nix drischribu\",VLOOKUP(E629,'2021'!$A$11:$G$143,4,FALSE))","v":"Bregy Ralf & Adolf"}]
["2021-07-25",{"$f":"IF(ISBLANK(D630),\"Alain, nix drischribu\",VLOOKUP(D630,'2021'!$A$11:$G$143,4,FALSE))","v":"Stallung Passeraub"},{"$f":"VLOOKUP(D630,'2021'!$A$11:$G$143,2,FALSE)","v":"Bobino"},82,6,{"$f":"VLOOKUP(E630,'2021'!$A$11:$G$143,2,FALSE)","v":"Flacabre"},{"$f":"IF(ISBLANK(E630),\"hie eu nix drischribu\",VLOOKUP(E630,'2021'!$A$11:$G$143,4,FALSE))","v":"Bregy Ralf & Adolf"}]
["2021-07-25",{"$f":"IF(ISBLANK(D631),\"Alain, nix drischribu\",VLOOKUP(D631,'2021'!$A$11:$G$143,4,FALSE))","v":"Hischier H. & Bühlmann J."},{"$f":"VLOOKUP(D631,'2021'!$A$11:$G$143,2,FALSE)","v":"Lenja"},47,50,{"$f":"VLOOKUP(E631,'2021'!$A$11:$G$143,2,FALSE)","v":"Pruedence"},{"$f":"IF(ISBLANK(E631),\"hie eu nix drischribu\",VLOOKUP(E631,'2021'!$A$11:$G$143,4,FALSE))","v":"Hischier Pius"}]
["2021-07-24",{"$f":"IF(ISBLANK(D632),\"Alain, nix drischribu\",VLOOKUP(D632,'2021'!$A$11:$G$143,4,FALSE))","v":"Bregy Ralf & Adolf"},{"$f":"VLOOKUP(D632,'2021'!$A$11:$G$143,2,FALSE)","v":"Cashida"},15,82,{"$f":"VLOOKUP(E632,'2021'!$A$11:$G$143,2,FALSE)","v":"Bobino"},{"$f":"IF(ISBLANK(E632),\"hie eu nix drischribu\",VLOOKUP(E632,'2021'!$A$11:$G$143,4,FALSE))","v":"Stallung Passeraub"}]
["2021-07-24",{"$f":"IF(ISBLANK(D633),\"Alain, nix drischribu\",VLOOKUP(D633,'2021'!$A$11:$G$143,4,FALSE))","v":"Jäger Carlo & Lukas"},{"$f":"VLOOKUP(D633,'2021'!$A$11:$G$143,2,FALSE)","v":"Caline"},53,44,{"$f":"VLOOKUP(E633,'2021'!$A$11:$G$143,2,FALSE)","v":"Tiara"},{"$f":"IF(ISBLANK(E633),\"hie eu nix drischribu\",VLOOKUP(E633,'2021'!$A$11:$G$143,4,FALSE))","v":"Gebrüder Jäger"}]
["2021-07-24",{"$f":"IF(ISBLANK(D634),\"Alain, nix drischribu\",VLOOKUP(D634,'2021'!$A$11:$G$143,4,FALSE))","v":"Hischier Pius"},{"$f":"VLOOKUP(D634,'2021'!$A$11:$G$143,2,FALSE)","v":"Pruedence"},50,40,{"$f":"VLOOKUP(E634,'2021'!$A$11:$G$143,2,FALSE)","v":"Tina"},{"$f":"IF(ISBLANK(E634),\"hie eu nix drischribu\",VLOOKUP(E634,'2021'!$A$11:$G$143,4,FALSE))","v":"Gebrüder Jäger"}]
["2021-07-24",{"$f":"IF(ISBLANK(D635),\"Alain, nix drischribu\",VLOOKUP(D635,'2021'!$A$11:$G$143,4,FALSE))","v":"Fam. Leiggener"},{"$f":"VLOOKUP(D635,'2021'!$A$11:$G$143,2,FALSE)","v":"Baron"},28,59,{"$f":"VLOOKUP(E635,'2021'!$A$11:$G$143,2,FALSE)","v":"Samba"},{"$f":"IF(ISBLANK(E635),\"hie eu nix drischribu\",VLOOKUP(E635,'2021'!$A$11:$G$143,4,FALSE))","v":"Jäger Carlo & Lukas"}]
["2021-07-24",{"$f":"IF(ISBLANK(D636),\"Alain, nix drischribu\",VLOOKUP(D636,'2021'!$A$11:$G$143,4,FALSE))","v":"Stallung Passeraub"},{"$f":"VLOOKUP(D636,'2021'!$A$11:$G$143,2,FALSE)","v":"Ballerine"},78,15,{"$f":"VLOOKUP(E636,'2021'!$A$11:$G$143,2,FALSE)","v":"Cashida"},{"$f":"IF(ISBLANK(E636),\"hie eu nix drischribu\",VLOOKUP(E636,'2021'!$A$11:$G$143,4,FALSE))","v":"Bregy Ralf & Adolf"}]
["2021-07-24",{"$f":"IF(ISBLANK(D637),\"Alain, nix drischribu\",VLOOKUP(D637,'2021'!$A$11:$G$143,4,FALSE))","v":"Sewer R. & Thommen S."},{"$f":"VLOOKUP(D637,'2021'!$A$11:$G$143,2,FALSE)","v":"Malice"},88,53,{"$f":"VLOOKUP(E637,'2021'!$A$11:$G$143,2,FALSE)","v":"Caline"},{"$f":"IF(ISBLANK(E637),\"hie eu nix drischribu\",VLOOKUP(E637,'2021'!$A$11:$G$143,4,FALSE))","v":"Jäger Carlo & Lukas"}]
["2021-07-24",{"$f":"IF(ISBLANK(D638),\"Alain, nix drischribu\",VLOOKUP(D638,'2021'!$A$11:$G$143,4,FALSE))","v":"Jäger Carlo & Lukas"},{"$f":"VLOOKUP(D638,'2021'!$A$11:$G$143,2,FALSE)","v":"Bayonne"},60,31,{"$f":"VLOOKUP(E638,'2021'!$A$11:$G$143,2,FALSE)","v":"Bastis"},{"$f":"IF(ISBLANK(E638),\"hie eu nix drischribu\",VLOOKUP(E638,'2021'!$A$11:$G$143,4,FALSE))","v":"Fux W., J., & Wyer Piet"}]
["2021-07-24",{"$f":"IF(ISBLANK(D639),\"Alain, nix drischribu\",VLOOKUP(D639,'2021'!$A$11:$G$143,4,FALSE))","v":"Bregy Ralf & Adolf"},{"$f":"VLOOKUP(D639,'2021'!$A$11:$G$143,2,FALSE)","v":"Canaille"},7,119,{"$f":"VLOOKUP(E639,'2021'!$A$11:$G$143,2,FALSE)","v":"Fayola"},{"$f":"IF(ISBLANK(E639),\"hie eu nix drischribu\",VLOOKUP(E639,'2021'!$A$11:$G$143,4,FALSE))","v":"Zumofen / Gattlen"}]
["2021-07-24",{"$f":"IF(ISBLANK(D640),\"Alain, nix drischribu\",VLOOKUP(D640,'2021'!$A$11:$G$143,4,FALSE))","v":"Bregy Uli / Lisi & Pasci"},{"$f":"VLOOKUP(D640,'2021'!$A$11:$G$143,2,FALSE)","v":"Cataleya"},26,30,{"$f":"VLOOKUP(E640,'2021'!$A$11:$G$143,2,FALSE)","v":"Diamant"},{"$f":"IF(ISBLANK(E640),\"hie eu nix drischribu\",VLOOKUP(E640,'2021'!$A$11:$G$143,4,FALSE))","v":"Fux W., J., & Wyer Piet"}]
["2021-07-24",{"$f":"IF(ISBLANK(D641),\"Alain, nix drischribu\",VLOOKUP(D641,'2021'!$A$11:$G$143,4,FALSE))","v":"Bregy Ralf & Adolf"},{"$f":"VLOOKUP(D641,'2021'!$A$11:$G$143,2,FALSE)","v":"Canaille"},7,110,{"$f":"VLOOKUP(E641,'2021'!$A$11:$G$143,2,FALSE)","v":"Xena"},{"$f":"IF(ISBLANK(E641),\"hie eu nix drischribu\",VLOOKUP(E641,'2021'!$A$11:$G$143,4,FALSE))","v":"Zumofen / Gattlen"}]
["2021-07-23",{"$f":"IF(ISBLANK(D642),\"Alain, nix drischribu\",VLOOKUP(D642,'2021'!$A$11:$G$143,4,FALSE))","v":"Stallung Passeraub"},{"$f":"VLOOKUP(D642,'2021'!$A$11:$G$143,2,FALSE)","v":"Ballerine"},78,113,{"$f":"VLOOKUP(E642,'2021'!$A$11:$G$143,2,FALSE)","v":"Vanda"},{"$f":"IF(ISBLANK(E642),\"hie eu nix drischribu\",VLOOKUP(E642,'2021'!$A$11:$G$143,4,FALSE))","v":"Zumofen / Gattlen"}]
["2021-07-23",{"$f":"IF(ISBLANK(D643),\"Alain, nix drischribu\",VLOOKUP(D643,'2021'!$A$11:$G$143,4,FALSE))","v":"Fux W., J., & Wyer Piet"},{"$f":"VLOOKUP(D643,'2021'!$A$11:$G$143,2,FALSE)","v":"Baquera"},33,48,{"$f":"VLOOKUP(E643,'2021'!$A$11:$G$143,2,FALSE)","v":"Jamada"},{"$f":"IF(ISBLANK(E643),\"hie eu nix drischribu\",VLOOKUP(E643,'2021'!$A$11:$G$143,4,FALSE))","v":"Hischier H. & Bühlmann J."}]
["2021-07-23",{"$f":"IF(ISBLANK(D644),\"Alain, nix drischribu\",VLOOKUP(D644,'2021'!$A$11:$G$143,4,FALSE))","v":"Wyssen Diego & Madlen"},{"$f":"VLOOKUP(D644,'2021'!$A$11:$G$143,2,FALSE)","v":"Rasta"},102,48,{"$f":"VLOOKUP(E644,'2021'!$A$11:$G$143,2,FALSE)","v":"Jamada"},{"$f":"IF(ISBLANK(E644),\"hie eu nix drischribu\",VLOOKUP(E644,'2021'!$A$11:$G$143,4,FALSE))","v":"Hischier H. & Bühlmann J."}]
["2021-07-23",{"$f":"IF(ISBLANK(D645),\"Alain, nix drischribu\",VLOOKUP(D645,'2021'!$A$11:$G$143,4,FALSE))","v":"Stallung Passeraub"},{"$f":"VLOOKUP(D645,'2021'!$A$11:$G$143,2,FALSE)","v":"Ballerine"},78,22,{"$f":"VLOOKUP(E645,'2021'!$A$11:$G$143,2,FALSE)","v":"Xaphir"},{"$f":"IF(ISBLANK(E645),\"hie eu nix drischribu\",VLOOKUP(E645,'2021'!$A$11:$G$143,4,FALSE))","v":"Bregy Uli / Lisi & Pasci"}]
["2021-07-23",{"$f":"IF(ISBLANK(D646),\"Alain, nix drischribu\",VLOOKUP(D646,'2021'!$A$11:$G$143,4,FALSE))","v":"Bregy Ralf & Adolf"},{"$f":"VLOOKUP(D646,'2021'!$A$11:$G$143,2,FALSE)","v":"Cashida"},15,46,{"$f":"VLOOKUP(E646,'2021'!$A$11:$G$143,2,FALSE)","v":"Lorens"},{"$f":"IF(ISBLANK(E646),\"hie eu nix drischribu\",VLOOKUP(E646,'2021'!$A$11:$G$143,4,FALSE))","v":"Gebrüder Jäger"}]
["2021-07-23",{"$f":"IF(ISBLANK(D647),\"Alain, nix drischribu\",VLOOKUP(D647,'2021'!$A$11:$G$143,4,FALSE))","v":"Bregy Ralf & Adolf"},{"$f":"VLOOKUP(D647,'2021'!$A$11:$G$143,2,FALSE)","v":"Coquette"},9,124,{"$f":"VLOOKUP(E647,'2021'!$A$11:$G$143,2,FALSE)","v":"Xara"},{"$f":"IF(ISBLANK(E647),\"hie eu nix drischribu\",VLOOKUP(E647,'2021'!$A$11:$G$143,4,FALSE))","v":"Zumofen / Gattlen"}]
["2021-07-23",{"$f":"IF(ISBLANK(D648),\"Alain, nix drischribu\",VLOOKUP(D648,'2021'!$A$11:$G$143,4,FALSE))","v":"Bregy Silvan & Patrik"},{"$f":"VLOOKUP(D648,'2021'!$A$11:$G$143,2,FALSE)","v":"Milow"},12,21,{"$f":"VLOOKUP(E648,'2021'!$A$11:$G$143,2,FALSE)","v":"Bora"},{"$f":"IF(ISBLANK(E648),\"hie eu nix drischribu\",VLOOKUP(E648,'2021'!$A$11:$G$143,4,FALSE))","v":"Bregy Uli / Lisi & Pasci"}]
["2021-07-23",{"$f":"IF(ISBLANK(D649),\"Alain, nix drischribu\",VLOOKUP(D649,'2021'!$A$11:$G$143,4,FALSE))","v":"Stallung zum Stäg"},{"$f":"VLOOKUP(D649,'2021'!$A$11:$G$143,2,FALSE)","v":"Cayenne"},83,95,{"$f":"VLOOKUP(E649,'2021'!$A$11:$G$143,2,FALSE)","v":"Vivana"},{"$f":"IF(ISBLANK(E649),\"hie eu nix drischribu\",VLOOKUP(E649,'2021'!$A$11:$G$143,4,FALSE))","v":"Williner Anton"}]
["2021-07-23",{"$f":"IF(ISBLANK(D650),\"Alain, nix drischribu\",VLOOKUP(D650,'2021'!$A$11:$G$143,4,FALSE))","v":"Hischier Pius"},{"$f":"VLOOKUP(D650,'2021'!$A$11:$G$143,2,FALSE)","v":"Pablo"},52,30,{"$f":"VLOOKUP(E650,'2021'!$A$11:$G$143,2,FALSE)","v":"Diamant"},{"$f":"IF(ISBLANK(E650),\"hie eu nix drischribu\",VLOOKUP(E650,'2021'!$A$11:$G$143,4,FALSE))","v":"Fux W., J., & Wyer Piet"}]
["2021-07-23",{"$f":"IF(ISBLANK(D651),\"Alain, nix drischribu\",VLOOKUP(D651,'2021'!$A$11:$G$143,4,FALSE))","v":"Zumofen / Gattlen"},{"$f":"VLOOKUP(D651,'2021'!$A$11:$G$143,2,FALSE)","v":"Xena"},110,7,{"$f":"VLOOKUP(E651,'2021'!$A$11:$G$143,2,FALSE)","v":"Canaille"},{"$f":"IF(ISBLANK(E651),\"hie eu nix drischribu\",VLOOKUP(E651,'2021'!$A$11:$G$143,4,FALSE))","v":"Bregy Ralf & Adolf"}]
["2021-07-23",{"$f":"IF(ISBLANK(D652),\"Alain, nix drischribu\",VLOOKUP(D652,'2021'!$A$11:$G$143,4,FALSE))","v":"Gebrüder Jäger"},{"$f":"VLOOKUP(D652,'2021'!$A$11:$G$143,2,FALSE)","v":"Lorens"},46,39,{"$f":"VLOOKUP(E652,'2021'!$A$11:$G$143,2,FALSE)","v":"Bacardi"},{"$f":"IF(ISBLANK(E652),\"hie eu nix drischribu\",VLOOKUP(E652,'2021'!$A$11:$G$143,4,FALSE))","v":"Fux W., J., & Wyer Piet"}]
["2021-07-23",{"$f":"IF(ISBLANK(D653),\"Alain, nix drischribu\",VLOOKUP(D653,'2021'!$A$11:$G$143,4,FALSE))","v":"Hutter Richard "},{"$f":"VLOOKUP(D653,'2021'!$A$11:$G$143,2,FALSE)","v":"Pablo"},76,40,{"$f":"VLOOKUP(E653,'2021'!$A$11:$G$143,2,FALSE)","v":"Tina"},{"$f":"IF(ISBLANK(E653),\"hie eu nix drischribu\",VLOOKUP(E653,'2021'!$A$11:$G$143,4,FALSE))","v":"Gebrüder Jäger"}]
["2021-07-23",{"$f":"IF(ISBLANK(D654),\"Alain, nix drischribu\",VLOOKUP(D654,'2021'!$A$11:$G$143,4,FALSE))","v":"Bregy Ralf & Adolf"},{"$f":"VLOOKUP(D654,'2021'!$A$11:$G$143,2,FALSE)","v":"Canabis"},14,75,{"$f":"VLOOKUP(E654,'2021'!$A$11:$G$143,2,FALSE)","v":"Menance"},{"$f":"IF(ISBLANK(E654),\"hie eu nix drischribu\",VLOOKUP(E654,'2021'!$A$11:$G$143,4,FALSE))","v":"Stallung Passeraub"}]
["2021-07-23",{"$f":"IF(ISBLANK(D655),\"Alain, nix drischribu\",VLOOKUP(D655,'2021'!$A$11:$G$143,4,FALSE))","v":"Jäger Carlo & Lukas"},{"$f":"VLOOKUP(D655,'2021'!$A$11:$G$143,2,FALSE)","v":"Mygale"},56,81,{"$f":"VLOOKUP(E655,'2021'!$A$11:$G$143,2,FALSE)","v":"Fägär"},{"$f":"IF(ISBLANK(E655),\"hie eu nix drischribu\",VLOOKUP(E655,'2021'!$A$11:$G$143,4,FALSE))","v":"Hutter Richard"}]
["2021-07-23",{"$f":"IF(ISBLANK(D656),\"Alain, nix drischribu\",VLOOKUP(D656,'2021'!$A$11:$G$143,4,FALSE))","v":"Bregy Uli / Lisi & Pasci"},{"$f":"VLOOKUP(D656,'2021'!$A$11:$G$143,2,FALSE)","v":"Bora"},21,39,{"$f":"VLOOKUP(E656,'2021'!$A$11:$G$143,2,FALSE)","v":"Bacardi"},{"$f":"IF(ISBLANK(E656),\"hie eu nix drischribu\",VLOOKUP(E656,'2021'!$A$11:$G$143,4,FALSE))","v":"Fux W., J., & Wyer Piet"}]
["2021-07-23",{"$f":"IF(ISBLANK(D657),\"Alain, nix drischribu\",VLOOKUP(D657,'2021'!$A$11:$G$143,4,FALSE))","v":"Sewer R. & Thommen S."},{"$f":"VLOOKUP(D657,'2021'!$A$11:$G$143,2,FALSE)","v":"Biscot"},89,90,{"$f":"VLOOKUP(E657,'2021'!$A$11:$G$143,2,FALSE)","v":"Bolera"},{"$f":"IF(ISBLANK(E657),\"hie eu nix drischribu\",VLOOKUP(E657,'2021'!$A$11:$G$143,4,FALSE))","v":"Sewer R. & Thommen S."}]
["2021-07-23",{"$f":"IF(ISBLANK(D658),\"Alain, nix drischribu\",VLOOKUP(D658,'2021'!$A$11:$G$143,4,FALSE))","v":"Stallung Passeraub"},{"$f":"VLOOKUP(D658,'2021'!$A$11:$G$143,2,FALSE)","v":"Beres"},77,50,{"$f":"VLOOKUP(E658,'2021'!$A$11:$G$143,2,FALSE)","v":"Pruedence"},{"$f":"IF(ISBLANK(E658),\"hie eu nix drischribu\",VLOOKUP(E658,'2021'!$A$11:$G$143,4,FALSE))","v":"Hischier Pius"}]
["2021-07-23",{"$f":"IF(ISBLANK(D659),\"Alain, nix drischribu\",VLOOKUP(D659,'2021'!$A$11:$G$143,4,FALSE))","v":"Bayard Medard & Gustav"},{"$f":"VLOOKUP(D659,'2021'!$A$11:$G$143,2,FALSE)","v":"Venus"},1,66,{"$f":"VLOOKUP(E659,'2021'!$A$11:$G$143,2,FALSE)","v":"Taverne"},{"$f":"IF(ISBLANK(E659),\"hie eu nix drischribu\",VLOOKUP(E659,'2021'!$A$11:$G$143,4,FALSE))","v":"Jäger Carlo & Lukas"}]
["2021-07-22",{"$f":"IF(ISBLANK(D660),\"Alain, nix drischribu\",VLOOKUP(D660,'2021'!$A$11:$G$143,4,FALSE))","v":"Stallung Passeraub"},{"$f":"VLOOKUP(D660,'2021'!$A$11:$G$143,2,FALSE)","v":"Ballerine"},78,20,{"$f":"VLOOKUP(E660,'2021'!$A$11:$G$143,2,FALSE)","v":"Caline"},{"$f":"IF(ISBLANK(E660),\"hie eu nix drischribu\",VLOOKUP(E660,'2021'!$A$11:$G$143,4,FALSE))","v":" Bregy Uli / Lisi & Pasci"}]
["2021-07-22",{"$f":"IF(ISBLANK(D661),\"Alain, nix drischribu\",VLOOKUP(D661,'2021'!$A$11:$G$143,4,FALSE))","v":"Zumofen / Gattlen"},{"$f":"VLOOKUP(D661,'2021'!$A$11:$G$143,2,FALSE)","v":"Fayola"},119,19,{"$f":"VLOOKUP(E661,'2021'!$A$11:$G$143,2,FALSE)","v":"Tiranie"},{"$f":"IF(ISBLANK(E661),\"hie eu nix drischribu\",VLOOKUP(E661,'2021'!$A$11:$G$143,4,FALSE))","v":"Bregy Uli / Lisi & Pasci"}]
["2021-07-22",{"$f":"IF(ISBLANK(D662),\"Alain, nix drischribu\",VLOOKUP(D662,'2021'!$A$11:$G$143,4,FALSE))","v":"Stallung Passeraub"},{"$f":"VLOOKUP(D662,'2021'!$A$11:$G$143,2,FALSE)","v":"Ballerine"},78,10,{"$f":"VLOOKUP(E662,'2021'!$A$11:$G$143,2,FALSE)","v":"Diabolo"},{"$f":"IF(ISBLANK(E662),\"hie eu nix drischribu\",VLOOKUP(E662,'2021'!$A$11:$G$143,4,FALSE))","v":"Bregy Ralf & Adolf"}]
["2021-07-22",{"$f":"IF(ISBLANK(D663),\"Alain, nix drischribu\",VLOOKUP(D663,'2021'!$A$11:$G$143,4,FALSE))","v":"Zumofen / Gattlen"},{"$f":"VLOOKUP(D663,'2021'!$A$11:$G$143,2,FALSE)","v":"Xana"},122,57,{"$f":"VLOOKUP(E663,'2021'!$A$11:$G$143,2,FALSE)","v":"Prune"},{"$f":"IF(ISBLANK(E663),\"hie eu nix drischribu\",VLOOKUP(E663,'2021'!$A$11:$G$143,4,FALSE))","v":"Jäger Carlo & Lukas"}]
["2021-07-22",{"$f":"IF(ISBLANK(D664),\"Alain, nix drischribu\",VLOOKUP(D664,'2021'!$A$11:$G$143,4,FALSE))","v":"Jäger Carlo & Lukas"},{"$f":"VLOOKUP(D664,'2021'!$A$11:$G$143,2,FALSE)","v":"Pivoine"},65,75,{"$f":"VLOOKUP(E664,'2021'!$A$11:$G$143,2,FALSE)","v":"Menance"},{"$f":"IF(ISBLANK(E664),\"hie eu nix drischribu\",VLOOKUP(E664,'2021'!$A$11:$G$143,4,FALSE))","v":"Stallung Passeraub"}]
["2021-07-22",{"$f":"IF(ISBLANK(D665),\"Alain, nix drischribu\",VLOOKUP(D665,'2021'!$A$11:$G$143,4,FALSE))","v":"Bregy Ralf & Adolf"},{"$f":"VLOOKUP(D665,'2021'!$A$11:$G$143,2,FALSE)","v":"Flacabre"},6,24,{"$f":"VLOOKUP(E665,'2021'!$A$11:$G$143,2,FALSE)","v":"Catalina"},{"$f":"IF(ISBLANK(E665),\"hie eu nix drischribu\",VLOOKUP(E665,'2021'!$A$11:$G$143,4,FALSE))","v":"Bregy Uli / Lisi & Pasci"}]
["2021-07-22",{"$f":"IF(ISBLANK(D666),\"Alain, nix drischribu\",VLOOKUP(D666,'2021'!$A$11:$G$143,4,FALSE))","v":"Williner Anton"},{"$f":"VLOOKUP(D666,'2021'!$A$11:$G$143,2,FALSE)","v":"Tira"},98,122,{"$f":"VLOOKUP(E666,'2021'!$A$11:$G$143,2,FALSE)","v":"Xana"},{"$f":"IF(ISBLANK(E666),\"hie eu nix drischribu\",VLOOKUP(E666,'2021'!$A$11:$G$143,4,FALSE))","v":"Zumofen / Gattlen"}]
["2021-07-21",{"$f":"IF(ISBLANK(D667),\"Alain, nix drischribu\",VLOOKUP(D667,'2021'!$A$11:$G$143,4,FALSE))","v":"Stallung Passeraub"},{"$f":"VLOOKUP(D667,'2021'!$A$11:$G$143,2,FALSE)","v":"Beres"},77,6,{"$f":"VLOOKUP(E667,'2021'!$A$11:$G$143,2,FALSE)","v":"Flacabre"},{"$f":"IF(ISBLANK(E667),\"hie eu nix drischribu\",VLOOKUP(E667,'2021'!$A$11:$G$143,4,FALSE))","v":"Bregy Ralf & Adolf"}]
["2021-07-21",{"$f":"IF(ISBLANK(D668),\"Alain, nix drischribu\",VLOOKUP(D668,'2021'!$A$11:$G$143,4,FALSE))","v":"Bregy Uli / Lisi & Pasci"},{"$f":"VLOOKUP(D668,'2021'!$A$11:$G$143,2,FALSE)","v":"Calette"},25,65,{"$f":"VLOOKUP(E668,'2021'!$A$11:$G$143,2,FALSE)","v":"Pivoine"},{"$f":"IF(ISBLANK(E668),\"hie eu nix drischribu\",VLOOKUP(E668,'2021'!$A$11:$G$143,4,FALSE))","v":"Jäger Carlo & Lukas"}]
["2021-07-21",{"$f":"IF(ISBLANK(D669),\"Alain, nix drischribu\",VLOOKUP(D669,'2021'!$A$11:$G$143,4,FALSE))","v":"Zumofen / Gattlen"},{"$f":"VLOOKUP(D669,'2021'!$A$11:$G$143,2,FALSE)","v":"Violin"},107,103,{"$f":"VLOOKUP(E669,'2021'!$A$11:$G$143,2,FALSE)","v":"Xena"},{"$f":"IF(ISBLANK(E669),\"hie eu nix drischribu\",VLOOKUP(E669,'2021'!$A$11:$G$143,4,FALSE))","v":"Wyssen Diego & Madlen"}]
["2021-07-21",{"$f":"IF(ISBLANK(D670),\"Alain, nix drischribu\",VLOOKUP(D670,'2021'!$A$11:$G$143,4,FALSE))","v":"Jäger Carlo & Lukas"},{"$f":"VLOOKUP(D670,'2021'!$A$11:$G$143,2,FALSE)","v":"Pivoine"},65,69,{"$f":"VLOOKUP(E670,'2021'!$A$11:$G$143,2,FALSE)","v":"Bavaria"},{"$f":"IF(ISBLANK(E670),\"hie eu nix drischribu\",VLOOKUP(E670,'2021'!$A$11:$G$143,4,FALSE))","v":"Mathieu Leander & Sascha"}]
["2021-07-21",{"$f":"IF(ISBLANK(D671),\"Alain, nix drischribu\",VLOOKUP(D671,'2021'!$A$11:$G$143,4,FALSE))","v":"Zumofen / Gattlen"},{"$f":"VLOOKUP(D671,'2021'!$A$11:$G$143,2,FALSE)","v":"Fachita"},123,17,{"$f":"VLOOKUP(E671,'2021'!$A$11:$G$143,2,FALSE)","v":"Simba"},{"$f":"IF(ISBLANK(E671),\"hie eu nix drischribu\",VLOOKUP(E671,'2021'!$A$11:$G$143,4,FALSE))","v":"Bregy Uli / Lisi & Pasci"}]
["2021-07-21",{"$f":"IF(ISBLANK(D672),\"Alain, nix drischribu\",VLOOKUP(D672,'2021'!$A$11:$G$143,4,FALSE))","v":"Zumofen / Gattlen"},{"$f":"VLOOKUP(D672,'2021'!$A$11:$G$143,2,FALSE)","v":"Fayola"},119,8,{"$f":"VLOOKUP(E672,'2021'!$A$11:$G$143,2,FALSE)","v":"Creola"},{"$f":"IF(ISBLANK(E672),\"hie eu nix drischribu\",VLOOKUP(E672,'2021'!$A$11:$G$143,4,FALSE))","v":"Bregy Ralf & Adolf"}]
["2021-07-21",{"$f":"IF(ISBLANK(D673),\"Alain, nix drischribu\",VLOOKUP(D673,'2021'!$A$11:$G$143,4,FALSE))","v":"Zumofen / Gattlen"},{"$f":"VLOOKUP(D673,'2021'!$A$11:$G$143,2,FALSE)","v":"Violette"},108,8,{"$f":"VLOOKUP(E673,'2021'!$A$11:$G$143,2,FALSE)","v":"Creola"},{"$f":"IF(ISBLANK(E673),\"hie eu nix drischribu\",VLOOKUP(E673,'2021'!$A$11:$G$143,4,FALSE))","v":"Bregy Ralf & Adolf"}]
["2021-07-21",{"$f":"IF(ISBLANK(D674),\"Alain, nix drischribu\",VLOOKUP(D674,'2021'!$A$11:$G$143,4,FALSE))","v":"Zumofen / Gattlen"},{"$f":"VLOOKUP(D674,'2021'!$A$11:$G$143,2,FALSE)","v":"Vanda"},113,94,{"$f":"VLOOKUP(E674,'2021'!$A$11:$G$143,2,FALSE)","v":"Tigra"},{"$f":"IF(ISBLANK(E674),\"hie eu nix drischribu\",VLOOKUP(E674,'2021'!$A$11:$G$143,4,FALSE))","v":"Williner Anton"}]
["2021-07-21",{"$f":"IF(ISBLANK(D675),\"Alain, nix drischribu\",VLOOKUP(D675,'2021'!$A$11:$G$143,4,FALSE))","v":"Bregy Ralf & Adolf"},{"$f":"VLOOKUP(D675,'2021'!$A$11:$G$143,2,FALSE)","v":"Coquette"},9,111,{"$f":"VLOOKUP(E675,'2021'!$A$11:$G$143,2,FALSE)","v":"Palona"},{"$f":"IF(ISBLANK(E675),\"hie eu nix drischribu\",VLOOKUP(E675,'2021'!$A$11:$G$143,4,FALSE))","v":"Zumofen / Gattlen"}]
["2021-07-20",{"$f":"IF(ISBLANK(D676),\"Alain, nix drischribu\",VLOOKUP(D676,'2021'!$A$11:$G$143,4,FALSE))","v":"Stallung Passeraub"},{"$f":"VLOOKUP(D676,'2021'!$A$11:$G$143,2,FALSE)","v":"Beres"},77,6,{"$f":"VLOOKUP(E676,'2021'!$A$11:$G$143,2,FALSE)","v":"Flacabre"},{"$f":"IF(ISBLANK(E676),\"hie eu nix drischribu\",VLOOKUP(E676,'2021'!$A$11:$G$143,4,FALSE))","v":"Bregy Ralf & Adolf"}]
["2021-07-20",{"$f":"IF(ISBLANK(D677),\"Alain, nix drischribu\",VLOOKUP(D677,'2021'!$A$11:$G$143,4,FALSE))","v":"Zumofen / Gattlen"},{"$f":"VLOOKUP(D677,'2021'!$A$11:$G$143,2,FALSE)","v":"Rambo"},120,6,{"$f":"VLOOKUP(E677,'2021'!$A$11:$G$143,2,FALSE)","v":"Flacabre"},{"$f":"IF(ISBLANK(E677),\"hie eu nix drischribu\",VLOOKUP(E677,'2021'!$A$11:$G$143,4,FALSE))","v":"Bregy Ralf & Adolf"}]
["2021-07-20",{"$f":"IF(ISBLANK(D678),\"Alain, nix drischribu\",VLOOKUP(D678,'2021'!$A$11:$G$143,4,FALSE))","v":"Fux W., J., & Wyer Piet"},{"$f":"VLOOKUP(D678,'2021'!$A$11:$G$143,2,FALSE)","v":"Bresil"},38,75,{"$f":"VLOOKUP(E678,'2021'!$A$11:$G$143,2,FALSE)","v":"Menance"},{"$f":"IF(ISBLANK(E678),\"hie eu nix drischribu\",VLOOKUP(E678,'2021'!$A$11:$G$143,4,FALSE))","v":"Stallung Passeraub"}]
["2021-07-20",{"$f":"IF(ISBLANK(D679),\"Alain, nix drischribu\",VLOOKUP(D679,'2021'!$A$11:$G$143,4,FALSE))","v":"Gebrüder Jäger"},{"$f":"VLOOKUP(D679,'2021'!$A$11:$G$143,2,FALSE)","v":"Tiara"},44,47,{"$f":"VLOOKUP(E679,'2021'!$A$11:$G$143,2,FALSE)","v":"Lenja"},{"$f":"IF(ISBLANK(E679),\"hie eu nix drischribu\",VLOOKUP(E679,'2021'!$A$11:$G$143,4,FALSE))","v":"Hischier H. & Bühlmann J."}]
["2021-07-20",{"$f":"IF(ISBLANK(D680),\"Alain, nix drischribu\",VLOOKUP(D680,'2021'!$A$11:$G$143,4,FALSE))","v":"Williner Anton"},{"$f":"VLOOKUP(D680,'2021'!$A$11:$G$143,2,FALSE)","v":"Violine"},97,2,{"$f":"VLOOKUP(E680,'2021'!$A$11:$G$143,2,FALSE)","v":"Fantastic"},{"$f":"IF(ISBLANK(E680),\"hie eu nix drischribu\",VLOOKUP(E680,'2021'!$A$11:$G$143,4,FALSE))","v":"Bayard Medard & Gustav"}]
["2021-07-20",{"$f":"IF(ISBLANK(D681),\"Alain, nix drischribu\",VLOOKUP(D681,'2021'!$A$11:$G$143,4,FALSE))","v":"Jäger Carlo & Lukas"},{"$f":"VLOOKUP(D681,'2021'!$A$11:$G$143,2,FALSE)","v":"Pivoine"},65,36,{"$f":"VLOOKUP(E681,'2021'!$A$11:$G$143,2,FALSE)","v":"Calmy"},{"$f":"IF(ISBLANK(E681),\"hie eu nix drischribu\",VLOOKUP(E681,'2021'!$A$11:$G$143,4,FALSE))","v":"Fux W., J., & Wyer Piet"}]
["2021-07-20",{"$f":"IF(ISBLANK(D682),\"Alain, nix drischribu\",VLOOKUP(D682,'2021'!$A$11:$G$143,4,FALSE))","v":"Zumofen / Gattlen"},{"$f":"VLOOKUP(D682,'2021'!$A$11:$G$143,2,FALSE)","v":"Xana"},122,58,{"$f":"VLOOKUP(E682,'2021'!$A$11:$G$143,2,FALSE)","v":"Bataille"},{"$f":"IF(ISBLANK(E682),\"hie eu nix drischribu\",VLOOKUP(E682,'2021'!$A$11:$G$143,4,FALSE))","v":"Jäger Carlo & Lukas"}]
["2021-07-20",{"$f":"IF(ISBLANK(D683),\"Alain, nix drischribu\",VLOOKUP(D683,'2021'!$A$11:$G$143,4,FALSE))","v":"Jäger Carlo & Lukas"},{"$f":"VLOOKUP(D683,'2021'!$A$11:$G$143,2,FALSE)","v":"Bataille"},58,56,{"$f":"VLOOKUP(E683,'2021'!$A$11:$G$143,2,FALSE)","v":"Mygale"},{"$f":"IF(ISBLANK(E683),\"hie eu nix drischribu\",VLOOKUP(E683,'2021'!$A$11:$G$143,4,FALSE))","v":"Jäger Carlo & Lukas"}]
["2021-07-19",{"$f":"IF(ISBLANK(D684),\"Alain, nix drischribu\",VLOOKUP(D684,'2021'!$A$11:$G$143,4,FALSE))","v":"Bregy Ralf & Adolf"},{"$f":"VLOOKUP(D684,'2021'!$A$11:$G$143,2,FALSE)","v":"Canaille"},7,110,{"$f":"VLOOKUP(E684,'2021'!$A$11:$G$143,2,FALSE)","v":"Xena"},{"$f":"IF(ISBLANK(E684),\"hie eu nix drischribu\",VLOOKUP(E684,'2021'!$A$11:$G$143,4,FALSE))","v":"Zumofen / Gattlen"}]
["2021-07-19",{"$f":"IF(ISBLANK(D685),\"Alain, nix drischribu\",VLOOKUP(D685,'2021'!$A$11:$G$143,4,FALSE))","v":"Hutter Richard"},{"$f":"VLOOKUP(D685,'2021'!$A$11:$G$143,2,FALSE)","v":"Fägär"},81,87,{"$f":"VLOOKUP(E685,'2021'!$A$11:$G$143,2,FALSE)","v":"Tiara"},{"$f":"IF(ISBLANK(E685),\"hie eu nix drischribu\",VLOOKUP(E685,'2021'!$A$11:$G$143,4,FALSE))","v":"Sewer R. & Thommen S."}]
["2021-07-19",{"$f":"IF(ISBLANK(D686),\"Alain, nix drischribu\",VLOOKUP(D686,'2021'!$A$11:$G$143,4,FALSE))","v":"Zumofen / Gattlen"},{"$f":"VLOOKUP(D686,'2021'!$A$11:$G$143,2,FALSE)","v":"Xena"},110,6,{"$f":"VLOOKUP(E686,'2021'!$A$11:$G$143,2,FALSE)","v":"Flacabre"},{"$f":"IF(ISBLANK(E686),\"hie eu nix drischribu\",VLOOKUP(E686,'2021'!$A$11:$G$143,4,FALSE))","v":"Bregy Ralf & Adolf"}]
["2021-07-19",{"$f":"IF(ISBLANK(D687),\"Alain, nix drischribu\",VLOOKUP(D687,'2021'!$A$11:$G$143,4,FALSE))","v":"Jäger Carlo & Lukas"},{"$f":"VLOOKUP(D687,'2021'!$A$11:$G$143,2,FALSE)","v":"Caline"},53,71,{"$f":"VLOOKUP(E687,'2021'!$A$11:$G$143,2,FALSE)","v":"Balea"},{"$f":"IF(ISBLANK(E687),\"hie eu nix drischribu\",VLOOKUP(E687,'2021'!$A$11:$G$143,4,FALSE))","v":"Mathieu Leander & Sascha"}]
["2021-07-19",{"$f":"IF(ISBLANK(D688),\"Alain, nix drischribu\",VLOOKUP(D688,'2021'!$A$11:$G$143,4,FALSE))","v":"Bregy Ralf & Adolf"},{"$f":"VLOOKUP(D688,'2021'!$A$11:$G$143,2,FALSE)","v":"Coquette"},9,47,{"$f":"VLOOKUP(E688,'2021'!$A$11:$G$143,2,FALSE)","v":"Lenja"},{"$f":"IF(ISBLANK(E688),\"hie eu nix drischribu\",VLOOKUP(E688,'2021'!$A$11:$G$143,4,FALSE))","v":"Hischier H. & Bühlmann J."}]
["2021-07-19",{"$f":"IF(ISBLANK(D689),\"Alain, nix drischribu\",VLOOKUP(D689,'2021'!$A$11:$G$143,4,FALSE))","v":"Bregy Ralf & Adolf"},{"$f":"VLOOKUP(D689,'2021'!$A$11:$G$143,2,FALSE)","v":"Canabis"},14,37,{"$f":"VLOOKUP(E689,'2021'!$A$11:$G$143,2,FALSE)","v":"Toscana"},{"$f":"IF(ISBLANK(E689),\"hie eu nix drischribu\",VLOOKUP(E689,'2021'!$A$11:$G$143,4,FALSE))","v":"Fux W., J., & Wyer Piet"}]
["2021-07-19",{"$f":"IF(ISBLANK(D690),\"Alain, nix drischribu\",VLOOKUP(D690,'2021'!$A$11:$G$143,4,FALSE))","v":"Zumofen / Gattlen"},{"$f":"VLOOKUP(D690,'2021'!$A$11:$G$143,2,FALSE)","v":"Rigolo"},117,34,{"$f":"VLOOKUP(E690,'2021'!$A$11:$G$143,2,FALSE)","v":"Valaisanne"},{"$f":"IF(ISBLANK(E690),\"hie eu nix drischribu\",VLOOKUP(E690,'2021'!$A$11:$G$143,4,FALSE))","v":"Fux W., J., & Wyer Piet"}]
["2021-07-19",{"$f":"IF(ISBLANK(D691),\"Alain, nix drischribu\",VLOOKUP(D691,'2021'!$A$11:$G$143,4,FALSE))","v":"Zumofen / Gattlen"},{"$f":"VLOOKUP(D691,'2021'!$A$11:$G$143,2,FALSE)","v":"Souris"},115,81,{"$f":"VLOOKUP(E691,'2021'!$A$11:$G$143,2,FALSE)","v":"Fägär"},{"$f":"IF(ISBLANK(E691),\"hie eu nix drischribu\",VLOOKUP(E691,'2021'!$A$11:$G$143,4,FALSE))","v":"Hutter Richard"}]
["2021-07-19",{"$f":"IF(ISBLANK(D692),\"Alain, nix drischribu\",VLOOKUP(D692,'2021'!$A$11:$G$143,4,FALSE))","v":"Jäger Carlo & Lukas"},{"$f":"VLOOKUP(D692,'2021'!$A$11:$G$143,2,FALSE)","v":"Bataille"},58,111,{"$f":"VLOOKUP(E692,'2021'!$A$11:$G$143,2,FALSE)","v":"Palona"},{"$f":"IF(ISBLANK(E692),\"hie eu nix drischribu\",VLOOKUP(E692,'2021'!$A$11:$G$143,4,FALSE))","v":"Zumofen / Gattlen"}]
["2021-07-18",{"$f":"IF(ISBLANK(D693),\"Alain, nix drischribu\",VLOOKUP(D693,'2021'!$A$11:$G$143,4,FALSE))","v":"Bregy Uli / Lisi & Pasci"},{"$f":"VLOOKUP(D693,'2021'!$A$11:$G$143,2,FALSE)","v":"Calette"},25,121,{"$f":"VLOOKUP(E693,'2021'!$A$11:$G$143,2,FALSE)","v":"Raja"},{"$f":"IF(ISBLANK(E693),\"hie eu nix drischribu\",VLOOKUP(E693,'2021'!$A$11:$G$143,4,FALSE))","v":"Zumofen / Gattlen"}]
["2021-07-18",{"$f":"IF(ISBLANK(D694),\"Alain, nix drischribu\",VLOOKUP(D694,'2021'!$A$11:$G$143,4,FALSE))","v":"Bregy Ralf & Adolf"},{"$f":"VLOOKUP(D694,'2021'!$A$11:$G$143,2,FALSE)","v":"Flacabre"},6,37,{"$f":"VLOOKUP(E694,'2021'!$A$11:$G$143,2,FALSE)","v":"Toscana"},{"$f":"IF(ISBLANK(E694),\"hie eu nix drischribu\",VLOOKUP(E694,'2021'!$A$11:$G$143,4,FALSE))","v":"Fux W., J., & Wyer Piet"}]
["2021-07-18",{"$f":"IF(ISBLANK(D695),\"Alain, nix drischribu\",VLOOKUP(D695,'2021'!$A$11:$G$143,4,FALSE))","v":"Zumofen / Gattlen"},{"$f":"VLOOKUP(D695,'2021'!$A$11:$G$143,2,FALSE)","v":"Palona"},111,56,{"$f":"VLOOKUP(E695,'2021'!$A$11:$G$143,2,FALSE)","v":"Mygale"},{"$f":"IF(ISBLANK(E695),\"hie eu nix drischribu\",VLOOKUP(E695,'2021'!$A$11:$G$143,4,FALSE))","v":"Jäger Carlo & Lukas"}]
["2021-07-18",{"$f":"IF(ISBLANK(D696),\"Alain, nix drischribu\",VLOOKUP(D696,'2021'!$A$11:$G$143,4,FALSE))","v":"Bregy Silvan & Patrik"},{"$f":"VLOOKUP(D696,'2021'!$A$11:$G$143,2,FALSE)","v":"Milow"},12,32,{"$f":"VLOOKUP(E696,'2021'!$A$11:$G$143,2,FALSE)","v":"Mystic"},{"$f":"IF(ISBLANK(E696),\"hie eu nix drischribu\",VLOOKUP(E696,'2021'!$A$11:$G$143,4,FALSE))","v":"Fux W., J., & Wyer Piet"}]
["2021-07-18",{"$f":"IF(ISBLANK(D697),\"Alain, nix drischribu\",VLOOKUP(D697,'2021'!$A$11:$G$143,4,FALSE))","v":"Bayard Medard & Gustav"},{"$f":"VLOOKUP(D697,'2021'!$A$11:$G$143,2,FALSE)","v":"Fantastic"},2,69,{"$f":"VLOOKUP(E697,'2021'!$A$11:$G$143,2,FALSE)","v":"Bavaria"},{"$f":"IF(ISBLANK(E697),\"hie eu nix drischribu\",VLOOKUP(E697,'2021'!$A$11:$G$143,4,FALSE))","v":"Mathieu Leander & Sascha"}]
["2021-07-18",{"$f":"IF(ISBLANK(D698),\"Alain, nix drischribu\",VLOOKUP(D698,'2021'!$A$11:$G$143,4,FALSE))","v":"Zumofen / Gattlen"},{"$f":"VLOOKUP(D698,'2021'!$A$11:$G$143,2,FALSE)","v":"Fayola"},119,9,{"$f":"VLOOKUP(E698,'2021'!$A$11:$G$143,2,FALSE)","v":"Coquette"},{"$f":"IF(ISBLANK(E698),\"hie eu nix drischribu\",VLOOKUP(E698,'2021'!$A$11:$G$143,4,FALSE))","v":"Bregy Ralf & Adolf"}]
["2021-07-17",{"$f":"IF(ISBLANK(D699),\"Alain, nix drischribu\",VLOOKUP(D699,'2021'!$A$11:$G$143,4,FALSE))","v":"Bregy Silvan & Patrik"},{"$f":"VLOOKUP(D699,'2021'!$A$11:$G$143,2,FALSE)","v":"Milow"},12,119,{"$f":"VLOOKUP(E699,'2021'!$A$11:$G$143,2,FALSE)","v":"Fayola"},{"$f":"IF(ISBLANK(E699),\"hie eu nix drischribu\",VLOOKUP(E699,'2021'!$A$11:$G$143,4,FALSE))","v":"Zumofen / Gattlen"}]
["2021-07-17",{"$f":"IF(ISBLANK(D700),\"Alain, nix drischribu\",VLOOKUP(D700,'2021'!$A$11:$G$143,4,FALSE))","v":"Stallung Passeraub"},{"$f":"VLOOKUP(D700,'2021'!$A$11:$G$143,2,FALSE)","v":"Ballerine"},78,14,{"$f":"VLOOKUP(E700,'2021'!$A$11:$G$143,2,FALSE)","v":"Canabis"},{"$f":"IF(ISBLANK(E700),\"hie eu nix drischribu\",VLOOKUP(E700,'2021'!$A$11:$G$143,4,FALSE))","v":"Bregy Ralf & Adolf"}]
["2021-07-17",{"$f":"IF(ISBLANK(D701),\"Alain, nix drischribu\",VLOOKUP(D701,'2021'!$A$11:$G$143,4,FALSE))","v":"Williner Anton"},{"$f":"VLOOKUP(D701,'2021'!$A$11:$G$143,2,FALSE)","v":"Tonic"},93,28,{"$f":"VLOOKUP(E701,'2021'!$A$11:$G$143,2,FALSE)","v":"Baron"},{"$f":"IF(ISBLANK(E701),\"hie eu nix drischribu\",VLOOKUP(E701,'2021'!$A$11:$G$143,4,FALSE))","v":"Fam. Leiggener"}]
["2021-07-17",{"$f":"IF(ISBLANK(D702),\"Alain, nix drischribu\",VLOOKUP(D702,'2021'!$A$11:$G$143,4,FALSE))","v":"Zumofen / Gattlen"},{"$f":"VLOOKUP(D702,'2021'!$A$11:$G$143,2,FALSE)","v":"Rigolo"},117,19,{"$f":"VLOOKUP(E702,'2021'!$A$11:$G$143,2,FALSE)","v":"Tiranie"},{"$f":"IF(ISBLANK(E702),\"hie eu nix drischribu\",VLOOKUP(E702,'2021'!$A$11:$G$143,4,FALSE))","v":"Bregy Uli / Lisi & Pasci"}]
["2021-07-17",{"$f":"IF(ISBLANK(D703),\"Alain, nix drischribu\",VLOOKUP(D703,'2021'!$A$11:$G$143,4,FALSE))","v":"Zumofen / Gattlen"},{"$f":"VLOOKUP(D703,'2021'!$A$11:$G$143,2,FALSE)","v":"Rambo"},120,103,{"$f":"VLOOKUP(E703,'2021'!$A$11:$G$143,2,FALSE)","v":"Xena"},{"$f":"IF(ISBLANK(E703),\"hie eu nix drischribu\",VLOOKUP(E703,'2021'!$A$11:$G$143,4,FALSE))","v":"Wyssen Diego & Madlen"}]
["2021-07-17",{"$f":"IF(ISBLANK(D704),\"Alain, nix drischribu\",VLOOKUP(D704,'2021'!$A$11:$G$143,4,FALSE))","v":"Bregy Uli / Lisi & Pasci"},{"$f":"VLOOKUP(D704,'2021'!$A$11:$G$143,2,FALSE)","v":"Murphy"},16,44,{"$f":"VLOOKUP(E704,'2021'!$A$11:$G$143,2,FALSE)","v":"Tiara"},{"$f":"IF(ISBLANK(E704),\"hie eu nix drischribu\",VLOOKUP(E704,'2021'!$A$11:$G$143,4,FALSE))","v":"Gebrüder Jäger"}]
["2021-07-17",{"$f":"IF(ISBLANK(D705),\"Alain, nix drischribu\",VLOOKUP(D705,'2021'!$A$11:$G$143,4,FALSE))","v":"Bregy Ralf & Adolf"},{"$f":"VLOOKUP(D705,'2021'!$A$11:$G$143,2,FALSE)","v":"Flacabre"},6,67,{"$f":"VLOOKUP(E705,'2021'!$A$11:$G$143,2,FALSE)","v":"Tokio"},{"$f":"IF(ISBLANK(E705),\"hie eu nix drischribu\",VLOOKUP(E705,'2021'!$A$11:$G$143,4,FALSE))","v":"Jäger Carlo & Lukas"}]
["2021-07-17",{"$f":"IF(ISBLANK(D706),\"Alain, nix drischribu\",VLOOKUP(D706,'2021'!$A$11:$G$143,4,FALSE))","v":"Zumofen / Gattlen"},{"$f":"VLOOKUP(D706,'2021'!$A$11:$G$143,2,FALSE)","v":"Fayola"},119,10,{"$f":"VLOOKUP(E706,'2021'!$A$11:$G$143,2,FALSE)","v":"Diabolo"},{"$f":"IF(ISBLANK(E706),\"hie eu nix drischribu\",VLOOKUP(E706,'2021'!$A$11:$G$143,4,FALSE))","v":"Bregy Ralf & Adolf"}]
["2021-07-17",{"$f":"IF(ISBLANK(D707),\"Alain, nix drischribu\",VLOOKUP(D707,'2021'!$A$11:$G$143,4,FALSE))","v":"Zumofen / Gattlen"},{"$f":"VLOOKUP(D707,'2021'!$A$11:$G$143,2,FALSE)","v":"Violin"},107,70,{"$f":"VLOOKUP(E707,'2021'!$A$11:$G$143,2,FALSE)","v":"Bonita"},{"$f":"IF(ISBLANK(E707),\"hie eu nix drischribu\",VLOOKUP(E707,'2021'!$A$11:$G$143,4,FALSE))","v":"Mathieu Leander & Sascha"}]
["2021-07-16",{"$f":"IF(ISBLANK(D708),\"Alain, nix drischribu\",VLOOKUP(D708,'2021'!$A$11:$G$143,4,FALSE))","v":"Stallung Passeraub"},{"$f":"VLOOKUP(D708,'2021'!$A$11:$G$143,2,FALSE)","v":"Ballerine"},78,24,{"$f":"VLOOKUP(E708,'2021'!$A$11:$G$143,2,FALSE)","v":"Catalina"},{"$f":"IF(ISBLANK(E708),\"hie eu nix drischribu\",VLOOKUP(E708,'2021'!$A$11:$G$143,4,FALSE))","v":"Bregy Uli / Lisi & Pasci"}]
["2021-07-16",{"$f":"IF(ISBLANK(D709),\"Alain, nix drischribu\",VLOOKUP(D709,'2021'!$A$11:$G$143,4,FALSE))","v":"Bregy Ralf & Adolf"},{"$f":"VLOOKUP(D709,'2021'!$A$11:$G$143,2,FALSE)","v":"Canaille"},7,119,{"$f":"VLOOKUP(E709,'2021'!$A$11:$G$143,2,FALSE)","v":"Fayola"},{"$f":"IF(ISBLANK(E709),\"hie eu nix drischribu\",VLOOKUP(E709,'2021'!$A$11:$G$143,4,FALSE))","v":"Zumofen / Gattlen"}]
["2021-07-16",{"$f":"IF(ISBLANK(D710),\"Alain, nix drischribu\",VLOOKUP(D710,'2021'!$A$11:$G$143,4,FALSE))","v":"Zumofen / Gattlen"},{"$f":"VLOOKUP(D710,'2021'!$A$11:$G$143,2,FALSE)","v":"Fayola"},119,109,{"$f":"VLOOKUP(E710,'2021'!$A$11:$G$143,2,FALSE)","v":"Rena"},{"$f":"IF(ISBLANK(E710),\"hie eu nix drischribu\",VLOOKUP(E710,'2021'!$A$11:$G$143,4,FALSE))","v":"Zumofen / Gattlen"}]
["2021-07-16",{"$f":"IF(ISBLANK(D711),\"Alain, nix drischribu\",VLOOKUP(D711,'2021'!$A$11:$G$143,4,FALSE))","v":"Zumofen / Gattlen"},{"$f":"VLOOKUP(D711,'2021'!$A$11:$G$143,2,FALSE)","v":"Rena"},109,24,{"$f":"VLOOKUP(E711,'2021'!$A$11:$G$143,2,FALSE)","v":"Catalina"},{"$f":"IF(ISBLANK(E711),\"hie eu nix drischribu\",VLOOKUP(E711,'2021'!$A$11:$G$143,4,FALSE))","v":"Bregy Uli / Lisi & Pasci"}]
["2021-07-16",{"$f":"IF(ISBLANK(D712),\"Alain, nix drischribu\",VLOOKUP(D712,'2021'!$A$11:$G$143,4,FALSE))","v":"Zumofen / Gattlen"},{"$f":"VLOOKUP(D712,'2021'!$A$11:$G$143,2,FALSE)","v":"Fayola"},119,24,{"$f":"VLOOKUP(E712,'2021'!$A$11:$G$143,2,FALSE)","v":"Catalina"},{"$f":"IF(ISBLANK(E712),\"hie eu nix drischribu\",VLOOKUP(E712,'2021'!$A$11:$G$143,4,FALSE))","v":"Bregy Uli / Lisi & Pasci"}]
["2021-07-16",{"$f":"IF(ISBLANK(D713),\"Alain, nix drischribu\",VLOOKUP(D713,'2021'!$A$11:$G$143,4,FALSE))","v":"Bregy Ralf & Adolf"},{"$f":"VLOOKUP(D713,'2021'!$A$11:$G$143,2,FALSE)","v":"Creola"},8,119,{"$f":"VLOOKUP(E713,'2021'!$A$11:$G$143,2,FALSE)","v":"Fayola"},{"$f":"IF(ISBLANK(E713),\"hie eu nix drischribu\",VLOOKUP(E713,'2021'!$A$11:$G$143,4,FALSE))","v":"Zumofen / Gattlen"}]
["2021-07-16",{"$f":"IF(ISBLANK(D714),\"Alain, nix drischribu\",VLOOKUP(D714,'2021'!$A$11:$G$143,4,FALSE))","v":"Zumofen / Gattlen"},{"$f":"VLOOKUP(D714,'2021'!$A$11:$G$143,2,FALSE)","v":"Fayola"},119,15,{"$f":"VLOOKUP(E714,'2021'!$A$11:$G$143,2,FALSE)","v":"Cashida"},{"$f":"IF(ISBLANK(E714),\"hie eu nix drischribu\",VLOOKUP(E714,'2021'!$A$11:$G$143,4,FALSE))","v":"Bregy Ralf & Adolf"}]
["2021-07-16",{"$f":"IF(ISBLANK(D715),\"Alain, nix drischribu\",VLOOKUP(D715,'2021'!$A$11:$G$143,4,FALSE))","v":"Stallung Passeraub"},{"$f":"VLOOKUP(D715,'2021'!$A$11:$G$143,2,FALSE)","v":"Ballerine"},78,20,{"$f":"VLOOKUP(E715,'2021'!$A$11:$G$143,2,FALSE)","v":"Caline"},{"$f":"IF(ISBLANK(E715),\"hie eu nix drischribu\",VLOOKUP(E715,'2021'!$A$11:$G$143,4,FALSE))","v":" Bregy Uli / Lisi & Pasci"}]
["2021-07-16",{"$f":"IF(ISBLANK(D716),\"Alain, nix drischribu\",VLOOKUP(D716,'2021'!$A$11:$G$143,4,FALSE))","v":"Bregy Ralf & Adolf"},{"$f":"VLOOKUP(D716,'2021'!$A$11:$G$143,2,FALSE)","v":"Canaille"},7,6,{"$f":"VLOOKUP(E716,'2021'!$A$11:$G$143,2,FALSE)","v":"Flacabre"},{"$f":"IF(ISBLANK(E716),\"hie eu nix drischribu\",VLOOKUP(E716,'2021'!$A$11:$G$143,4,FALSE))","v":"Bregy Ralf & Adolf"}]
["2021-07-15",{"$f":"IF(ISBLANK(D717),\"Alain, nix drischribu\",VLOOKUP(D717,'2021'!$A$11:$G$143,4,FALSE))","v":"Stallung Passeraub"},{"$f":"VLOOKUP(D717,'2021'!$A$11:$G$143,2,FALSE)","v":"Ballerine"},78,42,{"$f":"VLOOKUP(E717,'2021'!$A$11:$G$143,2,FALSE)","v":"Simba"},{"$f":"IF(ISBLANK(E717),\"hie eu nix drischribu\",VLOOKUP(E717,'2021'!$A$11:$G$143,4,FALSE))","v":"Gebrüder Jäger"}]
["2021-07-15",{"$f":"IF(ISBLANK(D718),\"Alain, nix drischribu\",VLOOKUP(D718,'2021'!$A$11:$G$143,4,FALSE))","v":"Jäger Carlo & Lukas"},{"$f":"VLOOKUP(D718,'2021'!$A$11:$G$143,2,FALSE)","v":"Sera"},64,13,{"$f":"VLOOKUP(E718,'2021'!$A$11:$G$143,2,FALSE)","v":"Tequilla"},{"$f":"IF(ISBLANK(E718),\"hie eu nix drischribu\",VLOOKUP(E718,'2021'!$A$11:$G$143,4,FALSE))","v":"Bregy Silvan & Patrik"}]
["2021-07-15",{"$f":"IF(ISBLANK(D719),\"Alain, nix drischribu\",VLOOKUP(D719,'2021'!$A$11:$G$143,4,FALSE))","v":"Wyssen Diego & Madlen"},{"$f":"VLOOKUP(D719,'2021'!$A$11:$G$143,2,FALSE)","v":"Xandria"},101,66,{"$f":"VLOOKUP(E719,'2021'!$A$11:$G$143,2,FALSE)","v":"Taverne"},{"$f":"IF(ISBLANK(E719),\"hie eu nix drischribu\",VLOOKUP(E719,'2021'!$A$11:$G$143,4,FALSE))","v":"Jäger Carlo & Lukas"}]
["2021-07-15",{"$f":"IF(ISBLANK(D720),\"Alain, nix drischribu\",VLOOKUP(D720,'2021'!$A$11:$G$143,4,FALSE))","v":"Zumofen / Gattlen"},{"$f":"VLOOKUP(D720,'2021'!$A$11:$G$143,2,FALSE)","v":"Xena"},110,46,{"$f":"VLOOKUP(E720,'2021'!$A$11:$G$143,2,FALSE)","v":"Lorens"},{"$f":"IF(ISBLANK(E720),\"hie eu nix drischribu\",VLOOKUP(E720,'2021'!$A$11:$G$143,4,FALSE))","v":"Gebrüder Jäger"}]
["2021-07-14",{"$f":"IF(ISBLANK(D721),\"Alain, nix drischribu\",VLOOKUP(D721,'2021'!$A$11:$G$143,4,FALSE))","v":"Jäger Carlo & Lukas"},{"$f":"VLOOKUP(D721,'2021'!$A$11:$G$143,2,FALSE)","v":"Caline"},53,121,{"$f":"VLOOKUP(E721,'2021'!$A$11:$G$143,2,FALSE)","v":"Raja"},{"$f":"IF(ISBLANK(E721),\"hie eu nix drischribu\",VLOOKUP(E721,'2021'!$A$11:$G$143,4,FALSE))","v":"Zumofen / Gattlen"}]
["2021-07-14",{"$f":"IF(ISBLANK(D722),\"Alain, nix drischribu\",VLOOKUP(D722,'2021'!$A$11:$G$143,4,FALSE))","v":"Bayard Medard & Gustav"},{"$f":"VLOOKUP(D722,'2021'!$A$11:$G$143,2,FALSE)","v":"Pandera"},5,53,{"$f":"VLOOKUP(E722,'2021'!$A$11:$G$143,2,FALSE)","v":"Caline"},{"$f":"IF(ISBLANK(E722),\"hie eu nix drischribu\",VLOOKUP(E722,'2021'!$A$11:$G$143,4,FALSE))","v":"Jäger Carlo & Lukas"}]
["2021-07-14",{"$f":"IF(ISBLANK(D723),\"Alain, nix drischribu\",VLOOKUP(D723,'2021'!$A$11:$G$143,4,FALSE))","v":"Bayard Medard & Gustav"},{"$f":"VLOOKUP(D723,'2021'!$A$11:$G$143,2,FALSE)","v":"Pandera"},5,66,{"$f":"VLOOKUP(E723,'2021'!$A$11:$G$143,2,FALSE)","v":"Taverne"},{"$f":"IF(ISBLANK(E723),\"hie eu nix drischribu\",VLOOKUP(E723,'2021'!$A$11:$G$143,4,FALSE))","v":"Jäger Carlo & Lukas"}]
["2021-07-14",{"$f":"IF(ISBLANK(D724),\"Alain, nix drischribu\",VLOOKUP(D724,'2021'!$A$11:$G$143,4,FALSE))","v":"Bayard Medard & Gustav"},{"$f":"VLOOKUP(D724,'2021'!$A$11:$G$143,2,FALSE)","v":"Venus"},1,2,{"$f":"VLOOKUP(E724,'2021'!$A$11:$G$143,2,FALSE)","v":"Fantastic"},{"$f":"IF(ISBLANK(E724),\"hie eu nix drischribu\",VLOOKUP(E724,'2021'!$A$11:$G$143,4,FALSE))","v":"Bayard Medard & Gustav"}]
["2021-07-14",{"$f":"IF(ISBLANK(D725),\"Alain, nix drischribu\",VLOOKUP(D725,'2021'!$A$11:$G$143,4,FALSE))","v":"Jäger Carlo & Lukas"},{"$f":"VLOOKUP(D725,'2021'!$A$11:$G$143,2,FALSE)","v":"Samba"},59,5,{"$f":"VLOOKUP(E725,'2021'!$A$11:$G$143,2,FALSE)","v":"Pandera"},{"$f":"IF(ISBLANK(E725),\"hie eu nix drischribu\",VLOOKUP(E725,'2021'!$A$11:$G$143,4,FALSE))","v":"Bayard Medard & Gustav"}]
["2021-07-14",{"$f":"IF(ISBLANK(D726),\"Alain, nix drischribu\",VLOOKUP(D726,'2021'!$A$11:$G$143,4,FALSE))","v":"Fux W., J., & Wyer Piet"},{"$f":"VLOOKUP(D726,'2021'!$A$11:$G$143,2,FALSE)","v":"Bolero"},29,5,{"$f":"VLOOKUP(E726,'2021'!$A$11:$G$143,2,FALSE)","v":"Pandera"},{"$f":"IF(ISBLANK(E726),\"hie eu nix drischribu\",VLOOKUP(E726,'2021'!$A$11:$G$143,4,FALSE))","v":"Bayard Medard & Gustav"}]
["2021-07-14",{"$f":"IF(ISBLANK(D727),\"Alain, nix drischribu\",VLOOKUP(D727,'2021'!$A$11:$G$143,4,FALSE))","v":"Sewer R. & Thommen S."},{"$f":"VLOOKUP(D727,'2021'!$A$11:$G$143,2,FALSE)","v":"Malice"},88,47,{"$f":"VLOOKUP(E727,'2021'!$A$11:$G$143,2,FALSE)","v":"Lenja"},{"$f":"IF(ISBLANK(E727),\"hie eu nix drischribu\",VLOOKUP(E727,'2021'!$A$11:$G$143,4,FALSE))","v":"Hischier H. & Bühlmann J."}]
["2021-07-13",{"$f":"IF(ISBLANK(D728),\"Alain, nix drischribu\",VLOOKUP(D728,'2021'!$A$11:$G$143,4,FALSE))","v":"Stallung Passeraub"},{"$f":"VLOOKUP(D728,'2021'!$A$11:$G$143,2,FALSE)","v":"Menance"},75,52,{"$f":"VLOOKUP(E728,'2021'!$A$11:$G$143,2,FALSE)","v":"Pablo"},{"$f":"IF(ISBLANK(E728),\"hie eu nix drischribu\",VLOOKUP(E728,'2021'!$A$11:$G$143,4,FALSE))","v":"Hischier Pius"}]
["2021-07-13",{"$f":"IF(ISBLANK(D729),\"Alain, nix drischribu\",VLOOKUP(D729,'2021'!$A$11:$G$143,4,FALSE))","v":"Zumofen / Gattlen"},{"$f":"VLOOKUP(D729,'2021'!$A$11:$G$143,2,FALSE)","v":"Rigolo"},117,51,{"$f":"VLOOKUP(E729,'2021'!$A$11:$G$143,2,FALSE)","v":"Safira"},{"$f":"IF(ISBLANK(E729),\"hie eu nix drischribu\",VLOOKUP(E729,'2021'!$A$11:$G$143,4,FALSE))","v":"Hischier Pius"}]
["2021-07-13",{"$f":"IF(ISBLANK(D730),\"Alain, nix drischribu\",VLOOKUP(D730,'2021'!$A$11:$G$143,4,FALSE))","v":"Williner Anton"},{"$f":"VLOOKUP(D730,'2021'!$A$11:$G$143,2,FALSE)","v":"Vanessa"},96,28,{"$f":"VLOOKUP(E730,'2021'!$A$11:$G$143,2,FALSE)","v":"Baron"},{"$f":"IF(ISBLANK(E730),\"hie eu nix drischribu\",VLOOKUP(E730,'2021'!$A$11:$G$143,4,FALSE))","v":"Fam. Leiggener"}]
["2021-07-13",{"$f":"IF(ISBLANK(D731),\"Alain, nix drischribu\",VLOOKUP(D731,'2021'!$A$11:$G$143,4,FALSE))","v":"Zumofen / Gattlen"},{"$f":"VLOOKUP(D731,'2021'!$A$11:$G$143,2,FALSE)","v":"Violette"},108,83,{"$f":"VLOOKUP(E731,'2021'!$A$11:$G$143,2,FALSE)","v":"Cayenne"},{"$f":"IF(ISBLANK(E731),\"hie eu nix drischribu\",VLOOKUP(E731,'2021'!$A$11:$G$143,4,FALSE))","v":"Stallung zum Stäg"}]
["2021-07-12",{"$f":"IF(ISBLANK(D732),\"Alain, nix drischribu\",VLOOKUP(D732,'2021'!$A$11:$G$143,4,FALSE))","v":"Zumofen / Gattlen"},{"$f":"VLOOKUP(D732,'2021'!$A$11:$G$143,2,FALSE)","v":"Rigolo"},117,22,{"$f":"VLOOKUP(E732,'2021'!$A$11:$G$143,2,FALSE)","v":"Xaphir"},{"$f":"IF(ISBLANK(E732),\"hie eu nix drischribu\",VLOOKUP(E732,'2021'!$A$11:$G$143,4,FALSE))","v":"Bregy Uli / Lisi & Pasci"}]
["2021-07-12",{"$f":"IF(ISBLANK(D733),\"Alain, nix drischribu\",VLOOKUP(D733,'2021'!$A$11:$G$143,4,FALSE))","v":"Bregy Uli / Lisi & Pasci"},{"$f":"VLOOKUP(D733,'2021'!$A$11:$G$143,2,FALSE)","v":"Souki"},18,42,{"$f":"VLOOKUP(E733,'2021'!$A$11:$G$143,2,FALSE)","v":"Simba"},{"$f":"IF(ISBLANK(E733),\"hie eu nix drischribu\",VLOOKUP(E733,'2021'!$A$11:$G$143,4,FALSE))","v":"Gebrüder Jäger"}]
["2021-07-12",{"$f":"IF(ISBLANK(D734),\"Alain, nix drischribu\",VLOOKUP(D734,'2021'!$A$11:$G$143,4,FALSE))","v":"Williner Anton"},{"$f":"VLOOKUP(D734,'2021'!$A$11:$G$143,2,FALSE)","v":"Vivana"},95,103,{"$f":"VLOOKUP(E734,'2021'!$A$11:$G$143,2,FALSE)","v":"Xena"},{"$f":"IF(ISBLANK(E734),\"hie eu nix drischribu\",VLOOKUP(E734,'2021'!$A$11:$G$143,4,FALSE))","v":"Wyssen Diego & Madlen"}]
["2021-07-12",{"$f":"IF(ISBLANK(D735),\"Alain, nix drischribu\",VLOOKUP(D735,'2021'!$A$11:$G$143,4,FALSE))","v":"Zumofen / Gattlen"},{"$f":"VLOOKUP(D735,'2021'!$A$11:$G$143,2,FALSE)","v":"Violette"},108,15,{"$f":"VLOOKUP(E735,'2021'!$A$11:$G$143,2,FALSE)","v":"Cashida"},{"$f":"IF(ISBLANK(E735),\"hie eu nix drischribu\",VLOOKUP(E735,'2021'!$A$11:$G$143,4,FALSE))","v":"Bregy Ralf & Adolf"}]
["2021-07-12",{"$f":"IF(ISBLANK(D736),\"Alain, nix drischribu\",VLOOKUP(D736,'2021'!$A$11:$G$143,4,FALSE))","v":"Fux W., J., & Wyer Piet"},{"$f":"VLOOKUP(D736,'2021'!$A$11:$G$143,2,FALSE)","v":"Valaisanne"},34,97,{"$f":"VLOOKUP(E736,'2021'!$A$11:$G$143,2,FALSE)","v":"Violine"},{"$f":"IF(ISBLANK(E736),\"hie eu nix drischribu\",VLOOKUP(E736,'2021'!$A$11:$G$143,4,FALSE))","v":"Williner Anton"}]
["2021-07-11",{"$f":"IF(ISBLANK(D737),\"Alain, nix drischribu\",VLOOKUP(D737,'2021'!$A$11:$G$143,4,FALSE))","v":"Jäger Carlo & Lukas"},{"$f":"VLOOKUP(D737,'2021'!$A$11:$G$143,2,FALSE)","v":"Bayonne"},60,36,{"$f":"VLOOKUP(E737,'2021'!$A$11:$G$143,2,FALSE)","v":"Calmy"},{"$f":"IF(ISBLANK(E737),\"hie eu nix drischribu\",VLOOKUP(E737,'2021'!$A$11:$G$143,4,FALSE))","v":"Fux W., J., & Wyer Piet"}]
["2021-07-11",{"$f":"IF(ISBLANK(D738),\"Alain, nix drischribu\",VLOOKUP(D738,'2021'!$A$11:$G$143,4,FALSE))","v":"Bregy Ralf & Adolf"},{"$f":"VLOOKUP(D738,'2021'!$A$11:$G$143,2,FALSE)","v":"Cashida"},15,4,{"$f":"VLOOKUP(E738,'2021'!$A$11:$G$143,2,FALSE)","v":"Vampir"},{"$f":"IF(ISBLANK(E738),\"hie eu nix drischribu\",VLOOKUP(E738,'2021'!$A$11:$G$143,4,FALSE))","v":"Bayard Medard & Gustav"}]
["2021-07-11",{"$f":"IF(ISBLANK(D739),\"Alain, nix drischribu\",VLOOKUP(D739,'2021'!$A$11:$G$143,4,FALSE))","v":"Bregy Ralf & Adolf"},{"$f":"VLOOKUP(D739,'2021'!$A$11:$G$143,2,FALSE)","v":"Cashida"},15,3,{"$f":"VLOOKUP(E739,'2021'!$A$11:$G$143,2,FALSE)","v":"Priska"},{"$f":"IF(ISBLANK(E739),\"hie eu nix drischribu\",VLOOKUP(E739,'2021'!$A$11:$G$143,4,FALSE))","v":"Bayard Medard & Gustav"}]
["2021-07-11",{"$f":"IF(ISBLANK(D740),\"Alain, nix drischribu\",VLOOKUP(D740,'2021'!$A$11:$G$143,4,FALSE))","v":"Zumofen / Gattlen"},{"$f":"VLOOKUP(D740,'2021'!$A$11:$G$143,2,FALSE)","v":"Rena"},109,15,{"$f":"VLOOKUP(E740,'2021'!$A$11:$G$143,2,FALSE)","v":"Cashida"},{"$f":"IF(ISBLANK(E740),\"hie eu nix drischribu\",VLOOKUP(E740,'2021'!$A$11:$G$143,4,FALSE))","v":"Bregy Ralf & Adolf"}]
["2021-07-11",{"$f":"IF(ISBLANK(D741),\"Alain, nix drischribu\",VLOOKUP(D741,'2021'!$A$11:$G$143,4,FALSE))","v":"Fam. Leiggener"},{"$f":"VLOOKUP(D741,'2021'!$A$11:$G$143,2,FALSE)","v":"Baron"},28,71,{"$f":"VLOOKUP(E741,'2021'!$A$11:$G$143,2,FALSE)","v":"Balea"},{"$f":"IF(ISBLANK(E741),\"hie eu nix drischribu\",VLOOKUP(E741,'2021'!$A$11:$G$143,4,FALSE))","v":"Mathieu Leander & Sascha"}]
["2021-07-11",{"$f":"IF(ISBLANK(D742),\"Alain, nix drischribu\",VLOOKUP(D742,'2021'!$A$11:$G$143,4,FALSE))","v":"Wyssen Diego & Madlen"},{"$f":"VLOOKUP(D742,'2021'!$A$11:$G$143,2,FALSE)","v":"Xhyla"},104,14,{"$f":"VLOOKUP(E742,'2021'!$A$11:$G$143,2,FALSE)","v":"Canabis"},{"$f":"IF(ISBLANK(E742),\"hie eu nix drischribu\",VLOOKUP(E742,'2021'!$A$11:$G$143,4,FALSE))","v":"Bregy Ralf & Adolf"}]
["2021-07-11",{"$f":"IF(ISBLANK(D743),\"Alain, nix drischribu\",VLOOKUP(D743,'2021'!$A$11:$G$143,4,FALSE))","v":"Sewer R. & Thommen S."},{"$f":"VLOOKUP(D743,'2021'!$A$11:$G$143,2,FALSE)","v":"Malice"},88,99,{"$f":"VLOOKUP(E743,'2021'!$A$11:$G$143,2,FALSE)","v":"Rijana"},{"$f":"IF(ISBLANK(E743),\"hie eu nix drischribu\",VLOOKUP(E743,'2021'!$A$11:$G$143,4,FALSE))","v":"Wyssen Diego & Madlen"}]
["2021-07-11",{"$f":"IF(ISBLANK(D744),\"Alain, nix drischribu\",VLOOKUP(D744,'2021'!$A$11:$G$143,4,FALSE))","v":"Sewer R. & Thommen S."},{"$f":"VLOOKUP(D744,'2021'!$A$11:$G$143,2,FALSE)","v":"Bolera"},90,28,{"$f":"VLOOKUP(E744,'2021'!$A$11:$G$143,2,FALSE)","v":"Baron"},{"$f":"IF(ISBLANK(E744),\"hie eu nix drischribu\",VLOOKUP(E744,'2021'!$A$11:$G$143,4,FALSE))","v":"Fam. Leiggener"}]
["2021-07-11",{"$f":"IF(ISBLANK(D745),\"Alain, nix drischribu\",VLOOKUP(D745,'2021'!$A$11:$G$143,4,FALSE))","v":"Wyssen Diego & Madlen"},{"$f":"VLOOKUP(D745,'2021'!$A$11:$G$143,2,FALSE)","v":"Xhyla"},104,62,{"$f":"VLOOKUP(E745,'2021'!$A$11:$G$143,2,FALSE)","v":"Megane"},{"$f":"IF(ISBLANK(E745),\"hie eu nix drischribu\",VLOOKUP(E745,'2021'!$A$11:$G$143,4,FALSE))","v":"Jäger Carlo & Lukas"}]
["2021-07-11",{"$f":"IF(ISBLANK(D746),\"Alain, nix drischribu\",VLOOKUP(D746,'2021'!$A$11:$G$143,4,FALSE))","v":"Jäger Carlo & Lukas"},{"$f":"VLOOKUP(D746,'2021'!$A$11:$G$143,2,FALSE)","v":"Tokio"},67,15,{"$f":"VLOOKUP(E746,'2021'!$A$11:$G$143,2,FALSE)","v":"Cashida"},{"$f":"IF(ISBLANK(E746),\"hie eu nix drischribu\",VLOOKUP(E746,'2021'!$A$11:$G$143,4,FALSE))","v":"Bregy Ralf & Adolf"}]
["2021-07-11",{"$f":"IF(ISBLANK(D747),\"Alain, nix drischribu\",VLOOKUP(D747,'2021'!$A$11:$G$143,4,FALSE))","v":"Wyssen Diego & Madlen"},{"$f":"VLOOKUP(D747,'2021'!$A$11:$G$143,2,FALSE)","v":"Rijana"},99,71,{"$f":"VLOOKUP(E747,'2021'!$A$11:$G$143,2,FALSE)","v":"Balea"},{"$f":"IF(ISBLANK(E747),\"hie eu nix drischribu\",VLOOKUP(E747,'2021'!$A$11:$G$143,4,FALSE))","v":"Mathieu Leander & Sascha"}]
["2021-07-11",{"$f":"IF(ISBLANK(D748),\"Alain, nix drischribu\",VLOOKUP(D748,'2021'!$A$11:$G$143,4,FALSE))","v":"Jäger Carlo & Lukas"},{"$f":"VLOOKUP(D748,'2021'!$A$11:$G$143,2,FALSE)","v":"Pivoine"},65,4,{"$f":"VLOOKUP(E748,'2021'!$A$11:$G$143,2,FALSE)","v":"Vampir"},{"$f":"IF(ISBLANK(E748),\"hie eu nix drischribu\",VLOOKUP(E748,'2021'!$A$11:$G$143,4,FALSE))","v":"Bayard Medard & Gustav"}]
["2021-07-11",{"$f":"IF(ISBLANK(D749),\"Alain, nix drischribu\",VLOOKUP(D749,'2021'!$A$11:$G$143,4,FALSE))","v":"Jäger Carlo & Lukas"},{"$f":"VLOOKUP(D749,'2021'!$A$11:$G$143,2,FALSE)","v":"Pivoine"},65,121,{"$f":"VLOOKUP(E749,'2021'!$A$11:$G$143,2,FALSE)","v":"Raja"},{"$f":"IF(ISBLANK(E749),\"hie eu nix drischribu\",VLOOKUP(E749,'2021'!$A$11:$G$143,4,FALSE))","v":"Zumofen / Gattlen"}]
["2021-07-11",{"$f":"IF(ISBLANK(D750),\"Alain, nix drischribu\",VLOOKUP(D750,'2021'!$A$11:$G$143,4,FALSE))","v":"Wyssen Diego & Madlen"},{"$f":"VLOOKUP(D750,'2021'!$A$11:$G$143,2,FALSE)","v":"Rasta"},102,117,{"$f":"VLOOKUP(E750,'2021'!$A$11:$G$143,2,FALSE)","v":"Rigolo"},{"$f":"IF(ISBLANK(E750),\"hie eu nix drischribu\",VLOOKUP(E750,'2021'!$A$11:$G$143,4,FALSE))","v":"Zumofen / Gattlen"}]
["2021-07-11",{"$f":"IF(ISBLANK(D751),\"Alain, nix drischribu\",VLOOKUP(D751,'2021'!$A$11:$G$143,4,FALSE))","v":"Bregy Ralf & Adolf"},{"$f":"VLOOKUP(D751,'2021'!$A$11:$G$143,2,FALSE)","v":"Coquette"},9,113,{"$f":"VLOOKUP(E751,'2021'!$A$11:$G$143,2,FALSE)","v":"Vanda"},{"$f":"IF(ISBLANK(E751),\"hie eu nix drischribu\",VLOOKUP(E751,'2021'!$A$11:$G$143,4,FALSE))","v":"Zumofen / Gattlen"}]
["2021-07-11",{"$f":"IF(ISBLANK(D752),\"Alain, nix drischribu\",VLOOKUP(D752,'2021'!$A$11:$G$143,4,FALSE))","v":"Bregy Ralf & Adolf"},{"$f":"VLOOKUP(D752,'2021'!$A$11:$G$143,2,FALSE)","v":"Canabis"},14,82,{"$f":"VLOOKUP(E752,'2021'!$A$11:$G$143,2,FALSE)","v":"Bobino"},{"$f":"IF(ISBLANK(E752),\"hie eu nix drischribu\",VLOOKUP(E752,'2021'!$A$11:$G$143,4,FALSE))","v":"Stallung Passeraub"}]
["2021-07-11",{"$f":"IF(ISBLANK(D753),\"Alain, nix drischribu\",VLOOKUP(D753,'2021'!$A$11:$G$143,4,FALSE))","v":"Bayard Medard & Gustav"},{"$f":"VLOOKUP(D753,'2021'!$A$11:$G$143,2,FALSE)","v":"Priska"},3,73,{"$f":"VLOOKUP(E753,'2021'!$A$11:$G$143,2,FALSE)","v":"Bajka"},{"$f":"IF(ISBLANK(E753),\"hie eu nix drischribu\",VLOOKUP(E753,'2021'!$A$11:$G$143,4,FALSE))","v":"Stallung Passeraub"}]
["2021-07-11",{"$f":"IF(ISBLANK(D754),\"Alain, nix drischribu\",VLOOKUP(D754,'2021'!$A$11:$G$143,4,FALSE))","v":"Zumofen / Gattlen"},{"$f":"VLOOKUP(D754,'2021'!$A$11:$G$143,2,FALSE)","v":"Vanda"},113,94,{"$f":"VLOOKUP(E754,'2021'!$A$11:$G$143,2,FALSE)","v":"Tigra"},{"$f":"IF(ISBLANK(E754),\"hie eu nix drischribu\",VLOOKUP(E754,'2021'!$A$11:$G$143,4,FALSE))","v":"Williner Anton"}]
["2021-07-11",{"$f":"IF(ISBLANK(D755),\"Alain, nix drischribu\",VLOOKUP(D755,'2021'!$A$11:$G$143,4,FALSE))","v":"Williner Anton"},{"$f":"VLOOKUP(D755,'2021'!$A$11:$G$143,2,FALSE)","v":"Tigra"},94,25,{"$f":"VLOOKUP(E755,'2021'!$A$11:$G$143,2,FALSE)","v":"Calette"},{"$f":"IF(ISBLANK(E755),\"hie eu nix drischribu\",VLOOKUP(E755,'2021'!$A$11:$G$143,4,FALSE))","v":"Bregy Uli / Lisi & Pasci"}]
["2021-07-11",{"$f":"IF(ISBLANK(D756),\"Alain, nix drischribu\",VLOOKUP(D756,'2021'!$A$11:$G$143,4,FALSE))","v":"Fux W., J., & Wyer Piet"},{"$f":"VLOOKUP(D756,'2021'!$A$11:$G$143,2,FALSE)","v":"Bolero"},29,80,{"$f":"VLOOKUP(E756,'2021'!$A$11:$G$143,2,FALSE)","v":"Bonita"},{"$f":"IF(ISBLANK(E756),\"hie eu nix drischribu\",VLOOKUP(E756,'2021'!$A$11:$G$143,4,FALSE))","v":"Stallung Passeraub"}]
["2021-07-10",{"$f":"IF(ISBLANK(D757),\"Alain, nix drischribu\",VLOOKUP(D757,'2021'!$A$11:$G$143,4,FALSE))","v":"Zumofen / Gattlen"},{"$f":"VLOOKUP(D757,'2021'!$A$11:$G$143,2,FALSE)","v":"Xara"},124,64,{"$f":"VLOOKUP(E757,'2021'!$A$11:$G$143,2,FALSE)","v":"Sera"},{"$f":"IF(ISBLANK(E757),\"hie eu nix drischribu\",VLOOKUP(E757,'2021'!$A$11:$G$143,4,FALSE))","v":"Jäger Carlo & Lukas"}]
["2021-07-10",{"$f":"IF(ISBLANK(D758),\"Alain, nix drischribu\",VLOOKUP(D758,'2021'!$A$11:$G$143,4,FALSE))","v":"Zumofen / Gattlen"},{"$f":"VLOOKUP(D758,'2021'!$A$11:$G$143,2,FALSE)","v":"Pinoccio"},116,66,{"$f":"VLOOKUP(E758,'2021'!$A$11:$G$143,2,FALSE)","v":"Taverne"},{"$f":"IF(ISBLANK(E758),\"hie eu nix drischribu\",VLOOKUP(E758,'2021'!$A$11:$G$143,4,FALSE))","v":"Jäger Carlo & Lukas"}]
["2021-07-10",{"$f":"IF(ISBLANK(D759),\"Alain, nix drischribu\",VLOOKUP(D759,'2021'!$A$11:$G$143,4,FALSE))","v":"Stallung zum Stäg"},{"$f":"VLOOKUP(D759,'2021'!$A$11:$G$143,2,FALSE)","v":"Cayenne"},83,51,{"$f":"VLOOKUP(E759,'2021'!$A$11:$G$143,2,FALSE)","v":"Safira"},{"$f":"IF(ISBLANK(E759),\"hie eu nix drischribu\",VLOOKUP(E759,'2021'!$A$11:$G$143,4,FALSE))","v":"Hischier Pius"}]
["2021-07-10",{"$f":"IF(ISBLANK(D760),\"Alain, nix drischribu\",VLOOKUP(D760,'2021'!$A$11:$G$143,4,FALSE))","v":"Williner Anton"},{"$f":"VLOOKUP(D760,'2021'!$A$11:$G$143,2,FALSE)","v":"Tigra"},94,109,{"$f":"VLOOKUP(E760,'2021'!$A$11:$G$143,2,FALSE)","v":"Rena"},{"$f":"IF(ISBLANK(E760),\"hie eu nix drischribu\",VLOOKUP(E760,'2021'!$A$11:$G$143,4,FALSE))","v":"Zumofen / Gattlen"}]
["2021-07-10",{"$f":"IF(ISBLANK(D761),\"Alain, nix drischribu\",VLOOKUP(D761,'2021'!$A$11:$G$143,4,FALSE))","v":"Williner Anton"},{"$f":"VLOOKUP(D761,'2021'!$A$11:$G$143,2,FALSE)","v":"Vivana"},95,32,{"$f":"VLOOKUP(E761,'2021'!$A$11:$G$143,2,FALSE)","v":"Mystic"},{"$f":"IF(ISBLANK(E761),\"hie eu nix drischribu\",VLOOKUP(E761,'2021'!$A$11:$G$143,4,FALSE))","v":"Fux W., J., & Wyer Piet"}]
["2021-07-10",{"$f":"IF(ISBLANK(D762),\"Alain, nix drischribu\",VLOOKUP(D762,'2021'!$A$11:$G$143,4,FALSE))","v":"Bregy Ralf & Adolf"},{"$f":"VLOOKUP(D762,'2021'!$A$11:$G$143,2,FALSE)","v":"Cashida"},15,95,{"$f":"VLOOKUP(E762,'2021'!$A$11:$G$143,2,FALSE)","v":"Vivana"},{"$f":"IF(ISBLANK(E762),\"hie eu nix drischribu\",VLOOKUP(E762,'2021'!$A$11:$G$143,4,FALSE))","v":"Williner Anton"}]
["2021-07-10",{"$f":"IF(ISBLANK(D763),\"Alain, nix drischribu\",VLOOKUP(D763,'2021'!$A$11:$G$143,4,FALSE))","v":"Williner Anton"},{"$f":"VLOOKUP(D763,'2021'!$A$11:$G$143,2,FALSE)","v":"Violine"},97,51,{"$f":"VLOOKUP(E763,'2021'!$A$11:$G$143,2,FALSE)","v":"Safira"},{"$f":"IF(ISBLANK(E763),\"hie eu nix drischribu\",VLOOKUP(E763,'2021'!$A$11:$G$143,4,FALSE))","v":"Hischier Pius"}]
["2021-07-10",{"$f":"IF(ISBLANK(D764),\"Alain, nix drischribu\",VLOOKUP(D764,'2021'!$A$11:$G$143,4,FALSE))","v":"Hischier Pius"},{"$f":"VLOOKUP(D764,'2021'!$A$11:$G$143,2,FALSE)","v":"Safira"},51,97,{"$f":"VLOOKUP(E764,'2021'!$A$11:$G$143,2,FALSE)","v":"Violine"},{"$f":"IF(ISBLANK(E764),\"hie eu nix drischribu\",VLOOKUP(E764,'2021'!$A$11:$G$143,4,FALSE))","v":"Williner Anton"}]
["2021-07-10",{"$f":"IF(ISBLANK(D765),\"Alain, nix drischribu\",VLOOKUP(D765,'2021'!$A$11:$G$143,4,FALSE))","v":"Bayard Medard & Gustav"},{"$f":"VLOOKUP(D765,'2021'!$A$11:$G$143,2,FALSE)","v":"Vampir"},4,82,{"$f":"VLOOKUP(E765,'2021'!$A$11:$G$143,2,FALSE)","v":"Bobino"},{"$f":"IF(ISBLANK(E765),\"hie eu nix drischribu\",VLOOKUP(E765,'2021'!$A$11:$G$143,4,FALSE))","v":"Stallung Passeraub"}]
["2021-07-10",{"$f":"IF(ISBLANK(D766),\"Alain, nix drischribu\",VLOOKUP(D766,'2021'!$A$11:$G$143,4,FALSE))","v":"Fux W., J., & Wyer Piet"},{"$f":"VLOOKUP(D766,'2021'!$A$11:$G$143,2,FALSE)","v":"Diamant"},30,35,{"$f":"VLOOKUP(E766,'2021'!$A$11:$G$143,2,FALSE)","v":"Pampère"},{"$f":"IF(ISBLANK(E766),\"hie eu nix drischribu\",VLOOKUP(E766,'2021'!$A$11:$G$143,4,FALSE))","v":"Fux W., J., & Wyer Piet"}]
["2021-07-09",{"$f":"IF(ISBLANK(D767),\"Alain, nix drischribu\",VLOOKUP(D767,'2021'!$A$11:$G$143,4,FALSE))","v":"Jäger Carlo & Lukas"},{"$f":"VLOOKUP(D767,'2021'!$A$11:$G$143,2,FALSE)","v":"Sera"},64,13,{"$f":"VLOOKUP(E767,'2021'!$A$11:$G$143,2,FALSE)","v":"Tequilla"},{"$f":"IF(ISBLANK(E767),\"hie eu nix drischribu\",VLOOKUP(E767,'2021'!$A$11:$G$143,4,FALSE))","v":"Bregy Silvan & Patrik"}]
["2021-07-09",{"$f":"IF(ISBLANK(D768),\"Alain, nix drischribu\",VLOOKUP(D768,'2021'!$A$11:$G$143,4,FALSE))","v":"Zumofen / Gattlen"},{"$f":"VLOOKUP(D768,'2021'!$A$11:$G$143,2,FALSE)","v":"Xena"},110,12,{"$f":"VLOOKUP(E768,'2021'!$A$11:$G$143,2,FALSE)","v":"Milow"},{"$f":"IF(ISBLANK(E768),\"hie eu nix drischribu\",VLOOKUP(E768,'2021'!$A$11:$G$143,4,FALSE))","v":"Bregy Silvan & Patrik"}]
["2021-07-09",{"$f":"IF(ISBLANK(D769),\"Alain, nix drischribu\",VLOOKUP(D769,'2021'!$A$11:$G$143,4,FALSE))","v":"Zumofen / Gattlen"},{"$f":"VLOOKUP(D769,'2021'!$A$11:$G$143,2,FALSE)","v":"Rambo"},120,20,{"$f":"VLOOKUP(E769,'2021'!$A$11:$G$143,2,FALSE)","v":"Caline"},{"$f":"IF(ISBLANK(E769),\"hie eu nix drischribu\",VLOOKUP(E769,'2021'!$A$11:$G$143,4,FALSE))","v":" Bregy Uli / Lisi & Pasci"}]
["2021-07-09",{"$f":"IF(ISBLANK(D770),\"Alain, nix drischribu\",VLOOKUP(D770,'2021'!$A$11:$G$143,4,FALSE))","v":"Bayard Medard & Gustav"},{"$f":"VLOOKUP(D770,'2021'!$A$11:$G$143,2,FALSE)","v":"Vampir"},4,15,{"$f":"VLOOKUP(E770,'2021'!$A$11:$G$143,2,FALSE)","v":"Cashida"},{"$f":"IF(ISBLANK(E770),\"hie eu nix drischribu\",VLOOKUP(E770,'2021'!$A$11:$G$143,4,FALSE))","v":"Bregy Ralf & Adolf"}]
["2021-07-09",{"$f":"IF(ISBLANK(D771),\"Alain, nix drischribu\",VLOOKUP(D771,'2021'!$A$11:$G$143,4,FALSE))","v":"Williner Anton"},{"$f":"VLOOKUP(D771,'2021'!$A$11:$G$143,2,FALSE)","v":"Tigra"},94,120,{"$f":"VLOOKUP(E771,'2021'!$A$11:$G$143,2,FALSE)","v":"Rambo"},{"$f":"IF(ISBLANK(E771),\"hie eu nix drischribu\",VLOOKUP(E771,'2021'!$A$11:$G$143,4,FALSE))","v":"Zumofen / Gattlen"}]
["2021-07-08",{"$f":"IF(ISBLANK(D772),\"Alain, nix drischribu\",VLOOKUP(D772,'2021'!$A$11:$G$143,4,FALSE))","v":"Zumofen / Gattlen"},{"$f":"VLOOKUP(D772,'2021'!$A$11:$G$143,2,FALSE)","v":"Rena"},109,104,{"$f":"VLOOKUP(E772,'2021'!$A$11:$G$143,2,FALSE)","v":"Xhyla"},{"$f":"IF(ISBLANK(E772),\"hie eu nix drischribu\",VLOOKUP(E772,'2021'!$A$11:$G$143,4,FALSE))","v":"Wyssen Diego & Madlen"}]
["2021-07-08",{"$f":"IF(ISBLANK(D773),\"Alain, nix drischribu\",VLOOKUP(D773,'2021'!$A$11:$G$143,4,FALSE))","v":"Zumofen / Gattlen"},{"$f":"VLOOKUP(D773,'2021'!$A$11:$G$143,2,FALSE)","v":"Rambo"},120,64,{"$f":"VLOOKUP(E773,'2021'!$A$11:$G$143,2,FALSE)","v":"Sera"},{"$f":"IF(ISBLANK(E773),\"hie eu nix drischribu\",VLOOKUP(E773,'2021'!$A$11:$G$143,4,FALSE))","v":"Jäger Carlo & Lukas"}]
["2021-07-08",{"$f":"IF(ISBLANK(D774),\"Alain, nix drischribu\",VLOOKUP(D774,'2021'!$A$11:$G$143,4,FALSE))","v":"Bayard Medard & Gustav"},{"$f":"VLOOKUP(D774,'2021'!$A$11:$G$143,2,FALSE)","v":"Vampir"},4,6,{"$f":"VLOOKUP(E774,'2021'!$A$11:$G$143,2,FALSE)","v":"Flacabre"},{"$f":"IF(ISBLANK(E774),\"hie eu nix drischribu\",VLOOKUP(E774,'2021'!$A$11:$G$143,4,FALSE))","v":"Bregy Ralf & Adolf"}]
["2021-07-08",{"$f":"IF(ISBLANK(D775),\"Alain, nix drischribu\",VLOOKUP(D775,'2021'!$A$11:$G$143,4,FALSE))","v":"Bregy Uli / Lisi & Pasci"},{"$f":"VLOOKUP(D775,'2021'!$A$11:$G$143,2,FALSE)","v":"Souki"},18,29,{"$f":"VLOOKUP(E775,'2021'!$A$11:$G$143,2,FALSE)","v":"Bolero"},{"$f":"IF(ISBLANK(E775),\"hie eu nix drischribu\",VLOOKUP(E775,'2021'!$A$11:$G$143,4,FALSE))","v":"Fux W., J., & Wyer Piet"}]
["2021-07-08",{"$f":"IF(ISBLANK(D776),\"Alain, nix drischribu\",VLOOKUP(D776,'2021'!$A$11:$G$143,4,FALSE))","v":"Bregy Uli / Lisi & Pasci"},{"$f":"VLOOKUP(D776,'2021'!$A$11:$G$143,2,FALSE)","v":"Souki"},18,32,{"$f":"VLOOKUP(E776,'2021'!$A$11:$G$143,2,FALSE)","v":"Mystic"},{"$f":"IF(ISBLANK(E776),\"hie eu nix drischribu\",VLOOKUP(E776,'2021'!$A$11:$G$143,4,FALSE))","v":"Fux W., J., & Wyer Piet"}]
["2021-07-07",{"$f":"IF(ISBLANK(D777),\"Alain, nix drischribu\",VLOOKUP(D777,'2021'!$A$11:$G$143,4,FALSE))","v":"Wyssen Diego & Madlen"},{"$f":"VLOOKUP(D777,'2021'!$A$11:$G$143,2,FALSE)","v":"Xandria"},101,31,{"$f":"VLOOKUP(E777,'2021'!$A$11:$G$143,2,FALSE)","v":"Bastis"},{"$f":"IF(ISBLANK(E777),\"hie eu nix drischribu\",VLOOKUP(E777,'2021'!$A$11:$G$143,4,FALSE))","v":"Fux W., J., & Wyer Piet"}]
["2021-07-07",{"$f":"IF(ISBLANK(D778),\"Alain, nix drischribu\",VLOOKUP(D778,'2021'!$A$11:$G$143,4,FALSE))","v":"Fux W., J., & Wyer Piet"},{"$f":"VLOOKUP(D778,'2021'!$A$11:$G$143,2,FALSE)","v":"Toscana"},37,14,{"$f":"VLOOKUP(E778,'2021'!$A$11:$G$143,2,FALSE)","v":"Canabis"},{"$f":"IF(ISBLANK(E778),\"hie eu nix drischribu\",VLOOKUP(E778,'2021'!$A$11:$G$143,4,FALSE))","v":"Bregy Ralf & Adolf"}]
["2021-07-07",{"$f":"IF(ISBLANK(D779),\"Alain, nix drischribu\",VLOOKUP(D779,'2021'!$A$11:$G$143,4,FALSE))","v":"Zumofen / Gattlen"},{"$f":"VLOOKUP(D779,'2021'!$A$11:$G$143,2,FALSE)","v":"Xana"},122,50,{"$f":"VLOOKUP(E779,'2021'!$A$11:$G$143,2,FALSE)","v":"Pruedence"},{"$f":"IF(ISBLANK(E779),\"hie eu nix drischribu\",VLOOKUP(E779,'2021'!$A$11:$G$143,4,FALSE))","v":"Hischier Pius"}]
["2021-07-07",{"$f":"IF(ISBLANK(D780),\"Alain, nix drischribu\",VLOOKUP(D780,'2021'!$A$11:$G$143,4,FALSE))","v":"Stallung Passeraub"},{"$f":"VLOOKUP(D780,'2021'!$A$11:$G$143,2,FALSE)","v":"Beres"},77,93,{"$f":"VLOOKUP(E780,'2021'!$A$11:$G$143,2,FALSE)","v":"Tonic"},{"$f":"IF(ISBLANK(E780),\"hie eu nix drischribu\",VLOOKUP(E780,'2021'!$A$11:$G$143,4,FALSE))","v":"Williner Anton"}]
["2021-07-07",{"$f":"IF(ISBLANK(D781),\"Alain, nix drischribu\",VLOOKUP(D781,'2021'!$A$11:$G$143,4,FALSE))","v":"Jäger Carlo & Lukas"},{"$f":"VLOOKUP(D781,'2021'!$A$11:$G$143,2,FALSE)","v":"Sera"},64,93,{"$f":"VLOOKUP(E781,'2021'!$A$11:$G$143,2,FALSE)","v":"Tonic"},{"$f":"IF(ISBLANK(E781),\"hie eu nix drischribu\",VLOOKUP(E781,'2021'!$A$11:$G$143,4,FALSE))","v":"Williner Anton"}]
["2021-07-06",{"$f":"IF(ISBLANK(D782),\"Alain, nix drischribu\",VLOOKUP(D782,'2021'!$A$11:$G$143,4,FALSE))","v":"Jäger Carlo & Lukas"},{"$f":"VLOOKUP(D782,'2021'!$A$11:$G$143,2,FALSE)","v":"Caline"},53,31,{"$f":"VLOOKUP(E782,'2021'!$A$11:$G$143,2,FALSE)","v":"Bastis"},{"$f":"IF(ISBLANK(E782),\"hie eu nix drischribu\",VLOOKUP(E782,'2021'!$A$11:$G$143,4,FALSE))","v":"Fux W., J., & Wyer Piet"}]
["2021-07-06",{"$f":"IF(ISBLANK(D783),\"Alain, nix drischribu\",VLOOKUP(D783,'2021'!$A$11:$G$143,4,FALSE))","v":"Gebrüder Jäger"},{"$f":"VLOOKUP(D783,'2021'!$A$11:$G$143,2,FALSE)","v":"Tiara"},44,101,{"$f":"VLOOKUP(E783,'2021'!$A$11:$G$143,2,FALSE)","v":"Xandria"},{"$f":"IF(ISBLANK(E783),\"hie eu nix drischribu\",VLOOKUP(E783,'2021'!$A$11:$G$143,4,FALSE))","v":"Wyssen Diego & Madlen"}]
["2021-07-06",{"$f":"IF(ISBLANK(D784),\"Alain, nix drischribu\",VLOOKUP(D784,'2021'!$A$11:$G$143,4,FALSE))","v":"Zumofen / Gattlen"},{"$f":"VLOOKUP(D784,'2021'!$A$11:$G$143,2,FALSE)","v":"Xana"},122,28,{"$f":"VLOOKUP(E784,'2021'!$A$11:$G$143,2,FALSE)","v":"Baron"},{"$f":"IF(ISBLANK(E784),\"hie eu nix drischribu\",VLOOKUP(E784,'2021'!$A$11:$G$143,4,FALSE))","v":"Fam. Leiggener"}]
["2021-07-05",{"$f":"IF(ISBLANK(D785),\"Alain, nix drischribu\",VLOOKUP(D785,'2021'!$A$11:$G$143,4,FALSE))","v":"Bayard Medard & Gustav"},{"$f":"VLOOKUP(D785,'2021'!$A$11:$G$143,2,FALSE)","v":"Priska"},3,2,{"$f":"VLOOKUP(E785,'2021'!$A$11:$G$143,2,FALSE)","v":"Fantastic"},{"$f":"IF(ISBLANK(E785),\"hie eu nix drischribu\",VLOOKUP(E785,'2021'!$A$11:$G$143,4,FALSE))","v":"Bayard Medard & Gustav"}]
["2021-07-05",{"$f":"IF(ISBLANK(D786),\"Alain, nix drischribu\",VLOOKUP(D786,'2021'!$A$11:$G$143,4,FALSE))","v":"Williner Anton"},{"$f":"VLOOKUP(D786,'2021'!$A$11:$G$143,2,FALSE)","v":"Vivana"},95,120,{"$f":"VLOOKUP(E786,'2021'!$A$11:$G$143,2,FALSE)","v":"Rambo"},{"$f":"IF(ISBLANK(E786),\"hie eu nix drischribu\",VLOOKUP(E786,'2021'!$A$11:$G$143,4,FALSE))","v":"Zumofen / Gattlen"}]
["2021-07-05",{"$f":"IF(ISBLANK(D787),\"Alain, nix drischribu\",VLOOKUP(D787,'2021'!$A$11:$G$143,4,FALSE))","v":"Bregy Ralf & Adolf"},{"$f":"VLOOKUP(D787,'2021'!$A$11:$G$143,2,FALSE)","v":"Canabis"},14,38,{"$f":"VLOOKUP(E787,'2021'!$A$11:$G$143,2,FALSE)","v":"Bresil"},{"$f":"IF(ISBLANK(E787),\"hie eu nix drischribu\",VLOOKUP(E787,'2021'!$A$11:$G$143,4,FALSE))","v":"Fux W., J., & Wyer Piet"}]
["2021-07-05",{"$f":"IF(ISBLANK(D788),\"Alain, nix drischribu\",VLOOKUP(D788,'2021'!$A$11:$G$143,4,FALSE))","v":"Gebrüder Jäger"},{"$f":"VLOOKUP(D788,'2021'!$A$11:$G$143,2,FALSE)","v":"Simba"},42,80,{"$f":"VLOOKUP(E788,'2021'!$A$11:$G$143,2,FALSE)","v":"Bonita"},{"$f":"IF(ISBLANK(E788),\"hie eu nix drischribu\",VLOOKUP(E788,'2021'!$A$11:$G$143,4,FALSE))","v":"Stallung Passeraub"}]
["2021-07-05",{"$f":"IF(ISBLANK(D789),\"Alain, nix drischribu\",VLOOKUP(D789,'2021'!$A$11:$G$143,4,FALSE))","v":"Bregy Ralf & Adolf"},{"$f":"VLOOKUP(D789,'2021'!$A$11:$G$143,2,FALSE)","v":"Canaille"},7,119,{"$f":"VLOOKUP(E789,'2021'!$A$11:$G$143,2,FALSE)","v":"Fayola"},{"$f":"IF(ISBLANK(E789),\"hie eu nix drischribu\",VLOOKUP(E789,'2021'!$A$11:$G$143,4,FALSE))","v":"Zumofen / Gattlen"}]
["2021-07-05",{"$f":"IF(ISBLANK(D790),\"Alain, nix drischribu\",VLOOKUP(D790,'2021'!$A$11:$G$143,4,FALSE))","v":"Gebrüder Jäger"},{"$f":"VLOOKUP(D790,'2021'!$A$11:$G$143,2,FALSE)","v":"Tiara"},44,93,{"$f":"VLOOKUP(E790,'2021'!$A$11:$G$143,2,FALSE)","v":"Tonic"},{"$f":"IF(ISBLANK(E790),\"hie eu nix drischribu\",VLOOKUP(E790,'2021'!$A$11:$G$143,4,FALSE))","v":"Williner Anton"}]
["2021-07-05",{"$f":"IF(ISBLANK(D791),\"Alain, nix drischribu\",VLOOKUP(D791,'2021'!$A$11:$G$143,4,FALSE))","v":"Bayard Medard & Gustav"},{"$f":"VLOOKUP(D791,'2021'!$A$11:$G$143,2,FALSE)","v":"Vampir"},4,6,{"$f":"VLOOKUP(E791,'2021'!$A$11:$G$143,2,FALSE)","v":"Flacabre"},{"$f":"IF(ISBLANK(E791),\"hie eu nix drischribu\",VLOOKUP(E791,'2021'!$A$11:$G$143,4,FALSE))","v":"Bregy Ralf & Adolf"}]
["2021-07-05",{"$f":"IF(ISBLANK(D792),\"Alain, nix drischribu\",VLOOKUP(D792,'2021'!$A$11:$G$143,4,FALSE))","v":"Bregy Uli / Lisi & Pasci"},{"$f":"VLOOKUP(D792,'2021'!$A$11:$G$143,2,FALSE)","v":"Murphy"},16,115,{"$f":"VLOOKUP(E792,'2021'!$A$11:$G$143,2,FALSE)","v":"Souris"},{"$f":"IF(ISBLANK(E792),\"hie eu nix drischribu\",VLOOKUP(E792,'2021'!$A$11:$G$143,4,FALSE))","v":"Zumofen / Gattlen"}]
["2021-07-05",{"$f":"IF(ISBLANK(D793),\"Alain, nix drischribu\",VLOOKUP(D793,'2021'!$A$11:$G$143,4,FALSE))","v":"Fam. Leiggener"},{"$f":"VLOOKUP(D793,'2021'!$A$11:$G$143,2,FALSE)","v":"Baron"},28,41,{"$f":"VLOOKUP(E793,'2021'!$A$11:$G$143,2,FALSE)","v":"Tara"},{"$f":"IF(ISBLANK(E793),\"hie eu nix drischribu\",VLOOKUP(E793,'2021'!$A$11:$G$143,4,FALSE))","v":"Gebrüder Jäger"}]
["2021-07-05",{"$f":"IF(ISBLANK(D794),\"Alain, nix drischribu\",VLOOKUP(D794,'2021'!$A$11:$G$143,4,FALSE))","v":"Jäger Carlo & Lukas"},{"$f":"VLOOKUP(D794,'2021'!$A$11:$G$143,2,FALSE)","v":"Sera"},64,108,{"$f":"VLOOKUP(E794,'2021'!$A$11:$G$143,2,FALSE)","v":"Violette"},{"$f":"IF(ISBLANK(E794),\"hie eu nix drischribu\",VLOOKUP(E794,'2021'!$A$11:$G$143,4,FALSE))","v":"Zumofen / Gattlen"}]
["2021-07-04",{"$f":"IF(ISBLANK(D795),\"Alain, nix drischribu\",VLOOKUP(D795,'2021'!$A$11:$G$143,4,FALSE))","v":"Stallung Passeraub"},{"$f":"VLOOKUP(D795,'2021'!$A$11:$G$143,2,FALSE)","v":"Bobino"},82,25,{"$f":"VLOOKUP(E795,'2021'!$A$11:$G$143,2,FALSE)","v":"Calette"},{"$f":"IF(ISBLANK(E795),\"hie eu nix drischribu\",VLOOKUP(E795,'2021'!$A$11:$G$143,4,FALSE))","v":"Bregy Uli / Lisi & Pasci"}]
["2021-07-04",{"$f":"IF(ISBLANK(D796),\"Alain, nix drischribu\",VLOOKUP(D796,'2021'!$A$11:$G$143,4,FALSE))","v":"Zumofen / Gattlen"},{"$f":"VLOOKUP(D796,'2021'!$A$11:$G$143,2,FALSE)","v":"Violette"},108,50,{"$f":"VLOOKUP(E796,'2021'!$A$11:$G$143,2,FALSE)","v":"Pruedence"},{"$f":"IF(ISBLANK(E796),\"hie eu nix drischribu\",VLOOKUP(E796,'2021'!$A$11:$G$143,4,FALSE))","v":"Hischier Pius"}]
["2021-07-04",{"$f":"IF(ISBLANK(D797),\"Alain, nix drischribu\",VLOOKUP(D797,'2021'!$A$11:$G$143,4,FALSE))","v":"Zumofen / Gattlen"},{"$f":"VLOOKUP(D797,'2021'!$A$11:$G$143,2,FALSE)","v":"Fayola"},119,79,{"$f":"VLOOKUP(E797,'2021'!$A$11:$G$143,2,FALSE)","v":"Marla"},{"$f":"IF(ISBLANK(E797),\"hie eu nix drischribu\",VLOOKUP(E797,'2021'!$A$11:$G$143,4,FALSE))","v":"Stallung Passeraub"}]
["2021-07-04",{"$f":"IF(ISBLANK(D798),\"Alain, nix drischribu\",VLOOKUP(D798,'2021'!$A$11:$G$143,4,FALSE))","v":"Mathieu Leander & Sascha"},{"$f":"VLOOKUP(D798,'2021'!$A$11:$G$143,2,FALSE)","v":"Baghira"},68,56,{"$f":"VLOOKUP(E798,'2021'!$A$11:$G$143,2,FALSE)","v":"Mygale"},{"$f":"IF(ISBLANK(E798),\"hie eu nix drischribu\",VLOOKUP(E798,'2021'!$A$11:$G$143,4,FALSE))","v":"Jäger Carlo & Lukas"}]
["2021-07-04",{"$f":"IF(ISBLANK(D799),\"Alain, nix drischribu\",VLOOKUP(D799,'2021'!$A$11:$G$143,4,FALSE))","v":"Fux W., J., & Wyer Piet"},{"$f":"VLOOKUP(D799,'2021'!$A$11:$G$143,2,FALSE)","v":"Bolero"},29,63,{"$f":"VLOOKUP(E799,'2021'!$A$11:$G$143,2,FALSE)","v":"Metis"},{"$f":"IF(ISBLANK(E799),\"hie eu nix drischribu\",VLOOKUP(E799,'2021'!$A$11:$G$143,4,FALSE))","v":"Jäger Carlo & Lukas"}]
["2021-07-04",{"$f":"IF(ISBLANK(D800),\"Alain, nix drischribu\",VLOOKUP(D800,'2021'!$A$11:$G$143,4,FALSE))","v":"Zumofen / Gattlen"},{"$f":"VLOOKUP(D800,'2021'!$A$11:$G$143,2,FALSE)","v":"Rambo"},120,20,{"$f":"VLOOKUP(E800,'2021'!$A$11:$G$143,2,FALSE)","v":"Caline"},{"$f":"IF(ISBLANK(E800),\"hie eu nix drischribu\",VLOOKUP(E800,'2021'!$A$11:$G$143,4,FALSE))","v":" Bregy Uli / Lisi & Pasci"}]
["2021-07-04",{"$f":"IF(ISBLANK(D801),\"Alain, nix drischribu\",VLOOKUP(D801,'2021'!$A$11:$G$143,4,FALSE))","v":"Bregy Ralf & Adolf"},{"$f":"VLOOKUP(D801,'2021'!$A$11:$G$143,2,FALSE)","v":"Canaille"},7,119,{"$f":"VLOOKUP(E801,'2021'!$A$11:$G$143,2,FALSE)","v":"Fayola"},{"$f":"IF(ISBLANK(E801),\"hie eu nix drischribu\",VLOOKUP(E801,'2021'!$A$11:$G$143,4,FALSE))","v":"Zumofen / Gattlen"}]
["2021-07-04",{"$f":"IF(ISBLANK(D802),\"Alain, nix drischribu\",VLOOKUP(D802,'2021'!$A$11:$G$143,4,FALSE))","v":"Bregy Uli / Lisi & Pasci"},{"$f":"VLOOKUP(D802,'2021'!$A$11:$G$143,2,FALSE)","v":"Calette"},25,34,{"$f":"VLOOKUP(E802,'2021'!$A$11:$G$143,2,FALSE)","v":"Valaisanne"},{"$f":"IF(ISBLANK(E802),\"hie eu nix drischribu\",VLOOKUP(E802,'2021'!$A$11:$G$143,4,FALSE))","v":"Fux W., J., & Wyer Piet"}]
["2021-07-04",{"$f":"IF(ISBLANK(D803),\"Alain, nix drischribu\",VLOOKUP(D803,'2021'!$A$11:$G$143,4,FALSE))","v":"Bayard Medard & Gustav"},{"$f":"VLOOKUP(D803,'2021'!$A$11:$G$143,2,FALSE)","v":"Vampir"},4,15,{"$f":"VLOOKUP(E803,'2021'!$A$11:$G$143,2,FALSE)","v":"Cashida"},{"$f":"IF(ISBLANK(E803),\"hie eu nix drischribu\",VLOOKUP(E803,'2021'!$A$11:$G$143,4,FALSE))","v":"Bregy Ralf & Adolf"}]
["2021-07-03",{"$f":"IF(ISBLANK(D804),\"Alain, nix drischribu\",VLOOKUP(D804,'2021'!$A$11:$G$143,4,FALSE))","v":"Zumofen / Gattlen"},{"$f":"VLOOKUP(D804,'2021'!$A$11:$G$143,2,FALSE)","v":"Xara"},124,14,{"$f":"VLOOKUP(E804,'2021'!$A$11:$G$143,2,FALSE)","v":"Canabis"},{"$f":"IF(ISBLANK(E804),\"hie eu nix drischribu\",VLOOKUP(E804,'2021'!$A$11:$G$143,4,FALSE))","v":"Bregy Ralf & Adolf"}]
["2021-07-03",{"$f":"IF(ISBLANK(D805),\"Alain, nix drischribu\",VLOOKUP(D805,'2021'!$A$11:$G$143,4,FALSE))","v":"Jäger Carlo & Lukas"},{"$f":"VLOOKUP(D805,'2021'!$A$11:$G$143,2,FALSE)","v":"Prune"},57,93,{"$f":"VLOOKUP(E805,'2021'!$A$11:$G$143,2,FALSE)","v":"Tonic"},{"$f":"IF(ISBLANK(E805),\"hie eu nix drischribu\",VLOOKUP(E805,'2021'!$A$11:$G$143,4,FALSE))","v":"Williner Anton"}]
["2021-07-03",{"$f":"IF(ISBLANK(D806),\"Alain, nix drischribu\",VLOOKUP(D806,'2021'!$A$11:$G$143,4,FALSE))","v":"Stallung zum Stäg"},{"$f":"VLOOKUP(D806,'2021'!$A$11:$G$143,2,FALSE)","v":"Cayenne"},83,96,{"$f":"VLOOKUP(E806,'2021'!$A$11:$G$143,2,FALSE)","v":"Vanessa"},{"$f":"IF(ISBLANK(E806),\"hie eu nix drischribu\",VLOOKUP(E806,'2021'!$A$11:$G$143,4,FALSE))","v":"Williner Anton"}]
["2021-07-03",{"$f":"IF(ISBLANK(D807),\"Alain, nix drischribu\",VLOOKUP(D807,'2021'!$A$11:$G$143,4,FALSE))","v":"Wyssen Diego & Madlen"},{"$f":"VLOOKUP(D807,'2021'!$A$11:$G$143,2,FALSE)","v":"Xena"},103,96,{"$f":"VLOOKUP(E807,'2021'!$A$11:$G$143,2,FALSE)","v":"Vanessa"},{"$f":"IF(ISBLANK(E807),\"hie eu nix drischribu\",VLOOKUP(E807,'2021'!$A$11:$G$143,4,FALSE))","v":"Williner Anton"}]
["2021-07-03",{"$f":"IF(ISBLANK(D808),\"Alain, nix drischribu\",VLOOKUP(D808,'2021'!$A$11:$G$143,4,FALSE))","v":"Bregy Ralf & Adolf"},{"$f":"VLOOKUP(D808,'2021'!$A$11:$G$143,2,FALSE)","v":"Flacabre"},6,98,{"$f":"VLOOKUP(E808,'2021'!$A$11:$G$143,2,FALSE)","v":"Tira"},{"$f":"IF(ISBLANK(E808),\"hie eu nix drischribu\",VLOOKUP(E808,'2021'!$A$11:$G$143,4,FALSE))","v":"Williner Anton"}]
["2021-07-03",{"$f":"IF(ISBLANK(D809),\"Alain, nix drischribu\",VLOOKUP(D809,'2021'!$A$11:$G$143,4,FALSE))","v":"Bregy Uli / Lisi & Pasci"},{"$f":"VLOOKUP(D809,'2021'!$A$11:$G$143,2,FALSE)","v":"Murphy"},16,94,{"$f":"VLOOKUP(E809,'2021'!$A$11:$G$143,2,FALSE)","v":"Tigra"},{"$f":"IF(ISBLANK(E809),\"hie eu nix drischribu\",VLOOKUP(E809,'2021'!$A$11:$G$143,4,FALSE))","v":"Williner Anton"}]
["2021-07-03",{"$f":"IF(ISBLANK(D810),\"Alain, nix drischribu\",VLOOKUP(D810,'2021'!$A$11:$G$143,4,FALSE))","v":"Bregy Ralf & Adolf"},{"$f":"VLOOKUP(D810,'2021'!$A$11:$G$143,2,FALSE)","v":"Flacabre"},6,96,{"$f":"VLOOKUP(E810,'2021'!$A$11:$G$143,2,FALSE)","v":"Vanessa"},{"$f":"IF(ISBLANK(E810),\"hie eu nix drischribu\",VLOOKUP(E810,'2021'!$A$11:$G$143,4,FALSE))","v":"Williner Anton"}]
["2021-07-03",{"$f":"IF(ISBLANK(D811),\"Alain, nix drischribu\",VLOOKUP(D811,'2021'!$A$11:$G$143,4,FALSE))","v":"Bregy Ralf & Adolf"},{"$f":"VLOOKUP(D811,'2021'!$A$11:$G$143,2,FALSE)","v":"Coquette"},9,122,{"$f":"VLOOKUP(E811,'2021'!$A$11:$G$143,2,FALSE)","v":"Xana"},{"$f":"IF(ISBLANK(E811),\"hie eu nix drischribu\",VLOOKUP(E811,'2021'!$A$11:$G$143,4,FALSE))","v":"Zumofen / Gattlen"}]
["2021-07-03",{"$f":"IF(ISBLANK(D812),\"Alain, nix drischribu\",VLOOKUP(D812,'2021'!$A$11:$G$143,4,FALSE))","v":"Fux W., J., & Wyer Piet"},{"$f":"VLOOKUP(D812,'2021'!$A$11:$G$143,2,FALSE)","v":"Valaisanne"},34,70,{"$f":"VLOOKUP(E812,'2021'!$A$11:$G$143,2,FALSE)","v":"Bonita"},{"$f":"IF(ISBLANK(E812),\"hie eu nix drischribu\",VLOOKUP(E812,'2021'!$A$11:$G$143,4,FALSE))","v":"Mathieu Leander & Sascha"}]
["2021-07-03",{"$f":"IF(ISBLANK(D813),\"Alain, nix drischribu\",VLOOKUP(D813,'2021'!$A$11:$G$143,4,FALSE))","v":"Tscherry Erwin & Bernhard"},{"$f":"VLOOKUP(D813,'2021'!$A$11:$G$143,2,FALSE)","v":"Carolin"},91,34,{"$f":"VLOOKUP(E813,'2021'!$A$11:$G$143,2,FALSE)","v":"Valaisanne"},{"$f":"IF(ISBLANK(E813),\"hie eu nix drischribu\",VLOOKUP(E813,'2021'!$A$11:$G$143,4,FALSE))","v":"Fux W., J., & Wyer Piet"}]
["2021-07-03",{"$f":"IF(ISBLANK(D814),\"Alain, nix drischribu\",VLOOKUP(D814,'2021'!$A$11:$G$143,4,FALSE))","v":"Fux W., J., & Wyer Piet"},{"$f":"VLOOKUP(D814,'2021'!$A$11:$G$143,2,FALSE)","v":"Valaisanne"},34,51,{"$f":"VLOOKUP(E814,'2021'!$A$11:$G$143,2,FALSE)","v":"Safira"},{"$f":"IF(ISBLANK(E814),\"hie eu nix drischribu\",VLOOKUP(E814,'2021'!$A$11:$G$143,4,FALSE))","v":"Hischier Pius"}]
["2021-07-03",{"$f":"IF(ISBLANK(D815),\"Alain, nix drischribu\",VLOOKUP(D815,'2021'!$A$11:$G$143,4,FALSE))","v":"Sewer R. & Thommen S."},{"$f":"VLOOKUP(D815,'2021'!$A$11:$G$143,2,FALSE)","v":"Samantha"},85,29,{"$f":"VLOOKUP(E815,'2021'!$A$11:$G$143,2,FALSE)","v":"Bolero"},{"$f":"IF(ISBLANK(E815),\"hie eu nix drischribu\",VLOOKUP(E815,'2021'!$A$11:$G$143,4,FALSE))","v":"Fux W., J., & Wyer Piet"}]
["2021-07-03",{"$f":"IF(ISBLANK(D816),\"Alain, nix drischribu\",VLOOKUP(D816,'2021'!$A$11:$G$143,4,FALSE))","v":"Bregy Ralf & Adolf"},{"$f":"VLOOKUP(D816,'2021'!$A$11:$G$143,2,FALSE)","v":"Flacabre"},6,67,{"$f":"VLOOKUP(E816,'2021'!$A$11:$G$143,2,FALSE)","v":"Tokio"},{"$f":"IF(ISBLANK(E816),\"hie eu nix drischribu\",VLOOKUP(E816,'2021'!$A$11:$G$143,4,FALSE))","v":"Jäger Carlo & Lukas"}]
["2021-07-03",{"$f":"IF(ISBLANK(D817),\"Alain, nix drischribu\",VLOOKUP(D817,'2021'!$A$11:$G$143,4,FALSE))","v":"Bayard Medard & Gustav"},{"$f":"VLOOKUP(D817,'2021'!$A$11:$G$143,2,FALSE)","v":"Vampir"},4,122,{"$f":"VLOOKUP(E817,'2021'!$A$11:$G$143,2,FALSE)","v":"Xana"},{"$f":"IF(ISBLANK(E817),\"hie eu nix drischribu\",VLOOKUP(E817,'2021'!$A$11:$G$143,4,FALSE))","v":"Zumofen / Gattlen"}]
["2021-07-03",{"$f":"IF(ISBLANK(D818),\"Alain, nix drischribu\",VLOOKUP(D818,'2021'!$A$11:$G$143,4,FALSE))","v":"Hischier H. & Bühlmann J."},{"$f":"VLOOKUP(D818,'2021'!$A$11:$G$143,2,FALSE)","v":"Lenja"},47,100,{"$f":"VLOOKUP(E818,'2021'!$A$11:$G$143,2,FALSE)","v":"Xantara"},{"$f":"IF(ISBLANK(E818),\"hie eu nix drischribu\",VLOOKUP(E818,'2021'!$A$11:$G$143,4,FALSE))","v":"Wyssen Diego & Madlen"}]
["2021-07-03",{"$f":"IF(ISBLANK(D819),\"Alain, nix drischribu\",VLOOKUP(D819,'2021'!$A$11:$G$143,4,FALSE))","v":"Stallung zum Stäg"},{"$f":"VLOOKUP(D819,'2021'!$A$11:$G$143,2,FALSE)","v":"Cayenne"},83,42,{"$f":"VLOOKUP(E819,'2021'!$A$11:$G$143,2,FALSE)","v":"Simba"},{"$f":"IF(ISBLANK(E819),\"hie eu nix drischribu\",VLOOKUP(E819,'2021'!$A$11:$G$143,4,FALSE))","v":"Gebrüder Jäger"}]
["2021-07-03",{"$f":"IF(ISBLANK(D820),\"Alain, nix drischribu\",VLOOKUP(D820,'2021'!$A$11:$G$143,4,FALSE))","v":"Bregy Ralf & Adolf"},{"$f":"VLOOKUP(D820,'2021'!$A$11:$G$143,2,FALSE)","v":"Flacabre"},6,4,{"$f":"VLOOKUP(E820,'2021'!$A$11:$G$143,2,FALSE)","v":"Vampir"},{"$f":"IF(ISBLANK(E820),\"hie eu nix drischribu\",VLOOKUP(E820,'2021'!$A$11:$G$143,4,FALSE))","v":"Bayard Medard & Gustav"}]
["2021-07-03",{"$f":"IF(ISBLANK(D821),\"Alain, nix drischribu\",VLOOKUP(D821,'2021'!$A$11:$G$143,4,FALSE))","v":"Bayard Medard & Gustav"},{"$f":"VLOOKUP(D821,'2021'!$A$11:$G$143,2,FALSE)","v":"Vampir"},4,57,{"$f":"VLOOKUP(E821,'2021'!$A$11:$G$143,2,FALSE)","v":"Prune"},{"$f":"IF(ISBLANK(E821),\"hie eu nix drischribu\",VLOOKUP(E821,'2021'!$A$11:$G$143,4,FALSE))","v":"Jäger Carlo & Lukas"}]
["2021-07-03",{"$f":"IF(ISBLANK(D822),\"Alain, nix drischribu\",VLOOKUP(D822,'2021'!$A$11:$G$143,4,FALSE))","v":"Bregy Ralf & Adolf"},{"$f":"VLOOKUP(D822,'2021'!$A$11:$G$143,2,FALSE)","v":"Canabis"},14,80,{"$f":"VLOOKUP(E822,'2021'!$A$11:$G$143,2,FALSE)","v":"Bonita"},{"$f":"IF(ISBLANK(E822),\"hie eu nix drischribu\",VLOOKUP(E822,'2021'!$A$11:$G$143,4,FALSE))","v":"Stallung Passeraub"}]
["2021-07-03",{"$f":"IF(ISBLANK(D823),\"Alain, nix drischribu\",VLOOKUP(D823,'2021'!$A$11:$G$143,4,FALSE))","v":"Stallung Passeraub"},{"$f":"VLOOKUP(D823,'2021'!$A$11:$G$143,2,FALSE)","v":"Ballerine"},78,21,{"$f":"VLOOKUP(E823,'2021'!$A$11:$G$143,2,FALSE)","v":"Bora"},{"$f":"IF(ISBLANK(E823),\"hie eu nix drischribu\",VLOOKUP(E823,'2021'!$A$11:$G$143,4,FALSE))","v":"Bregy Uli / Lisi & Pasci"}]
["2021-07-03",{"$f":"IF(ISBLANK(D824),\"Alain, nix drischribu\",VLOOKUP(D824,'2021'!$A$11:$G$143,4,FALSE))","v":"Bregy Ralf & Adolf"},{"$f":"VLOOKUP(D824,'2021'!$A$11:$G$143,2,FALSE)","v":"Flacabre"},6,82,{"$f":"VLOOKUP(E824,'2021'!$A$11:$G$143,2,FALSE)","v":"Bobino"},{"$f":"IF(ISBLANK(E824),\"hie eu nix drischribu\",VLOOKUP(E824,'2021'!$A$11:$G$143,4,FALSE))","v":"Stallung Passeraub"}]
["2021-07-03",{"$f":"IF(ISBLANK(D825),\"Alain, nix drischribu\",VLOOKUP(D825,'2021'!$A$11:$G$143,4,FALSE))","v":"Stallung zum Stäg"},{"$f":"VLOOKUP(D825,'2021'!$A$11:$G$143,2,FALSE)","v":"Cayenne"},83,100,{"$f":"VLOOKUP(E825,'2021'!$A$11:$G$143,2,FALSE)","v":"Xantara"},{"$f":"IF(ISBLANK(E825),\"hie eu nix drischribu\",VLOOKUP(E825,'2021'!$A$11:$G$143,4,FALSE))","v":"Wyssen Diego & Madlen"}]
["2021-07-02",{"$f":"IF(ISBLANK(D826),\"Alain, nix drischribu\",VLOOKUP(D826,'2021'!$A$11:$G$143,4,FALSE))","v":"Zumofen / Gattlen"},{"$f":"VLOOKUP(D826,'2021'!$A$11:$G$143,2,FALSE)","v":"Xena"},110,95,{"$f":"VLOOKUP(E826,'2021'!$A$11:$G$143,2,FALSE)","v":"Vivana"},{"$f":"IF(ISBLANK(E826),\"hie eu nix drischribu\",VLOOKUP(E826,'2021'!$A$11:$G$143,4,FALSE))","v":"Williner Anton"}]
["2021-07-02",{"$f":"IF(ISBLANK(D827),\"Alain, nix drischribu\",VLOOKUP(D827,'2021'!$A$11:$G$143,4,FALSE))","v":"Zumofen / Gattlen"},{"$f":"VLOOKUP(D827,'2021'!$A$11:$G$143,2,FALSE)","v":"Xena"},110,46,{"$f":"VLOOKUP(E827,'2021'!$A$11:$G$143,2,FALSE)","v":"Lorens"},{"$f":"IF(ISBLANK(E827),\"hie eu nix drischribu\",VLOOKUP(E827,'2021'!$A$11:$G$143,4,FALSE))","v":"Gebrüder Jäger"}]
["2021-07-02",{"$f":"IF(ISBLANK(D828),\"Alain, nix drischribu\",VLOOKUP(D828,'2021'!$A$11:$G$143,4,FALSE))","v":"Stallung Passeraub"},{"$f":"VLOOKUP(D828,'2021'!$A$11:$G$143,2,FALSE)","v":"Menance"},75,68,{"$f":"VLOOKUP(E828,'2021'!$A$11:$G$143,2,FALSE)","v":"Baghira"},{"$f":"IF(ISBLANK(E828),\"hie eu nix drischribu\",VLOOKUP(E828,'2021'!$A$11:$G$143,4,FALSE))","v":"Mathieu Leander & Sascha"}]
["2021-07-02",{"$f":"IF(ISBLANK(D829),\"Alain, nix drischribu\",VLOOKUP(D829,'2021'!$A$11:$G$143,4,FALSE))","v":"Stallung Passeraub"},{"$f":"VLOOKUP(D829,'2021'!$A$11:$G$143,2,FALSE)","v":"Ballerine"},78,108,{"$f":"VLOOKUP(E829,'2021'!$A$11:$G$143,2,FALSE)","v":"Violette"},{"$f":"IF(ISBLANK(E829),\"hie eu nix drischribu\",VLOOKUP(E829,'2021'!$A$11:$G$143,4,FALSE))","v":"Zumofen / Gattlen"}]
["2021-07-02",{"$f":"IF(ISBLANK(D830),\"Alain, nix drischribu\",VLOOKUP(D830,'2021'!$A$11:$G$143,4,FALSE))","v":"Zumofen / Gattlen"},{"$f":"VLOOKUP(D830,'2021'!$A$11:$G$143,2,FALSE)","v":"Fayola"},119,10,{"$f":"VLOOKUP(E830,'2021'!$A$11:$G$143,2,FALSE)","v":"Diabolo"},{"$f":"IF(ISBLANK(E830),\"hie eu nix drischribu\",VLOOKUP(E830,'2021'!$A$11:$G$143,4,FALSE))","v":"Bregy Ralf & Adolf"}]
["2021-07-02",{"$f":"IF(ISBLANK(D831),\"Alain, nix drischribu\",VLOOKUP(D831,'2021'!$A$11:$G$143,4,FALSE))","v":"Fux W., J., & Wyer Piet"},{"$f":"VLOOKUP(D831,'2021'!$A$11:$G$143,2,FALSE)","v":"Diamant"},30,105,{"$f":"VLOOKUP(E831,'2021'!$A$11:$G$143,2,FALSE)","v":"Corona"},{"$f":"IF(ISBLANK(E831),\"hie eu nix drischribu\",VLOOKUP(E831,'2021'!$A$11:$G$143,4,FALSE))","v":"Zumoberhaus Pius"}]
["2021-07-02",{"$f":"IF(ISBLANK(D832),\"Alain, nix drischribu\",VLOOKUP(D832,'2021'!$A$11:$G$143,4,FALSE))","v":"Wyssen Diego & Madlen"},{"$f":"VLOOKUP(D832,'2021'!$A$11:$G$143,2,FALSE)","v":"Xhyla"},104,95,{"$f":"VLOOKUP(E832,'2021'!$A$11:$G$143,2,FALSE)","v":"Vivana"},{"$f":"IF(ISBLANK(E832),\"hie eu nix drischribu\",VLOOKUP(E832,'2021'!$A$11:$G$143,4,FALSE))","v":"Williner Anton"}]
["2021-07-02",{"$f":"IF(ISBLANK(D833),\"Alain, nix drischribu\",VLOOKUP(D833,'2021'!$A$11:$G$143,4,FALSE))","v":"Williner Anton"},{"$f":"VLOOKUP(D833,'2021'!$A$11:$G$143,2,FALSE)","v":"Vivana"},95,27,{"$f":"VLOOKUP(E833,'2021'!$A$11:$G$143,2,FALSE)","v":"Rebell"},{"$f":"IF(ISBLANK(E833),\"hie eu nix drischribu\",VLOOKUP(E833,'2021'!$A$11:$G$143,4,FALSE))","v":"Fam. Leiggener"}]
["2021-07-02",{"$f":"IF(ISBLANK(D834),\"Alain, nix drischribu\",VLOOKUP(D834,'2021'!$A$11:$G$143,4,FALSE))","v":"Jäger Carlo & Lukas"},{"$f":"VLOOKUP(D834,'2021'!$A$11:$G$143,2,FALSE)","v":"Metis"},63,124,{"$f":"VLOOKUP(E834,'2021'!$A$11:$G$143,2,FALSE)","v":"Xara"},{"$f":"IF(ISBLANK(E834),\"hie eu nix drischribu\",VLOOKUP(E834,'2021'!$A$11:$G$143,4,FALSE))","v":"Zumofen / Gattlen"}]
["2021-07-02",{"$f":"IF(ISBLANK(D835),\"Alain, nix drischribu\",VLOOKUP(D835,'2021'!$A$11:$G$143,4,FALSE))","v":"Zumofen / Gattlen"},{"$f":"VLOOKUP(D835,'2021'!$A$11:$G$143,2,FALSE)","v":"Pinoccio"},116,95,{"$f":"VLOOKUP(E835,'2021'!$A$11:$G$143,2,FALSE)","v":"Vivana"},{"$f":"IF(ISBLANK(E835),\"hie eu nix drischribu\",VLOOKUP(E835,'2021'!$A$11:$G$143,4,FALSE))","v":"Williner Anton"}]
["2021-07-01",{"$f":"IF(ISBLANK(D836),\"Alain, nix drischribu\",VLOOKUP(D836,'2021'!$A$11:$G$143,4,FALSE))","v":"Wyssen Diego & Madlen"},{"$f":"VLOOKUP(D836,'2021'!$A$11:$G$143,2,FALSE)","v":"Xhyla"},104,103,{"$f":"VLOOKUP(E836,'2021'!$A$11:$G$143,2,FALSE)","v":"Xena"},{"$f":"IF(ISBLANK(E836),\"hie eu nix drischribu\",VLOOKUP(E836,'2021'!$A$11:$G$143,4,FALSE))","v":"Wyssen Diego & Madlen"}]
["2021-07-01",{"$f":"IF(ISBLANK(D837),\"Alain, nix drischribu\",VLOOKUP(D837,'2021'!$A$11:$G$143,4,FALSE))","v":"Zumofen / Gattlen"},{"$f":"VLOOKUP(D837,'2021'!$A$11:$G$143,2,FALSE)","v":"Fachita"},123,71,{"$f":"VLOOKUP(E837,'2021'!$A$11:$G$143,2,FALSE)","v":"Balea"},{"$f":"IF(ISBLANK(E837),\"hie eu nix drischribu\",VLOOKUP(E837,'2021'!$A$11:$G$143,4,FALSE))","v":"Mathieu Leander & Sascha"}]
["2021-07-01",{"$f":"IF(ISBLANK(D838),\"Alain, nix drischribu\",VLOOKUP(D838,'2021'!$A$11:$G$143,4,FALSE))","v":"Gebrüder Jäger"},{"$f":"VLOOKUP(D838,'2021'!$A$11:$G$143,2,FALSE)","v":"Lorens"},46,124,{"$f":"VLOOKUP(E838,'2021'!$A$11:$G$143,2,FALSE)","v":"Xara"},{"$f":"IF(ISBLANK(E838),\"hie eu nix drischribu\",VLOOKUP(E838,'2021'!$A$11:$G$143,4,FALSE))","v":"Zumofen / Gattlen"}]
["2021-07-01",{"$f":"IF(ISBLANK(D839),\"Alain, nix drischribu\",VLOOKUP(D839,'2021'!$A$11:$G$143,4,FALSE))","v":"Wyssen Diego & Madlen"},{"$f":"VLOOKUP(D839,'2021'!$A$11:$G$143,2,FALSE)","v":"Rijana"},99,86,{"$f":"VLOOKUP(E839,'2021'!$A$11:$G$143,2,FALSE)","v":"Tessa"},{"$f":"IF(ISBLANK(E839),\"hie eu nix drischribu\",VLOOKUP(E839,'2021'!$A$11:$G$143,4,FALSE))","v":"Sewer R. & Thommen S."}]
["2021-07-01",{"$f":"IF(ISBLANK(D840),\"Alain, nix drischribu\",VLOOKUP(D840,'2021'!$A$11:$G$143,4,FALSE))","v":"Fux W., J., & Wyer Piet"},{"$f":"VLOOKUP(D840,'2021'!$A$11:$G$143,2,FALSE)","v":"Bacardi"},39,3,{"$f":"VLOOKUP(E840,'2021'!$A$11:$G$143,2,FALSE)","v":"Priska"},{"$f":"IF(ISBLANK(E840),\"hie eu nix drischribu\",VLOOKUP(E840,'2021'!$A$11:$G$143,4,FALSE))","v":"Bayard Medard & Gustav"}]
["2021-07-01",{"$f":"IF(ISBLANK(D841),\"Alain, nix drischribu\",VLOOKUP(D841,'2021'!$A$11:$G$143,4,FALSE))","v":"Williner Anton"},{"$f":"VLOOKUP(D841,'2021'!$A$11:$G$143,2,FALSE)","v":"Vivana"},95,64,{"$f":"VLOOKUP(E841,'2021'!$A$11:$G$143,2,FALSE)","v":"Sera"},{"$f":"IF(ISBLANK(E841),\"hie eu nix drischribu\",VLOOKUP(E841,'2021'!$A$11:$G$143,4,FALSE))","v":"Jäger Carlo & Lukas"}]
["2021-07-01",{"$f":"IF(ISBLANK(D842),\"Alain, nix drischribu\",VLOOKUP(D842,'2021'!$A$11:$G$143,4,FALSE))","v":"Fux W., J., & Wyer Piet"},{"$f":"VLOOKUP(D842,'2021'!$A$11:$G$143,2,FALSE)","v":"Bacardi"},39,81,{"$f":"VLOOKUP(E842,'2021'!$A$11:$G$143,2,FALSE)","v":"Fägär"},{"$f":"IF(ISBLANK(E842),\"hie eu nix drischribu\",VLOOKUP(E842,'2021'!$A$11:$G$143,4,FALSE))","v":"Hutter Richard"}]
["2021-07-01",{"$f":"IF(ISBLANK(D843),\"Alain, nix drischribu\",VLOOKUP(D843,'2021'!$A$11:$G$143,4,FALSE))","v":"Williner Anton"},{"$f":"VLOOKUP(D843,'2021'!$A$11:$G$143,2,FALSE)","v":"Tira"},98,103,{"$f":"VLOOKUP(E843,'2021'!$A$11:$G$143,2,FALSE)","v":"Xena"},{"$f":"IF(ISBLANK(E843),\"hie eu nix drischribu\",VLOOKUP(E843,'2021'!$A$11:$G$143,4,FALSE))","v":"Wyssen Diego & Madlen"}]
["2021-07-01",{"$f":"IF(ISBLANK(D844),\"Alain, nix drischribu\",VLOOKUP(D844,'2021'!$A$11:$G$143,4,FALSE))","v":"Gebrüder Jäger"},{"$f":"VLOOKUP(D844,'2021'!$A$11:$G$143,2,FALSE)","v":"Tiara"},44,88,{"$f":"VLOOKUP(E844,'2021'!$A$11:$G$143,2,FALSE)","v":"Malice"},{"$f":"IF(ISBLANK(E844),\"hie eu nix drischribu\",VLOOKUP(E844,'2021'!$A$11:$G$143,4,FALSE))","v":"Sewer R. & Thommen S."}]
["2021-07-01",{"$f":"IF(ISBLANK(D845),\"Alain, nix drischribu\",VLOOKUP(D845,'2021'!$A$11:$G$143,4,FALSE))","v":"Jäger Carlo & Lukas"},{"$f":"VLOOKUP(D845,'2021'!$A$11:$G$143,2,FALSE)","v":"Taverne"},66,17,{"$f":"VLOOKUP(E845,'2021'!$A$11:$G$143,2,FALSE)","v":"Simba"},{"$f":"IF(ISBLANK(E845),\"hie eu nix drischribu\",VLOOKUP(E845,'2021'!$A$11:$G$143,4,FALSE))","v":"Bregy Uli / Lisi & Pasci"}]
["2021-07-01",{"$f":"IF(ISBLANK(D846),\"Alain, nix drischribu\",VLOOKUP(D846,'2021'!$A$11:$G$143,4,FALSE))","v":"Jäger Carlo & Lukas"},{"$f":"VLOOKUP(D846,'2021'!$A$11:$G$143,2,FALSE)","v":"Bataille"},58,75,{"$f":"VLOOKUP(E846,'2021'!$A$11:$G$143,2,FALSE)","v":"Menance"},{"$f":"IF(ISBLANK(E846),\"hie eu nix drischribu\",VLOOKUP(E846,'2021'!$A$11:$G$143,4,FALSE))","v":"Stallung Passeraub"}]
["2021-07-01",{"$f":"IF(ISBLANK(D847),\"Alain, nix drischribu\",VLOOKUP(D847,'2021'!$A$11:$G$143,4,FALSE))","v":"Zumofen / Gattlen"},{"$f":"VLOOKUP(D847,'2021'!$A$11:$G$143,2,FALSE)","v":"Rigolo"},117,3,{"$f":"VLOOKUP(E847,'2021'!$A$11:$G$143,2,FALSE)","v":"Priska"},{"$f":"IF(ISBLANK(E847),\"hie eu nix drischribu\",VLOOKUP(E847,'2021'!$A$11:$G$143,4,FALSE))","v":"Bayard Medard & Gustav"}]
["2021-07-01",{"$f":"IF(ISBLANK(D848),\"Alain, nix drischribu\",VLOOKUP(D848,'2021'!$A$11:$G$143,4,FALSE))","v":"Zumofen / Gattlen"},{"$f":"VLOOKUP(D848,'2021'!$A$11:$G$143,2,FALSE)","v":"Souris"},115,69,{"$f":"VLOOKUP(E848,'2021'!$A$11:$G$143,2,FALSE)","v":"Bavaria"},{"$f":"IF(ISBLANK(E848),\"hie eu nix drischribu\",VLOOKUP(E848,'2021'!$A$11:$G$143,4,FALSE))","v":"Mathieu Leander & Sascha"}]
["2021-07-01",{"$f":"IF(ISBLANK(D849),\"Alain, nix drischribu\",VLOOKUP(D849,'2021'!$A$11:$G$143,4,FALSE))","v":"Williner Anton"},{"$f":"VLOOKUP(D849,'2021'!$A$11:$G$143,2,FALSE)","v":"Vivana"},95,67,{"$f":"VLOOKUP(E849,'2021'!$A$11:$G$143,2,FALSE)","v":"Tokio"},{"$f":"IF(ISBLANK(E849),\"hie eu nix drischribu\",VLOOKUP(E849,'2021'!$A$11:$G$143,4,FALSE))","v":"Jäger Carlo & Lukas"}]
["2021-07-01",{"$f":"IF(ISBLANK(D850),\"Alain, nix drischribu\",VLOOKUP(D850,'2021'!$A$11:$G$143,4,FALSE))","v":"Sewer R. & Thommen S."},{"$f":"VLOOKUP(D850,'2021'!$A$11:$G$143,2,FALSE)","v":"Samantha"},85,111,{"$f":"VLOOKUP(E850,'2021'!$A$11:$G$143,2,FALSE)","v":"Palona"},{"$f":"IF(ISBLANK(E850),\"hie eu nix drischribu\",VLOOKUP(E850,'2021'!$A$11:$G$143,4,FALSE))","v":"Zumofen / Gattlen"}]
["2021-07-01",{"$f":"IF(ISBLANK(D851),\"Alain, nix drischribu\",VLOOKUP(D851,'2021'!$A$11:$G$143,4,FALSE))","v":"Jäger Carlo & Lukas"},{"$f":"VLOOKUP(D851,'2021'!$A$11:$G$143,2,FALSE)","v":"Caline"},53,71,{"$f":"VLOOKUP(E851,'2021'!$A$11:$G$143,2,FALSE)","v":"Balea"},{"$f":"IF(ISBLANK(E851),\"hie eu nix drischribu\",VLOOKUP(E851,'2021'!$A$11:$G$143,4,FALSE))","v":"Mathieu Leander & Sascha"}]
["2021-07-01",{"$f":"IF(ISBLANK(D852),\"Alain, nix drischribu\",VLOOKUP(D852,'2021'!$A$11:$G$143,4,FALSE))","v":"Stallung Passeraub"},{"$f":"VLOOKUP(D852,'2021'!$A$11:$G$143,2,FALSE)","v":"Bajka"},73,122,{"$f":"VLOOKUP(E852,'2021'!$A$11:$G$143,2,FALSE)","v":"Xana"},{"$f":"IF(ISBLANK(E852),\"hie eu nix drischribu\",VLOOKUP(E852,'2021'!$A$11:$G$143,4,FALSE))","v":"Zumofen / Gattlen"}]
["2021-07-01",{"$f":"IF(ISBLANK(D853),\"Alain, nix drischribu\",VLOOKUP(D853,'2021'!$A$11:$G$143,4,FALSE))","v":"Zumofen / Gattlen"},{"$f":"VLOOKUP(D853,'2021'!$A$11:$G$143,2,FALSE)","v":"Rena"},109,97,{"$f":"VLOOKUP(E853,'2021'!$A$11:$G$143,2,FALSE)","v":"Violine"},{"$f":"IF(ISBLANK(E853),\"hie eu nix drischribu\",VLOOKUP(E853,'2021'!$A$11:$G$143,4,FALSE))","v":"Williner Anton"}]
["2021-07-01",{"$f":"IF(ISBLANK(D854),\"Alain, nix drischribu\",VLOOKUP(D854,'2021'!$A$11:$G$143,4,FALSE))","v":"Bregy Ralf & Adolf"},{"$f":"VLOOKUP(D854,'2021'!$A$11:$G$143,2,FALSE)","v":"Flacabre"},6,115,{"$f":"VLOOKUP(E854,'2021'!$A$11:$G$143,2,FALSE)","v":"Souris"},{"$f":"IF(ISBLANK(E854),\"hie eu nix drischribu\",VLOOKUP(E854,'2021'!$A$11:$G$143,4,FALSE))","v":"Zumofen / Gattlen"}]
["2021-07-01",{"$f":"IF(ISBLANK(D855),\"Alain, nix drischribu\",VLOOKUP(D855,'2021'!$A$11:$G$143,4,FALSE))","v":"Zumofen / Gattlen"},{"$f":"VLOOKUP(D855,'2021'!$A$11:$G$143,2,FALSE)","v":"Xena"},110,6,{"$f":"VLOOKUP(E855,'2021'!$A$11:$G$143,2,FALSE)","v":"Flacabre"},{"$f":"IF(ISBLANK(E855),\"hie eu nix drischribu\",VLOOKUP(E855,'2021'!$A$11:$G$143,4,FALSE))","v":"Bregy Ralf & Adolf"}]
["2021-06-30",{"$f":"IF(ISBLANK(D856),\"Alain, nix drischribu\",VLOOKUP(D856,'2021'!$A$11:$G$143,4,FALSE))","v":"Jäger Carlo & Lukas"},{"$f":"VLOOKUP(D856,'2021'!$A$11:$G$143,2,FALSE)","v":"Mygale"},56,38,{"$f":"VLOOKUP(E856,'2021'!$A$11:$G$143,2,FALSE)","v":"Bresil"},{"$f":"IF(ISBLANK(E856),\"hie eu nix drischribu\",VLOOKUP(E856,'2021'!$A$11:$G$143,4,FALSE))","v":"Fux W., J., & Wyer Piet"}]
["2021-06-30",{"$f":"IF(ISBLANK(D857),\"Alain, nix drischribu\",VLOOKUP(D857,'2021'!$A$11:$G$143,4,FALSE))","v":"Stallung Passeraub"},{"$f":"VLOOKUP(D857,'2021'!$A$11:$G$143,2,FALSE)","v":"Ballerine"},78,98,{"$f":"VLOOKUP(E857,'2021'!$A$11:$G$143,2,FALSE)","v":"Tira"},{"$f":"IF(ISBLANK(E857),\"hie eu nix drischribu\",VLOOKUP(E857,'2021'!$A$11:$G$143,4,FALSE))","v":"Williner Anton"}]
["2021-06-30",{"$f":"IF(ISBLANK(D858),\"Alain, nix drischribu\",VLOOKUP(D858,'2021'!$A$11:$G$143,4,FALSE))","v":"Hutter Richard"},{"$f":"VLOOKUP(D858,'2021'!$A$11:$G$143,2,FALSE)","v":"Fägär"},81,39,{"$f":"VLOOKUP(E858,'2021'!$A$11:$G$143,2,FALSE)","v":"Bacardi"},{"$f":"IF(ISBLANK(E858),\"hie eu nix drischribu\",VLOOKUP(E858,'2021'!$A$11:$G$143,4,FALSE))","v":"Fux W., J., & Wyer Piet"}]
["2021-06-30",{"$f":"IF(ISBLANK(D859),\"Alain, nix drischribu\",VLOOKUP(D859,'2021'!$A$11:$G$143,4,FALSE))","v":"Fux W., J., & Wyer Piet"},{"$f":"VLOOKUP(D859,'2021'!$A$11:$G$143,2,FALSE)","v":"Bacardi"},39,14,{"$f":"VLOOKUP(E859,'2021'!$A$11:$G$143,2,FALSE)","v":"Canabis"},{"$f":"IF(ISBLANK(E859),\"hie eu nix drischribu\",VLOOKUP(E859,'2021'!$A$11:$G$143,4,FALSE))","v":"Bregy Ralf & Adolf"}]
["2021-06-30",{"$f":"IF(ISBLANK(D860),\"Alain, nix drischribu\",VLOOKUP(D860,'2021'!$A$11:$G$143,4,FALSE))","v":"Williner Anton"},{"$f":"VLOOKUP(D860,'2021'!$A$11:$G$143,2,FALSE)","v":"Tira"},98,69,{"$f":"VLOOKUP(E860,'2021'!$A$11:$G$143,2,FALSE)","v":"Bavaria"},{"$f":"IF(ISBLANK(E860),\"hie eu nix drischribu\",VLOOKUP(E860,'2021'!$A$11:$G$143,4,FALSE))","v":"Mathieu Leander & Sascha"}]
["2021-06-30",{"$f":"IF(ISBLANK(D861),\"Alain, nix drischribu\",VLOOKUP(D861,'2021'!$A$11:$G$143,4,FALSE))","v":"Fux W., J., & Wyer Piet"},{"$f":"VLOOKUP(D861,'2021'!$A$11:$G$143,2,FALSE)","v":"Toscana"},37,75,{"$f":"VLOOKUP(E861,'2021'!$A$11:$G$143,2,FALSE)","v":"Menance"},{"$f":"IF(ISBLANK(E861),\"hie eu nix drischribu\",VLOOKUP(E861,'2021'!$A$11:$G$143,4,FALSE))","v":"Stallung Passeraub"}]
["2021-06-30",{"$f":"IF(ISBLANK(D862),\"Alain, nix drischribu\",VLOOKUP(D862,'2021'!$A$11:$G$143,4,FALSE))","v":"Zumofen / Gattlen"},{"$f":"VLOOKUP(D862,'2021'!$A$11:$G$143,2,FALSE)","v":"Vanda"},113,96,{"$f":"VLOOKUP(E862,'2021'!$A$11:$G$143,2,FALSE)","v":"Vanessa"},{"$f":"IF(ISBLANK(E862),\"hie eu nix drischribu\",VLOOKUP(E862,'2021'!$A$11:$G$143,4,FALSE))","v":"Williner Anton"}]
["2021-06-30",{"$f":"IF(ISBLANK(D863),\"Alain, nix drischribu\",VLOOKUP(D863,'2021'!$A$11:$G$143,4,FALSE))","v":"Mathieu Leander & Sascha"},{"$f":"VLOOKUP(D863,'2021'!$A$11:$G$143,2,FALSE)","v":"Bonita"},70,56,{"$f":"VLOOKUP(E863,'2021'!$A$11:$G$143,2,FALSE)","v":"Mygale"},{"$f":"IF(ISBLANK(E863),\"hie eu nix drischribu\",VLOOKUP(E863,'2021'!$A$11:$G$143,4,FALSE))","v":"Jäger Carlo & Lukas"}]
["2021-06-30",{"$f":"IF(ISBLANK(D864),\"Alain, nix drischribu\",VLOOKUP(D864,'2021'!$A$11:$G$143,4,FALSE))","v":"Stallung Passeraub"},{"$f":"VLOOKUP(D864,'2021'!$A$11:$G$143,2,FALSE)","v":"Beres"},77,33,{"$f":"VLOOKUP(E864,'2021'!$A$11:$G$143,2,FALSE)","v":"Baquera"},{"$f":"IF(ISBLANK(E864),\"hie eu nix drischribu\",VLOOKUP(E864,'2021'!$A$11:$G$143,4,FALSE))","v":"Fux W., J., & Wyer Piet"}]
["2021-06-30",{"$f":"IF(ISBLANK(D865),\"Alain, nix drischribu\",VLOOKUP(D865,'2021'!$A$11:$G$143,4,FALSE))","v":"Bayard Medard & Gustav"},{"$f":"VLOOKUP(D865,'2021'!$A$11:$G$143,2,FALSE)","v":"Vampir"},4,122,{"$f":"VLOOKUP(E865,'2021'!$A$11:$G$143,2,FALSE)","v":"Xana"},{"$f":"IF(ISBLANK(E865),\"hie eu nix drischribu\",VLOOKUP(E865,'2021'!$A$11:$G$143,4,FALSE))","v":"Zumofen / Gattlen"}]
["2021-06-30",{"$f":"IF(ISBLANK(D866),\"Alain, nix drischribu\",VLOOKUP(D866,'2021'!$A$11:$G$143,4,FALSE))","v":"Zumofen / Gattlen"},{"$f":"VLOOKUP(D866,'2021'!$A$11:$G$143,2,FALSE)","v":"Raja"},121,75,{"$f":"VLOOKUP(E866,'2021'!$A$11:$G$143,2,FALSE)","v":"Menance"},{"$f":"IF(ISBLANK(E866),\"hie eu nix drischribu\",VLOOKUP(E866,'2021'!$A$11:$G$143,4,FALSE))","v":"Stallung Passeraub"}]
["2021-06-30",{"$f":"IF(ISBLANK(D867),\"Alain, nix drischribu\",VLOOKUP(D867,'2021'!$A$11:$G$143,4,FALSE))","v":"Bregy Ralf & Adolf"},{"$f":"VLOOKUP(D867,'2021'!$A$11:$G$143,2,FALSE)","v":"Cashida"},15,98,{"$f":"VLOOKUP(E867,'2021'!$A$11:$G$143,2,FALSE)","v":"Tira"},{"$f":"IF(ISBLANK(E867),\"hie eu nix drischribu\",VLOOKUP(E867,'2021'!$A$11:$G$143,4,FALSE))","v":"Williner Anton"}]
["2021-06-30",{"$f":"IF(ISBLANK(D868),\"Alain, nix drischribu\",VLOOKUP(D868,'2021'!$A$11:$G$143,4,FALSE))","v":"Zumofen / Gattlen"},{"$f":"VLOOKUP(D868,'2021'!$A$11:$G$143,2,FALSE)","v":"Raja"},121,99,{"$f":"VLOOKUP(E868,'2021'!$A$11:$G$143,2,FALSE)","v":"Rijana"},{"$f":"IF(ISBLANK(E868),\"hie eu nix drischribu\",VLOOKUP(E868,'2021'!$A$11:$G$143,4,FALSE))","v":"Wyssen Diego & Madlen"}]
["2021-06-30",{"$f":"IF(ISBLANK(D869),\"Alain, nix drischribu\",VLOOKUP(D869,'2021'!$A$11:$G$143,4,FALSE))","v":"Fam. Leiggener"},{"$f":"VLOOKUP(D869,'2021'!$A$11:$G$143,2,FALSE)","v":"Rebell"},27,67,{"$f":"VLOOKUP(E869,'2021'!$A$11:$G$143,2,FALSE)","v":"Tokio"},{"$f":"IF(ISBLANK(E869),\"hie eu nix drischribu\",VLOOKUP(E869,'2021'!$A$11:$G$143,4,FALSE))","v":"Jäger Carlo & Lukas"}]
["2021-06-30",{"$f":"IF(ISBLANK(D870),\"Alain, nix drischribu\",VLOOKUP(D870,'2021'!$A$11:$G$143,4,FALSE))","v":"Fux W., J., & Wyer Piet"},{"$f":"VLOOKUP(D870,'2021'!$A$11:$G$143,2,FALSE)","v":"Baquera"},33,44,{"$f":"VLOOKUP(E870,'2021'!$A$11:$G$143,2,FALSE)","v":"Tiara"},{"$f":"IF(ISBLANK(E870),\"hie eu nix drischribu\",VLOOKUP(E870,'2021'!$A$11:$G$143,4,FALSE))","v":"Gebrüder Jäger"}]
["2021-06-30",{"$f":"IF(ISBLANK(D871),\"Alain, nix drischribu\",VLOOKUP(D871,'2021'!$A$11:$G$143,4,FALSE))","v":"Gebrüder Jäger"},{"$f":"VLOOKUP(D871,'2021'!$A$11:$G$143,2,FALSE)","v":"Lorens"},46,13,{"$f":"VLOOKUP(E871,'2021'!$A$11:$G$143,2,FALSE)","v":"Tequilla"},{"$f":"IF(ISBLANK(E871),\"hie eu nix drischribu\",VLOOKUP(E871,'2021'!$A$11:$G$143,4,FALSE))","v":"Bregy Silvan & Patrik"}]
["2021-06-30",{"$f":"IF(ISBLANK(D872),\"Alain, nix drischribu\",VLOOKUP(D872,'2021'!$A$11:$G$143,4,FALSE))","v":"Fux W., J., & Wyer Piet"},{"$f":"VLOOKUP(D872,'2021'!$A$11:$G$143,2,FALSE)","v":"Baquera"},33,41,{"$f":"VLOOKUP(E872,'2021'!$A$11:$G$143,2,FALSE)","v":"Tara"},{"$f":"IF(ISBLANK(E872),\"hie eu nix drischribu\",VLOOKUP(E872,'2021'!$A$11:$G$143,4,FALSE))","v":"Gebrüder Jäger"}]
["2021-06-30",{"$f":"IF(ISBLANK(D873),\"Alain, nix drischribu\",VLOOKUP(D873,'2021'!$A$11:$G$143,4,FALSE))","v":"Jäger Carlo & Lukas"},{"$f":"VLOOKUP(D873,'2021'!$A$11:$G$143,2,FALSE)","v":"Tokio"},67,42,{"$f":"VLOOKUP(E873,'2021'!$A$11:$G$143,2,FALSE)","v":"Simba"},{"$f":"IF(ISBLANK(E873),\"hie eu nix drischribu\",VLOOKUP(E873,'2021'!$A$11:$G$143,4,FALSE))","v":"Gebrüder Jäger"}]
["2021-06-29",{"$f":"IF(ISBLANK(D874),\"Alain, nix drischribu\",VLOOKUP(D874,'2021'!$A$11:$G$143,4,FALSE))","v":"Fux W., J., & Wyer Piet"},{"$f":"VLOOKUP(D874,'2021'!$A$11:$G$143,2,FALSE)","v":"Diamant"},30,100,{"$f":"VLOOKUP(E874,'2021'!$A$11:$G$143,2,FALSE)","v":"Xantara"},{"$f":"IF(ISBLANK(E874),\"hie eu nix drischribu\",VLOOKUP(E874,'2021'!$A$11:$G$143,4,FALSE))","v":"Wyssen Diego & Madlen"}]
["2021-06-29",{"$f":"IF(ISBLANK(D875),\"Alain, nix drischribu\",VLOOKUP(D875,'2021'!$A$11:$G$143,4,FALSE))","v":"Bayard Medard & Gustav"},{"$f":"VLOOKUP(D875,'2021'!$A$11:$G$143,2,FALSE)","v":"Vampir"},4,52,{"$f":"VLOOKUP(E875,'2021'!$A$11:$G$143,2,FALSE)","v":"Pablo"},{"$f":"IF(ISBLANK(E875),\"hie eu nix drischribu\",VLOOKUP(E875,'2021'!$A$11:$G$143,4,FALSE))","v":"Hischier Pius"}]
["2021-06-29",{"$f":"IF(ISBLANK(D876),\"Alain, nix drischribu\",VLOOKUP(D876,'2021'!$A$11:$G$143,4,FALSE))","v":"Williner Anton"},{"$f":"VLOOKUP(D876,'2021'!$A$11:$G$143,2,FALSE)","v":"Tonic"},93,35,{"$f":"VLOOKUP(E876,'2021'!$A$11:$G$143,2,FALSE)","v":"Pampère"},{"$f":"IF(ISBLANK(E876),\"hie eu nix drischribu\",VLOOKUP(E876,'2021'!$A$11:$G$143,4,FALSE))","v":"Fux W., J., & Wyer Piet"}]
["2021-06-29",{"$f":"IF(ISBLANK(D877),\"Alain, nix drischribu\",VLOOKUP(D877,'2021'!$A$11:$G$143,4,FALSE))","v":"Jäger Carlo & Lukas"},{"$f":"VLOOKUP(D877,'2021'!$A$11:$G$143,2,FALSE)","v":"Bataille"},58,39,{"$f":"VLOOKUP(E877,'2021'!$A$11:$G$143,2,FALSE)","v":"Bacardi"},{"$f":"IF(ISBLANK(E877),\"hie eu nix drischribu\",VLOOKUP(E877,'2021'!$A$11:$G$143,4,FALSE))","v":"Fux W., J., & Wyer Piet"}]
["2021-06-29",{"$f":"IF(ISBLANK(D878),\"Alain, nix drischribu\",VLOOKUP(D878,'2021'!$A$11:$G$143,4,FALSE))","v":"Zumofen / Gattlen"},{"$f":"VLOOKUP(D878,'2021'!$A$11:$G$143,2,FALSE)","v":"Rigolo"},117,41,{"$f":"VLOOKUP(E878,'2021'!$A$11:$G$143,2,FALSE)","v":"Tara"},{"$f":"IF(ISBLANK(E878),\"hie eu nix drischribu\",VLOOKUP(E878,'2021'!$A$11:$G$143,4,FALSE))","v":"Gebrüder Jäger"}]
["2021-06-29",{"$f":"IF(ISBLANK(D879),\"Alain, nix drischribu\",VLOOKUP(D879,'2021'!$A$11:$G$143,4,FALSE))","v":"Bregy Uli / Lisi & Pasci"},{"$f":"VLOOKUP(D879,'2021'!$A$11:$G$143,2,FALSE)","v":"Murphy"},16,115,{"$f":"VLOOKUP(E879,'2021'!$A$11:$G$143,2,FALSE)","v":"Souris"},{"$f":"IF(ISBLANK(E879),\"hie eu nix drischribu\",VLOOKUP(E879,'2021'!$A$11:$G$143,4,FALSE))","v":"Zumofen / Gattlen"}]
["2021-06-29",{"$f":"IF(ISBLANK(D880),\"Alain, nix drischribu\",VLOOKUP(D880,'2021'!$A$11:$G$143,4,FALSE))","v":"Fux W., J., & Wyer Piet"},{"$f":"VLOOKUP(D880,'2021'!$A$11:$G$143,2,FALSE)","v":"Valaisanne"},34,26,{"$f":"VLOOKUP(E880,'2021'!$A$11:$G$143,2,FALSE)","v":"Cataleya"},{"$f":"IF(ISBLANK(E880),\"hie eu nix drischribu\",VLOOKUP(E880,'2021'!$A$11:$G$143,4,FALSE))","v":"Bregy Uli / Lisi & Pasci"}]
["2021-06-29",{"$f":"IF(ISBLANK(D881),\"Alain, nix drischribu\",VLOOKUP(D881,'2021'!$A$11:$G$143,4,FALSE))","v":"Jäger Carlo & Lukas"},{"$f":"VLOOKUP(D881,'2021'!$A$11:$G$143,2,FALSE)","v":"Mygale"},56,99,{"$f":"VLOOKUP(E881,'2021'!$A$11:$G$143,2,FALSE)","v":"Rijana"},{"$f":"IF(ISBLANK(E881),\"hie eu nix drischribu\",VLOOKUP(E881,'2021'!$A$11:$G$143,4,FALSE))","v":"Wyssen Diego & Madlen"}]
["2021-06-29",{"$f":"IF(ISBLANK(D882),\"Alain, nix drischribu\",VLOOKUP(D882,'2021'!$A$11:$G$143,4,FALSE))","v":"Bregy Ralf & Adolf"},{"$f":"VLOOKUP(D882,'2021'!$A$11:$G$143,2,FALSE)","v":"Canabis"},14,75,{"$f":"VLOOKUP(E882,'2021'!$A$11:$G$143,2,FALSE)","v":"Menance"},{"$f":"IF(ISBLANK(E882),\"hie eu nix drischribu\",VLOOKUP(E882,'2021'!$A$11:$G$143,4,FALSE))","v":"Stallung Passeraub"}]
["2021-06-29",{"$f":"IF(ISBLANK(D883),\"Alain, nix drischribu\",VLOOKUP(D883,'2021'!$A$11:$G$143,4,FALSE))","v":"Bregy Uli / Lisi & Pasci"},{"$f":"VLOOKUP(D883,'2021'!$A$11:$G$143,2,FALSE)","v":"Souki"},18,37,{"$f":"VLOOKUP(E883,'2021'!$A$11:$G$143,2,FALSE)","v":"Toscana"},{"$f":"IF(ISBLANK(E883),\"hie eu nix drischribu\",VLOOKUP(E883,'2021'!$A$11:$G$143,4,FALSE))","v":"Fux W., J., & Wyer Piet"}]
["2021-06-29",{"$f":"IF(ISBLANK(D884),\"Alain, nix drischribu\",VLOOKUP(D884,'2021'!$A$11:$G$143,4,FALSE))","v":"Fux W., J., & Wyer Piet"},{"$f":"VLOOKUP(D884,'2021'!$A$11:$G$143,2,FALSE)","v":"Bacardi"},39,75,{"$f":"VLOOKUP(E884,'2021'!$A$11:$G$143,2,FALSE)","v":"Menance"},{"$f":"IF(ISBLANK(E884),\"hie eu nix drischribu\",VLOOKUP(E884,'2021'!$A$11:$G$143,4,FALSE))","v":"Stallung Passeraub"}]
["2021-06-29",{"$f":"IF(ISBLANK(D885),\"Alain, nix drischribu\",VLOOKUP(D885,'2021'!$A$11:$G$143,4,FALSE))","v":"Bregy Uli / Lisi & Pasci"},{"$f":"VLOOKUP(D885,'2021'!$A$11:$G$143,2,FALSE)","v":"Simba"},17,34,{"$f":"VLOOKUP(E885,'2021'!$A$11:$G$143,2,FALSE)","v":"Valaisanne"},{"$f":"IF(ISBLANK(E885),\"hie eu nix drischribu\",VLOOKUP(E885,'2021'!$A$11:$G$143,4,FALSE))","v":"Fux W., J., & Wyer Piet"}]
["2021-06-29",{"$f":"IF(ISBLANK(D886),\"Alain, nix drischribu\",VLOOKUP(D886,'2021'!$A$11:$G$143,4,FALSE))","v":"Bregy Ralf & Adolf"},{"$f":"VLOOKUP(D886,'2021'!$A$11:$G$143,2,FALSE)","v":"Cashida"},15,29,{"$f":"VLOOKUP(E886,'2021'!$A$11:$G$143,2,FALSE)","v":"Bolero"},{"$f":"IF(ISBLANK(E886),\"hie eu nix drischribu\",VLOOKUP(E886,'2021'!$A$11:$G$143,4,FALSE))","v":"Fux W., J., & Wyer Piet"}]
["2021-06-29",{"$f":"IF(ISBLANK(D887),\"Alain, nix drischribu\",VLOOKUP(D887,'2021'!$A$11:$G$143,4,FALSE))","v":"Bayard Medard & Gustav"},{"$f":"VLOOKUP(D887,'2021'!$A$11:$G$143,2,FALSE)","v":"Pandera"},5,6,{"$f":"VLOOKUP(E887,'2021'!$A$11:$G$143,2,FALSE)","v":"Flacabre"},{"$f":"IF(ISBLANK(E887),\"hie eu nix drischribu\",VLOOKUP(E887,'2021'!$A$11:$G$143,4,FALSE))","v":"Bregy Ralf & Adolf"}]
["2021-06-29",{"$f":"IF(ISBLANK(D888),\"Alain, nix drischribu\",VLOOKUP(D888,'2021'!$A$11:$G$143,4,FALSE))","v":"Bregy Uli / Lisi & Pasci"},{"$f":"VLOOKUP(D888,'2021'!$A$11:$G$143,2,FALSE)","v":"Bora"},21,34,{"$f":"VLOOKUP(E888,'2021'!$A$11:$G$143,2,FALSE)","v":"Valaisanne"},{"$f":"IF(ISBLANK(E888),\"hie eu nix drischribu\",VLOOKUP(E888,'2021'!$A$11:$G$143,4,FALSE))","v":"Fux W., J., & Wyer Piet"}]
["2021-06-29",{"$f":"IF(ISBLANK(D889),\"Alain, nix drischribu\",VLOOKUP(D889,'2021'!$A$11:$G$143,4,FALSE))","v":"Fux W., J., & Wyer Piet"},{"$f":"VLOOKUP(D889,'2021'!$A$11:$G$143,2,FALSE)","v":"Toscana"},37,56,{"$f":"VLOOKUP(E889,'2021'!$A$11:$G$143,2,FALSE)","v":"Mygale"},{"$f":"IF(ISBLANK(E889),\"hie eu nix drischribu\",VLOOKUP(E889,'2021'!$A$11:$G$143,4,FALSE))","v":"Jäger Carlo & Lukas"}]
["2021-06-29",{"$f":"IF(ISBLANK(D890),\"Alain, nix drischribu\",VLOOKUP(D890,'2021'!$A$11:$G$143,4,FALSE))","v":"Fux W., J., & Wyer Piet"},{"$f":"VLOOKUP(D890,'2021'!$A$11:$G$143,2,FALSE)","v":"Valaisanne"},34,45,{"$f":"VLOOKUP(E890,'2021'!$A$11:$G$143,2,FALSE)","v":"Tanja"},{"$f":"IF(ISBLANK(E890),\"hie eu nix drischribu\",VLOOKUP(E890,'2021'!$A$11:$G$143,4,FALSE))","v":"Gebrüder Jäger"}]
["2021-06-29",{"$f":"IF(ISBLANK(D891),\"Alain, nix drischribu\",VLOOKUP(D891,'2021'!$A$11:$G$143,4,FALSE))","v":"Bregy Uli / Lisi & Pasci"},{"$f":"VLOOKUP(D891,'2021'!$A$11:$G$143,2,FALSE)","v":"Tiranie"},19,28,{"$f":"VLOOKUP(E891,'2021'!$A$11:$G$143,2,FALSE)","v":"Baron"},{"$f":"IF(ISBLANK(E891),\"hie eu nix drischribu\",VLOOKUP(E891,'2021'!$A$11:$G$143,4,FALSE))","v":"Fam. Leiggener"}]
["2021-06-29",{"$f":"IF(ISBLANK(D892),\"Alain, nix drischribu\",VLOOKUP(D892,'2021'!$A$11:$G$143,4,FALSE))","v":"Bregy Ralf & Adolf"},{"$f":"VLOOKUP(D892,'2021'!$A$11:$G$143,2,FALSE)","v":"Canabis"},14,58,{"$f":"VLOOKUP(E892,'2021'!$A$11:$G$143,2,FALSE)","v":"Bataille"},{"$f":"IF(ISBLANK(E892),\"hie eu nix drischribu\",VLOOKUP(E892,'2021'!$A$11:$G$143,4,FALSE))","v":"Jäger Carlo & Lukas"}]
["2021-06-29",{"$f":"IF(ISBLANK(D893),\"Alain, nix drischribu\",VLOOKUP(D893,'2021'!$A$11:$G$143,4,FALSE))","v":"Jäger Carlo & Lukas"},{"$f":"VLOOKUP(D893,'2021'!$A$11:$G$143,2,FALSE)","v":"Bataille"},58,100,{"$f":"VLOOKUP(E893,'2021'!$A$11:$G$143,2,FALSE)","v":"Xantara"},{"$f":"IF(ISBLANK(E893),\"hie eu nix drischribu\",VLOOKUP(E893,'2021'!$A$11:$G$143,4,FALSE))","v":"Wyssen Diego & Madlen"}]
["2021-06-29",{"$f":"IF(ISBLANK(D894),\"Alain, nix drischribu\",VLOOKUP(D894,'2021'!$A$11:$G$143,4,FALSE))","v":"Wyssen Diego & Madlen"},{"$f":"VLOOKUP(D894,'2021'!$A$11:$G$143,2,FALSE)","v":"Xantara"},100,106,{"$f":"VLOOKUP(E894,'2021'!$A$11:$G$143,2,FALSE)","v":"Miss"},{"$f":"IF(ISBLANK(E894),\"hie eu nix drischribu\",VLOOKUP(E894,'2021'!$A$11:$G$143,4,FALSE))","v":"Zumoberhaus Pius"}]
["2021-06-29",{"$f":"IF(ISBLANK(D895),\"Alain, nix drischribu\",VLOOKUP(D895,'2021'!$A$11:$G$143,4,FALSE))","v":"Gebrüder Jäger"},{"$f":"VLOOKUP(D895,'2021'!$A$11:$G$143,2,FALSE)","v":"Tina"},40,30,{"$f":"VLOOKUP(E895,'2021'!$A$11:$G$143,2,FALSE)","v":"Diamant"},{"$f":"IF(ISBLANK(E895),\"hie eu nix drischribu\",VLOOKUP(E895,'2021'!$A$11:$G$143,4,FALSE))","v":"Fux W., J., & Wyer Piet"}]
["2021-06-29",{"$f":"IF(ISBLANK(D896),\"Alain, nix drischribu\",VLOOKUP(D896,'2021'!$A$11:$G$143,4,FALSE))","v":"Bregy Uli / Lisi & Pasci"},{"$f":"VLOOKUP(D896,'2021'!$A$11:$G$143,2,FALSE)","v":"Calette"},25,45,{"$f":"VLOOKUP(E896,'2021'!$A$11:$G$143,2,FALSE)","v":"Tanja"},{"$f":"IF(ISBLANK(E896),\"hie eu nix drischribu\",VLOOKUP(E896,'2021'!$A$11:$G$143,4,FALSE))","v":"Gebrüder Jäger"}]
["2021-06-29",{"$f":"IF(ISBLANK(D897),\"Alain, nix drischribu\",VLOOKUP(D897,'2021'!$A$11:$G$143,4,FALSE))","v":"Zumofen / Gattlen"},{"$f":"VLOOKUP(D897,'2021'!$A$11:$G$143,2,FALSE)","v":"Souris"},115,25,{"$f":"VLOOKUP(E897,'2021'!$A$11:$G$143,2,FALSE)","v":"Calette"},{"$f":"IF(ISBLANK(E897),\"hie eu nix drischribu\",VLOOKUP(E897,'2021'!$A$11:$G$143,4,FALSE))","v":"Bregy Uli / Lisi & Pasci"}]
["2021-06-29",{"$f":"IF(ISBLANK(D898),\"Alain, nix drischribu\",VLOOKUP(D898,'2021'!$A$11:$G$143,4,FALSE))","v":"Bregy Ralf & Adolf"},{"$f":"VLOOKUP(D898,'2021'!$A$11:$G$143,2,FALSE)","v":"Canaille"},7,103,{"$f":"VLOOKUP(E898,'2021'!$A$11:$G$143,2,FALSE)","v":"Xena"},{"$f":"IF(ISBLANK(E898),\"hie eu nix drischribu\",VLOOKUP(E898,'2021'!$A$11:$G$143,4,FALSE))","v":"Wyssen Diego & Madlen"}]
["2021-06-29",{"$f":"IF(ISBLANK(D899),\"Alain, nix drischribu\",VLOOKUP(D899,'2021'!$A$11:$G$143,4,FALSE))","v":"Williner Anton"},{"$f":"VLOOKUP(D899,'2021'!$A$11:$G$143,2,FALSE)","v":"Vanessa"},96,114,{"$f":"VLOOKUP(E899,'2021'!$A$11:$G$143,2,FALSE)","v":"Maya"},{"$f":"IF(ISBLANK(E899),\"hie eu nix drischribu\",VLOOKUP(E899,'2021'!$A$11:$G$143,4,FALSE))","v":"Zumofen / Gattlen"}]
["2021-06-29",{"$f":"IF(ISBLANK(D900),\"Alain, nix drischribu\",VLOOKUP(D900,'2021'!$A$11:$G$143,4,FALSE))","v":"Bregy Uli / Lisi & Pasci"},{"$f":"VLOOKUP(D900,'2021'!$A$11:$G$143,2,FALSE)","v":"Tiranie"},19,6,{"$f":"VLOOKUP(E900,'2021'!$A$11:$G$143,2,FALSE)","v":"Flacabre"},{"$f":"IF(ISBLANK(E900),\"hie eu nix drischribu\",VLOOKUP(E900,'2021'!$A$11:$G$143,4,FALSE))","v":"Bregy Ralf & Adolf"}]
["2021-06-29",{"$f":"IF(ISBLANK(D901),\"Alain, nix drischribu\",VLOOKUP(D901,'2021'!$A$11:$G$143,4,FALSE))","v":"Bayard Medard & Gustav"},{"$f":"VLOOKUP(D901,'2021'!$A$11:$G$143,2,FALSE)","v":"Pandera"},5,57,{"$f":"VLOOKUP(E901,'2021'!$A$11:$G$143,2,FALSE)","v":"Prune"},{"$f":"IF(ISBLANK(E901),\"hie eu nix drischribu\",VLOOKUP(E901,'2021'!$A$11:$G$143,4,FALSE))","v":"Jäger Carlo & Lukas"}]
["2021-06-28",{"$f":"IF(ISBLANK(D902),\"Alain, nix drischribu\",VLOOKUP(D902,'2021'!$A$11:$G$143,4,FALSE))","v":"Fux W., J., & Wyer Piet"},{"$f":"VLOOKUP(D902,'2021'!$A$11:$G$143,2,FALSE)","v":"Baquera"},33,25,{"$f":"VLOOKUP(E902,'2021'!$A$11:$G$143,2,FALSE)","v":"Calette"},{"$f":"IF(ISBLANK(E902),\"hie eu nix drischribu\",VLOOKUP(E902,'2021'!$A$11:$G$143,4,FALSE))","v":"Bregy Uli / Lisi & Pasci"}]
["2021-06-28",{"$f":"IF(ISBLANK(D903),\"Alain, nix drischribu\",VLOOKUP(D903,'2021'!$A$11:$G$143,4,FALSE))","v":"Bregy Uli / Lisi & Pasci"},{"$f":"VLOOKUP(D903,'2021'!$A$11:$G$143,2,FALSE)","v":"Murphy"},16,69,{"$f":"VLOOKUP(E903,'2021'!$A$11:$G$143,2,FALSE)","v":"Bavaria"},{"$f":"IF(ISBLANK(E903),\"hie eu nix drischribu\",VLOOKUP(E903,'2021'!$A$11:$G$143,4,FALSE))","v":"Mathieu Leander & Sascha"}]
["2021-06-28",{"$f":"IF(ISBLANK(D904),\"Alain, nix drischribu\",VLOOKUP(D904,'2021'!$A$11:$G$143,4,FALSE))","v":"Fux W., J., & Wyer Piet"},{"$f":"VLOOKUP(D904,'2021'!$A$11:$G$143,2,FALSE)","v":"Bolero"},29,50,{"$f":"VLOOKUP(E904,'2021'!$A$11:$G$143,2,FALSE)","v":"Pruedence"},{"$f":"IF(ISBLANK(E904),\"hie eu nix drischribu\",VLOOKUP(E904,'2021'!$A$11:$G$143,4,FALSE))","v":"Hischier Pius"}]
["2021-06-28",{"$f":"IF(ISBLANK(D905),\"Alain, nix drischribu\",VLOOKUP(D905,'2021'!$A$11:$G$143,4,FALSE))","v":"Bregy Ralf & Adolf"},{"$f":"VLOOKUP(D905,'2021'!$A$11:$G$143,2,FALSE)","v":"Diabolo"},10,66,{"$f":"VLOOKUP(E905,'2021'!$A$11:$G$143,2,FALSE)","v":"Taverne"},{"$f":"IF(ISBLANK(E905),\"hie eu nix drischribu\",VLOOKUP(E905,'2021'!$A$11:$G$143,4,FALSE))","v":"Jäger Carlo & Lukas"}]
["2021-06-28",{"$f":"IF(ISBLANK(D906),\"Alain, nix drischribu\",VLOOKUP(D906,'2021'!$A$11:$G$143,4,FALSE))","v":"Bregy Uli / Lisi & Pasci"},{"$f":"VLOOKUP(D906,'2021'!$A$11:$G$143,2,FALSE)","v":"Corona"},23,53,{"$f":"VLOOKUP(E906,'2021'!$A$11:$G$143,2,FALSE)","v":"Caline"},{"$f":"IF(ISBLANK(E906),\"hie eu nix drischribu\",VLOOKUP(E906,'2021'!$A$11:$G$143,4,FALSE))","v":"Jäger Carlo & Lukas"}]
["2021-06-28",{"$f":"IF(ISBLANK(D907),\"Alain, nix drischribu\",VLOOKUP(D907,'2021'!$A$11:$G$143,4,FALSE))","v":"Bregy Uli / Lisi & Pasci"},{"$f":"VLOOKUP(D907,'2021'!$A$11:$G$143,2,FALSE)","v":"Murphy"},16,70,{"$f":"VLOOKUP(E907,'2021'!$A$11:$G$143,2,FALSE)","v":"Bonita"},{"$f":"IF(ISBLANK(E907),\"hie eu nix drischribu\",VLOOKUP(E907,'2021'!$A$11:$G$143,4,FALSE))","v":"Mathieu Leander & Sascha"}]
["2021-06-28",{"$f":"IF(ISBLANK(D908),\"Alain, nix drischribu\",VLOOKUP(D908,'2021'!$A$11:$G$143,4,FALSE))","v":"Fux W., J., & Wyer Piet"},{"$f":"VLOOKUP(D908,'2021'!$A$11:$G$143,2,FALSE)","v":"Toscana"},37,65,{"$f":"VLOOKUP(E908,'2021'!$A$11:$G$143,2,FALSE)","v":"Pivoine"},{"$f":"IF(ISBLANK(E908),\"hie eu nix drischribu\",VLOOKUP(E908,'2021'!$A$11:$G$143,4,FALSE))","v":"Jäger Carlo & Lukas"}]
["2021-06-28",{"$f":"IF(ISBLANK(D909),\"Alain, nix drischribu\",VLOOKUP(D909,'2021'!$A$11:$G$143,4,FALSE))","v":"Bregy Ralf & Adolf"},{"$f":"VLOOKUP(D909,'2021'!$A$11:$G$143,2,FALSE)","v":"Canabis"},14,37,{"$f":"VLOOKUP(E909,'2021'!$A$11:$G$143,2,FALSE)","v":"Toscana"},{"$f":"IF(ISBLANK(E909),\"hie eu nix drischribu\",VLOOKUP(E909,'2021'!$A$11:$G$143,4,FALSE))","v":"Fux W., J., & Wyer Piet"}]
["2021-06-28",{"$f":"IF(ISBLANK(D910),\"Alain, nix drischribu\",VLOOKUP(D910,'2021'!$A$11:$G$143,4,FALSE))","v":"Sewer R. & Thommen S."},{"$f":"VLOOKUP(D910,'2021'!$A$11:$G$143,2,FALSE)","v":"Malice"},88,65,{"$f":"VLOOKUP(E910,'2021'!$A$11:$G$143,2,FALSE)","v":"Pivoine"},{"$f":"IF(ISBLANK(E910),\"hie eu nix drischribu\",VLOOKUP(E910,'2021'!$A$11:$G$143,4,FALSE))","v":"Jäger Carlo & Lukas"}]
["2021-06-28",{"$f":"IF(ISBLANK(D911),\"Alain, nix drischribu\",VLOOKUP(D911,'2021'!$A$11:$G$143,4,FALSE))","v":"Sewer R. & Thommen S."},{"$f":"VLOOKUP(D911,'2021'!$A$11:$G$143,2,FALSE)","v":"Samantha"},85,99,{"$f":"VLOOKUP(E911,'2021'!$A$11:$G$143,2,FALSE)","v":"Rijana"},{"$f":"IF(ISBLANK(E911),\"hie eu nix drischribu\",VLOOKUP(E911,'2021'!$A$11:$G$143,4,FALSE))","v":"Wyssen Diego & Madlen"}]
["2021-06-28",{"$f":"IF(ISBLANK(D912),\"Alain, nix drischribu\",VLOOKUP(D912,'2021'!$A$11:$G$143,4,FALSE))","v":"Bayard Medard & Gustav"},{"$f":"VLOOKUP(D912,'2021'!$A$11:$G$143,2,FALSE)","v":"Priska"},3,56,{"$f":"VLOOKUP(E912,'2021'!$A$11:$G$143,2,FALSE)","v":"Mygale"},{"$f":"IF(ISBLANK(E912),\"hie eu nix drischribu\",VLOOKUP(E912,'2021'!$A$11:$G$143,4,FALSE))","v":"Jäger Carlo & Lukas"}]
["2021-06-28",{"$f":"IF(ISBLANK(D913),\"Alain, nix drischribu\",VLOOKUP(D913,'2021'!$A$11:$G$143,4,FALSE))","v":"Fux W., J., & Wyer Piet"},{"$f":"VLOOKUP(D913,'2021'!$A$11:$G$143,2,FALSE)","v":"Bacardi"},39,59,{"$f":"VLOOKUP(E913,'2021'!$A$11:$G$143,2,FALSE)","v":"Samba"},{"$f":"IF(ISBLANK(E913),\"hie eu nix drischribu\",VLOOKUP(E913,'2021'!$A$11:$G$143,4,FALSE))","v":"Jäger Carlo & Lukas"}]
["2021-06-28",{"$f":"IF(ISBLANK(D914),\"Alain, nix drischribu\",VLOOKUP(D914,'2021'!$A$11:$G$143,4,FALSE))","v":"Jäger Carlo & Lukas"},{"$f":"VLOOKUP(D914,'2021'!$A$11:$G$143,2,FALSE)","v":"Flora"},54,79,{"$f":"VLOOKUP(E914,'2021'!$A$11:$G$143,2,FALSE)","v":"Marla"},{"$f":"IF(ISBLANK(E914),\"hie eu nix drischribu\",VLOOKUP(E914,'2021'!$A$11:$G$143,4,FALSE))","v":"Stallung Passeraub"}]
["2021-06-28",{"$f":"IF(ISBLANK(D915),\"Alain, nix drischribu\",VLOOKUP(D915,'2021'!$A$11:$G$143,4,FALSE))","v":"Williner Anton"},{"$f":"VLOOKUP(D915,'2021'!$A$11:$G$143,2,FALSE)","v":"Tonic"},93,48,{"$f":"VLOOKUP(E915,'2021'!$A$11:$G$143,2,FALSE)","v":"Jamada"},{"$f":"IF(ISBLANK(E915),\"hie eu nix drischribu\",VLOOKUP(E915,'2021'!$A$11:$G$143,4,FALSE))","v":"Hischier H. & Bühlmann J."}]
["2021-06-28",{"$f":"IF(ISBLANK(D916),\"Alain, nix drischribu\",VLOOKUP(D916,'2021'!$A$11:$G$143,4,FALSE))","v":"Zumofen / Gattlen"},{"$f":"VLOOKUP(D916,'2021'!$A$11:$G$143,2,FALSE)","v":"Xara"},124,2,{"$f":"VLOOKUP(E916,'2021'!$A$11:$G$143,2,FALSE)","v":"Fantastic"},{"$f":"IF(ISBLANK(E916),\"hie eu nix drischribu\",VLOOKUP(E916,'2021'!$A$11:$G$143,4,FALSE))","v":"Bayard Medard & Gustav"}]
["2021-06-28",{"$f":"IF(ISBLANK(D917),\"Alain, nix drischribu\",VLOOKUP(D917,'2021'!$A$11:$G$143,4,FALSE))","v":"Zumofen / Gattlen"},{"$f":"VLOOKUP(D917,'2021'!$A$11:$G$143,2,FALSE)","v":"Souris"},115,87,{"$f":"VLOOKUP(E917,'2021'!$A$11:$G$143,2,FALSE)","v":"Tiara"},{"$f":"IF(ISBLANK(E917),\"hie eu nix drischribu\",VLOOKUP(E917,'2021'!$A$11:$G$143,4,FALSE))","v":"Sewer R. & Thommen S."}]
["2021-06-28",{"$f":"IF(ISBLANK(D918),\"Alain, nix drischribu\",VLOOKUP(D918,'2021'!$A$11:$G$143,4,FALSE))","v":"Bayard Medard & Gustav"},{"$f":"VLOOKUP(D918,'2021'!$A$11:$G$143,2,FALSE)","v":"Vampir"},4,111,{"$f":"VLOOKUP(E918,'2021'!$A$11:$G$143,2,FALSE)","v":"Palona"},{"$f":"IF(ISBLANK(E918),\"hie eu nix drischribu\",VLOOKUP(E918,'2021'!$A$11:$G$143,4,FALSE))","v":"Zumofen / Gattlen"}]
["2021-06-28",{"$f":"IF(ISBLANK(D919),\"Alain, nix drischribu\",VLOOKUP(D919,'2021'!$A$11:$G$143,4,FALSE))","v":"Bayard Medard & Gustav"},{"$f":"VLOOKUP(D919,'2021'!$A$11:$G$143,2,FALSE)","v":"Vampir"},4,45,{"$f":"VLOOKUP(E919,'2021'!$A$11:$G$143,2,FALSE)","v":"Tanja"},{"$f":"IF(ISBLANK(E919),\"hie eu nix drischribu\",VLOOKUP(E919,'2021'!$A$11:$G$143,4,FALSE))","v":"Gebrüder Jäger"}]
["2021-06-28",{"$f":"IF(ISBLANK(D920),\"Alain, nix drischribu\",VLOOKUP(D920,'2021'!$A$11:$G$143,4,FALSE))","v":"Zumofen / Gattlen"},{"$f":"VLOOKUP(D920,'2021'!$A$11:$G$143,2,FALSE)","v":"Fayola"},119,20,{"$f":"VLOOKUP(E920,'2021'!$A$11:$G$143,2,FALSE)","v":"Caline"},{"$f":"IF(ISBLANK(E920),\"hie eu nix drischribu\",VLOOKUP(E920,'2021'!$A$11:$G$143,4,FALSE))","v":" Bregy Uli / Lisi & Pasci"}]
["2021-06-28",{"$f":"IF(ISBLANK(D921),\"Alain, nix drischribu\",VLOOKUP(D921,'2021'!$A$11:$G$143,4,FALSE))","v":"Stallung Passeraub"},{"$f":"VLOOKUP(D921,'2021'!$A$11:$G$143,2,FALSE)","v":"Bobino"},82,118,{"$f":"VLOOKUP(E921,'2021'!$A$11:$G$143,2,FALSE)","v":"Vesuv"},{"$f":"IF(ISBLANK(E921),\"hie eu nix drischribu\",VLOOKUP(E921,'2021'!$A$11:$G$143,4,FALSE))","v":"Zumofen / Gattlen"}]
["2021-06-28",{"$f":"IF(ISBLANK(D922),\"Alain, nix drischribu\",VLOOKUP(D922,'2021'!$A$11:$G$143,4,FALSE))","v":"Stallung Passeraub"},{"$f":"VLOOKUP(D922,'2021'!$A$11:$G$143,2,FALSE)","v":"Bobino"},82,101,{"$f":"VLOOKUP(E922,'2021'!$A$11:$G$143,2,FALSE)","v":"Xandria"},{"$f":"IF(ISBLANK(E922),\"hie eu nix drischribu\",VLOOKUP(E922,'2021'!$A$11:$G$143,4,FALSE))","v":"Wyssen Diego & Madlen"}]
["2021-06-28",{"$f":"IF(ISBLANK(D923),\"Alain, nix drischribu\",VLOOKUP(D923,'2021'!$A$11:$G$143,4,FALSE))","v":"Bayard Medard & Gustav"},{"$f":"VLOOKUP(D923,'2021'!$A$11:$G$143,2,FALSE)","v":"Priska"},3,75,{"$f":"VLOOKUP(E923,'2021'!$A$11:$G$143,2,FALSE)","v":"Menance"},{"$f":"IF(ISBLANK(E923),\"hie eu nix drischribu\",VLOOKUP(E923,'2021'!$A$11:$G$143,4,FALSE))","v":"Stallung Passeraub"}]
["2021-06-28",{"$f":"IF(ISBLANK(D924),\"Alain, nix drischribu\",VLOOKUP(D924,'2021'!$A$11:$G$143,4,FALSE))","v":"Stallung Passeraub"},{"$f":"VLOOKUP(D924,'2021'!$A$11:$G$143,2,FALSE)","v":"Menance"},75,68,{"$f":"VLOOKUP(E924,'2021'!$A$11:$G$143,2,FALSE)","v":"Baghira"},{"$f":"IF(ISBLANK(E924),\"hie eu nix drischribu\",VLOOKUP(E924,'2021'!$A$11:$G$143,4,FALSE))","v":"Mathieu Leander & Sascha"}]
["2021-06-28",{"$f":"IF(ISBLANK(D925),\"Alain, nix drischribu\",VLOOKUP(D925,'2021'!$A$11:$G$143,4,FALSE))","v":"Mathieu Leander & Sascha"},{"$f":"VLOOKUP(D925,'2021'!$A$11:$G$143,2,FALSE)","v":"Baghira"},68,105,{"$f":"VLOOKUP(E925,'2021'!$A$11:$G$143,2,FALSE)","v":"Corona"},{"$f":"IF(ISBLANK(E925),\"hie eu nix drischribu\",VLOOKUP(E925,'2021'!$A$11:$G$143,4,FALSE))","v":"Zumoberhaus Pius"}]
["2021-06-28",{"$f":"IF(ISBLANK(D926),\"Alain, nix drischribu\",VLOOKUP(D926,'2021'!$A$11:$G$143,4,FALSE))","v":"Bregy Uli / Lisi & Pasci"},{"$f":"VLOOKUP(D926,'2021'!$A$11:$G$143,2,FALSE)","v":"Murphy"},16,75,{"$f":"VLOOKUP(E926,'2021'!$A$11:$G$143,2,FALSE)","v":"Menance"},{"$f":"IF(ISBLANK(E926),\"hie eu nix drischribu\",VLOOKUP(E926,'2021'!$A$11:$G$143,4,FALSE))","v":"Stallung Passeraub"}]
["2021-06-28",{"$f":"IF(ISBLANK(D927),\"Alain, nix drischribu\",VLOOKUP(D927,'2021'!$A$11:$G$143,4,FALSE))","v":"Bregy Ralf & Adolf"},{"$f":"VLOOKUP(D927,'2021'!$A$11:$G$143,2,FALSE)","v":"Canabis"},14,87,{"$f":"VLOOKUP(E927,'2021'!$A$11:$G$143,2,FALSE)","v":"Tiara"},{"$f":"IF(ISBLANK(E927),\"hie eu nix drischribu\",VLOOKUP(E927,'2021'!$A$11:$G$143,4,FALSE))","v":"Sewer R. & Thommen S."}]
["2021-06-28",{"$f":"IF(ISBLANK(D928),\"Alain, nix drischribu\",VLOOKUP(D928,'2021'!$A$11:$G$143,4,FALSE))","v":"Williner Anton"},{"$f":"VLOOKUP(D928,'2021'!$A$11:$G$143,2,FALSE)","v":"Vivana"},95,78,{"$f":"VLOOKUP(E928,'2021'!$A$11:$G$143,2,FALSE)","v":"Ballerine"},{"$f":"IF(ISBLANK(E928),\"hie eu nix drischribu\",VLOOKUP(E928,'2021'!$A$11:$G$143,4,FALSE))","v":"Stallung Passeraub"}]
["2021-06-28",{"$f":"IF(ISBLANK(D929),\"Alain, nix drischribu\",VLOOKUP(D929,'2021'!$A$11:$G$143,4,FALSE))","v":"Sewer R. & Thommen S."},{"$f":"VLOOKUP(D929,'2021'!$A$11:$G$143,2,FALSE)","v":"Samantha"},85,34,{"$f":"VLOOKUP(E929,'2021'!$A$11:$G$143,2,FALSE)","v":"Valaisanne"},{"$f":"IF(ISBLANK(E929),\"hie eu nix drischribu\",VLOOKUP(E929,'2021'!$A$11:$G$143,4,FALSE))","v":"Fux W., J., & Wyer Piet"}]
["2021-06-28",{"$f":"IF(ISBLANK(D930),\"Alain, nix drischribu\",VLOOKUP(D930,'2021'!$A$11:$G$143,4,FALSE))","v":"Hischier Pius"},{"$f":"VLOOKUP(D930,'2021'!$A$11:$G$143,2,FALSE)","v":"Safira"},51,71,{"$f":"VLOOKUP(E930,'2021'!$A$11:$G$143,2,FALSE)","v":"Balea"},{"$f":"IF(ISBLANK(E930),\"hie eu nix drischribu\",VLOOKUP(E930,'2021'!$A$11:$G$143,4,FALSE))","v":"Mathieu Leander & Sascha"}]
["2021-06-28",{"$f":"IF(ISBLANK(D931),\"Alain, nix drischribu\",VLOOKUP(D931,'2021'!$A$11:$G$143,4,FALSE))","v":" Bregy Uli / Lisi & Pasci"},{"$f":"VLOOKUP(D931,'2021'!$A$11:$G$143,2,FALSE)","v":"Caline"},20,104,{"$f":"VLOOKUP(E931,'2021'!$A$11:$G$143,2,FALSE)","v":"Xhyla"},{"$f":"IF(ISBLANK(E931),\"hie eu nix drischribu\",VLOOKUP(E931,'2021'!$A$11:$G$143,4,FALSE))","v":"Wyssen Diego & Madlen"}]
["2021-06-28",{"$f":"IF(ISBLANK(D932),\"Alain, nix drischribu\",VLOOKUP(D932,'2021'!$A$11:$G$143,4,FALSE))","v":"Bregy Uli / Lisi & Pasci"},{"$f":"VLOOKUP(D932,'2021'!$A$11:$G$143,2,FALSE)","v":"Tiranie"},19,6,{"$f":"VLOOKUP(E932,'2021'!$A$11:$G$143,2,FALSE)","v":"Flacabre"},{"$f":"IF(ISBLANK(E932),\"hie eu nix drischribu\",VLOOKUP(E932,'2021'!$A$11:$G$143,4,FALSE))","v":"Bregy Ralf & Adolf"}]
["2021-06-28",{"$f":"IF(ISBLANK(D933),\"Alain, nix drischribu\",VLOOKUP(D933,'2021'!$A$11:$G$143,4,FALSE))","v":"Wyssen Diego & Madlen"},{"$f":"VLOOKUP(D933,'2021'!$A$11:$G$143,2,FALSE)","v":"Xhyla"},104,24,{"$f":"VLOOKUP(E933,'2021'!$A$11:$G$143,2,FALSE)","v":"Catalina"},{"$f":"IF(ISBLANK(E933),\"hie eu nix drischribu\",VLOOKUP(E933,'2021'!$A$11:$G$143,4,FALSE))","v":"Bregy Uli / Lisi & Pasci"}]
["2021-06-28",{"$f":"IF(ISBLANK(D934),\"Alain, nix drischribu\",VLOOKUP(D934,'2021'!$A$11:$G$143,4,FALSE))","v":"Mathieu Leander & Sascha"},{"$f":"VLOOKUP(D934,'2021'!$A$11:$G$143,2,FALSE)","v":"Babylon"},72,76,{"$f":"VLOOKUP(E934,'2021'!$A$11:$G$143,2,FALSE)","v":"Pablo"},{"$f":"IF(ISBLANK(E934),\"hie eu nix drischribu\",VLOOKUP(E934,'2021'!$A$11:$G$143,4,FALSE))","v":"Hutter Richard "}]
["2021-06-28",{"$f":"IF(ISBLANK(D935),\"Alain, nix drischribu\",VLOOKUP(D935,'2021'!$A$11:$G$143,4,FALSE))","v":"Fux W., J., & Wyer Piet"},{"$f":"VLOOKUP(D935,'2021'!$A$11:$G$143,2,FALSE)","v":"Bresil"},38,65,{"$f":"VLOOKUP(E935,'2021'!$A$11:$G$143,2,FALSE)","v":"Pivoine"},{"$f":"IF(ISBLANK(E935),\"hie eu nix drischribu\",VLOOKUP(E935,'2021'!$A$11:$G$143,4,FALSE))","v":"Jäger Carlo & Lukas"}]
["2021-06-28",{"$f":"IF(ISBLANK(D936),\"Alain, nix drischribu\",VLOOKUP(D936,'2021'!$A$11:$G$143,4,FALSE))","v":"Bregy Ralf & Adolf"},{"$f":"VLOOKUP(D936,'2021'!$A$11:$G$143,2,FALSE)","v":"Coquette"},9,32,{"$f":"VLOOKUP(E936,'2021'!$A$11:$G$143,2,FALSE)","v":"Mystic"},{"$f":"IF(ISBLANK(E936),\"hie eu nix drischribu\",VLOOKUP(E936,'2021'!$A$11:$G$143,4,FALSE))","v":"Fux W., J., & Wyer Piet"}]
["2021-06-28",{"$f":"IF(ISBLANK(D937),\"Alain, nix drischribu\",VLOOKUP(D937,'2021'!$A$11:$G$143,4,FALSE))","v":"Bregy Ralf & Adolf"},{"$f":"VLOOKUP(D937,'2021'!$A$11:$G$143,2,FALSE)","v":"Flacabre"},6,37,{"$f":"VLOOKUP(E937,'2021'!$A$11:$G$143,2,FALSE)","v":"Toscana"},{"$f":"IF(ISBLANK(E937),\"hie eu nix drischribu\",VLOOKUP(E937,'2021'!$A$11:$G$143,4,FALSE))","v":"Fux W., J., & Wyer Piet"}]
["2021-06-28",{"$f":"IF(ISBLANK(D938),\"Alain, nix drischribu\",VLOOKUP(D938,'2021'!$A$11:$G$143,4,FALSE))","v":"Bregy Ralf & Adolf"},{"$f":"VLOOKUP(D938,'2021'!$A$11:$G$143,2,FALSE)","v":"Cashida"},15,95,{"$f":"VLOOKUP(E938,'2021'!$A$11:$G$143,2,FALSE)","v":"Vivana"},{"$f":"IF(ISBLANK(E938),\"hie eu nix drischribu\",VLOOKUP(E938,'2021'!$A$11:$G$143,4,FALSE))","v":"Williner Anton"}]
["2021-06-28",{"$f":"IF(ISBLANK(D939),\"Alain, nix drischribu\",VLOOKUP(D939,'2021'!$A$11:$G$143,4,FALSE))","v":"Zumofen / Gattlen"},{"$f":"VLOOKUP(D939,'2021'!$A$11:$G$143,2,FALSE)","v":"Souris"},115,68,{"$f":"VLOOKUP(E939,'2021'!$A$11:$G$143,2,FALSE)","v":"Baghira"},{"$f":"IF(ISBLANK(E939),\"hie eu nix drischribu\",VLOOKUP(E939,'2021'!$A$11:$G$143,4,FALSE))","v":"Mathieu Leander & Sascha"}]
["2021-06-28",{"$f":"IF(ISBLANK(D940),\"Alain, nix drischribu\",VLOOKUP(D940,'2021'!$A$11:$G$143,4,FALSE))","v":"Zumofen / Gattlen"},{"$f":"VLOOKUP(D940,'2021'!$A$11:$G$143,2,FALSE)","v":"Vanda"},113,6,{"$f":"VLOOKUP(E940,'2021'!$A$11:$G$143,2,FALSE)","v":"Flacabre"},{"$f":"IF(ISBLANK(E940),\"hie eu nix drischribu\",VLOOKUP(E940,'2021'!$A$11:$G$143,4,FALSE))","v":"Bregy Ralf & Adolf"}]
["2021-06-28",{"$f":"IF(ISBLANK(D941),\"Alain, nix drischribu\",VLOOKUP(D941,'2021'!$A$11:$G$143,4,FALSE))","v":"Wyssen Diego & Madlen"},{"$f":"VLOOKUP(D941,'2021'!$A$11:$G$143,2,FALSE)","v":"Rasta"},102,90,{"$f":"VLOOKUP(E941,'2021'!$A$11:$G$143,2,FALSE)","v":"Bolera"},{"$f":"IF(ISBLANK(E941),\"hie eu nix drischribu\",VLOOKUP(E941,'2021'!$A$11:$G$143,4,FALSE))","v":"Sewer R. & Thommen S."}]
["2021-06-28",{"$f":"IF(ISBLANK(D942),\"Alain, nix drischribu\",VLOOKUP(D942,'2021'!$A$11:$G$143,4,FALSE))","v":"Gebrüder Jäger"},{"$f":"VLOOKUP(D942,'2021'!$A$11:$G$143,2,FALSE)","v":"Dorina"},43,22,{"$f":"VLOOKUP(E942,'2021'!$A$11:$G$143,2,FALSE)","v":"Xaphir"},{"$f":"IF(ISBLANK(E942),\"hie eu nix drischribu\",VLOOKUP(E942,'2021'!$A$11:$G$143,4,FALSE))","v":"Bregy Uli / Lisi & Pasci"}]
["2021-06-28",{"$f":"IF(ISBLANK(D943),\"Alain, nix drischribu\",VLOOKUP(D943,'2021'!$A$11:$G$143,4,FALSE))","v":"Stallung Passeraub"},{"$f":"VLOOKUP(D943,'2021'!$A$11:$G$143,2,FALSE)","v":"Bobino"},82,43,{"$f":"VLOOKUP(E943,'2021'!$A$11:$G$143,2,FALSE)","v":"Dorina"},{"$f":"IF(ISBLANK(E943),\"hie eu nix drischribu\",VLOOKUP(E943,'2021'!$A$11:$G$143,4,FALSE))","v":"Gebrüder Jäger"}]
["2021-06-28",{"$f":"IF(ISBLANK(D944),\"Alain, nix drischribu\",VLOOKUP(D944,'2021'!$A$11:$G$143,4,FALSE))","v":"Mathieu Leander & Sascha"},{"$f":"VLOOKUP(D944,'2021'!$A$11:$G$143,2,FALSE)","v":"Bavaria"},69,101,{"$f":"VLOOKUP(E944,'2021'!$A$11:$G$143,2,FALSE)","v":"Xandria"},{"$f":"IF(ISBLANK(E944),\"hie eu nix drischribu\",VLOOKUP(E944,'2021'!$A$11:$G$143,4,FALSE))","v":"Wyssen Diego & Madlen"}]
["2021-06-28",{"$f":"IF(ISBLANK(D945),\"Alain, nix drischribu\",VLOOKUP(D945,'2021'!$A$11:$G$143,4,FALSE))","v":"Wyssen Diego & Madlen"},{"$f":"VLOOKUP(D945,'2021'!$A$11:$G$143,2,FALSE)","v":"Xena"},103,37,{"$f":"VLOOKUP(E945,'2021'!$A$11:$G$143,2,FALSE)","v":"Toscana"},{"$f":"IF(ISBLANK(E945),\"hie eu nix drischribu\",VLOOKUP(E945,'2021'!$A$11:$G$143,4,FALSE))","v":"Fux W., J., & Wyer Piet"}]
["2021-06-28",{"$f":"IF(ISBLANK(D946),\"Alain, nix drischribu\",VLOOKUP(D946,'2021'!$A$11:$G$143,4,FALSE))","v":"Fux W., J., & Wyer Piet"},{"$f":"VLOOKUP(D946,'2021'!$A$11:$G$143,2,FALSE)","v":"Bolero"},29,2,{"$f":"VLOOKUP(E946,'2021'!$A$11:$G$143,2,FALSE)","v":"Fantastic"},{"$f":"IF(ISBLANK(E946),\"hie eu nix drischribu\",VLOOKUP(E946,'2021'!$A$11:$G$143,4,FALSE))","v":"Bayard Medard & Gustav"}]
["2021-06-28",{"$f":"IF(ISBLANK(D947),\"Alain, nix drischribu\",VLOOKUP(D947,'2021'!$A$11:$G$143,4,FALSE))","v":"Sewer R. & Thommen S."},{"$f":"VLOOKUP(D947,'2021'!$A$11:$G$143,2,FALSE)","v":"Bolera"},90,15,{"$f":"VLOOKUP(E947,'2021'!$A$11:$G$143,2,FALSE)","v":"Cashida"},{"$f":"IF(ISBLANK(E947),\"hie eu nix drischribu\",VLOOKUP(E947,'2021'!$A$11:$G$143,4,FALSE))","v":"Bregy Ralf & Adolf"}]
["2021-06-28",{"$f":"IF(ISBLANK(D948),\"Alain, nix drischribu\",VLOOKUP(D948,'2021'!$A$11:$G$143,4,FALSE))","v":"Sewer R. & Thommen S."},{"$f":"VLOOKUP(D948,'2021'!$A$11:$G$143,2,FALSE)","v":"Malice"},88,45,{"$f":"VLOOKUP(E948,'2021'!$A$11:$G$143,2,FALSE)","v":"Tanja"},{"$f":"IF(ISBLANK(E948),\"hie eu nix drischribu\",VLOOKUP(E948,'2021'!$A$11:$G$143,4,FALSE))","v":"Gebrüder Jäger"}]
["2021-06-28",{"$f":"IF(ISBLANK(D949),\"Alain, nix drischribu\",VLOOKUP(D949,'2021'!$A$11:$G$143,4,FALSE))","v":"Wyssen Diego & Madlen"},{"$f":"VLOOKUP(D949,'2021'!$A$11:$G$143,2,FALSE)","v":"Xhyla"},104,115,{"$f":"VLOOKUP(E949,'2021'!$A$11:$G$143,2,FALSE)","v":"Souris"},{"$f":"IF(ISBLANK(E949),\"hie eu nix drischribu\",VLOOKUP(E949,'2021'!$A$11:$G$143,4,FALSE))","v":"Zumofen / Gattlen"}]
["2021-06-28",{"$f":"IF(ISBLANK(D950),\"Alain, nix drischribu\",VLOOKUP(D950,'2021'!$A$11:$G$143,4,FALSE))","v":"Fux W., J., & Wyer Piet"},{"$f":"VLOOKUP(D950,'2021'!$A$11:$G$143,2,FALSE)","v":"Bastis"},31,41,{"$f":"VLOOKUP(E950,'2021'!$A$11:$G$143,2,FALSE)","v":"Tara"},{"$f":"IF(ISBLANK(E950),\"hie eu nix drischribu\",VLOOKUP(E950,'2021'!$A$11:$G$143,4,FALSE))","v":"Gebrüder Jäger"}]
["2021-06-28",{"$f":"IF(ISBLANK(D951),\"Alain, nix drischribu\",VLOOKUP(D951,'2021'!$A$11:$G$143,4,FALSE))","v":"Bregy Ralf & Adolf"},{"$f":"VLOOKUP(D951,'2021'!$A$11:$G$143,2,FALSE)","v":"Cashida"},15,103,{"$f":"VLOOKUP(E951,'2021'!$A$11:$G$143,2,FALSE)","v":"Xena"},{"$f":"IF(ISBLANK(E951),\"hie eu nix drischribu\",VLOOKUP(E951,'2021'!$A$11:$G$143,4,FALSE))","v":"Wyssen Diego & Madlen"}]
["2021-06-28",{"$f":"IF(ISBLANK(D952),\"Alain, nix drischribu\",VLOOKUP(D952,'2021'!$A$11:$G$143,4,FALSE))","v":"Zumofen / Gattlen"},{"$f":"VLOOKUP(D952,'2021'!$A$11:$G$143,2,FALSE)","v":"Souris"},115,93,{"$f":"VLOOKUP(E952,'2021'!$A$11:$G$143,2,FALSE)","v":"Tonic"},{"$f":"IF(ISBLANK(E952),\"hie eu nix drischribu\",VLOOKUP(E952,'2021'!$A$11:$G$143,4,FALSE))","v":"Williner Anton"}]
["2021-06-28",{"$f":"IF(ISBLANK(D953),\"Alain, nix drischribu\",VLOOKUP(D953,'2021'!$A$11:$G$143,4,FALSE))","v":"Bregy Ralf & Adolf"},{"$f":"VLOOKUP(D953,'2021'!$A$11:$G$143,2,FALSE)","v":"Cashida"},15,117,{"$f":"VLOOKUP(E953,'2021'!$A$11:$G$143,2,FALSE)","v":"Rigolo"},{"$f":"IF(ISBLANK(E953),\"hie eu nix drischribu\",VLOOKUP(E953,'2021'!$A$11:$G$143,4,FALSE))","v":"Zumofen / Gattlen"}]
["2021-06-28",{"$f":"IF(ISBLANK(D954),\"Alain, nix drischribu\",VLOOKUP(D954,'2021'!$A$11:$G$143,4,FALSE))","v":"Jäger Carlo & Lukas"},{"$f":"VLOOKUP(D954,'2021'!$A$11:$G$143,2,FALSE)","v":"Pivoine"},65,30,{"$f":"VLOOKUP(E954,'2021'!$A$11:$G$143,2,FALSE)","v":"Diamant"},{"$f":"IF(ISBLANK(E954),\"hie eu nix drischribu\",VLOOKUP(E954,'2021'!$A$11:$G$143,4,FALSE))","v":"Fux W., J., & Wyer Piet"}]
["2021-06-28",{"$f":"IF(ISBLANK(D955),\"Alain, nix drischribu\",VLOOKUP(D955,'2021'!$A$11:$G$143,4,FALSE))","v":"Zumofen / Gattlen"},{"$f":"VLOOKUP(D955,'2021'!$A$11:$G$143,2,FALSE)","v":"Vesuv"},118,89,{"$f":"VLOOKUP(E955,'2021'!$A$11:$G$143,2,FALSE)","v":"Biscot"},{"$f":"IF(ISBLANK(E955),\"hie eu nix drischribu\",VLOOKUP(E955,'2021'!$A$11:$G$143,4,FALSE))","v":"Sewer R. & Thommen S."}]
["2021-06-28",{"$f":"IF(ISBLANK(D956),\"Alain, nix drischribu\",VLOOKUP(D956,'2021'!$A$11:$G$143,4,FALSE))","v":"Jäger Carlo & Lukas"},{"$f":"VLOOKUP(D956,'2021'!$A$11:$G$143,2,FALSE)","v":"Sera"},64,6,{"$f":"VLOOKUP(E956,'2021'!$A$11:$G$143,2,FALSE)","v":"Flacabre"},{"$f":"IF(ISBLANK(E956),\"hie eu nix drischribu\",VLOOKUP(E956,'2021'!$A$11:$G$143,4,FALSE))","v":"Bregy Ralf & Adolf"}]
["2021-06-28",{"$f":"IF(ISBLANK(D957),\"Alain, nix drischribu\",VLOOKUP(D957,'2021'!$A$11:$G$143,4,FALSE))","v":"Williner Anton"},{"$f":"VLOOKUP(D957,'2021'!$A$11:$G$143,2,FALSE)","v":"Vivana"},95,44,{"$f":"VLOOKUP(E957,'2021'!$A$11:$G$143,2,FALSE)","v":"Tiara"},{"$f":"IF(ISBLANK(E957),\"hie eu nix drischribu\",VLOOKUP(E957,'2021'!$A$11:$G$143,4,FALSE))","v":"Gebrüder Jäger"}]
["2021-06-28",{"$f":"IF(ISBLANK(D958),\"Alain, nix drischribu\",VLOOKUP(D958,'2021'!$A$11:$G$143,4,FALSE))","v":"Williner Anton"},{"$f":"VLOOKUP(D958,'2021'!$A$11:$G$143,2,FALSE)","v":"Vivana"},95,67,{"$f":"VLOOKUP(E958,'2021'!$A$11:$G$143,2,FALSE)","v":"Tokio"},{"$f":"IF(ISBLANK(E958),\"hie eu nix drischribu\",VLOOKUP(E958,'2021'!$A$11:$G$143,4,FALSE))","v":"Jäger Carlo & Lukas"}]
["2021-06-28",{"$f":"IF(ISBLANK(D959),\"Alain, nix drischribu\",VLOOKUP(D959,'2021'!$A$11:$G$143,4,FALSE))","v":"Wyssen Diego & Madlen"},{"$f":"VLOOKUP(D959,'2021'!$A$11:$G$143,2,FALSE)","v":"Xhyla"},104,111,{"$f":"VLOOKUP(E959,'2021'!$A$11:$G$143,2,FALSE)","v":"Palona"},{"$f":"IF(ISBLANK(E959),\"hie eu nix drischribu\",VLOOKUP(E959,'2021'!$A$11:$G$143,4,FALSE))","v":"Zumofen / Gattlen"}]
["2021-06-28",{"$f":"IF(ISBLANK(D960),\"Alain, nix drischribu\",VLOOKUP(D960,'2021'!$A$11:$G$143,4,FALSE))","v":"Wyssen Diego & Madlen"},{"$f":"VLOOKUP(D960,'2021'!$A$11:$G$143,2,FALSE)","v":"Xantara"},100,92,{"$f":"VLOOKUP(E960,'2021'!$A$11:$G$143,2,FALSE)","v":"Tomba"},{"$f":"IF(ISBLANK(E960),\"hie eu nix drischribu\",VLOOKUP(E960,'2021'!$A$11:$G$143,4,FALSE))","v":"Tscherry Erwin & Bernhard"}]
["2021-06-28",{"$f":"IF(ISBLANK(D961),\"Alain, nix drischribu\",VLOOKUP(D961,'2021'!$A$11:$G$143,4,FALSE))","v":"Bayard Medard & Gustav"},{"$f":"VLOOKUP(D961,'2021'!$A$11:$G$143,2,FALSE)","v":"Vampir"},4,41,{"$f":"VLOOKUP(E961,'2021'!$A$11:$G$143,2,FALSE)","v":"Tara"},{"$f":"IF(ISBLANK(E961),\"hie eu nix drischribu\",VLOOKUP(E961,'2021'!$A$11:$G$143,4,FALSE))","v":"Gebrüder Jäger"}]
["2021-06-28",{"$f":"IF(ISBLANK(D962),\"Alain, nix drischribu\",VLOOKUP(D962,'2021'!$A$11:$G$143,4,FALSE))","v":"Bregy Ralf & Adolf"},{"$f":"VLOOKUP(D962,'2021'!$A$11:$G$143,2,FALSE)","v":"Canabis"},14,39,{"$f":"VLOOKUP(E962,'2021'!$A$11:$G$143,2,FALSE)","v":"Bacardi"},{"$f":"IF(ISBLANK(E962),\"hie eu nix drischribu\",VLOOKUP(E962,'2021'!$A$11:$G$143,4,FALSE))","v":"Fux W., J., & Wyer Piet"}]
["2021-06-28",{"$f":"IF(ISBLANK(D963),\"Alain, nix drischribu\",VLOOKUP(D963,'2021'!$A$11:$G$143,4,FALSE))","v":"Zumofen / Gattlen"},{"$f":"VLOOKUP(D963,'2021'!$A$11:$G$143,2,FALSE)","v":"Violette"},108,32,{"$f":"VLOOKUP(E963,'2021'!$A$11:$G$143,2,FALSE)","v":"Mystic"},{"$f":"IF(ISBLANK(E963),\"hie eu nix drischribu\",VLOOKUP(E963,'2021'!$A$11:$G$143,4,FALSE))","v":"Fux W., J., & Wyer Piet"}]
["2021-06-28",{"$f":"IF(ISBLANK(D964),\"Alain, nix drischribu\",VLOOKUP(D964,'2021'!$A$11:$G$143,4,FALSE))","v":"Fux W., J., & Wyer Piet"},{"$f":"VLOOKUP(D964,'2021'!$A$11:$G$143,2,FALSE)","v":"Bacardi"},39,53,{"$f":"VLOOKUP(E964,'2021'!$A$11:$G$143,2,FALSE)","v":"Caline"},{"$f":"IF(ISBLANK(E964),\"hie eu nix drischribu\",VLOOKUP(E964,'2021'!$A$11:$G$143,4,FALSE))","v":"Jäger Carlo & Lukas"}]
["2021-06-28",{"$f":"IF(ISBLANK(D965),\"Alain, nix drischribu\",VLOOKUP(D965,'2021'!$A$11:$G$143,4,FALSE))","v":"Fux W., J., & Wyer Piet"},{"$f":"VLOOKUP(D965,'2021'!$A$11:$G$143,2,FALSE)","v":"Mystic"},32,103,{"$f":"VLOOKUP(E965,'2021'!$A$11:$G$143,2,FALSE)","v":"Xena"},{"$f":"IF(ISBLANK(E965),\"hie eu nix drischribu\",VLOOKUP(E965,'2021'!$A$11:$G$143,4,FALSE))","v":"Wyssen Diego & Madlen"}]
["2021-06-28",{"$f":"IF(ISBLANK(D966),\"Alain, nix drischribu\",VLOOKUP(D966,'2021'!$A$11:$G$143,4,FALSE))","v":"Bregy Uli / Lisi & Pasci"},{"$f":"VLOOKUP(D966,'2021'!$A$11:$G$143,2,FALSE)","v":"Calette"},25,61,{"$f":"VLOOKUP(E966,'2021'!$A$11:$G$143,2,FALSE)","v":"Grolla"},{"$f":"IF(ISBLANK(E966),\"hie eu nix drischribu\",VLOOKUP(E966,'2021'!$A$11:$G$143,4,FALSE))","v":"Jäger Carlo & Lukas"}]
["2021-06-28",{"$f":"IF(ISBLANK(D967),\"Alain, nix drischribu\",VLOOKUP(D967,'2021'!$A$11:$G$143,4,FALSE))","v":"Bregy Uli / Lisi & Pasci"},{"$f":"VLOOKUP(D967,'2021'!$A$11:$G$143,2,FALSE)","v":"Bora"},21,54,{"$f":"VLOOKUP(E967,'2021'!$A$11:$G$143,2,FALSE)","v":"Flora"},{"$f":"IF(ISBLANK(E967),\"hie eu nix drischribu\",VLOOKUP(E967,'2021'!$A$11:$G$143,4,FALSE))","v":"Jäger Carlo & Lukas"}]
["2021-06-28",{"$f":"IF(ISBLANK(D968),\"Alain, nix drischribu\",VLOOKUP(D968,'2021'!$A$11:$G$143,4,FALSE))","v":"Fux W., J., & Wyer Piet"},{"$f":"VLOOKUP(D968,'2021'!$A$11:$G$143,2,FALSE)","v":"Bolero"},29,59,{"$f":"VLOOKUP(E968,'2021'!$A$11:$G$143,2,FALSE)","v":"Samba"},{"$f":"IF(ISBLANK(E968),\"hie eu nix drischribu\",VLOOKUP(E968,'2021'!$A$11:$G$143,4,FALSE))","v":"Jäger Carlo & Lukas"}]
["2021-06-28",{"$f":"IF(ISBLANK(D969),\"Alain, nix drischribu\",VLOOKUP(D969,'2021'!$A$11:$G$143,4,FALSE))","v":"Jäger Carlo & Lukas"},{"$f":"VLOOKUP(D969,'2021'!$A$11:$G$143,2,FALSE)","v":"Mygale"},56,35,{"$f":"VLOOKUP(E969,'2021'!$A$11:$G$143,2,FALSE)","v":"Pampère"},{"$f":"IF(ISBLANK(E969),\"hie eu nix drischribu\",VLOOKUP(E969,'2021'!$A$11:$G$143,4,FALSE))","v":"Fux W., J., & Wyer Piet"}]
["2021-06-28",{"$f":"IF(ISBLANK(D970),\"Alain, nix drischribu\",VLOOKUP(D970,'2021'!$A$11:$G$143,4,FALSE))","v":"Fux W., J., & Wyer Piet"},{"$f":"VLOOKUP(D970,'2021'!$A$11:$G$143,2,FALSE)","v":"Diamant"},30,54,{"$f":"VLOOKUP(E970,'2021'!$A$11:$G$143,2,FALSE)","v":"Flora"},{"$f":"IF(ISBLANK(E970),\"hie eu nix drischribu\",VLOOKUP(E970,'2021'!$A$11:$G$143,4,FALSE))","v":"Jäger Carlo & Lukas"}]
["2021-06-28",{"$f":"IF(ISBLANK(D971),\"Alain, nix drischribu\",VLOOKUP(D971,'2021'!$A$11:$G$143,4,FALSE))","v":"Bregy Uli / Lisi & Pasci"},{"$f":"VLOOKUP(D971,'2021'!$A$11:$G$143,2,FALSE)","v":"Xaphir"},22,77,{"$f":"VLOOKUP(E971,'2021'!$A$11:$G$143,2,FALSE)","v":"Beres"},{"$f":"IF(ISBLANK(E971),\"hie eu nix drischribu\",VLOOKUP(E971,'2021'!$A$11:$G$143,4,FALSE))","v":"Stallung Passeraub"}]
["2021-06-27",{"$f":"IF(ISBLANK(D972),\"Alain, nix drischribu\",VLOOKUP(D972,'2021'!$A$11:$G$143,4,FALSE))","v":"Fux W., J., & Wyer Piet"},{"$f":"VLOOKUP(D972,'2021'!$A$11:$G$143,2,FALSE)","v":"Bacardi"},39,61,{"$f":"VLOOKUP(E972,'2021'!$A$11:$G$143,2,FALSE)","v":"Grolla"},{"$f":"IF(ISBLANK(E972),\"hie eu nix drischribu\",VLOOKUP(E972,'2021'!$A$11:$G$143,4,FALSE))","v":"Jäger Carlo & Lukas"}]
["2021-06-27",{"$f":"IF(ISBLANK(D973),\"Alain, nix drischribu\",VLOOKUP(D973,'2021'!$A$11:$G$143,4,FALSE))","v":"Bregy Ralf & Adolf"},{"$f":"VLOOKUP(D973,'2021'!$A$11:$G$143,2,FALSE)","v":"Creola"},8,120,{"$f":"VLOOKUP(E973,'2021'!$A$11:$G$143,2,FALSE)","v":"Rambo"},{"$f":"IF(ISBLANK(E973),\"hie eu nix drischribu\",VLOOKUP(E973,'2021'!$A$11:$G$143,4,FALSE))","v":"Zumofen / Gattlen"}]
["2021-06-27",{"$f":"IF(ISBLANK(D974),\"Alain, nix drischribu\",VLOOKUP(D974,'2021'!$A$11:$G$143,4,FALSE))","v":"Bregy Uli / Lisi & Pasci"},{"$f":"VLOOKUP(D974,'2021'!$A$11:$G$143,2,FALSE)","v":"Bora"},21,6,{"$f":"VLOOKUP(E974,'2021'!$A$11:$G$143,2,FALSE)","v":"Flacabre"},{"$f":"IF(ISBLANK(E974),\"hie eu nix drischribu\",VLOOKUP(E974,'2021'!$A$11:$G$143,4,FALSE))","v":"Bregy Ralf & Adolf"}]
["2021-06-27",{"$f":"IF(ISBLANK(D975),\"Alain, nix drischribu\",VLOOKUP(D975,'2021'!$A$11:$G$143,4,FALSE))","v":"Stallung Passeraub"},{"$f":"VLOOKUP(D975,'2021'!$A$11:$G$143,2,FALSE)","v":"Beres"},77,16,{"$f":"VLOOKUP(E975,'2021'!$A$11:$G$143,2,FALSE)","v":"Murphy"},{"$f":"IF(ISBLANK(E975),\"hie eu nix drischribu\",VLOOKUP(E975,'2021'!$A$11:$G$143,4,FALSE))","v":"Bregy Uli / Lisi & Pasci"}]
["2021-06-27",{"$f":"IF(ISBLANK(D976),\"Alain, nix drischribu\",VLOOKUP(D976,'2021'!$A$11:$G$143,4,FALSE))","v":"Bregy Ralf & Adolf"},{"$f":"VLOOKUP(D976,'2021'!$A$11:$G$143,2,FALSE)","v":"Flacabre"},6,4,{"$f":"VLOOKUP(E976,'2021'!$A$11:$G$143,2,FALSE)","v":"Vampir"},{"$f":"IF(ISBLANK(E976),\"hie eu nix drischribu\",VLOOKUP(E976,'2021'!$A$11:$G$143,4,FALSE))","v":"Bayard Medard & Gustav"}]
["2021-06-27",{"$f":"IF(ISBLANK(D977),\"Alain, nix drischribu\",VLOOKUP(D977,'2021'!$A$11:$G$143,4,FALSE))","v":"Bregy Silvan & Patrik"},{"$f":"VLOOKUP(D977,'2021'!$A$11:$G$143,2,FALSE)","v":"Milow"},12,119,{"$f":"VLOOKUP(E977,'2021'!$A$11:$G$143,2,FALSE)","v":"Fayola"},{"$f":"IF(ISBLANK(E977),\"hie eu nix drischribu\",VLOOKUP(E977,'2021'!$A$11:$G$143,4,FALSE))","v":"Zumofen / Gattlen"}]
["2021-06-27",{"$f":"IF(ISBLANK(D978),\"Alain, nix drischribu\",VLOOKUP(D978,'2021'!$A$11:$G$143,4,FALSE))","v":"Zumofen / Gattlen"},{"$f":"VLOOKUP(D978,'2021'!$A$11:$G$143,2,FALSE)","v":"Rambo"},120,15,{"$f":"VLOOKUP(E978,'2021'!$A$11:$G$143,2,FALSE)","v":"Cashida"},{"$f":"IF(ISBLANK(E978),\"hie eu nix drischribu\",VLOOKUP(E978,'2021'!$A$11:$G$143,4,FALSE))","v":"Bregy Ralf & Adolf"}]
["2021-06-27",{"$f":"IF(ISBLANK(D979),\"Alain, nix drischribu\",VLOOKUP(D979,'2021'!$A$11:$G$143,4,FALSE))","v":"Jäger Carlo & Lukas"},{"$f":"VLOOKUP(D979,'2021'!$A$11:$G$143,2,FALSE)","v":"Taverne"},66,4,{"$f":"VLOOKUP(E979,'2021'!$A$11:$G$143,2,FALSE)","v":"Vampir"},{"$f":"IF(ISBLANK(E979),\"hie eu nix drischribu\",VLOOKUP(E979,'2021'!$A$11:$G$143,4,FALSE))","v":"Bayard Medard & Gustav"}]
["2021-06-27",{"$f":"IF(ISBLANK(D980),\"Alain, nix drischribu\",VLOOKUP(D980,'2021'!$A$11:$G$143,4,FALSE))","v":"Hischier Pius"},{"$f":"VLOOKUP(D980,'2021'!$A$11:$G$143,2,FALSE)","v":"Pablo"},52,71,{"$f":"VLOOKUP(E980,'2021'!$A$11:$G$143,2,FALSE)","v":"Balea"},{"$f":"IF(ISBLANK(E980),\"hie eu nix drischribu\",VLOOKUP(E980,'2021'!$A$11:$G$143,4,FALSE))","v":"Mathieu Leander & Sascha"}]
["2021-06-27",{"$f":"IF(ISBLANK(D981),\"Alain, nix drischribu\",VLOOKUP(D981,'2021'!$A$11:$G$143,4,FALSE))","v":"Bayard Medard & Gustav"},{"$f":"VLOOKUP(D981,'2021'!$A$11:$G$143,2,FALSE)","v":"Pandera"},5,122,{"$f":"VLOOKUP(E981,'2021'!$A$11:$G$143,2,FALSE)","v":"Xana"},{"$f":"IF(ISBLANK(E981),\"hie eu nix drischribu\",VLOOKUP(E981,'2021'!$A$11:$G$143,4,FALSE))","v":"Zumofen / Gattlen"}]
["2021-06-27",{"$f":"IF(ISBLANK(D982),\"Alain, nix drischribu\",VLOOKUP(D982,'2021'!$A$11:$G$143,4,FALSE))","v":"Jäger Carlo & Lukas"},{"$f":"VLOOKUP(D982,'2021'!$A$11:$G$143,2,FALSE)","v":"Prune"},57,111,{"$f":"VLOOKUP(E982,'2021'!$A$11:$G$143,2,FALSE)","v":"Palona"},{"$f":"IF(ISBLANK(E982),\"hie eu nix drischribu\",VLOOKUP(E982,'2021'!$A$11:$G$143,4,FALSE))","v":"Zumofen / Gattlen"}]
["2021-06-27",{"$f":"IF(ISBLANK(D983),\"Alain, nix drischribu\",VLOOKUP(D983,'2021'!$A$11:$G$143,4,FALSE))","v":"Zumofen / Gattlen"},{"$f":"VLOOKUP(D983,'2021'!$A$11:$G$143,2,FALSE)","v":"Violette"},108,55,{"$f":"VLOOKUP(E983,'2021'!$A$11:$G$143,2,FALSE)","v":"Mesagne"},{"$f":"IF(ISBLANK(E983),\"hie eu nix drischribu\",VLOOKUP(E983,'2021'!$A$11:$G$143,4,FALSE))","v":"Jäger Carlo & Lukas"}]
["2021-06-27",{"$f":"IF(ISBLANK(D984),\"Alain, nix drischribu\",VLOOKUP(D984,'2021'!$A$11:$G$143,4,FALSE))","v":"Hutter Richard "},{"$f":"VLOOKUP(D984,'2021'!$A$11:$G$143,2,FALSE)","v":"Pablo"},76,87,{"$f":"VLOOKUP(E984,'2021'!$A$11:$G$143,2,FALSE)","v":"Tiara"},{"$f":"IF(ISBLANK(E984),\"hie eu nix drischribu\",VLOOKUP(E984,'2021'!$A$11:$G$143,4,FALSE))","v":"Sewer R. & Thommen S."}]
["2021-06-27",{"$f":"IF(ISBLANK(D985),\"Alain, nix drischribu\",VLOOKUP(D985,'2021'!$A$11:$G$143,4,FALSE))","v":"Fux W., J., & Wyer Piet"},{"$f":"VLOOKUP(D985,'2021'!$A$11:$G$143,2,FALSE)","v":"Bacardi"},39,73,{"$f":"VLOOKUP(E985,'2021'!$A$11:$G$143,2,FALSE)","v":"Bajka"},{"$f":"IF(ISBLANK(E985),\"hie eu nix drischribu\",VLOOKUP(E985,'2021'!$A$11:$G$143,4,FALSE))","v":"Stallung Passeraub"}]
["2021-06-27",{"$f":"IF(ISBLANK(D986),\"Alain, nix drischribu\",VLOOKUP(D986,'2021'!$A$11:$G$143,4,FALSE))","v":"Jäger Carlo & Lukas"},{"$f":"VLOOKUP(D986,'2021'!$A$11:$G$143,2,FALSE)","v":"Mesagne"},55,122,{"$f":"VLOOKUP(E986,'2021'!$A$11:$G$143,2,FALSE)","v":"Xana"},{"$f":"IF(ISBLANK(E986),\"hie eu nix drischribu\",VLOOKUP(E986,'2021'!$A$11:$G$143,4,FALSE))","v":"Zumofen / Gattlen"}]
["2021-06-27",{"$f":"IF(ISBLANK(D987),\"Alain, nix drischribu\",VLOOKUP(D987,'2021'!$A$11:$G$143,4,FALSE))","v":"Fam. Leiggener"},{"$f":"VLOOKUP(D987,'2021'!$A$11:$G$143,2,FALSE)","v":"Rebell"},27,46,{"$f":"VLOOKUP(E987,'2021'!$A$11:$G$143,2,FALSE)","v":"Lorens"},{"$f":"IF(ISBLANK(E987),\"hie eu nix drischribu\",VLOOKUP(E987,'2021'!$A$11:$G$143,4,FALSE))","v":"Gebrüder Jäger"}]
["2021-06-27",{"$f":"IF(ISBLANK(D988),\"Alain, nix drischribu\",VLOOKUP(D988,'2021'!$A$11:$G$143,4,FALSE))","v":"Stallung Passeraub"},{"$f":"VLOOKUP(D988,'2021'!$A$11:$G$143,2,FALSE)","v":"Ballerine"},78,114,{"$f":"VLOOKUP(E988,'2021'!$A$11:$G$143,2,FALSE)","v":"Maya"},{"$f":"IF(ISBLANK(E988),\"hie eu nix drischribu\",VLOOKUP(E988,'2021'!$A$11:$G$143,4,FALSE))","v":"Zumofen / Gattlen"}]
["2021-06-27",{"$f":"IF(ISBLANK(D989),\"Alain, nix drischribu\",VLOOKUP(D989,'2021'!$A$11:$G$143,4,FALSE))","v":"Zumofen / Gattlen"},{"$f":"VLOOKUP(D989,'2021'!$A$11:$G$143,2,FALSE)","v":"Maya"},114,58,{"$f":"VLOOKUP(E989,'2021'!$A$11:$G$143,2,FALSE)","v":"Bataille"},{"$f":"IF(ISBLANK(E989),\"hie eu nix drischribu\",VLOOKUP(E989,'2021'!$A$11:$G$143,4,FALSE))","v":"Jäger Carlo & Lukas"}]
["2021-06-27",{"$f":"IF(ISBLANK(D990),\"Alain, nix drischribu\",VLOOKUP(D990,'2021'!$A$11:$G$143,4,FALSE))","v":"Wyssen Diego & Madlen"},{"$f":"VLOOKUP(D990,'2021'!$A$11:$G$143,2,FALSE)","v":"Xhyla"},104,20,{"$f":"VLOOKUP(E990,'2021'!$A$11:$G$143,2,FALSE)","v":"Caline"},{"$f":"IF(ISBLANK(E990),\"hie eu nix drischribu\",VLOOKUP(E990,'2021'!$A$11:$G$143,4,FALSE))","v":" Bregy Uli / Lisi & Pasci"}]
["2021-06-27",{"$f":"IF(ISBLANK(D991),\"Alain, nix drischribu\",VLOOKUP(D991,'2021'!$A$11:$G$143,4,FALSE))","v":"Sewer R. & Thommen S."},{"$f":"VLOOKUP(D991,'2021'!$A$11:$G$143,2,FALSE)","v":"Malice"},88,105,{"$f":"VLOOKUP(E991,'2021'!$A$11:$G$143,2,FALSE)","v":"Corona"},{"$f":"IF(ISBLANK(E991),\"hie eu nix drischribu\",VLOOKUP(E991,'2021'!$A$11:$G$143,4,FALSE))","v":"Zumoberhaus Pius"}]
["2021-06-27",{"$f":"IF(ISBLANK(D992),\"Alain, nix drischribu\",VLOOKUP(D992,'2021'!$A$11:$G$143,4,FALSE))","v":"Zumoberhaus Pius"},{"$f":"VLOOKUP(D992,'2021'!$A$11:$G$143,2,FALSE)","v":"Corona"},105,36,{"$f":"VLOOKUP(E992,'2021'!$A$11:$G$143,2,FALSE)","v":"Calmy"},{"$f":"IF(ISBLANK(E992),\"hie eu nix drischribu\",VLOOKUP(E992,'2021'!$A$11:$G$143,4,FALSE))","v":"Fux W., J., & Wyer Piet"}]
["2021-06-27",{"$f":"IF(ISBLANK(D993),\"Alain, nix drischribu\",VLOOKUP(D993,'2021'!$A$11:$G$143,4,FALSE))","v":"Zumofen / Gattlen"},{"$f":"VLOOKUP(D993,'2021'!$A$11:$G$143,2,FALSE)","v":"Maya"},114,89,{"$f":"VLOOKUP(E993,'2021'!$A$11:$G$143,2,FALSE)","v":"Biscot"},{"$f":"IF(ISBLANK(E993),\"hie eu nix drischribu\",VLOOKUP(E993,'2021'!$A$11:$G$143,4,FALSE))","v":"Sewer R. & Thommen S."}]
["2021-06-27",{"$f":"IF(ISBLANK(D994),\"Alain, nix drischribu\",VLOOKUP(D994,'2021'!$A$11:$G$143,4,FALSE))","v":"Zumofen / Gattlen"},{"$f":"VLOOKUP(D994,'2021'!$A$11:$G$143,2,FALSE)","v":"Souris"},115,73,{"$f":"VLOOKUP(E994,'2021'!$A$11:$G$143,2,FALSE)","v":"Bajka"},{"$f":"IF(ISBLANK(E994),\"hie eu nix drischribu\",VLOOKUP(E994,'2021'!$A$11:$G$143,4,FALSE))","v":"Stallung Passeraub"}]
["2021-06-27",{"$f":"IF(ISBLANK(D995),\"Alain, nix drischribu\",VLOOKUP(D995,'2021'!$A$11:$G$143,4,FALSE))","v":"Stallung Passeraub"},{"$f":"VLOOKUP(D995,'2021'!$A$11:$G$143,2,FALSE)","v":"Bajka"},73,124,{"$f":"VLOOKUP(E995,'2021'!$A$11:$G$143,2,FALSE)","v":"Xara"},{"$f":"IF(ISBLANK(E995),\"hie eu nix drischribu\",VLOOKUP(E995,'2021'!$A$11:$G$143,4,FALSE))","v":"Zumofen / Gattlen"}]
["2021-06-27",{"$f":"IF(ISBLANK(D996),\"Alain, nix drischribu\",VLOOKUP(D996,'2021'!$A$11:$G$143,4,FALSE))","v":"Zumofen / Gattlen"},{"$f":"VLOOKUP(D996,'2021'!$A$11:$G$143,2,FALSE)","v":"Rigolo"},117,75,{"$f":"VLOOKUP(E996,'2021'!$A$11:$G$143,2,FALSE)","v":"Menance"},{"$f":"IF(ISBLANK(E996),\"hie eu nix drischribu\",VLOOKUP(E996,'2021'!$A$11:$G$143,4,FALSE))","v":"Stallung Passeraub"}]
["2021-06-27",{"$f":"IF(ISBLANK(D997),\"Alain, nix drischribu\",VLOOKUP(D997,'2021'!$A$11:$G$143,4,FALSE))","v":"Sewer R. & Thommen S."},{"$f":"VLOOKUP(D997,'2021'!$A$11:$G$143,2,FALSE)","v":"Bolera"},90,60,{"$f":"VLOOKUP(E997,'2021'!$A$11:$G$143,2,FALSE)","v":"Bayonne"},{"$f":"IF(ISBLANK(E997),\"hie eu nix drischribu\",VLOOKUP(E997,'2021'!$A$11:$G$143,4,FALSE))","v":"Jäger Carlo & Lukas"}]
["2021-06-27",{"$f":"IF(ISBLANK(D998),\"Alain, nix drischribu\",VLOOKUP(D998,'2021'!$A$11:$G$143,4,FALSE))","v":"Bregy Uli / Lisi & Pasci"},{"$f":"VLOOKUP(D998,'2021'!$A$11:$G$143,2,FALSE)","v":"Calette"},25,57,{"$f":"VLOOKUP(E998,'2021'!$A$11:$G$143,2,FALSE)","v":"Prune"},{"$f":"IF(ISBLANK(E998),\"hie eu nix drischribu\",VLOOKUP(E998,'2021'!$A$11:$G$143,4,FALSE))","v":"Jäger Carlo & Lukas"}]
["2021-06-27",{"$f":"IF(ISBLANK(D999),\"Alain, nix drischribu\",VLOOKUP(D999,'2021'!$A$11:$G$143,4,FALSE))","v":"Bregy Ralf & Adolf"},{"$f":"VLOOKUP(D999,'2021'!$A$11:$G$143,2,FALSE)","v":"Coquette"},9,65,{"$f":"VLOOKUP(E999,'2021'!$A$11:$G$143,2,FALSE)","v":"Pivoine"},{"$f":"IF(ISBLANK(E999),\"hie eu nix drischribu\",VLOOKUP(E999,'2021'!$A$11:$G$143,4,FALSE))","v":"Jäger Carlo & Lukas"}]
["2021-06-27",{"$f":"IF(ISBLANK(D1000),\"Alain, nix drischribu\",VLOOKUP(D1000,'2021'!$A$11:$G$143,4,FALSE))","v":"Zumofen / Gattlen"},{"$f":"VLOOKUP(D1000,'2021'!$A$11:$G$143,2,FALSE)","v":"Rambo"},120,94,{"$f":"VLOOKUP(E1000,'2021'!$A$11:$G$143,2,FALSE)","v":"Tigra"},{"$f":"IF(ISBLANK(E1000),\"hie eu nix drischribu\",VLOOKUP(E1000,'2021'!$A$11:$G$143,4,FALSE))","v":"Williner Anton"}]
["2021-06-27",{"$f":"IF(ISBLANK(D1001),\"Alain, nix drischribu\",VLOOKUP(D1001,'2021'!$A$11:$G$143,4,FALSE))","v":"Zumofen / Gattlen"},{"$f":"VLOOKUP(D1001,'2021'!$A$11:$G$143,2,FALSE)","v":"Violette"},108,104,{"$f":"VLOOKUP(E1001,'2021'!$A$11:$G$143,2,FALSE)","v":"Xhyla"},{"$f":"IF(ISBLANK(E1001),\"hie eu nix drischribu\",VLOOKUP(E1001,'2021'!$A$11:$G$143,4,FALSE))","v":"Wyssen Diego & Madlen"}]
["2021-06-27",{"$f":"IF(ISBLANK(D1002),\"Alain, nix drischribu\",VLOOKUP(D1002,'2021'!$A$11:$G$143,4,FALSE))","v":"Stallung Passeraub"},{"$f":"VLOOKUP(D1002,'2021'!$A$11:$G$143,2,FALSE)","v":"Bonita"},80,34,{"$f":"VLOOKUP(E1002,'2021'!$A$11:$G$143,2,FALSE)","v":"Valaisanne"},{"$f":"IF(ISBLANK(E1002),\"hie eu nix drischribu\",VLOOKUP(E1002,'2021'!$A$11:$G$143,4,FALSE))","v":"Fux W., J., & Wyer Piet"}]
["2021-06-27",{"$f":"IF(ISBLANK(D1003),\"Alain, nix drischribu\",VLOOKUP(D1003,'2021'!$A$11:$G$143,4,FALSE))","v":"Jäger Carlo & Lukas"},{"$f":"VLOOKUP(D1003,'2021'!$A$11:$G$143,2,FALSE)","v":"Prune"},57,34,{"$f":"VLOOKUP(E1003,'2021'!$A$11:$G$143,2,FALSE)","v":"Valaisanne"},{"$f":"IF(ISBLANK(E1003),\"hie eu nix drischribu\",VLOOKUP(E1003,'2021'!$A$11:$G$143,4,FALSE))","v":"Fux W., J., & Wyer Piet"}]
["2021-06-27",{"$f":"IF(ISBLANK(D1004),\"Alain, nix drischribu\",VLOOKUP(D1004,'2021'!$A$11:$G$143,4,FALSE))","v":"Williner Anton"},{"$f":"VLOOKUP(D1004,'2021'!$A$11:$G$143,2,FALSE)","v":"Tira"},98,43,{"$f":"VLOOKUP(E1004,'2021'!$A$11:$G$143,2,FALSE)","v":"Dorina"},{"$f":"IF(ISBLANK(E1004),\"hie eu nix drischribu\",VLOOKUP(E1004,'2021'!$A$11:$G$143,4,FALSE))","v":"Gebrüder Jäger"}]
["2021-06-27",{"$f":"IF(ISBLANK(D1005),\"Alain, nix drischribu\",VLOOKUP(D1005,'2021'!$A$11:$G$143,4,FALSE))","v":"Tscherry Erwin & Bernhard"},{"$f":"VLOOKUP(D1005,'2021'!$A$11:$G$143,2,FALSE)","v":"Carolin"},91,45,{"$f":"VLOOKUP(E1005,'2021'!$A$11:$G$143,2,FALSE)","v":"Tanja"},{"$f":"IF(ISBLANK(E1005),\"hie eu nix drischribu\",VLOOKUP(E1005,'2021'!$A$11:$G$143,4,FALSE))","v":"Gebrüder Jäger"}]
["2021-06-27",{"$f":"IF(ISBLANK(D1006),\"Alain, nix drischribu\",VLOOKUP(D1006,'2021'!$A$11:$G$143,4,FALSE))","v":"Stallung Passeraub"},{"$f":"VLOOKUP(D1006,'2021'!$A$11:$G$143,2,FALSE)","v":"Bonita"},80,29,{"$f":"VLOOKUP(E1006,'2021'!$A$11:$G$143,2,FALSE)","v":"Bolero"},{"$f":"IF(ISBLANK(E1006),\"hie eu nix drischribu\",VLOOKUP(E1006,'2021'!$A$11:$G$143,4,FALSE))","v":"Fux W., J., & Wyer Piet"}]
["2021-06-27",{"$f":"IF(ISBLANK(D1007),\"Alain, nix drischribu\",VLOOKUP(D1007,'2021'!$A$11:$G$143,4,FALSE))","v":"Fux W., J., & Wyer Piet"},{"$f":"VLOOKUP(D1007,'2021'!$A$11:$G$143,2,FALSE)","v":"Bastis"},31,53,{"$f":"VLOOKUP(E1007,'2021'!$A$11:$G$143,2,FALSE)","v":"Caline"},{"$f":"IF(ISBLANK(E1007),\"hie eu nix drischribu\",VLOOKUP(E1007,'2021'!$A$11:$G$143,4,FALSE))","v":"Jäger Carlo & Lukas"}]
["2021-06-27",{"$f":"IF(ISBLANK(D1008),\"Alain, nix drischribu\",VLOOKUP(D1008,'2021'!$A$11:$G$143,4,FALSE))","v":"Sewer R. & Thommen S."},{"$f":"VLOOKUP(D1008,'2021'!$A$11:$G$143,2,FALSE)","v":"Malice"},88,40,{"$f":"VLOOKUP(E1008,'2021'!$A$11:$G$143,2,FALSE)","v":"Tina"},{"$f":"IF(ISBLANK(E1008),\"hie eu nix drischribu\",VLOOKUP(E1008,'2021'!$A$11:$G$143,4,FALSE))","v":"Gebrüder Jäger"}]
["2021-06-27",{"$f":"IF(ISBLANK(D1009),\"Alain, nix drischribu\",VLOOKUP(D1009,'2021'!$A$11:$G$143,4,FALSE))","v":"Zumofen / Gattlen"},{"$f":"VLOOKUP(D1009,'2021'!$A$11:$G$143,2,FALSE)","v":"Xana"},122,27,{"$f":"VLOOKUP(E1009,'2021'!$A$11:$G$143,2,FALSE)","v":"Rebell"},{"$f":"IF(ISBLANK(E1009),\"hie eu nix drischribu\",VLOOKUP(E1009,'2021'!$A$11:$G$143,4,FALSE))","v":"Fam. Leiggener"}]
["2021-06-27",{"$f":"IF(ISBLANK(D1010),\"Alain, nix drischribu\",VLOOKUP(D1010,'2021'!$A$11:$G$143,4,FALSE))","v":"Zumofen / Gattlen"},{"$f":"VLOOKUP(D1010,'2021'!$A$11:$G$143,2,FALSE)","v":"Pinoccio"},116,66,{"$f":"VLOOKUP(E1010,'2021'!$A$11:$G$143,2,FALSE)","v":"Taverne"},{"$f":"IF(ISBLANK(E1010),\"hie eu nix drischribu\",VLOOKUP(E1010,'2021'!$A$11:$G$143,4,FALSE))","v":"Jäger Carlo & Lukas"}]
["2021-06-27",{"$f":"IF(ISBLANK(D1011),\"Alain, nix drischribu\",VLOOKUP(D1011,'2021'!$A$11:$G$143,4,FALSE))","v":"Jäger Carlo & Lukas"},{"$f":"VLOOKUP(D1011,'2021'!$A$11:$G$143,2,FALSE)","v":"Pivoine"},65,115,{"$f":"VLOOKUP(E1011,'2021'!$A$11:$G$143,2,FALSE)","v":"Souris"},{"$f":"IF(ISBLANK(E1011),\"hie eu nix drischribu\",VLOOKUP(E1011,'2021'!$A$11:$G$143,4,FALSE))","v":"Zumofen / Gattlen"}]
["2021-06-27",{"$f":"IF(ISBLANK(D1012),\"Alain, nix drischribu\",VLOOKUP(D1012,'2021'!$A$11:$G$143,4,FALSE))","v":"Jäger Carlo & Lukas"},{"$f":"VLOOKUP(D1012,'2021'!$A$11:$G$143,2,FALSE)","v":"Mygale"},56,93,{"$f":"VLOOKUP(E1012,'2021'!$A$11:$G$143,2,FALSE)","v":"Tonic"},{"$f":"IF(ISBLANK(E1012),\"hie eu nix drischribu\",VLOOKUP(E1012,'2021'!$A$11:$G$143,4,FALSE))","v":"Williner Anton"}]
["2021-06-27",{"$f":"IF(ISBLANK(D1013),\"Alain, nix drischribu\",VLOOKUP(D1013,'2021'!$A$11:$G$143,4,FALSE))","v":"Zumofen / Gattlen"},{"$f":"VLOOKUP(D1013,'2021'!$A$11:$G$143,2,FALSE)","v":"Souris"},115,67,{"$f":"VLOOKUP(E1013,'2021'!$A$11:$G$143,2,FALSE)","v":"Tokio"},{"$f":"IF(ISBLANK(E1013),\"hie eu nix drischribu\",VLOOKUP(E1013,'2021'!$A$11:$G$143,4,FALSE))","v":"Jäger Carlo & Lukas"}]
["2021-06-27",{"$f":"IF(ISBLANK(D1014),\"Alain, nix drischribu\",VLOOKUP(D1014,'2021'!$A$11:$G$143,4,FALSE))","v":"Zumofen / Gattlen"},{"$f":"VLOOKUP(D1014,'2021'!$A$11:$G$143,2,FALSE)","v":"Vanda"},113,80,{"$f":"VLOOKUP(E1014,'2021'!$A$11:$G$143,2,FALSE)","v":"Bonita"},{"$f":"IF(ISBLANK(E1014),\"hie eu nix drischribu\",VLOOKUP(E1014,'2021'!$A$11:$G$143,4,FALSE))","v":"Stallung Passeraub"}]
["2021-06-27",{"$f":"IF(ISBLANK(D1015),\"Alain, nix drischribu\",VLOOKUP(D1015,'2021'!$A$11:$G$143,4,FALSE))","v":"Williner Anton"},{"$f":"VLOOKUP(D1015,'2021'!$A$11:$G$143,2,FALSE)","v":"Vivana"},95,10,{"$f":"VLOOKUP(E1015,'2021'!$A$11:$G$143,2,FALSE)","v":"Diabolo"},{"$f":"IF(ISBLANK(E1015),\"hie eu nix drischribu\",VLOOKUP(E1015,'2021'!$A$11:$G$143,4,FALSE))","v":"Bregy Ralf & Adolf"}]
["2021-06-27",{"$f":"IF(ISBLANK(D1016),\"Alain, nix drischribu\",VLOOKUP(D1016,'2021'!$A$11:$G$143,4,FALSE))","v":"Gebrüder Jäger"},{"$f":"VLOOKUP(D1016,'2021'!$A$11:$G$143,2,FALSE)","v":"Simba"},42,97,{"$f":"VLOOKUP(E1016,'2021'!$A$11:$G$143,2,FALSE)","v":"Violine"},{"$f":"IF(ISBLANK(E1016),\"hie eu nix drischribu\",VLOOKUP(E1016,'2021'!$A$11:$G$143,4,FALSE))","v":"Williner Anton"}]
["2021-06-27",{"$f":"IF(ISBLANK(D1017),\"Alain, nix drischribu\",VLOOKUP(D1017,'2021'!$A$11:$G$143,4,FALSE))","v":"Stallung Passeraub"},{"$f":"VLOOKUP(D1017,'2021'!$A$11:$G$143,2,FALSE)","v":"Menance"},75,65,{"$f":"VLOOKUP(E1017,'2021'!$A$11:$G$143,2,FALSE)","v":"Pivoine"},{"$f":"IF(ISBLANK(E1017),\"hie eu nix drischribu\",VLOOKUP(E1017,'2021'!$A$11:$G$143,4,FALSE))","v":"Jäger Carlo & Lukas"}]
["2021-06-27",{"$f":"IF(ISBLANK(D1018),\"Alain, nix drischribu\",VLOOKUP(D1018,'2021'!$A$11:$G$143,4,FALSE))","v":"Jäger Carlo & Lukas"},{"$f":"VLOOKUP(D1018,'2021'!$A$11:$G$143,2,FALSE)","v":"Pivoine"},65,23,{"$f":"VLOOKUP(E1018,'2021'!$A$11:$G$143,2,FALSE)","v":"Corona"},{"$f":"IF(ISBLANK(E1018),\"hie eu nix drischribu\",VLOOKUP(E1018,'2021'!$A$11:$G$143,4,FALSE))","v":"Bregy Uli / Lisi & Pasci"}]
["2021-06-27",{"$f":"IF(ISBLANK(D1019),\"Alain, nix drischribu\",VLOOKUP(D1019,'2021'!$A$11:$G$143,4,FALSE))","v":"Hischier Pius"},{"$f":"VLOOKUP(D1019,'2021'!$A$11:$G$143,2,FALSE)","v":"Safira"},51,52,{"$f":"VLOOKUP(E1019,'2021'!$A$11:$G$143,2,FALSE)","v":"Pablo"},{"$f":"IF(ISBLANK(E1019),\"hie eu nix drischribu\",VLOOKUP(E1019,'2021'!$A$11:$G$143,4,FALSE))","v":"Hischier Pius"}]
["2021-06-27",{"$f":"IF(ISBLANK(D1020),\"Alain, nix drischribu\",VLOOKUP(D1020,'2021'!$A$11:$G$143,4,FALSE))","v":"Bregy Uli / Lisi & Pasci"},{"$f":"VLOOKUP(D1020,'2021'!$A$11:$G$143,2,FALSE)","v":"Simba"},17,42,{"$f":"VLOOKUP(E1020,'2021'!$A$11:$G$143,2,FALSE)","v":"Simba"},{"$f":"IF(ISBLANK(E1020),\"hie eu nix drischribu\",VLOOKUP(E1020,'2021'!$A$11:$G$143,4,FALSE))","v":"Gebrüder Jäger"}]
["2021-06-27",{"$f":"IF(ISBLANK(D1021),\"Alain, nix drischribu\",VLOOKUP(D1021,'2021'!$A$11:$G$143,4,FALSE))","v":"Williner Anton"},{"$f":"VLOOKUP(D1021,'2021'!$A$11:$G$143,2,FALSE)","v":"Vivana"},95,120,{"$f":"VLOOKUP(E1021,'2021'!$A$11:$G$143,2,FALSE)","v":"Rambo"},{"$f":"IF(ISBLANK(E1021),\"hie eu nix drischribu\",VLOOKUP(E1021,'2021'!$A$11:$G$143,4,FALSE))","v":"Zumofen / Gattlen"}]
["2021-06-27",{"$f":"IF(ISBLANK(D1022),\"Alain, nix drischribu\",VLOOKUP(D1022,'2021'!$A$11:$G$143,4,FALSE))","v":"Jäger Carlo & Lukas"},{"$f":"VLOOKUP(D1022,'2021'!$A$11:$G$143,2,FALSE)","v":"Pivoine"},65,100,{"$f":"VLOOKUP(E1022,'2021'!$A$11:$G$143,2,FALSE)","v":"Xantara"},{"$f":"IF(ISBLANK(E1022),\"hie eu nix drischribu\",VLOOKUP(E1022,'2021'!$A$11:$G$143,4,FALSE))","v":"Wyssen Diego & Madlen"}]
["2021-06-27",{"$f":"IF(ISBLANK(D1023),\"Alain, nix drischribu\",VLOOKUP(D1023,'2021'!$A$11:$G$143,4,FALSE))","v":"Hischier Pius"},{"$f":"VLOOKUP(D1023,'2021'!$A$11:$G$143,2,FALSE)","v":"Pablo"},52,26,{"$f":"VLOOKUP(E1023,'2021'!$A$11:$G$143,2,FALSE)","v":"Cataleya"},{"$f":"IF(ISBLANK(E1023),\"hie eu nix drischribu\",VLOOKUP(E1023,'2021'!$A$11:$G$143,4,FALSE))","v":"Bregy Uli / Lisi & Pasci"}]
["2021-06-27",{"$f":"IF(ISBLANK(D1024),\"Alain, nix drischribu\",VLOOKUP(D1024,'2021'!$A$11:$G$143,4,FALSE))","v":"Stallung Passeraub"},{"$f":"VLOOKUP(D1024,'2021'!$A$11:$G$143,2,FALSE)","v":"Marla"},79,87,{"$f":"VLOOKUP(E1024,'2021'!$A$11:$G$143,2,FALSE)","v":"Tiara"},{"$f":"IF(ISBLANK(E1024),\"hie eu nix drischribu\",VLOOKUP(E1024,'2021'!$A$11:$G$143,4,FALSE))","v":"Sewer R. & Thommen S."}]
["2021-06-27",{"$f":"IF(ISBLANK(D1025),\"Alain, nix drischribu\",VLOOKUP(D1025,'2021'!$A$11:$G$143,4,FALSE))","v":"Williner Anton"},{"$f":"VLOOKUP(D1025,'2021'!$A$11:$G$143,2,FALSE)","v":"Vivana"},95,10,{"$f":"VLOOKUP(E1025,'2021'!$A$11:$G$143,2,FALSE)","v":"Diabolo"},{"$f":"IF(ISBLANK(E1025),\"hie eu nix drischribu\",VLOOKUP(E1025,'2021'!$A$11:$G$143,4,FALSE))","v":"Bregy Ralf & Adolf"}]
["2021-06-27",{"$f":"IF(ISBLANK(D1026),\"Alain, nix drischribu\",VLOOKUP(D1026,'2021'!$A$11:$G$143,4,FALSE))","v":"Jäger Carlo & Lukas"},{"$f":"VLOOKUP(D1026,'2021'!$A$11:$G$143,2,FALSE)","v":"Megane"},62,93,{"$f":"VLOOKUP(E1026,'2021'!$A$11:$G$143,2,FALSE)","v":"Tonic"},{"$f":"IF(ISBLANK(E1026),\"hie eu nix drischribu\",VLOOKUP(E1026,'2021'!$A$11:$G$143,4,FALSE))","v":"Williner Anton"}]
["2021-06-26",{"$f":"IF(ISBLANK(D1027),\"Alain, nix drischribu\",VLOOKUP(D1027,'2021'!$A$11:$G$143,4,FALSE))","v":"Zumofen / Gattlen"},{"$f":"VLOOKUP(D1027,'2021'!$A$11:$G$143,2,FALSE)","v":"Palona"},111,93,{"$f":"VLOOKUP(E1027,'2021'!$A$11:$G$143,2,FALSE)","v":"Tonic"},{"$f":"IF(ISBLANK(E1027),\"hie eu nix drischribu\",VLOOKUP(E1027,'2021'!$A$11:$G$143,4,FALSE))","v":"Williner Anton"}]
["2021-06-26",{"$f":"IF(ISBLANK(D1028),\"Alain, nix drischribu\",VLOOKUP(D1028,'2021'!$A$11:$G$143,4,FALSE))","v":"Gebrüder Jäger"},{"$f":"VLOOKUP(D1028,'2021'!$A$11:$G$143,2,FALSE)","v":"Tina"},40,104,{"$f":"VLOOKUP(E1028,'2021'!$A$11:$G$143,2,FALSE)","v":"Xhyla"},{"$f":"IF(ISBLANK(E1028),\"hie eu nix drischribu\",VLOOKUP(E1028,'2021'!$A$11:$G$143,4,FALSE))","v":"Wyssen Diego & Madlen"}]
["2021-06-26",{"$f":"IF(ISBLANK(D1029),\"Alain, nix drischribu\",VLOOKUP(D1029,'2021'!$A$11:$G$143,4,FALSE))","v":"Sewer R. & Thommen S."},{"$f":"VLOOKUP(D1029,'2021'!$A$11:$G$143,2,FALSE)","v":"Malice"},88,81,{"$f":"VLOOKUP(E1029,'2021'!$A$11:$G$143,2,FALSE)","v":"Fägär"},{"$f":"IF(ISBLANK(E1029),\"hie eu nix drischribu\",VLOOKUP(E1029,'2021'!$A$11:$G$143,4,FALSE))","v":"Hutter Richard"}]
["2021-06-26",{"$f":"IF(ISBLANK(D1030),\"Alain, nix drischribu\",VLOOKUP(D1030,'2021'!$A$11:$G$143,4,FALSE))","v":"Gebrüder Jäger"},{"$f":"VLOOKUP(D1030,'2021'!$A$11:$G$143,2,FALSE)","v":"Simba"},42,80,{"$f":"VLOOKUP(E1030,'2021'!$A$11:$G$143,2,FALSE)","v":"Bonita"},{"$f":"IF(ISBLANK(E1030),\"hie eu nix drischribu\",VLOOKUP(E1030,'2021'!$A$11:$G$143,4,FALSE))","v":"Stallung Passeraub"}]
["2021-06-26",{"$f":"IF(ISBLANK(D1031),\"Alain, nix drischribu\",VLOOKUP(D1031,'2021'!$A$11:$G$143,4,FALSE))","v":"Williner Anton"},{"$f":"VLOOKUP(D1031,'2021'!$A$11:$G$143,2,FALSE)","v":"Tigra"},94,111,{"$f":"VLOOKUP(E1031,'2021'!$A$11:$G$143,2,FALSE)","v":"Palona"},{"$f":"IF(ISBLANK(E1031),\"hie eu nix drischribu\",VLOOKUP(E1031,'2021'!$A$11:$G$143,4,FALSE))","v":"Zumofen / Gattlen"}]
["2021-06-26",{"$f":"IF(ISBLANK(D1032),\"Alain, nix drischribu\",VLOOKUP(D1032,'2021'!$A$11:$G$143,4,FALSE))","v":"Zumofen / Gattlen"},{"$f":"VLOOKUP(D1032,'2021'!$A$11:$G$143,2,FALSE)","v":"Violin"},107,97,{"$f":"VLOOKUP(E1032,'2021'!$A$11:$G$143,2,FALSE)","v":"Violine"},{"$f":"IF(ISBLANK(E1032),\"hie eu nix drischribu\",VLOOKUP(E1032,'2021'!$A$11:$G$143,4,FALSE))","v":"Williner Anton"}]
["2021-06-26",{"$f":"IF(ISBLANK(D1033),\"Alain, nix drischribu\",VLOOKUP(D1033,'2021'!$A$11:$G$143,4,FALSE))","v":"Zumofen / Gattlen"},{"$f":"VLOOKUP(D1033,'2021'!$A$11:$G$143,2,FALSE)","v":"Fayola"},119,8,{"$f":"VLOOKUP(E1033,'2021'!$A$11:$G$143,2,FALSE)","v":"Creola"},{"$f":"IF(ISBLANK(E1033),\"hie eu nix drischribu\",VLOOKUP(E1033,'2021'!$A$11:$G$143,4,FALSE))","v":"Bregy Ralf & Adolf"}]
["2021-06-26",{"$f":"IF(ISBLANK(D1034),\"Alain, nix drischribu\",VLOOKUP(D1034,'2021'!$A$11:$G$143,4,FALSE))","v":"Sewer R. & Thommen S."},{"$f":"VLOOKUP(D1034,'2021'!$A$11:$G$143,2,FALSE)","v":"Malice"},88,59,{"$f":"VLOOKUP(E1034,'2021'!$A$11:$G$143,2,FALSE)","v":"Samba"},{"$f":"IF(ISBLANK(E1034),\"hie eu nix drischribu\",VLOOKUP(E1034,'2021'!$A$11:$G$143,4,FALSE))","v":"Jäger Carlo & Lukas"}]
["2021-06-26",{"$f":"IF(ISBLANK(D1035),\"Alain, nix drischribu\",VLOOKUP(D1035,'2021'!$A$11:$G$143,4,FALSE))","v":"Zumofen / Gattlen"},{"$f":"VLOOKUP(D1035,'2021'!$A$11:$G$143,2,FALSE)","v":"Rambo"},120,94,{"$f":"VLOOKUP(E1035,'2021'!$A$11:$G$143,2,FALSE)","v":"Tigra"},{"$f":"IF(ISBLANK(E1035),\"hie eu nix drischribu\",VLOOKUP(E1035,'2021'!$A$11:$G$143,4,FALSE))","v":"Williner Anton"}]
["2021-06-26",{"$f":"IF(ISBLANK(D1036),\"Alain, nix drischribu\",VLOOKUP(D1036,'2021'!$A$11:$G$143,4,FALSE))","v":"Bregy Ralf & Adolf"},{"$f":"VLOOKUP(D1036,'2021'!$A$11:$G$143,2,FALSE)","v":"Flacabre"},6,3,{"$f":"VLOOKUP(E1036,'2021'!$A$11:$G$143,2,FALSE)","v":"Priska"},{"$f":"IF(ISBLANK(E1036),\"hie eu nix drischribu\",VLOOKUP(E1036,'2021'!$A$11:$G$143,4,FALSE))","v":"Bayard Medard & Gustav"}]
["2021-06-26",{"$f":"IF(ISBLANK(D1037),\"Alain, nix drischribu\",VLOOKUP(D1037,'2021'!$A$11:$G$143,4,FALSE))","v":"Zumofen / Gattlen"},{"$f":"VLOOKUP(D1037,'2021'!$A$11:$G$143,2,FALSE)","v":"Rambo"},120,20,{"$f":"VLOOKUP(E1037,'2021'!$A$11:$G$143,2,FALSE)","v":"Caline"},{"$f":"IF(ISBLANK(E1037),\"hie eu nix drischribu\",VLOOKUP(E1037,'2021'!$A$11:$G$143,4,FALSE))","v":" Bregy Uli / Lisi & Pasci"}]
["2021-06-26",{"$f":"IF(ISBLANK(D1038),\"Alain, nix drischribu\",VLOOKUP(D1038,'2021'!$A$11:$G$143,4,FALSE))","v":"Jäger Carlo & Lukas"},{"$f":"VLOOKUP(D1038,'2021'!$A$11:$G$143,2,FALSE)","v":"Bataille"},58,87,{"$f":"VLOOKUP(E1038,'2021'!$A$11:$G$143,2,FALSE)","v":"Tiara"},{"$f":"IF(ISBLANK(E1038),\"hie eu nix drischribu\",VLOOKUP(E1038,'2021'!$A$11:$G$143,4,FALSE))","v":"Sewer R. & Thommen S."}]
["2021-06-26",{"$f":"IF(ISBLANK(D1039),\"Alain, nix drischribu\",VLOOKUP(D1039,'2021'!$A$11:$G$143,4,FALSE))","v":"Bregy Ralf & Adolf"},{"$f":"VLOOKUP(D1039,'2021'!$A$11:$G$143,2,FALSE)","v":"Canaille"},7,20,{"$f":"VLOOKUP(E1039,'2021'!$A$11:$G$143,2,FALSE)","v":"Caline"},{"$f":"IF(ISBLANK(E1039),\"hie eu nix drischribu\",VLOOKUP(E1039,'2021'!$A$11:$G$143,4,FALSE))","v":" Bregy Uli / Lisi & Pasci"}]
["2021-06-26",{"$f":"IF(ISBLANK(D1040),\"Alain, nix drischribu\",VLOOKUP(D1040,'2021'!$A$11:$G$143,4,FALSE))","v":"Gebrüder Jäger"},{"$f":"VLOOKUP(D1040,'2021'!$A$11:$G$143,2,FALSE)","v":"Dorina"},43,57,{"$f":"VLOOKUP(E1040,'2021'!$A$11:$G$143,2,FALSE)","v":"Prune"},{"$f":"IF(ISBLANK(E1040),\"hie eu nix drischribu\",VLOOKUP(E1040,'2021'!$A$11:$G$143,4,FALSE))","v":"Jäger Carlo & Lukas"}]
["2021-06-26",{"$f":"IF(ISBLANK(D1041),\"Alain, nix drischribu\",VLOOKUP(D1041,'2021'!$A$11:$G$143,4,FALSE))","v":"Zumofen / Gattlen"},{"$f":"VLOOKUP(D1041,'2021'!$A$11:$G$143,2,FALSE)","v":"Rambo"},120,6,{"$f":"VLOOKUP(E1041,'2021'!$A$11:$G$143,2,FALSE)","v":"Flacabre"},{"$f":"IF(ISBLANK(E1041),\"hie eu nix drischribu\",VLOOKUP(E1041,'2021'!$A$11:$G$143,4,FALSE))","v":"Bregy Ralf & Adolf"}]
["2021-06-26",{"$f":"IF(ISBLANK(D1042),\"Alain, nix drischribu\",VLOOKUP(D1042,'2021'!$A$11:$G$143,4,FALSE))","v":"Fux W., J., & Wyer Piet"},{"$f":"VLOOKUP(D1042,'2021'!$A$11:$G$143,2,FALSE)","v":"Bolero"},29,2,{"$f":"VLOOKUP(E1042,'2021'!$A$11:$G$143,2,FALSE)","v":"Fantastic"},{"$f":"IF(ISBLANK(E1042),\"hie eu nix drischribu\",VLOOKUP(E1042,'2021'!$A$11:$G$143,4,FALSE))","v":"Bayard Medard & Gustav"}]
["2021-06-26",{"$f":"IF(ISBLANK(D1043),\"Alain, nix drischribu\",VLOOKUP(D1043,'2021'!$A$11:$G$143,4,FALSE))","v":"Zumofen / Gattlen"},{"$f":"VLOOKUP(D1043,'2021'!$A$11:$G$143,2,FALSE)","v":"Rambo"},120,10,{"$f":"VLOOKUP(E1043,'2021'!$A$11:$G$143,2,FALSE)","v":"Diabolo"},{"$f":"IF(ISBLANK(E1043),\"hie eu nix drischribu\",VLOOKUP(E1043,'2021'!$A$11:$G$143,4,FALSE))","v":"Bregy Ralf & Adolf"}]
["2021-06-26",{"$f":"IF(ISBLANK(D1044),\"Alain, nix drischribu\",VLOOKUP(D1044,'2021'!$A$11:$G$143,4,FALSE))","v":"Zumofen / Gattlen"},{"$f":"VLOOKUP(D1044,'2021'!$A$11:$G$143,2,FALSE)","v":"Rambo"},120,46,{"$f":"VLOOKUP(E1044,'2021'!$A$11:$G$143,2,FALSE)","v":"Lorens"},{"$f":"IF(ISBLANK(E1044),\"hie eu nix drischribu\",VLOOKUP(E1044,'2021'!$A$11:$G$143,4,FALSE))","v":"Gebrüder Jäger"}]
["2021-06-26",{"$f":"IF(ISBLANK(D1045),\"Alain, nix drischribu\",VLOOKUP(D1045,'2021'!$A$11:$G$143,4,FALSE))","v":"Zumofen / Gattlen"},{"$f":"VLOOKUP(D1045,'2021'!$A$11:$G$143,2,FALSE)","v":"Pinoccio"},116,65,{"$f":"VLOOKUP(E1045,'2021'!$A$11:$G$143,2,FALSE)","v":"Pivoine"},{"$f":"IF(ISBLANK(E1045),\"hie eu nix drischribu\",VLOOKUP(E1045,'2021'!$A$11:$G$143,4,FALSE))","v":"Jäger Carlo & Lukas"}]
["2021-06-26",{"$f":"IF(ISBLANK(D1046),\"Alain, nix drischribu\",VLOOKUP(D1046,'2021'!$A$11:$G$143,4,FALSE))","v":"Wyssen Diego & Madlen"},{"$f":"VLOOKUP(D1046,'2021'!$A$11:$G$143,2,FALSE)","v":"Xantara"},100,99,{"$f":"VLOOKUP(E1046,'2021'!$A$11:$G$143,2,FALSE)","v":"Rijana"},{"$f":"IF(ISBLANK(E1046),\"hie eu nix drischribu\",VLOOKUP(E1046,'2021'!$A$11:$G$143,4,FALSE))","v":"Wyssen Diego & Madlen"}]
["2021-06-26",{"$f":"IF(ISBLANK(D1047),\"Alain, nix drischribu\",VLOOKUP(D1047,'2021'!$A$11:$G$143,4,FALSE))","v":"Gebrüder Jäger"},{"$f":"VLOOKUP(D1047,'2021'!$A$11:$G$143,2,FALSE)","v":"Lorens"},46,78,{"$f":"VLOOKUP(E1047,'2021'!$A$11:$G$143,2,FALSE)","v":"Ballerine"},{"$f":"IF(ISBLANK(E1047),\"hie eu nix drischribu\",VLOOKUP(E1047,'2021'!$A$11:$G$143,4,FALSE))","v":"Stallung Passeraub"}]
["2021-06-26",{"$f":"IF(ISBLANK(D1048),\"Alain, nix drischribu\",VLOOKUP(D1048,'2021'!$A$11:$G$143,4,FALSE))","v":"Zumofen / Gattlen"},{"$f":"VLOOKUP(D1048,'2021'!$A$11:$G$143,2,FALSE)","v":"Rambo"},120,21,{"$f":"VLOOKUP(E1048,'2021'!$A$11:$G$143,2,FALSE)","v":"Bora"},{"$f":"IF(ISBLANK(E1048),\"hie eu nix drischribu\",VLOOKUP(E1048,'2021'!$A$11:$G$143,4,FALSE))","v":"Bregy Uli / Lisi & Pasci"}]
["2021-06-26",{"$f":"IF(ISBLANK(D1049),\"Alain, nix drischribu\",VLOOKUP(D1049,'2021'!$A$11:$G$143,4,FALSE))","v":"Zumofen / Gattlen"},{"$f":"VLOOKUP(D1049,'2021'!$A$11:$G$143,2,FALSE)","v":"Rambo"},120,101,{"$f":"VLOOKUP(E1049,'2021'!$A$11:$G$143,2,FALSE)","v":"Xandria"},{"$f":"IF(ISBLANK(E1049),\"hie eu nix drischribu\",VLOOKUP(E1049,'2021'!$A$11:$G$143,4,FALSE))","v":"Wyssen Diego & Madlen"}]
["2021-06-26",{"$f":"IF(ISBLANK(D1050),\"Alain, nix drischribu\",VLOOKUP(D1050,'2021'!$A$11:$G$143,4,FALSE))","v":"Williner Anton"},{"$f":"VLOOKUP(D1050,'2021'!$A$11:$G$143,2,FALSE)","v":"Tigra"},94,104,{"$f":"VLOOKUP(E1050,'2021'!$A$11:$G$143,2,FALSE)","v":"Xhyla"},{"$f":"IF(ISBLANK(E1050),\"hie eu nix drischribu\",VLOOKUP(E1050,'2021'!$A$11:$G$143,4,FALSE))","v":"Wyssen Diego & Madlen"}]
["2021-06-26",{"$f":"IF(ISBLANK(D1051),\"Alain, nix drischribu\",VLOOKUP(D1051,'2021'!$A$11:$G$143,4,FALSE))","v":"Zumofen / Gattlen"},{"$f":"VLOOKUP(D1051,'2021'!$A$11:$G$143,2,FALSE)","v":"Souris"},115,67,{"$f":"VLOOKUP(E1051,'2021'!$A$11:$G$143,2,FALSE)","v":"Tokio"},{"$f":"IF(ISBLANK(E1051),\"hie eu nix drischribu\",VLOOKUP(E1051,'2021'!$A$11:$G$143,4,FALSE))","v":"Jäger Carlo & Lukas"}]
["2021-06-26",{"$f":"IF(ISBLANK(D1052),\"Alain, nix drischribu\",VLOOKUP(D1052,'2021'!$A$11:$G$143,4,FALSE))","v":"Bregy Uli / Lisi & Pasci"},{"$f":"VLOOKUP(D1052,'2021'!$A$11:$G$143,2,FALSE)","v":"Murphy"},16,33,{"$f":"VLOOKUP(E1052,'2021'!$A$11:$G$143,2,FALSE)","v":"Baquera"},{"$f":"IF(ISBLANK(E1052),\"hie eu nix drischribu\",VLOOKUP(E1052,'2021'!$A$11:$G$143,4,FALSE))","v":"Fux W., J., & Wyer Piet"}]
["2021-06-26",{"$f":"IF(ISBLANK(D1053),\"Alain, nix drischribu\",VLOOKUP(D1053,'2021'!$A$11:$G$143,4,FALSE))","v":"Zumofen / Gattlen"},{"$f":"VLOOKUP(D1053,'2021'!$A$11:$G$143,2,FALSE)","v":"Souris"},115,68,{"$f":"VLOOKUP(E1053,'2021'!$A$11:$G$143,2,FALSE)","v":"Baghira"},{"$f":"IF(ISBLANK(E1053),\"hie eu nix drischribu\",VLOOKUP(E1053,'2021'!$A$11:$G$143,4,FALSE))","v":"Mathieu Leander & Sascha"}]
["2021-06-26",{"$f":"IF(ISBLANK(D1054),\"Alain, nix drischribu\",VLOOKUP(D1054,'2021'!$A$11:$G$143,4,FALSE))","v":"Jäger Carlo & Lukas"},{"$f":"VLOOKUP(D1054,'2021'!$A$11:$G$143,2,FALSE)","v":"Flora"},54,105,{"$f":"VLOOKUP(E1054,'2021'!$A$11:$G$143,2,FALSE)","v":"Corona"},{"$f":"IF(ISBLANK(E1054),\"hie eu nix drischribu\",VLOOKUP(E1054,'2021'!$A$11:$G$143,4,FALSE))","v":"Zumoberhaus Pius"}]
["2021-06-26",{"$f":"IF(ISBLANK(D1055),\"Alain, nix drischribu\",VLOOKUP(D1055,'2021'!$A$11:$G$143,4,FALSE))","v":"Bregy Uli / Lisi & Pasci"},{"$f":"VLOOKUP(D1055,'2021'!$A$11:$G$143,2,FALSE)","v":"Simba"},17,30,{"$f":"VLOOKUP(E1055,'2021'!$A$11:$G$143,2,FALSE)","v":"Diamant"},{"$f":"IF(ISBLANK(E1055),\"hie eu nix drischribu\",VLOOKUP(E1055,'2021'!$A$11:$G$143,4,FALSE))","v":"Fux W., J., & Wyer Piet"}]
["2021-06-26",{"$f":"IF(ISBLANK(D1056),\"Alain, nix drischribu\",VLOOKUP(D1056,'2021'!$A$11:$G$143,4,FALSE))","v":"Bayard Medard & Gustav"},{"$f":"VLOOKUP(D1056,'2021'!$A$11:$G$143,2,FALSE)","v":"Pandera"},5,38,{"$f":"VLOOKUP(E1056,'2021'!$A$11:$G$143,2,FALSE)","v":"Bresil"},{"$f":"IF(ISBLANK(E1056),\"hie eu nix drischribu\",VLOOKUP(E1056,'2021'!$A$11:$G$143,4,FALSE))","v":"Fux W., J., & Wyer Piet"}]
["2021-06-26",{"$f":"IF(ISBLANK(D1057),\"Alain, nix drischribu\",VLOOKUP(D1057,'2021'!$A$11:$G$143,4,FALSE))","v":"Bregy Silvan & Patrik"},{"$f":"VLOOKUP(D1057,'2021'!$A$11:$G$143,2,FALSE)","v":"Milow"},12,120,{"$f":"VLOOKUP(E1057,'2021'!$A$11:$G$143,2,FALSE)","v":"Rambo"},{"$f":"IF(ISBLANK(E1057),\"hie eu nix drischribu\",VLOOKUP(E1057,'2021'!$A$11:$G$143,4,FALSE))","v":"Zumofen / Gattlen"}]
["2021-06-26",{"$f":"IF(ISBLANK(D1058),\"Alain, nix drischribu\",VLOOKUP(D1058,'2021'!$A$11:$G$143,4,FALSE))","v":"Jäger Carlo & Lukas"},{"$f":"VLOOKUP(D1058,'2021'!$A$11:$G$143,2,FALSE)","v":"Flora"},54,33,{"$f":"VLOOKUP(E1058,'2021'!$A$11:$G$143,2,FALSE)","v":"Baquera"},{"$f":"IF(ISBLANK(E1058),\"hie eu nix drischribu\",VLOOKUP(E1058,'2021'!$A$11:$G$143,4,FALSE))","v":"Fux W., J., & Wyer Piet"}]
["2021-06-26",{"$f":"IF(ISBLANK(D1059),\"Alain, nix drischribu\",VLOOKUP(D1059,'2021'!$A$11:$G$143,4,FALSE))","v":"Sewer R. & Thommen S."},{"$f":"VLOOKUP(D1059,'2021'!$A$11:$G$143,2,FALSE)","v":"Malice"},88,59,{"$f":"VLOOKUP(E1059,'2021'!$A$11:$G$143,2,FALSE)","v":"Samba"},{"$f":"IF(ISBLANK(E1059),\"hie eu nix drischribu\",VLOOKUP(E1059,'2021'!$A$11:$G$143,4,FALSE))","v":"Jäger Carlo & Lukas"}]
["2021-06-26",{"$f":"IF(ISBLANK(D1060),\"Alain, nix drischribu\",VLOOKUP(D1060,'2021'!$A$11:$G$143,4,FALSE))","v":"Wyssen Diego & Madlen"},{"$f":"VLOOKUP(D1060,'2021'!$A$11:$G$143,2,FALSE)","v":"Xhyla"},104,59,{"$f":"VLOOKUP(E1060,'2021'!$A$11:$G$143,2,FALSE)","v":"Samba"},{"$f":"IF(ISBLANK(E1060),\"hie eu nix drischribu\",VLOOKUP(E1060,'2021'!$A$11:$G$143,4,FALSE))","v":"Jäger Carlo & Lukas"}]
["2021-06-26",{"$f":"IF(ISBLANK(D1061),\"Alain, nix drischribu\",VLOOKUP(D1061,'2021'!$A$11:$G$143,4,FALSE))","v":"Bregy Uli / Lisi & Pasci"},{"$f":"VLOOKUP(D1061,'2021'!$A$11:$G$143,2,FALSE)","v":"Calette"},25,48,{"$f":"VLOOKUP(E1061,'2021'!$A$11:$G$143,2,FALSE)","v":"Jamada"},{"$f":"IF(ISBLANK(E1061),\"hie eu nix drischribu\",VLOOKUP(E1061,'2021'!$A$11:$G$143,4,FALSE))","v":"Hischier H. & Bühlmann J."}]
["2021-06-26",{"$f":"IF(ISBLANK(D1062),\"Alain, nix drischribu\",VLOOKUP(D1062,'2021'!$A$11:$G$143,4,FALSE))","v":"Bregy Ralf & Adolf"},{"$f":"VLOOKUP(D1062,'2021'!$A$11:$G$143,2,FALSE)","v":"Flacabre"},6,101,{"$f":"VLOOKUP(E1062,'2021'!$A$11:$G$143,2,FALSE)","v":"Xandria"},{"$f":"IF(ISBLANK(E1062),\"hie eu nix drischribu\",VLOOKUP(E1062,'2021'!$A$11:$G$143,4,FALSE))","v":"Wyssen Diego & Madlen"}]
["2021-06-25",{"$f":"IF(ISBLANK(D1063),\"Alain, nix drischribu\",VLOOKUP(D1063,'2021'!$A$11:$G$143,4,FALSE))","v":"Bregy Uli / Lisi & Pasci"},{"$f":"VLOOKUP(D1063,'2021'!$A$11:$G$143,2,FALSE)","v":"Catalina"},24,82,{"$f":"VLOOKUP(E1063,'2021'!$A$11:$G$143,2,FALSE)","v":"Bobino"},{"$f":"IF(ISBLANK(E1063),\"hie eu nix drischribu\",VLOOKUP(E1063,'2021'!$A$11:$G$143,4,FALSE))","v":"Stallung Passeraub"}]
["2021-06-25",{"$f":"IF(ISBLANK(D1064),\"Alain, nix drischribu\",VLOOKUP(D1064,'2021'!$A$11:$G$143,4,FALSE))","v":"Williner Anton"},{"$f":"VLOOKUP(D1064,'2021'!$A$11:$G$143,2,FALSE)","v":"Tigra"},94,103,{"$f":"VLOOKUP(E1064,'2021'!$A$11:$G$143,2,FALSE)","v":"Xena"},{"$f":"IF(ISBLANK(E1064),\"hie eu nix drischribu\",VLOOKUP(E1064,'2021'!$A$11:$G$143,4,FALSE))","v":"Wyssen Diego & Madlen"}]
["2021-06-25",{"$f":"IF(ISBLANK(D1065),\"Alain, nix drischribu\",VLOOKUP(D1065,'2021'!$A$11:$G$143,4,FALSE))","v":"Jäger Carlo & Lukas"},{"$f":"VLOOKUP(D1065,'2021'!$A$11:$G$143,2,FALSE)","v":"Pivoine"},65,44,{"$f":"VLOOKUP(E1065,'2021'!$A$11:$G$143,2,FALSE)","v":"Tiara"},{"$f":"IF(ISBLANK(E1065),\"hie eu nix drischribu\",VLOOKUP(E1065,'2021'!$A$11:$G$143,4,FALSE))","v":"Gebrüder Jäger"}]
["2021-06-25",{"$f":"IF(ISBLANK(D1066),\"Alain, nix drischribu\",VLOOKUP(D1066,'2021'!$A$11:$G$143,4,FALSE))","v":"Fux W., J., & Wyer Piet"},{"$f":"VLOOKUP(D1066,'2021'!$A$11:$G$143,2,FALSE)","v":"Bolero"},29,46,{"$f":"VLOOKUP(E1066,'2021'!$A$11:$G$143,2,FALSE)","v":"Lorens"},{"$f":"IF(ISBLANK(E1066),\"hie eu nix drischribu\",VLOOKUP(E1066,'2021'!$A$11:$G$143,4,FALSE))","v":"Gebrüder Jäger"}]
["2021-06-25",{"$f":"IF(ISBLANK(D1067),\"Alain, nix drischribu\",VLOOKUP(D1067,'2021'!$A$11:$G$143,4,FALSE))","v":"Zumofen / Gattlen"},{"$f":"VLOOKUP(D1067,'2021'!$A$11:$G$143,2,FALSE)","v":"Raja"},121,54,{"$f":"VLOOKUP(E1067,'2021'!$A$11:$G$143,2,FALSE)","v":"Flora"},{"$f":"IF(ISBLANK(E1067),\"hie eu nix drischribu\",VLOOKUP(E1067,'2021'!$A$11:$G$143,4,FALSE))","v":"Jäger Carlo & Lukas"}]
["2021-06-25",{"$f":"IF(ISBLANK(D1068),\"Alain, nix drischribu\",VLOOKUP(D1068,'2021'!$A$11:$G$143,4,FALSE))","v":"Jäger Carlo & Lukas"},{"$f":"VLOOKUP(D1068,'2021'!$A$11:$G$143,2,FALSE)","v":"Megane"},62,4,{"$f":"VLOOKUP(E1068,'2021'!$A$11:$G$143,2,FALSE)","v":"Vampir"},{"$f":"IF(ISBLANK(E1068),\"hie eu nix drischribu\",VLOOKUP(E1068,'2021'!$A$11:$G$143,4,FALSE))","v":"Bayard Medard & Gustav"}]
["2021-06-25",{"$f":"IF(ISBLANK(D1069),\"Alain, nix drischribu\",VLOOKUP(D1069,'2021'!$A$11:$G$143,4,FALSE))","v":"Mathieu Leander & Sascha"},{"$f":"VLOOKUP(D1069,'2021'!$A$11:$G$143,2,FALSE)","v":"Babylon"},72,45,{"$f":"VLOOKUP(E1069,'2021'!$A$11:$G$143,2,FALSE)","v":"Tanja"},{"$f":"IF(ISBLANK(E1069),\"hie eu nix drischribu\",VLOOKUP(E1069,'2021'!$A$11:$G$143,4,FALSE))","v":"Gebrüder Jäger"}]
["2021-06-25",{"$f":"IF(ISBLANK(D1070),\"Alain, nix drischribu\",VLOOKUP(D1070,'2021'!$A$11:$G$143,4,FALSE))","v":"Stallung Passeraub"},{"$f":"VLOOKUP(D1070,'2021'!$A$11:$G$143,2,FALSE)","v":"Bobino"},82,117,{"$f":"VLOOKUP(E1070,'2021'!$A$11:$G$143,2,FALSE)","v":"Rigolo"},{"$f":"IF(ISBLANK(E1070),\"hie eu nix drischribu\",VLOOKUP(E1070,'2021'!$A$11:$G$143,4,FALSE))","v":"Zumofen / Gattlen"}]
["2021-06-25",{"$f":"IF(ISBLANK(D1071),\"Alain, nix drischribu\",VLOOKUP(D1071,'2021'!$A$11:$G$143,4,FALSE))","v":"Tscherry Erwin & Bernhard"},{"$f":"VLOOKUP(D1071,'2021'!$A$11:$G$143,2,FALSE)","v":"Carolin"},91,40,{"$f":"VLOOKUP(E1071,'2021'!$A$11:$G$143,2,FALSE)","v":"Tina"},{"$f":"IF(ISBLANK(E1071),\"hie eu nix drischribu\",VLOOKUP(E1071,'2021'!$A$11:$G$143,4,FALSE))","v":"Gebrüder Jäger"}]
["2021-06-25",{"$f":"IF(ISBLANK(D1072),\"Alain, nix drischribu\",VLOOKUP(D1072,'2021'!$A$11:$G$143,4,FALSE))","v":"Zumofen / Gattlen"},{"$f":"VLOOKUP(D1072,'2021'!$A$11:$G$143,2,FALSE)","v":"Vanda"},113,103,{"$f":"VLOOKUP(E1072,'2021'!$A$11:$G$143,2,FALSE)","v":"Xena"},{"$f":"IF(ISBLANK(E1072),\"hie eu nix drischribu\",VLOOKUP(E1072,'2021'!$A$11:$G$143,4,FALSE))","v":"Wyssen Diego & Madlen"}]
["2021-06-25",{"$f":"IF(ISBLANK(D1073),\"Alain, nix drischribu\",VLOOKUP(D1073,'2021'!$A$11:$G$143,4,FALSE))","v":"Zumofen / Gattlen"},{"$f":"VLOOKUP(D1073,'2021'!$A$11:$G$143,2,FALSE)","v":"Vanda"},113,78,{"$f":"VLOOKUP(E1073,'2021'!$A$11:$G$143,2,FALSE)","v":"Ballerine"},{"$f":"IF(ISBLANK(E1073),\"hie eu nix drischribu\",VLOOKUP(E1073,'2021'!$A$11:$G$143,4,FALSE))","v":"Stallung Passeraub"}]
["2021-06-25",{"$f":"IF(ISBLANK(D1074),\"Alain, nix drischribu\",VLOOKUP(D1074,'2021'!$A$11:$G$143,4,FALSE))","v":"Hutter Richard "},{"$f":"VLOOKUP(D1074,'2021'!$A$11:$G$143,2,FALSE)","v":"Pablo"},76,124,{"$f":"VLOOKUP(E1074,'2021'!$A$11:$G$143,2,FALSE)","v":"Xara"},{"$f":"IF(ISBLANK(E1074),\"hie eu nix drischribu\",VLOOKUP(E1074,'2021'!$A$11:$G$143,4,FALSE))","v":"Zumofen / Gattlen"}]
["2021-06-25",{"$f":"IF(ISBLANK(D1075),\"Alain, nix drischribu\",VLOOKUP(D1075,'2021'!$A$11:$G$143,4,FALSE))","v":"Fux W., J., & Wyer Piet"},{"$f":"VLOOKUP(D1075,'2021'!$A$11:$G$143,2,FALSE)","v":"Bolero"},29,62,{"$f":"VLOOKUP(E1075,'2021'!$A$11:$G$143,2,FALSE)","v":"Megane"},{"$f":"IF(ISBLANK(E1075),\"hie eu nix drischribu\",VLOOKUP(E1075,'2021'!$A$11:$G$143,4,FALSE))","v":"Jäger Carlo & Lukas"}]
["2021-06-25",{"$f":"IF(ISBLANK(D1076),\"Alain, nix drischribu\",VLOOKUP(D1076,'2021'!$A$11:$G$143,4,FALSE))","v":"Bregy Ralf & Adolf"},{"$f":"VLOOKUP(D1076,'2021'!$A$11:$G$143,2,FALSE)","v":"Coquette"},9,52,{"$f":"VLOOKUP(E1076,'2021'!$A$11:$G$143,2,FALSE)","v":"Pablo"},{"$f":"IF(ISBLANK(E1076),\"hie eu nix drischribu\",VLOOKUP(E1076,'2021'!$A$11:$G$143,4,FALSE))","v":"Hischier Pius"}]
["2021-06-25",{"$f":"IF(ISBLANK(D1077),\"Alain, nix drischribu\",VLOOKUP(D1077,'2021'!$A$11:$G$143,4,FALSE))","v":"Jäger Carlo & Lukas"},{"$f":"VLOOKUP(D1077,'2021'!$A$11:$G$143,2,FALSE)","v":"Grolla"},61,122,{"$f":"VLOOKUP(E1077,'2021'!$A$11:$G$143,2,FALSE)","v":"Xana"},{"$f":"IF(ISBLANK(E1077),\"hie eu nix drischribu\",VLOOKUP(E1077,'2021'!$A$11:$G$143,4,FALSE))","v":"Zumofen / Gattlen"}]
["2021-06-25",{"$f":"IF(ISBLANK(D1078),\"Alain, nix drischribu\",VLOOKUP(D1078,'2021'!$A$11:$G$143,4,FALSE))","v":"Zumofen / Gattlen"},{"$f":"VLOOKUP(D1078,'2021'!$A$11:$G$143,2,FALSE)","v":"Violette"},108,93,{"$f":"VLOOKUP(E1078,'2021'!$A$11:$G$143,2,FALSE)","v":"Tonic"},{"$f":"IF(ISBLANK(E1078),\"hie eu nix drischribu\",VLOOKUP(E1078,'2021'!$A$11:$G$143,4,FALSE))","v":"Williner Anton"}]
["2021-06-25",{"$f":"IF(ISBLANK(D1079),\"Alain, nix drischribu\",VLOOKUP(D1079,'2021'!$A$11:$G$143,4,FALSE))","v":"Zumofen / Gattlen"},{"$f":"VLOOKUP(D1079,'2021'!$A$11:$G$143,2,FALSE)","v":"Violette"},108,96,{"$f":"VLOOKUP(E1079,'2021'!$A$11:$G$143,2,FALSE)","v":"Vanessa"},{"$f":"IF(ISBLANK(E1079),\"hie eu nix drischribu\",VLOOKUP(E1079,'2021'!$A$11:$G$143,4,FALSE))","v":"Williner Anton"}]
["2021-06-25",{"$f":"IF(ISBLANK(D1080),\"Alain, nix drischribu\",VLOOKUP(D1080,'2021'!$A$11:$G$143,4,FALSE))","v":"Wyssen Diego & Madlen"},{"$f":"VLOOKUP(D1080,'2021'!$A$11:$G$143,2,FALSE)","v":"Rasta"},102,109,{"$f":"VLOOKUP(E1080,'2021'!$A$11:$G$143,2,FALSE)","v":"Rena"},{"$f":"IF(ISBLANK(E1080),\"hie eu nix drischribu\",VLOOKUP(E1080,'2021'!$A$11:$G$143,4,FALSE))","v":"Zumofen / Gattlen"}]
["2021-06-25",{"$f":"IF(ISBLANK(D1081),\"Alain, nix drischribu\",VLOOKUP(D1081,'2021'!$A$11:$G$143,4,FALSE))","v":"Bregy Uli / Lisi & Pasci"},{"$f":"VLOOKUP(D1081,'2021'!$A$11:$G$143,2,FALSE)","v":"Souki"},18,67,{"$f":"VLOOKUP(E1081,'2021'!$A$11:$G$143,2,FALSE)","v":"Tokio"},{"$f":"IF(ISBLANK(E1081),\"hie eu nix drischribu\",VLOOKUP(E1081,'2021'!$A$11:$G$143,4,FALSE))","v":"Jäger Carlo & Lukas"}]
["2021-06-25",{"$f":"IF(ISBLANK(D1082),\"Alain, nix drischribu\",VLOOKUP(D1082,'2021'!$A$11:$G$143,4,FALSE))","v":"Fux W., J., & Wyer Piet"},{"$f":"VLOOKUP(D1082,'2021'!$A$11:$G$143,2,FALSE)","v":"Bolero"},29,103,{"$f":"VLOOKUP(E1082,'2021'!$A$11:$G$143,2,FALSE)","v":"Xena"},{"$f":"IF(ISBLANK(E1082),\"hie eu nix drischribu\",VLOOKUP(E1082,'2021'!$A$11:$G$143,4,FALSE))","v":"Wyssen Diego & Madlen"}]
["2021-06-25",{"$f":"IF(ISBLANK(D1083),\"Alain, nix drischribu\",VLOOKUP(D1083,'2021'!$A$11:$G$143,4,FALSE))","v":"Bregy Silvan & Patrik"},{"$f":"VLOOKUP(D1083,'2021'!$A$11:$G$143,2,FALSE)","v":"Tequilla"},13,39,{"$f":"VLOOKUP(E1083,'2021'!$A$11:$G$143,2,FALSE)","v":"Bacardi"},{"$f":"IF(ISBLANK(E1083),\"hie eu nix drischribu\",VLOOKUP(E1083,'2021'!$A$11:$G$143,4,FALSE))","v":"Fux W., J., & Wyer Piet"}]
["2021-06-25",{"$f":"IF(ISBLANK(D1084),\"Alain, nix drischribu\",VLOOKUP(D1084,'2021'!$A$11:$G$143,4,FALSE))","v":"Jäger Carlo & Lukas"},{"$f":"VLOOKUP(D1084,'2021'!$A$11:$G$143,2,FALSE)","v":"Pivoine"},65,31,{"$f":"VLOOKUP(E1084,'2021'!$A$11:$G$143,2,FALSE)","v":"Bastis"},{"$f":"IF(ISBLANK(E1084),\"hie eu nix drischribu\",VLOOKUP(E1084,'2021'!$A$11:$G$143,4,FALSE))","v":"Fux W., J., & Wyer Piet"}]
["2021-06-25",{"$f":"IF(ISBLANK(D1085),\"Alain, nix drischribu\",VLOOKUP(D1085,'2021'!$A$11:$G$143,4,FALSE))","v":"Jäger Carlo & Lukas"},{"$f":"VLOOKUP(D1085,'2021'!$A$11:$G$143,2,FALSE)","v":"Pivoine"},65,105,{"$f":"VLOOKUP(E1085,'2021'!$A$11:$G$143,2,FALSE)","v":"Corona"},{"$f":"IF(ISBLANK(E1085),\"hie eu nix drischribu\",VLOOKUP(E1085,'2021'!$A$11:$G$143,4,FALSE))","v":"Zumoberhaus Pius"}]
["2021-06-25",{"$f":"IF(ISBLANK(D1086),\"Alain, nix drischribu\",VLOOKUP(D1086,'2021'!$A$11:$G$143,4,FALSE))","v":"Gebrüder Jäger"},{"$f":"VLOOKUP(D1086,'2021'!$A$11:$G$143,2,FALSE)","v":"Tina"},40,89,{"$f":"VLOOKUP(E1086,'2021'!$A$11:$G$143,2,FALSE)","v":"Biscot"},{"$f":"IF(ISBLANK(E1086),\"hie eu nix drischribu\",VLOOKUP(E1086,'2021'!$A$11:$G$143,4,FALSE))","v":"Sewer R. & Thommen S."}]
["2021-06-25",{"$f":"IF(ISBLANK(D1087),\"Alain, nix drischribu\",VLOOKUP(D1087,'2021'!$A$11:$G$143,4,FALSE))","v":"Jäger Carlo & Lukas"},{"$f":"VLOOKUP(D1087,'2021'!$A$11:$G$143,2,FALSE)","v":"Prune"},57,97,{"$f":"VLOOKUP(E1087,'2021'!$A$11:$G$143,2,FALSE)","v":"Violine"},{"$f":"IF(ISBLANK(E1087),\"hie eu nix drischribu\",VLOOKUP(E1087,'2021'!$A$11:$G$143,4,FALSE))","v":"Williner Anton"}]
["2021-06-25",{"$f":"IF(ISBLANK(D1088),\"Alain, nix drischribu\",VLOOKUP(D1088,'2021'!$A$11:$G$143,4,FALSE))","v":"Zumofen / Gattlen"},{"$f":"VLOOKUP(D1088,'2021'!$A$11:$G$143,2,FALSE)","v":"Pinoccio"},116,61,{"$f":"VLOOKUP(E1088,'2021'!$A$11:$G$143,2,FALSE)","v":"Grolla"},{"$f":"IF(ISBLANK(E1088),\"hie eu nix drischribu\",VLOOKUP(E1088,'2021'!$A$11:$G$143,4,FALSE))","v":"Jäger Carlo & Lukas"}]
["2021-06-25",{"$f":"IF(ISBLANK(D1089),\"Alain, nix drischribu\",VLOOKUP(D1089,'2021'!$A$11:$G$143,4,FALSE))","v":"Zumofen / Gattlen"},{"$f":"VLOOKUP(D1089,'2021'!$A$11:$G$143,2,FALSE)","v":"Rigolo"},117,4,{"$f":"VLOOKUP(E1089,'2021'!$A$11:$G$143,2,FALSE)","v":"Vampir"},{"$f":"IF(ISBLANK(E1089),\"hie eu nix drischribu\",VLOOKUP(E1089,'2021'!$A$11:$G$143,4,FALSE))","v":"Bayard Medard & Gustav"}]
["2021-06-25",{"$f":"IF(ISBLANK(D1090),\"Alain, nix drischribu\",VLOOKUP(D1090,'2021'!$A$11:$G$143,4,FALSE))","v":"Zumofen / Gattlen"},{"$f":"VLOOKUP(D1090,'2021'!$A$11:$G$143,2,FALSE)","v":"Vanda"},113,9,{"$f":"VLOOKUP(E1090,'2021'!$A$11:$G$143,2,FALSE)","v":"Coquette"},{"$f":"IF(ISBLANK(E1090),\"hie eu nix drischribu\",VLOOKUP(E1090,'2021'!$A$11:$G$143,4,FALSE))","v":"Bregy Ralf & Adolf"}]
["2021-06-25",{"$f":"IF(ISBLANK(D1091),\"Alain, nix drischribu\",VLOOKUP(D1091,'2021'!$A$11:$G$143,4,FALSE))","v":"Bregy Uli / Lisi & Pasci"},{"$f":"VLOOKUP(D1091,'2021'!$A$11:$G$143,2,FALSE)","v":"Murphy"},16,43,{"$f":"VLOOKUP(E1091,'2021'!$A$11:$G$143,2,FALSE)","v":"Dorina"},{"$f":"IF(ISBLANK(E1091),\"hie eu nix drischribu\",VLOOKUP(E1091,'2021'!$A$11:$G$143,4,FALSE))","v":"Gebrüder Jäger"}]
["2021-06-25",{"$f":"IF(ISBLANK(D1092),\"Alain, nix drischribu\",VLOOKUP(D1092,'2021'!$A$11:$G$143,4,FALSE))","v":"Zumofen / Gattlen"},{"$f":"VLOOKUP(D1092,'2021'!$A$11:$G$143,2,FALSE)","v":"Pinoccio"},116,15,{"$f":"VLOOKUP(E1092,'2021'!$A$11:$G$143,2,FALSE)","v":"Cashida"},{"$f":"IF(ISBLANK(E1092),\"hie eu nix drischribu\",VLOOKUP(E1092,'2021'!$A$11:$G$143,4,FALSE))","v":"Bregy Ralf & Adolf"}]
["2021-06-25",{"$f":"IF(ISBLANK(D1093),\"Alain, nix drischribu\",VLOOKUP(D1093,'2021'!$A$11:$G$143,4,FALSE))","v":"Williner Anton"},{"$f":"VLOOKUP(D1093,'2021'!$A$11:$G$143,2,FALSE)","v":"Violine"},97,90,{"$f":"VLOOKUP(E1093,'2021'!$A$11:$G$143,2,FALSE)","v":"Bolera"},{"$f":"IF(ISBLANK(E1093),\"hie eu nix drischribu\",VLOOKUP(E1093,'2021'!$A$11:$G$143,4,FALSE))","v":"Sewer R. & Thommen S."}]
["2021-06-25",{"$f":"IF(ISBLANK(D1094),\"Alain, nix drischribu\",VLOOKUP(D1094,'2021'!$A$11:$G$143,4,FALSE))","v":"Stallung Passeraub"},{"$f":"VLOOKUP(D1094,'2021'!$A$11:$G$143,2,FALSE)","v":"Ballerine"},78,42,{"$f":"VLOOKUP(E1094,'2021'!$A$11:$G$143,2,FALSE)","v":"Simba"},{"$f":"IF(ISBLANK(E1094),\"hie eu nix drischribu\",VLOOKUP(E1094,'2021'!$A$11:$G$143,4,FALSE))","v":"Gebrüder Jäger"}]
["2021-06-25",{"$f":"IF(ISBLANK(D1095),\"Alain, nix drischribu\",VLOOKUP(D1095,'2021'!$A$11:$G$143,4,FALSE))","v":"Gebrüder Jäger"},{"$f":"VLOOKUP(D1095,'2021'!$A$11:$G$143,2,FALSE)","v":"Simba"},42,52,{"$f":"VLOOKUP(E1095,'2021'!$A$11:$G$143,2,FALSE)","v":"Pablo"},{"$f":"IF(ISBLANK(E1095),\"hie eu nix drischribu\",VLOOKUP(E1095,'2021'!$A$11:$G$143,4,FALSE))","v":"Hischier Pius"}]
["2021-06-25",{"$f":"IF(ISBLANK(D1096),\"Alain, nix drischribu\",VLOOKUP(D1096,'2021'!$A$11:$G$143,4,FALSE))","v":"Bregy Ralf & Adolf"},{"$f":"VLOOKUP(D1096,'2021'!$A$11:$G$143,2,FALSE)","v":"Cashida"},15,37,{"$f":"VLOOKUP(E1096,'2021'!$A$11:$G$143,2,FALSE)","v":"Toscana"},{"$f":"IF(ISBLANK(E1096),\"hie eu nix drischribu\",VLOOKUP(E1096,'2021'!$A$11:$G$143,4,FALSE))","v":"Fux W., J., & Wyer Piet"}]
["2021-06-25",{"$f":"IF(ISBLANK(D1097),\"Alain, nix drischribu\",VLOOKUP(D1097,'2021'!$A$11:$G$143,4,FALSE))","v":"Williner Anton"},{"$f":"VLOOKUP(D1097,'2021'!$A$11:$G$143,2,FALSE)","v":"Vanessa"},96,109,{"$f":"VLOOKUP(E1097,'2021'!$A$11:$G$143,2,FALSE)","v":"Rena"},{"$f":"IF(ISBLANK(E1097),\"hie eu nix drischribu\",VLOOKUP(E1097,'2021'!$A$11:$G$143,4,FALSE))","v":"Zumofen / Gattlen"}]
["2021-06-25",{"$f":"IF(ISBLANK(D1098),\"Alain, nix drischribu\",VLOOKUP(D1098,'2021'!$A$11:$G$143,4,FALSE))","v":"Hischier H. & Bühlmann J."},{"$f":"VLOOKUP(D1098,'2021'!$A$11:$G$143,2,FALSE)","v":"Jamada"},48,123,{"$f":"VLOOKUP(E1098,'2021'!$A$11:$G$143,2,FALSE)","v":"Fachita"},{"$f":"IF(ISBLANK(E1098),\"hie eu nix drischribu\",VLOOKUP(E1098,'2021'!$A$11:$G$143,4,FALSE))","v":"Zumofen / Gattlen"}]
["2021-06-25",{"$f":"IF(ISBLANK(D1099),\"Alain, nix drischribu\",VLOOKUP(D1099,'2021'!$A$11:$G$143,4,FALSE))","v":"Mathieu Leander & Sascha"},{"$f":"VLOOKUP(D1099,'2021'!$A$11:$G$143,2,FALSE)","v":"Baghira"},68,61,{"$f":"VLOOKUP(E1099,'2021'!$A$11:$G$143,2,FALSE)","v":"Grolla"},{"$f":"IF(ISBLANK(E1099),\"hie eu nix drischribu\",VLOOKUP(E1099,'2021'!$A$11:$G$143,4,FALSE))","v":"Jäger Carlo & Lukas"}]
["2021-06-25",{"$f":"IF(ISBLANK(D1100),\"Alain, nix drischribu\",VLOOKUP(D1100,'2021'!$A$11:$G$143,4,FALSE))","v":"Fux W., J., & Wyer Piet"},{"$f":"VLOOKUP(D1100,'2021'!$A$11:$G$143,2,FALSE)","v":"Bacardi"},39,9,{"$f":"VLOOKUP(E1100,'2021'!$A$11:$G$143,2,FALSE)","v":"Coquette"},{"$f":"IF(ISBLANK(E1100),\"hie eu nix drischribu\",VLOOKUP(E1100,'2021'!$A$11:$G$143,4,FALSE))","v":"Bregy Ralf & Adolf"}]
["2021-06-24",{"$f":"IF(ISBLANK(D1101),\"Alain, nix drischribu\",VLOOKUP(D1101,'2021'!$A$11:$G$143,4,FALSE))","v":"Zumofen / Gattlen"},{"$f":"VLOOKUP(D1101,'2021'!$A$11:$G$143,2,FALSE)","v":"Maya"},114,6,{"$f":"VLOOKUP(E1101,'2021'!$A$11:$G$143,2,FALSE)","v":"Flacabre"},{"$f":"IF(ISBLANK(E1101),\"hie eu nix drischribu\",VLOOKUP(E1101,'2021'!$A$11:$G$143,4,FALSE))","v":"Bregy Ralf & Adolf"}]
["2021-06-24",{"$f":"IF(ISBLANK(D1102),\"Alain, nix drischribu\",VLOOKUP(D1102,'2021'!$A$11:$G$143,4,FALSE))","v":" Bregy Uli / Lisi & Pasci"},{"$f":"VLOOKUP(D1102,'2021'!$A$11:$G$143,2,FALSE)","v":"Caline"},20,46,{"$f":"VLOOKUP(E1102,'2021'!$A$11:$G$143,2,FALSE)","v":"Lorens"},{"$f":"IF(ISBLANK(E1102),\"hie eu nix drischribu\",VLOOKUP(E1102,'2021'!$A$11:$G$143,4,FALSE))","v":"Gebrüder Jäger"}]
["2021-06-24",{"$f":"IF(ISBLANK(D1103),\"Alain, nix drischribu\",VLOOKUP(D1103,'2021'!$A$11:$G$143,4,FALSE))","v":"Bayard Medard & Gustav"},{"$f":"VLOOKUP(D1103,'2021'!$A$11:$G$143,2,FALSE)","v":"Pandera"},5,93,{"$f":"VLOOKUP(E1103,'2021'!$A$11:$G$143,2,FALSE)","v":"Tonic"},{"$f":"IF(ISBLANK(E1103),\"hie eu nix drischribu\",VLOOKUP(E1103,'2021'!$A$11:$G$143,4,FALSE))","v":"Williner Anton"}]
["2021-06-24",{"$f":"IF(ISBLANK(D1104),\"Alain, nix drischribu\",VLOOKUP(D1104,'2021'!$A$11:$G$143,4,FALSE))","v":"Jäger Carlo & Lukas"},{"$f":"VLOOKUP(D1104,'2021'!$A$11:$G$143,2,FALSE)","v":"Bataille"},58,3,{"$f":"VLOOKUP(E1104,'2021'!$A$11:$G$143,2,FALSE)","v":"Priska"},{"$f":"IF(ISBLANK(E1104),\"hie eu nix drischribu\",VLOOKUP(E1104,'2021'!$A$11:$G$143,4,FALSE))","v":"Bayard Medard & Gustav"}]
["2021-06-24",{"$f":"IF(ISBLANK(D1105),\"Alain, nix drischribu\",VLOOKUP(D1105,'2021'!$A$11:$G$143,4,FALSE))","v":"Zumofen / Gattlen"},{"$f":"VLOOKUP(D1105,'2021'!$A$11:$G$143,2,FALSE)","v":"Fachita"},123,60,{"$f":"VLOOKUP(E1105,'2021'!$A$11:$G$143,2,FALSE)","v":"Bayonne"},{"$f":"IF(ISBLANK(E1105),\"hie eu nix drischribu\",VLOOKUP(E1105,'2021'!$A$11:$G$143,4,FALSE))","v":"Jäger Carlo & Lukas"}]
["2021-06-24",{"$f":"IF(ISBLANK(D1106),\"Alain, nix drischribu\",VLOOKUP(D1106,'2021'!$A$11:$G$143,4,FALSE))","v":"Bregy Ralf & Adolf"},{"$f":"VLOOKUP(D1106,'2021'!$A$11:$G$143,2,FALSE)","v":"Canaille"},7,110,{"$f":"VLOOKUP(E1106,'2021'!$A$11:$G$143,2,FALSE)","v":"Xena"},{"$f":"IF(ISBLANK(E1106),\"hie eu nix drischribu\",VLOOKUP(E1106,'2021'!$A$11:$G$143,4,FALSE))","v":"Zumofen / Gattlen"}]
["2021-06-24",{"$f":"IF(ISBLANK(D1107),\"Alain, nix drischribu\",VLOOKUP(D1107,'2021'!$A$11:$G$143,4,FALSE))","v":"Zumofen / Gattlen"},{"$f":"VLOOKUP(D1107,'2021'!$A$11:$G$143,2,FALSE)","v":"Violette"},108,85,{"$f":"VLOOKUP(E1107,'2021'!$A$11:$G$143,2,FALSE)","v":"Samantha"},{"$f":"IF(ISBLANK(E1107),\"hie eu nix drischribu\",VLOOKUP(E1107,'2021'!$A$11:$G$143,4,FALSE))","v":"Sewer R. & Thommen S."}]
["2021-06-24",{"$f":"IF(ISBLANK(D1108),\"Alain, nix drischribu\",VLOOKUP(D1108,'2021'!$A$11:$G$143,4,FALSE))","v":"Williner Anton"},{"$f":"VLOOKUP(D1108,'2021'!$A$11:$G$143,2,FALSE)","v":"Tira"},98,109,{"$f":"VLOOKUP(E1108,'2021'!$A$11:$G$143,2,FALSE)","v":"Rena"},{"$f":"IF(ISBLANK(E1108),\"hie eu nix drischribu\",VLOOKUP(E1108,'2021'!$A$11:$G$143,4,FALSE))","v":"Zumofen / Gattlen"}]
["2021-06-24",{"$f":"IF(ISBLANK(D1109),\"Alain, nix drischribu\",VLOOKUP(D1109,'2021'!$A$11:$G$143,4,FALSE))","v":"Fux W., J., & Wyer Piet"},{"$f":"VLOOKUP(D1109,'2021'!$A$11:$G$143,2,FALSE)","v":"Bacardi"},39,46,{"$f":"VLOOKUP(E1109,'2021'!$A$11:$G$143,2,FALSE)","v":"Lorens"},{"$f":"IF(ISBLANK(E1109),\"hie eu nix drischribu\",VLOOKUP(E1109,'2021'!$A$11:$G$143,4,FALSE))","v":"Gebrüder Jäger"}]
["2021-06-24",{"$f":"IF(ISBLANK(D1110),\"Alain, nix drischribu\",VLOOKUP(D1110,'2021'!$A$11:$G$143,4,FALSE))","v":"Bregy Uli / Lisi & Pasci"},{"$f":"VLOOKUP(D1110,'2021'!$A$11:$G$143,2,FALSE)","v":"Murphy"},16,44,{"$f":"VLOOKUP(E1110,'2021'!$A$11:$G$143,2,FALSE)","v":"Tiara"},{"$f":"IF(ISBLANK(E1110),\"hie eu nix drischribu\",VLOOKUP(E1110,'2021'!$A$11:$G$143,4,FALSE))","v":"Gebrüder Jäger"}]
["2021-06-24",{"$f":"IF(ISBLANK(D1111),\"Alain, nix drischribu\",VLOOKUP(D1111,'2021'!$A$11:$G$143,4,FALSE))","v":"Williner Anton"},{"$f":"VLOOKUP(D1111,'2021'!$A$11:$G$143,2,FALSE)","v":"Vanessa"},96,28,{"$f":"VLOOKUP(E1111,'2021'!$A$11:$G$143,2,FALSE)","v":"Baron"},{"$f":"IF(ISBLANK(E1111),\"hie eu nix drischribu\",VLOOKUP(E1111,'2021'!$A$11:$G$143,4,FALSE))","v":"Fam. Leiggener"}]
["2021-06-24",{"$f":"IF(ISBLANK(D1112),\"Alain, nix drischribu\",VLOOKUP(D1112,'2021'!$A$11:$G$143,4,FALSE))","v":"Sewer R. & Thommen S."},{"$f":"VLOOKUP(D1112,'2021'!$A$11:$G$143,2,FALSE)","v":"Malice"},88,69,{"$f":"VLOOKUP(E1112,'2021'!$A$11:$G$143,2,FALSE)","v":"Bavaria"},{"$f":"IF(ISBLANK(E1112),\"hie eu nix drischribu\",VLOOKUP(E1112,'2021'!$A$11:$G$143,4,FALSE))","v":"Mathieu Leander & Sascha"}]
["2021-06-24",{"$f":"IF(ISBLANK(D1113),\"Alain, nix drischribu\",VLOOKUP(D1113,'2021'!$A$11:$G$143,4,FALSE))","v":"Gebrüder Jäger"},{"$f":"VLOOKUP(D1113,'2021'!$A$11:$G$143,2,FALSE)","v":"Tara"},41,45,{"$f":"VLOOKUP(E1113,'2021'!$A$11:$G$143,2,FALSE)","v":"Tanja"},{"$f":"IF(ISBLANK(E1113),\"hie eu nix drischribu\",VLOOKUP(E1113,'2021'!$A$11:$G$143,4,FALSE))","v":"Gebrüder Jäger"}]
["2021-06-24",{"$f":"IF(ISBLANK(D1114),\"Alain, nix drischribu\",VLOOKUP(D1114,'2021'!$A$11:$G$143,4,FALSE))","v":"Fux W., J., & Wyer Piet"},{"$f":"VLOOKUP(D1114,'2021'!$A$11:$G$143,2,FALSE)","v":"Baquera"},33,69,{"$f":"VLOOKUP(E1114,'2021'!$A$11:$G$143,2,FALSE)","v":"Bavaria"},{"$f":"IF(ISBLANK(E1114),\"hie eu nix drischribu\",VLOOKUP(E1114,'2021'!$A$11:$G$143,4,FALSE))","v":"Mathieu Leander & Sascha"}]
["2021-06-24",{"$f":"IF(ISBLANK(D1115),\"Alain, nix drischribu\",VLOOKUP(D1115,'2021'!$A$11:$G$143,4,FALSE))","v":"Fux W., J., & Wyer Piet"},{"$f":"VLOOKUP(D1115,'2021'!$A$11:$G$143,2,FALSE)","v":"Baquera"},33,28,{"$f":"VLOOKUP(E1115,'2021'!$A$11:$G$143,2,FALSE)","v":"Baron"},{"$f":"IF(ISBLANK(E1115),\"hie eu nix drischribu\",VLOOKUP(E1115,'2021'!$A$11:$G$143,4,FALSE))","v":"Fam. Leiggener"}]
["2021-06-24",{"$f":"IF(ISBLANK(D1116),\"Alain, nix drischribu\",VLOOKUP(D1116,'2021'!$A$11:$G$143,4,FALSE))","v":"Gebrüder Jäger"},{"$f":"VLOOKUP(D1116,'2021'!$A$11:$G$143,2,FALSE)","v":"Dorina"},43,27,{"$f":"VLOOKUP(E1116,'2021'!$A$11:$G$143,2,FALSE)","v":"Rebell"},{"$f":"IF(ISBLANK(E1116),\"hie eu nix drischribu\",VLOOKUP(E1116,'2021'!$A$11:$G$143,4,FALSE))","v":"Fam. Leiggener"}]
["2021-06-24",{"$f":"IF(ISBLANK(D1117),\"Alain, nix drischribu\",VLOOKUP(D1117,'2021'!$A$11:$G$143,4,FALSE))","v":"Jäger Carlo & Lukas"},{"$f":"VLOOKUP(D1117,'2021'!$A$11:$G$143,2,FALSE)","v":"Bayonne"},60,15,{"$f":"VLOOKUP(E1117,'2021'!$A$11:$G$143,2,FALSE)","v":"Cashida"},{"$f":"IF(ISBLANK(E1117),\"hie eu nix drischribu\",VLOOKUP(E1117,'2021'!$A$11:$G$143,4,FALSE))","v":"Bregy Ralf & Adolf"}]
["2021-06-24",{"$f":"IF(ISBLANK(D1118),\"Alain, nix drischribu\",VLOOKUP(D1118,'2021'!$A$11:$G$143,4,FALSE))","v":"Bregy Ralf & Adolf"},{"$f":"VLOOKUP(D1118,'2021'!$A$11:$G$143,2,FALSE)","v":"Coquette"},9,107,{"$f":"VLOOKUP(E1118,'2021'!$A$11:$G$143,2,FALSE)","v":"Violin"},{"$f":"IF(ISBLANK(E1118),\"hie eu nix drischribu\",VLOOKUP(E1118,'2021'!$A$11:$G$143,4,FALSE))","v":"Zumofen / Gattlen"}]
["2021-06-24",{"$f":"IF(ISBLANK(D1119),\"Alain, nix drischribu\",VLOOKUP(D1119,'2021'!$A$11:$G$143,4,FALSE))","v":"Jäger Carlo & Lukas"},{"$f":"VLOOKUP(D1119,'2021'!$A$11:$G$143,2,FALSE)","v":"Megane"},62,75,{"$f":"VLOOKUP(E1119,'2021'!$A$11:$G$143,2,FALSE)","v":"Menance"},{"$f":"IF(ISBLANK(E1119),\"hie eu nix drischribu\",VLOOKUP(E1119,'2021'!$A$11:$G$143,4,FALSE))","v":"Stallung Passeraub"}]
["2021-06-24",{"$f":"IF(ISBLANK(D1120),\"Alain, nix drischribu\",VLOOKUP(D1120,'2021'!$A$11:$G$143,4,FALSE))","v":"Stallung Passeraub"},{"$f":"VLOOKUP(D1120,'2021'!$A$11:$G$143,2,FALSE)","v":"Menance"},75,54,{"$f":"VLOOKUP(E1120,'2021'!$A$11:$G$143,2,FALSE)","v":"Flora"},{"$f":"IF(ISBLANK(E1120),\"hie eu nix drischribu\",VLOOKUP(E1120,'2021'!$A$11:$G$143,4,FALSE))","v":"Jäger Carlo & Lukas"}]
["2021-06-24",{"$f":"IF(ISBLANK(D1121),\"Alain, nix drischribu\",VLOOKUP(D1121,'2021'!$A$11:$G$143,4,FALSE))","v":"Williner Anton"},{"$f":"VLOOKUP(D1121,'2021'!$A$11:$G$143,2,FALSE)","v":"Vivana"},95,113,{"$f":"VLOOKUP(E1121,'2021'!$A$11:$G$143,2,FALSE)","v":"Vanda"},{"$f":"IF(ISBLANK(E1121),\"hie eu nix drischribu\",VLOOKUP(E1121,'2021'!$A$11:$G$143,4,FALSE))","v":"Zumofen / Gattlen"}]
["2021-06-24",{"$f":"IF(ISBLANK(D1122),\"Alain, nix drischribu\",VLOOKUP(D1122,'2021'!$A$11:$G$143,4,FALSE))","v":"Sewer R. & Thommen S."},{"$f":"VLOOKUP(D1122,'2021'!$A$11:$G$143,2,FALSE)","v":"Samantha"},85,83,{"$f":"VLOOKUP(E1122,'2021'!$A$11:$G$143,2,FALSE)","v":"Cayenne"},{"$f":"IF(ISBLANK(E1122),\"hie eu nix drischribu\",VLOOKUP(E1122,'2021'!$A$11:$G$143,4,FALSE))","v":"Stallung zum Stäg"}]
["2021-06-24",{"$f":"IF(ISBLANK(D1123),\"Alain, nix drischribu\",VLOOKUP(D1123,'2021'!$A$11:$G$143,4,FALSE))","v":"Zumofen / Gattlen"},{"$f":"VLOOKUP(D1123,'2021'!$A$11:$G$143,2,FALSE)","v":"Violette"},108,96,{"$f":"VLOOKUP(E1123,'2021'!$A$11:$G$143,2,FALSE)","v":"Vanessa"},{"$f":"IF(ISBLANK(E1123),\"hie eu nix drischribu\",VLOOKUP(E1123,'2021'!$A$11:$G$143,4,FALSE))","v":"Williner Anton"}]
["2021-06-24",{"$f":"IF(ISBLANK(D1124),\"Alain, nix drischribu\",VLOOKUP(D1124,'2021'!$A$11:$G$143,4,FALSE))","v":"Bregy Ralf & Adolf"},{"$f":"VLOOKUP(D1124,'2021'!$A$11:$G$143,2,FALSE)","v":"Coquette"},9,113,{"$f":"VLOOKUP(E1124,'2021'!$A$11:$G$143,2,FALSE)","v":"Vanda"},{"$f":"IF(ISBLANK(E1124),\"hie eu nix drischribu\",VLOOKUP(E1124,'2021'!$A$11:$G$143,4,FALSE))","v":"Zumofen / Gattlen"}]
["2021-06-24",{"$f":"IF(ISBLANK(D1125),\"Alain, nix drischribu\",VLOOKUP(D1125,'2021'!$A$11:$G$143,4,FALSE))","v":"Bregy Ralf & Adolf"},{"$f":"VLOOKUP(D1125,'2021'!$A$11:$G$143,2,FALSE)","v":"Coquette"},9,98,{"$f":"VLOOKUP(E1125,'2021'!$A$11:$G$143,2,FALSE)","v":"Tira"},{"$f":"IF(ISBLANK(E1125),\"hie eu nix drischribu\",VLOOKUP(E1125,'2021'!$A$11:$G$143,4,FALSE))","v":"Williner Anton"}]
["2021-06-24",{"$f":"IF(ISBLANK(D1126),\"Alain, nix drischribu\",VLOOKUP(D1126,'2021'!$A$11:$G$143,4,FALSE))","v":"Williner Anton"},{"$f":"VLOOKUP(D1126,'2021'!$A$11:$G$143,2,FALSE)","v":"Tonic"},93,52,{"$f":"VLOOKUP(E1126,'2021'!$A$11:$G$143,2,FALSE)","v":"Pablo"},{"$f":"IF(ISBLANK(E1126),\"hie eu nix drischribu\",VLOOKUP(E1126,'2021'!$A$11:$G$143,4,FALSE))","v":"Hischier Pius"}]
["2021-06-24",{"$f":"IF(ISBLANK(D1127),\"Alain, nix drischribu\",VLOOKUP(D1127,'2021'!$A$11:$G$143,4,FALSE))","v":"Bregy Ralf & Adolf"},{"$f":"VLOOKUP(D1127,'2021'!$A$11:$G$143,2,FALSE)","v":"Cashida"},15,64,{"$f":"VLOOKUP(E1127,'2021'!$A$11:$G$143,2,FALSE)","v":"Sera"},{"$f":"IF(ISBLANK(E1127),\"hie eu nix drischribu\",VLOOKUP(E1127,'2021'!$A$11:$G$143,4,FALSE))","v":"Jäger Carlo & Lukas"}]
["2021-06-23",{"$f":"IF(ISBLANK(D1128),\"Alain, nix drischribu\",VLOOKUP(D1128,'2021'!$A$11:$G$143,4,FALSE))","v":"Zumofen / Gattlen"},{"$f":"VLOOKUP(D1128,'2021'!$A$11:$G$143,2,FALSE)","v":"Rambo"},120,29,{"$f":"VLOOKUP(E1128,'2021'!$A$11:$G$143,2,FALSE)","v":"Bolero"},{"$f":"IF(ISBLANK(E1128),\"hie eu nix drischribu\",VLOOKUP(E1128,'2021'!$A$11:$G$143,4,FALSE))","v":"Fux W., J., & Wyer Piet"}]
["2021-06-23",{"$f":"IF(ISBLANK(D1129),\"Alain, nix drischribu\",VLOOKUP(D1129,'2021'!$A$11:$G$143,4,FALSE))","v":"Bayard Medard & Gustav"},{"$f":"VLOOKUP(D1129,'2021'!$A$11:$G$143,2,FALSE)","v":"Fantastic"},2,29,{"$f":"VLOOKUP(E1129,'2021'!$A$11:$G$143,2,FALSE)","v":"Bolero"},{"$f":"IF(ISBLANK(E1129),\"hie eu nix drischribu\",VLOOKUP(E1129,'2021'!$A$11:$G$143,4,FALSE))","v":"Fux W., J., & Wyer Piet"}]
["2021-06-23",{"$f":"IF(ISBLANK(D1130),\"Alain, nix drischribu\",VLOOKUP(D1130,'2021'!$A$11:$G$143,4,FALSE))","v":"Bregy Uli / Lisi & Pasci"},{"$f":"VLOOKUP(D1130,'2021'!$A$11:$G$143,2,FALSE)","v":"Murphy"},16,43,{"$f":"VLOOKUP(E1130,'2021'!$A$11:$G$143,2,FALSE)","v":"Dorina"},{"$f":"IF(ISBLANK(E1130),\"hie eu nix drischribu\",VLOOKUP(E1130,'2021'!$A$11:$G$143,4,FALSE))","v":"Gebrüder Jäger"}]
["2021-06-23",{"$f":"IF(ISBLANK(D1131),\"Alain, nix drischribu\",VLOOKUP(D1131,'2021'!$A$11:$G$143,4,FALSE))","v":"Wyssen Diego & Madlen"},{"$f":"VLOOKUP(D1131,'2021'!$A$11:$G$143,2,FALSE)","v":"Xantara"},100,47,{"$f":"VLOOKUP(E1131,'2021'!$A$11:$G$143,2,FALSE)","v":"Lenja"},{"$f":"IF(ISBLANK(E1131),\"hie eu nix drischribu\",VLOOKUP(E1131,'2021'!$A$11:$G$143,4,FALSE))","v":"Hischier H. & Bühlmann J."}]
["2021-06-23",{"$f":"IF(ISBLANK(D1132),\"Alain, nix drischribu\",VLOOKUP(D1132,'2021'!$A$11:$G$143,4,FALSE))","v":"Fux W., J., & Wyer Piet"},{"$f":"VLOOKUP(D1132,'2021'!$A$11:$G$143,2,FALSE)","v":"Bolero"},29,3,{"$f":"VLOOKUP(E1132,'2021'!$A$11:$G$143,2,FALSE)","v":"Priska"},{"$f":"IF(ISBLANK(E1132),\"hie eu nix drischribu\",VLOOKUP(E1132,'2021'!$A$11:$G$143,4,FALSE))","v":"Bayard Medard & Gustav"}]
["2021-06-23",{"$f":"IF(ISBLANK(D1133),\"Alain, nix drischribu\",VLOOKUP(D1133,'2021'!$A$11:$G$143,4,FALSE))","v":"Williner Anton"},{"$f":"VLOOKUP(D1133,'2021'!$A$11:$G$143,2,FALSE)","v":"Tira"},98,109,{"$f":"VLOOKUP(E1133,'2021'!$A$11:$G$143,2,FALSE)","v":"Rena"},{"$f":"IF(ISBLANK(E1133),\"hie eu nix drischribu\",VLOOKUP(E1133,'2021'!$A$11:$G$143,4,FALSE))","v":"Zumofen / Gattlen"}]
["2021-06-23",{"$f":"IF(ISBLANK(D1134),\"Alain, nix drischribu\",VLOOKUP(D1134,'2021'!$A$11:$G$143,4,FALSE))","v":"Bregy Ralf & Adolf"},{"$f":"VLOOKUP(D1134,'2021'!$A$11:$G$143,2,FALSE)","v":"Creola"},8,119,{"$f":"VLOOKUP(E1134,'2021'!$A$11:$G$143,2,FALSE)","v":"Fayola"},{"$f":"IF(ISBLANK(E1134),\"hie eu nix drischribu\",VLOOKUP(E1134,'2021'!$A$11:$G$143,4,FALSE))","v":"Zumofen / Gattlen"}]
["2021-06-23",{"$f":"IF(ISBLANK(D1135),\"Alain, nix drischribu\",VLOOKUP(D1135,'2021'!$A$11:$G$143,4,FALSE))","v":"Williner Anton"},{"$f":"VLOOKUP(D1135,'2021'!$A$11:$G$143,2,FALSE)","v":"Tira"},98,118,{"$f":"VLOOKUP(E1135,'2021'!$A$11:$G$143,2,FALSE)","v":"Vesuv"},{"$f":"IF(ISBLANK(E1135),\"hie eu nix drischribu\",VLOOKUP(E1135,'2021'!$A$11:$G$143,4,FALSE))","v":"Zumofen / Gattlen"}]
["2021-06-23",{"$f":"IF(ISBLANK(D1136),\"Alain, nix drischribu\",VLOOKUP(D1136,'2021'!$A$11:$G$143,4,FALSE))","v":"Zumofen / Gattlen"},{"$f":"VLOOKUP(D1136,'2021'!$A$11:$G$143,2,FALSE)","v":"Raja"},121,35,{"$f":"VLOOKUP(E1136,'2021'!$A$11:$G$143,2,FALSE)","v":"Pampère"},{"$f":"IF(ISBLANK(E1136),\"hie eu nix drischribu\",VLOOKUP(E1136,'2021'!$A$11:$G$143,4,FALSE))","v":"Fux W., J., & Wyer Piet"}]
["2021-06-23",{"$f":"IF(ISBLANK(D1137),\"Alain, nix drischribu\",VLOOKUP(D1137,'2021'!$A$11:$G$143,4,FALSE))","v":"Fux W., J., & Wyer Piet"},{"$f":"VLOOKUP(D1137,'2021'!$A$11:$G$143,2,FALSE)","v":"Bacardi"},39,121,{"$f":"VLOOKUP(E1137,'2021'!$A$11:$G$143,2,FALSE)","v":"Raja"},{"$f":"IF(ISBLANK(E1137),\"hie eu nix drischribu\",VLOOKUP(E1137,'2021'!$A$11:$G$143,4,FALSE))","v":"Zumofen / Gattlen"}]
["2021-06-23",{"$f":"IF(ISBLANK(D1138),\"Alain, nix drischribu\",VLOOKUP(D1138,'2021'!$A$11:$G$143,4,FALSE))","v":"Gebrüder Jäger"},{"$f":"VLOOKUP(D1138,'2021'!$A$11:$G$143,2,FALSE)","v":"Lorens"},46,67,{"$f":"VLOOKUP(E1138,'2021'!$A$11:$G$143,2,FALSE)","v":"Tokio"},{"$f":"IF(ISBLANK(E1138),\"hie eu nix drischribu\",VLOOKUP(E1138,'2021'!$A$11:$G$143,4,FALSE))","v":"Jäger Carlo & Lukas"}]
["2021-06-23",{"$f":"IF(ISBLANK(D1139),\"Alain, nix drischribu\",VLOOKUP(D1139,'2021'!$A$11:$G$143,4,FALSE))","v":"Bayard Medard & Gustav"},{"$f":"VLOOKUP(D1139,'2021'!$A$11:$G$143,2,FALSE)","v":"Priska"},3,30,{"$f":"VLOOKUP(E1139,'2021'!$A$11:$G$143,2,FALSE)","v":"Diamant"},{"$f":"IF(ISBLANK(E1139),\"hie eu nix drischribu\",VLOOKUP(E1139,'2021'!$A$11:$G$143,4,FALSE))","v":"Fux W., J., & Wyer Piet"}]
["2021-06-23",{"$f":"IF(ISBLANK(D1140),\"Alain, nix drischribu\",VLOOKUP(D1140,'2021'!$A$11:$G$143,4,FALSE))","v":"Mathieu Leander & Sascha"},{"$f":"VLOOKUP(D1140,'2021'!$A$11:$G$143,2,FALSE)","v":"Bavaria"},69,111,{"$f":"VLOOKUP(E1140,'2021'!$A$11:$G$143,2,FALSE)","v":"Palona"},{"$f":"IF(ISBLANK(E1140),\"hie eu nix drischribu\",VLOOKUP(E1140,'2021'!$A$11:$G$143,4,FALSE))","v":"Zumofen / Gattlen"}]
["2021-06-23",{"$f":"IF(ISBLANK(D1141),\"Alain, nix drischribu\",VLOOKUP(D1141,'2021'!$A$11:$G$143,4,FALSE))","v":"Fux W., J., & Wyer Piet"},{"$f":"VLOOKUP(D1141,'2021'!$A$11:$G$143,2,FALSE)","v":"Bolero"},29,25,{"$f":"VLOOKUP(E1141,'2021'!$A$11:$G$143,2,FALSE)","v":"Calette"},{"$f":"IF(ISBLANK(E1141),\"hie eu nix drischribu\",VLOOKUP(E1141,'2021'!$A$11:$G$143,4,FALSE))","v":"Bregy Uli / Lisi & Pasci"}]
["2021-06-23",{"$f":"IF(ISBLANK(D1142),\"Alain, nix drischribu\",VLOOKUP(D1142,'2021'!$A$11:$G$143,4,FALSE))","v":"Bayard Medard & Gustav"},{"$f":"VLOOKUP(D1142,'2021'!$A$11:$G$143,2,FALSE)","v":"Vampir"},4,123,{"$f":"VLOOKUP(E1142,'2021'!$A$11:$G$143,2,FALSE)","v":"Fachita"},{"$f":"IF(ISBLANK(E1142),\"hie eu nix drischribu\",VLOOKUP(E1142,'2021'!$A$11:$G$143,4,FALSE))","v":"Zumofen / Gattlen"}]
["2021-06-23",{"$f":"IF(ISBLANK(D1143),\"Alain, nix drischribu\",VLOOKUP(D1143,'2021'!$A$11:$G$143,4,FALSE))","v":"Tscherry Erwin & Bernhard"},{"$f":"VLOOKUP(D1143,'2021'!$A$11:$G$143,2,FALSE)","v":"Carolin"},91,47,{"$f":"VLOOKUP(E1143,'2021'!$A$11:$G$143,2,FALSE)","v":"Lenja"},{"$f":"IF(ISBLANK(E1143),\"hie eu nix drischribu\",VLOOKUP(E1143,'2021'!$A$11:$G$143,4,FALSE))","v":"Hischier H. & Bühlmann J."}]
["2021-06-23",{"$f":"IF(ISBLANK(D1144),\"Alain, nix drischribu\",VLOOKUP(D1144,'2021'!$A$11:$G$143,4,FALSE))","v":"Jäger Carlo & Lukas"},{"$f":"VLOOKUP(D1144,'2021'!$A$11:$G$143,2,FALSE)","v":"Tokio"},67,86,{"$f":"VLOOKUP(E1144,'2021'!$A$11:$G$143,2,FALSE)","v":"Tessa"},{"$f":"IF(ISBLANK(E1144),\"hie eu nix drischribu\",VLOOKUP(E1144,'2021'!$A$11:$G$143,4,FALSE))","v":"Sewer R. & Thommen S."}]
["2021-06-23",{"$f":"IF(ISBLANK(D1145),\"Alain, nix drischribu\",VLOOKUP(D1145,'2021'!$A$11:$G$143,4,FALSE))","v":" Bregy Uli / Lisi & Pasci"},{"$f":"VLOOKUP(D1145,'2021'!$A$11:$G$143,2,FALSE)","v":"Caline"},20,73,{"$f":"VLOOKUP(E1145,'2021'!$A$11:$G$143,2,FALSE)","v":"Bajka"},{"$f":"IF(ISBLANK(E1145),\"hie eu nix drischribu\",VLOOKUP(E1145,'2021'!$A$11:$G$143,4,FALSE))","v":"Stallung Passeraub"}]
["2021-06-23",{"$f":"IF(ISBLANK(D1146),\"Alain, nix drischribu\",VLOOKUP(D1146,'2021'!$A$11:$G$143,4,FALSE))","v":"Bregy Uli / Lisi & Pasci"},{"$f":"VLOOKUP(D1146,'2021'!$A$11:$G$143,2,FALSE)","v":"Bora"},21,83,{"$f":"VLOOKUP(E1146,'2021'!$A$11:$G$143,2,FALSE)","v":"Cayenne"},{"$f":"IF(ISBLANK(E1146),\"hie eu nix drischribu\",VLOOKUP(E1146,'2021'!$A$11:$G$143,4,FALSE))","v":"Stallung zum Stäg"}]
["2021-06-23",{"$f":"IF(ISBLANK(D1147),\"Alain, nix drischribu\",VLOOKUP(D1147,'2021'!$A$11:$G$143,4,FALSE))","v":"Zumofen / Gattlen"},{"$f":"VLOOKUP(D1147,'2021'!$A$11:$G$143,2,FALSE)","v":"Violette"},108,94,{"$f":"VLOOKUP(E1147,'2021'!$A$11:$G$143,2,FALSE)","v":"Tigra"},{"$f":"IF(ISBLANK(E1147),\"hie eu nix drischribu\",VLOOKUP(E1147,'2021'!$A$11:$G$143,4,FALSE))","v":"Williner Anton"}]
["2021-06-23",{"$f":"IF(ISBLANK(D1148),\"Alain, nix drischribu\",VLOOKUP(D1148,'2021'!$A$11:$G$143,4,FALSE))","v":"Bregy Uli / Lisi & Pasci"},{"$f":"VLOOKUP(D1148,'2021'!$A$11:$G$143,2,FALSE)","v":"Bora"},21,83,{"$f":"VLOOKUP(E1148,'2021'!$A$11:$G$143,2,FALSE)","v":"Cayenne"},{"$f":"IF(ISBLANK(E1148),\"hie eu nix drischribu\",VLOOKUP(E1148,'2021'!$A$11:$G$143,4,FALSE))","v":"Stallung zum Stäg"}]
["2021-06-23",{"$f":"IF(ISBLANK(D1149),\"Alain, nix drischribu\",VLOOKUP(D1149,'2021'!$A$11:$G$143,4,FALSE))","v":"Stallung Passeraub"},{"$f":"VLOOKUP(D1149,'2021'!$A$11:$G$143,2,FALSE)","v":"Ballerine"},78,108,{"$f":"VLOOKUP(E1149,'2021'!$A$11:$G$143,2,FALSE)","v":"Violette"},{"$f":"IF(ISBLANK(E1149),\"hie eu nix drischribu\",VLOOKUP(E1149,'2021'!$A$11:$G$143,4,FALSE))","v":"Zumofen / Gattlen"}]
["2021-06-23",{"$f":"IF(ISBLANK(D1150),\"Alain, nix drischribu\",VLOOKUP(D1150,'2021'!$A$11:$G$143,4,FALSE))","v":"Bregy Ralf & Adolf"},{"$f":"VLOOKUP(D1150,'2021'!$A$11:$G$143,2,FALSE)","v":"Canabis"},14,80,{"$f":"VLOOKUP(E1150,'2021'!$A$11:$G$143,2,FALSE)","v":"Bonita"},{"$f":"IF(ISBLANK(E1150),\"hie eu nix drischribu\",VLOOKUP(E1150,'2021'!$A$11:$G$143,4,FALSE))","v":"Stallung Passeraub"}]
["2021-06-23",{"$f":"IF(ISBLANK(D1151),\"Alain, nix drischribu\",VLOOKUP(D1151,'2021'!$A$11:$G$143,4,FALSE))","v":"Bayard Medard & Gustav"},{"$f":"VLOOKUP(D1151,'2021'!$A$11:$G$143,2,FALSE)","v":"Vampir"},4,63,{"$f":"VLOOKUP(E1151,'2021'!$A$11:$G$143,2,FALSE)","v":"Metis"},{"$f":"IF(ISBLANK(E1151),\"hie eu nix drischribu\",VLOOKUP(E1151,'2021'!$A$11:$G$143,4,FALSE))","v":"Jäger Carlo & Lukas"}]
["2021-06-23",{"$f":"IF(ISBLANK(D1152),\"Alain, nix drischribu\",VLOOKUP(D1152,'2021'!$A$11:$G$143,4,FALSE))","v":"Sewer R. & Thommen S."},{"$f":"VLOOKUP(D1152,'2021'!$A$11:$G$143,2,FALSE)","v":"Malice"},88,47,{"$f":"VLOOKUP(E1152,'2021'!$A$11:$G$143,2,FALSE)","v":"Lenja"},{"$f":"IF(ISBLANK(E1152),\"hie eu nix drischribu\",VLOOKUP(E1152,'2021'!$A$11:$G$143,4,FALSE))","v":"Hischier H. & Bühlmann J."}]
["2021-06-23",{"$f":"IF(ISBLANK(D1153),\"Alain, nix drischribu\",VLOOKUP(D1153,'2021'!$A$11:$G$143,4,FALSE))","v":"Zumofen / Gattlen"},{"$f":"VLOOKUP(D1153,'2021'!$A$11:$G$143,2,FALSE)","v":"Rambo"},120,37,{"$f":"VLOOKUP(E1153,'2021'!$A$11:$G$143,2,FALSE)","v":"Toscana"},{"$f":"IF(ISBLANK(E1153),\"hie eu nix drischribu\",VLOOKUP(E1153,'2021'!$A$11:$G$143,4,FALSE))","v":"Fux W., J., & Wyer Piet"}]
["2021-06-23",{"$f":"IF(ISBLANK(D1154),\"Alain, nix drischribu\",VLOOKUP(D1154,'2021'!$A$11:$G$143,4,FALSE))","v":"Fux W., J., & Wyer Piet"},{"$f":"VLOOKUP(D1154,'2021'!$A$11:$G$143,2,FALSE)","v":"Toscana"},37,25,{"$f":"VLOOKUP(E1154,'2021'!$A$11:$G$143,2,FALSE)","v":"Calette"},{"$f":"IF(ISBLANK(E1154),\"hie eu nix drischribu\",VLOOKUP(E1154,'2021'!$A$11:$G$143,4,FALSE))","v":"Bregy Uli / Lisi & Pasci"}]
["2021-06-23",{"$f":"IF(ISBLANK(D1155),\"Alain, nix drischribu\",VLOOKUP(D1155,'2021'!$A$11:$G$143,4,FALSE))","v":"Gebrüder Jäger"},{"$f":"VLOOKUP(D1155,'2021'!$A$11:$G$143,2,FALSE)","v":"Lorens"},46,15,{"$f":"VLOOKUP(E1155,'2021'!$A$11:$G$143,2,FALSE)","v":"Cashida"},{"$f":"IF(ISBLANK(E1155),\"hie eu nix drischribu\",VLOOKUP(E1155,'2021'!$A$11:$G$143,4,FALSE))","v":"Bregy Ralf & Adolf"}]
["2021-06-23",{"$f":"IF(ISBLANK(D1156),\"Alain, nix drischribu\",VLOOKUP(D1156,'2021'!$A$11:$G$143,4,FALSE))","v":"Bregy Uli / Lisi & Pasci"},{"$f":"VLOOKUP(D1156,'2021'!$A$11:$G$143,2,FALSE)","v":"Souki"},18,70,{"$f":"VLOOKUP(E1156,'2021'!$A$11:$G$143,2,FALSE)","v":"Bonita"},{"$f":"IF(ISBLANK(E1156),\"hie eu nix drischribu\",VLOOKUP(E1156,'2021'!$A$11:$G$143,4,FALSE))","v":"Mathieu Leander & Sascha"}]
["2021-06-23",{"$f":"IF(ISBLANK(D1157),\"Alain, nix drischribu\",VLOOKUP(D1157,'2021'!$A$11:$G$143,4,FALSE))","v":"Zumofen / Gattlen"},{"$f":"VLOOKUP(D1157,'2021'!$A$11:$G$143,2,FALSE)","v":"Rambo"},120,15,{"$f":"VLOOKUP(E1157,'2021'!$A$11:$G$143,2,FALSE)","v":"Cashida"},{"$f":"IF(ISBLANK(E1157),\"hie eu nix drischribu\",VLOOKUP(E1157,'2021'!$A$11:$G$143,4,FALSE))","v":"Bregy Ralf & Adolf"}]
["2021-06-23",{"$f":"IF(ISBLANK(D1158),\"Alain, nix drischribu\",VLOOKUP(D1158,'2021'!$A$11:$G$143,4,FALSE))","v":"Sewer R. & Thommen S."},{"$f":"VLOOKUP(D1158,'2021'!$A$11:$G$143,2,FALSE)","v":"Bolera"},90,28,{"$f":"VLOOKUP(E1158,'2021'!$A$11:$G$143,2,FALSE)","v":"Baron"},{"$f":"IF(ISBLANK(E1158),\"hie eu nix drischribu\",VLOOKUP(E1158,'2021'!$A$11:$G$143,4,FALSE))","v":"Fam. Leiggener"}]
["2021-06-23",{"$f":"IF(ISBLANK(D1159),\"Alain, nix drischribu\",VLOOKUP(D1159,'2021'!$A$11:$G$143,4,FALSE))","v":"Zumofen / Gattlen"},{"$f":"VLOOKUP(D1159,'2021'!$A$11:$G$143,2,FALSE)","v":"Vanda"},113,29,{"$f":"VLOOKUP(E1159,'2021'!$A$11:$G$143,2,FALSE)","v":"Bolero"},{"$f":"IF(ISBLANK(E1159),\"hie eu nix drischribu\",VLOOKUP(E1159,'2021'!$A$11:$G$143,4,FALSE))","v":"Fux W., J., & Wyer Piet"}]
["2021-06-23",{"$f":"IF(ISBLANK(D1160),\"Alain, nix drischribu\",VLOOKUP(D1160,'2021'!$A$11:$G$143,4,FALSE))","v":"Stallung Passeraub"},{"$f":"VLOOKUP(D1160,'2021'!$A$11:$G$143,2,FALSE)","v":"Bajka"},73,105,{"$f":"VLOOKUP(E1160,'2021'!$A$11:$G$143,2,FALSE)","v":"Corona"},{"$f":"IF(ISBLANK(E1160),\"hie eu nix drischribu\",VLOOKUP(E1160,'2021'!$A$11:$G$143,4,FALSE))","v":"Zumoberhaus Pius"}]
["2021-06-23",{"$f":"IF(ISBLANK(D1161),\"Alain, nix drischribu\",VLOOKUP(D1161,'2021'!$A$11:$G$143,4,FALSE))","v":"Zumofen / Gattlen"},{"$f":"VLOOKUP(D1161,'2021'!$A$11:$G$143,2,FALSE)","v":"Violette"},108,95,{"$f":"VLOOKUP(E1161,'2021'!$A$11:$G$143,2,FALSE)","v":"Vivana"},{"$f":"IF(ISBLANK(E1161),\"hie eu nix drischribu\",VLOOKUP(E1161,'2021'!$A$11:$G$143,4,FALSE))","v":"Williner Anton"}]
["2021-06-23",{"$f":"IF(ISBLANK(D1162),\"Alain, nix drischribu\",VLOOKUP(D1162,'2021'!$A$11:$G$143,4,FALSE))","v":"Bregy Uli / Lisi & Pasci"},{"$f":"VLOOKUP(D1162,'2021'!$A$11:$G$143,2,FALSE)","v":"Murphy"},16,48,{"$f":"VLOOKUP(E1162,'2021'!$A$11:$G$143,2,FALSE)","v":"Jamada"},{"$f":"IF(ISBLANK(E1162),\"hie eu nix drischribu\",VLOOKUP(E1162,'2021'!$A$11:$G$143,4,FALSE))","v":"Hischier H. & Bühlmann J."}]
["2021-06-23",{"$f":"IF(ISBLANK(D1163),\"Alain, nix drischribu\",VLOOKUP(D1163,'2021'!$A$11:$G$143,4,FALSE))","v":"Stallung Passeraub"},{"$f":"VLOOKUP(D1163,'2021'!$A$11:$G$143,2,FALSE)","v":"Ballerine"},78,14,{"$f":"VLOOKUP(E1163,'2021'!$A$11:$G$143,2,FALSE)","v":"Canabis"},{"$f":"IF(ISBLANK(E1163),\"hie eu nix drischribu\",VLOOKUP(E1163,'2021'!$A$11:$G$143,4,FALSE))","v":"Bregy Ralf & Adolf"}]
["2021-06-23",{"$f":"IF(ISBLANK(D1164),\"Alain, nix drischribu\",VLOOKUP(D1164,'2021'!$A$11:$G$143,4,FALSE))","v":" Bregy Uli / Lisi & Pasci"},{"$f":"VLOOKUP(D1164,'2021'!$A$11:$G$143,2,FALSE)","v":"Caline"},20,95,{"$f":"VLOOKUP(E1164,'2021'!$A$11:$G$143,2,FALSE)","v":"Vivana"},{"$f":"IF(ISBLANK(E1164),\"hie eu nix drischribu\",VLOOKUP(E1164,'2021'!$A$11:$G$143,4,FALSE))","v":"Williner Anton"}]
["2021-06-23",{"$f":"IF(ISBLANK(D1165),\"Alain, nix drischribu\",VLOOKUP(D1165,'2021'!$A$11:$G$143,4,FALSE))","v":"Fux W., J., & Wyer Piet"},{"$f":"VLOOKUP(D1165,'2021'!$A$11:$G$143,2,FALSE)","v":"Bolero"},29,54,{"$f":"VLOOKUP(E1165,'2021'!$A$11:$G$143,2,FALSE)","v":"Flora"},{"$f":"IF(ISBLANK(E1165),\"hie eu nix drischribu\",VLOOKUP(E1165,'2021'!$A$11:$G$143,4,FALSE))","v":"Jäger Carlo & Lukas"}]
["2021-06-23",{"$f":"IF(ISBLANK(D1166),\"Alain, nix drischribu\",VLOOKUP(D1166,'2021'!$A$11:$G$143,4,FALSE))","v":"Mathieu Leander & Sascha"},{"$f":"VLOOKUP(D1166,'2021'!$A$11:$G$143,2,FALSE)","v":"Bavaria"},69,52,{"$f":"VLOOKUP(E1166,'2021'!$A$11:$G$143,2,FALSE)","v":"Pablo"},{"$f":"IF(ISBLANK(E1166),\"hie eu nix drischribu\",VLOOKUP(E1166,'2021'!$A$11:$G$143,4,FALSE))","v":"Hischier Pius"}]
["2021-06-23",{"$f":"IF(ISBLANK(D1167),\"Alain, nix drischribu\",VLOOKUP(D1167,'2021'!$A$11:$G$143,4,FALSE))","v":"Zumoberhaus Pius"},{"$f":"VLOOKUP(D1167,'2021'!$A$11:$G$143,2,FALSE)","v":"Corona"},105,41,{"$f":"VLOOKUP(E1167,'2021'!$A$11:$G$143,2,FALSE)","v":"Tara"},{"$f":"IF(ISBLANK(E1167),\"hie eu nix drischribu\",VLOOKUP(E1167,'2021'!$A$11:$G$143,4,FALSE))","v":"Gebrüder Jäger"}]
["2021-06-23",{"$f":"IF(ISBLANK(D1168),\"Alain, nix drischribu\",VLOOKUP(D1168,'2021'!$A$11:$G$143,4,FALSE))","v":"Tscherry Erwin & Bernhard"},{"$f":"VLOOKUP(D1168,'2021'!$A$11:$G$143,2,FALSE)","v":"Carolin"},91,103,{"$f":"VLOOKUP(E1168,'2021'!$A$11:$G$143,2,FALSE)","v":"Xena"},{"$f":"IF(ISBLANK(E1168),\"hie eu nix drischribu\",VLOOKUP(E1168,'2021'!$A$11:$G$143,4,FALSE))","v":"Wyssen Diego & Madlen"}]
["2021-06-23",{"$f":"IF(ISBLANK(D1169),\"Alain, nix drischribu\",VLOOKUP(D1169,'2021'!$A$11:$G$143,4,FALSE))","v":"Fux W., J., & Wyer Piet"},{"$f":"VLOOKUP(D1169,'2021'!$A$11:$G$143,2,FALSE)","v":"Bolero"},29,24,{"$f":"VLOOKUP(E1169,'2021'!$A$11:$G$143,2,FALSE)","v":"Catalina"},{"$f":"IF(ISBLANK(E1169),\"hie eu nix drischribu\",VLOOKUP(E1169,'2021'!$A$11:$G$143,4,FALSE))","v":"Bregy Uli / Lisi & Pasci"}]
["2021-06-23",{"$f":"IF(ISBLANK(D1170),\"Alain, nix drischribu\",VLOOKUP(D1170,'2021'!$A$11:$G$143,4,FALSE))","v":"Mathieu Leander & Sascha"},{"$f":"VLOOKUP(D1170,'2021'!$A$11:$G$143,2,FALSE)","v":"Baghira"},68,41,{"$f":"VLOOKUP(E1170,'2021'!$A$11:$G$143,2,FALSE)","v":"Tara"},{"$f":"IF(ISBLANK(E1170),\"hie eu nix drischribu\",VLOOKUP(E1170,'2021'!$A$11:$G$143,4,FALSE))","v":"Gebrüder Jäger"}]
["2021-06-23",{"$f":"IF(ISBLANK(D1171),\"Alain, nix drischribu\",VLOOKUP(D1171,'2021'!$A$11:$G$143,4,FALSE))","v":"Fux W., J., & Wyer Piet"},{"$f":"VLOOKUP(D1171,'2021'!$A$11:$G$143,2,FALSE)","v":"Bresil"},38,93,{"$f":"VLOOKUP(E1171,'2021'!$A$11:$G$143,2,FALSE)","v":"Tonic"},{"$f":"IF(ISBLANK(E1171),\"hie eu nix drischribu\",VLOOKUP(E1171,'2021'!$A$11:$G$143,4,FALSE))","v":"Williner Anton"}]
["2021-06-23",{"$f":"IF(ISBLANK(D1172),\"Alain, nix drischribu\",VLOOKUP(D1172,'2021'!$A$11:$G$143,4,FALSE))","v":"Hischier Pius"},{"$f":"VLOOKUP(D1172,'2021'!$A$11:$G$143,2,FALSE)","v":"Safira"},51,38,{"$f":"VLOOKUP(E1172,'2021'!$A$11:$G$143,2,FALSE)","v":"Bresil"},{"$f":"IF(ISBLANK(E1172),\"hie eu nix drischribu\",VLOOKUP(E1172,'2021'!$A$11:$G$143,4,FALSE))","v":"Fux W., J., & Wyer Piet"}]
["2021-06-23",{"$f":"IF(ISBLANK(D1173),\"Alain, nix drischribu\",VLOOKUP(D1173,'2021'!$A$11:$G$143,4,FALSE))","v":"Gebrüder Jäger"},{"$f":"VLOOKUP(D1173,'2021'!$A$11:$G$143,2,FALSE)","v":"Lorens"},46,38,{"$f":"VLOOKUP(E1173,'2021'!$A$11:$G$143,2,FALSE)","v":"Bresil"},{"$f":"IF(ISBLANK(E1173),\"hie eu nix drischribu\",VLOOKUP(E1173,'2021'!$A$11:$G$143,4,FALSE))","v":"Fux W., J., & Wyer Piet"}]
["2021-06-22",{"$f":"IF(ISBLANK(D1174),\"Alain, nix drischribu\",VLOOKUP(D1174,'2021'!$A$11:$G$143,4,FALSE))","v":"Jäger Carlo & Lukas"},{"$f":"VLOOKUP(D1174,'2021'!$A$11:$G$143,2,FALSE)","v":"Sera"},64,124,{"$f":"VLOOKUP(E1174,'2021'!$A$11:$G$143,2,FALSE)","v":"Xara"},{"$f":"IF(ISBLANK(E1174),\"hie eu nix drischribu\",VLOOKUP(E1174,'2021'!$A$11:$G$143,4,FALSE))","v":"Zumofen / Gattlen"}]
["2021-06-22",{"$f":"IF(ISBLANK(D1175),\"Alain, nix drischribu\",VLOOKUP(D1175,'2021'!$A$11:$G$143,4,FALSE))","v":"Zumoberhaus Pius"},{"$f":"VLOOKUP(D1175,'2021'!$A$11:$G$143,2,FALSE)","v":"Corona"},105,53,{"$f":"VLOOKUP(E1175,'2021'!$A$11:$G$143,2,FALSE)","v":"Caline"},{"$f":"IF(ISBLANK(E1175),\"hie eu nix drischribu\",VLOOKUP(E1175,'2021'!$A$11:$G$143,4,FALSE))","v":"Jäger Carlo & Lukas"}]
["2021-06-22",{"$f":"IF(ISBLANK(D1176),\"Alain, nix drischribu\",VLOOKUP(D1176,'2021'!$A$11:$G$143,4,FALSE))","v":"Fux W., J., & Wyer Piet"},{"$f":"VLOOKUP(D1176,'2021'!$A$11:$G$143,2,FALSE)","v":"Bresil"},38,115,{"$f":"VLOOKUP(E1176,'2021'!$A$11:$G$143,2,FALSE)","v":"Souris"},{"$f":"IF(ISBLANK(E1176),\"hie eu nix drischribu\",VLOOKUP(E1176,'2021'!$A$11:$G$143,4,FALSE))","v":"Zumofen / Gattlen"}]
["2021-06-22",{"$f":"IF(ISBLANK(D1177),\"Alain, nix drischribu\",VLOOKUP(D1177,'2021'!$A$11:$G$143,4,FALSE))","v":"Jäger Carlo & Lukas"},{"$f":"VLOOKUP(D1177,'2021'!$A$11:$G$143,2,FALSE)","v":"Sera"},64,10,{"$f":"VLOOKUP(E1177,'2021'!$A$11:$G$143,2,FALSE)","v":"Diabolo"},{"$f":"IF(ISBLANK(E1177),\"hie eu nix drischribu\",VLOOKUP(E1177,'2021'!$A$11:$G$143,4,FALSE))","v":"Bregy Ralf & Adolf"}]
["2021-06-22",{"$f":"IF(ISBLANK(D1178),\"Alain, nix drischribu\",VLOOKUP(D1178,'2021'!$A$11:$G$143,4,FALSE))","v":"Bregy Ralf & Adolf"},{"$f":"VLOOKUP(D1178,'2021'!$A$11:$G$143,2,FALSE)","v":"Canabis"},14,93,{"$f":"VLOOKUP(E1178,'2021'!$A$11:$G$143,2,FALSE)","v":"Tonic"},{"$f":"IF(ISBLANK(E1178),\"hie eu nix drischribu\",VLOOKUP(E1178,'2021'!$A$11:$G$143,4,FALSE))","v":"Williner Anton"}]
["2021-06-22",{"$f":"IF(ISBLANK(D1179),\"Alain, nix drischribu\",VLOOKUP(D1179,'2021'!$A$11:$G$143,4,FALSE))","v":"Zumofen / Gattlen"},{"$f":"VLOOKUP(D1179,'2021'!$A$11:$G$143,2,FALSE)","v":"Fayola"},119,10,{"$f":"VLOOKUP(E1179,'2021'!$A$11:$G$143,2,FALSE)","v":"Diabolo"},{"$f":"IF(ISBLANK(E1179),\"hie eu nix drischribu\",VLOOKUP(E1179,'2021'!$A$11:$G$143,4,FALSE))","v":"Bregy Ralf & Adolf"}]
["2021-06-22",{"$f":"IF(ISBLANK(D1180),\"Alain, nix drischribu\",VLOOKUP(D1180,'2021'!$A$11:$G$143,4,FALSE))","v":"Zumofen / Gattlen"},{"$f":"VLOOKUP(D1180,'2021'!$A$11:$G$143,2,FALSE)","v":"Rigolo"},117,52,{"$f":"VLOOKUP(E1180,'2021'!$A$11:$G$143,2,FALSE)","v":"Pablo"},{"$f":"IF(ISBLANK(E1180),\"hie eu nix drischribu\",VLOOKUP(E1180,'2021'!$A$11:$G$143,4,FALSE))","v":"Hischier Pius"}]
["2021-06-22",{"$f":"IF(ISBLANK(D1181),\"Alain, nix drischribu\",VLOOKUP(D1181,'2021'!$A$11:$G$143,4,FALSE))","v":"Fam. Leiggener"},{"$f":"VLOOKUP(D1181,'2021'!$A$11:$G$143,2,FALSE)","v":"Baron"},28,48,{"$f":"VLOOKUP(E1181,'2021'!$A$11:$G$143,2,FALSE)","v":"Jamada"},{"$f":"IF(ISBLANK(E1181),\"hie eu nix drischribu\",VLOOKUP(E1181,'2021'!$A$11:$G$143,4,FALSE))","v":"Hischier H. & Bühlmann J."}]
["2021-06-22",{"$f":"IF(ISBLANK(D1182),\"Alain, nix drischribu\",VLOOKUP(D1182,'2021'!$A$11:$G$143,4,FALSE))","v":"Wyssen Diego & Madlen"},{"$f":"VLOOKUP(D1182,'2021'!$A$11:$G$143,2,FALSE)","v":"Xhyla"},104,55,{"$f":"VLOOKUP(E1182,'2021'!$A$11:$G$143,2,FALSE)","v":"Mesagne"},{"$f":"IF(ISBLANK(E1182),\"hie eu nix drischribu\",VLOOKUP(E1182,'2021'!$A$11:$G$143,4,FALSE))","v":"Jäger Carlo & Lukas"}]
["2021-06-22",{"$f":"IF(ISBLANK(D1183),\"Alain, nix drischribu\",VLOOKUP(D1183,'2021'!$A$11:$G$143,4,FALSE))","v":"Bregy Ralf & Adolf"},{"$f":"VLOOKUP(D1183,'2021'!$A$11:$G$143,2,FALSE)","v":"Cashida"},15,32,{"$f":"VLOOKUP(E1183,'2021'!$A$11:$G$143,2,FALSE)","v":"Mystic"},{"$f":"IF(ISBLANK(E1183),\"hie eu nix drischribu\",VLOOKUP(E1183,'2021'!$A$11:$G$143,4,FALSE))","v":"Fux W., J., & Wyer Piet"}]
["2021-06-22",{"$f":"IF(ISBLANK(D1184),\"Alain, nix drischribu\",VLOOKUP(D1184,'2021'!$A$11:$G$143,4,FALSE))","v":"Bregy Ralf & Adolf"},{"$f":"VLOOKUP(D1184,'2021'!$A$11:$G$143,2,FALSE)","v":"Flacabre"},6,102,{"$f":"VLOOKUP(E1184,'2021'!$A$11:$G$143,2,FALSE)","v":"Rasta"},{"$f":"IF(ISBLANK(E1184),\"hie eu nix drischribu\",VLOOKUP(E1184,'2021'!$A$11:$G$143,4,FALSE))","v":"Wyssen Diego & Madlen"}]
["2021-06-22",{"$f":"IF(ISBLANK(D1185),\"Alain, nix drischribu\",VLOOKUP(D1185,'2021'!$A$11:$G$143,4,FALSE))","v":"Zumofen / Gattlen"},{"$f":"VLOOKUP(D1185,'2021'!$A$11:$G$143,2,FALSE)","v":"Vanda"},113,15,{"$f":"VLOOKUP(E1185,'2021'!$A$11:$G$143,2,FALSE)","v":"Cashida"},{"$f":"IF(ISBLANK(E1185),\"hie eu nix drischribu\",VLOOKUP(E1185,'2021'!$A$11:$G$143,4,FALSE))","v":"Bregy Ralf & Adolf"}]
["2021-06-22",{"$f":"IF(ISBLANK(D1186),\"Alain, nix drischribu\",VLOOKUP(D1186,'2021'!$A$11:$G$143,4,FALSE))","v":"Zumofen / Gattlen"},{"$f":"VLOOKUP(D1186,'2021'!$A$11:$G$143,2,FALSE)","v":"Violette"},108,8,{"$f":"VLOOKUP(E1186,'2021'!$A$11:$G$143,2,FALSE)","v":"Creola"},{"$f":"IF(ISBLANK(E1186),\"hie eu nix drischribu\",VLOOKUP(E1186,'2021'!$A$11:$G$143,4,FALSE))","v":"Bregy Ralf & Adolf"}]
["2021-06-22",{"$f":"IF(ISBLANK(D1187),\"Alain, nix drischribu\",VLOOKUP(D1187,'2021'!$A$11:$G$143,4,FALSE))","v":"Tscherry Erwin & Bernhard"},{"$f":"VLOOKUP(D1187,'2021'!$A$11:$G$143,2,FALSE)","v":"Carolin"},91,55,{"$f":"VLOOKUP(E1187,'2021'!$A$11:$G$143,2,FALSE)","v":"Mesagne"},{"$f":"IF(ISBLANK(E1187),\"hie eu nix drischribu\",VLOOKUP(E1187,'2021'!$A$11:$G$143,4,FALSE))","v":"Jäger Carlo & Lukas"}]
["2021-06-22",{"$f":"IF(ISBLANK(D1188),\"Alain, nix drischribu\",VLOOKUP(D1188,'2021'!$A$11:$G$143,4,FALSE))","v":"Fux W., J., & Wyer Piet"},{"$f":"VLOOKUP(D1188,'2021'!$A$11:$G$143,2,FALSE)","v":"Bastis"},31,1,{"$f":"VLOOKUP(E1188,'2021'!$A$11:$G$143,2,FALSE)","v":"Venus"},{"$f":"IF(ISBLANK(E1188),\"hie eu nix drischribu\",VLOOKUP(E1188,'2021'!$A$11:$G$143,4,FALSE))","v":"Bayard Medard & Gustav"}]
["2021-06-22",{"$f":"IF(ISBLANK(D1189),\"Alain, nix drischribu\",VLOOKUP(D1189,'2021'!$A$11:$G$143,4,FALSE))","v":"Bayard Medard & Gustav"},{"$f":"VLOOKUP(D1189,'2021'!$A$11:$G$143,2,FALSE)","v":"Venus"},1,88,{"$f":"VLOOKUP(E1189,'2021'!$A$11:$G$143,2,FALSE)","v":"Malice"},{"$f":"IF(ISBLANK(E1189),\"hie eu nix drischribu\",VLOOKUP(E1189,'2021'!$A$11:$G$143,4,FALSE))","v":"Sewer R. & Thommen S."}]
["2021-06-22",{"$f":"IF(ISBLANK(D1190),\"Alain, nix drischribu\",VLOOKUP(D1190,'2021'!$A$11:$G$143,4,FALSE))","v":"Zumofen / Gattlen"},{"$f":"VLOOKUP(D1190,'2021'!$A$11:$G$143,2,FALSE)","v":"Vanda"},113,29,{"$f":"VLOOKUP(E1190,'2021'!$A$11:$G$143,2,FALSE)","v":"Bolero"},{"$f":"IF(ISBLANK(E1190),\"hie eu nix drischribu\",VLOOKUP(E1190,'2021'!$A$11:$G$143,4,FALSE))","v":"Fux W., J., & Wyer Piet"}]
["2021-06-22",{"$f":"IF(ISBLANK(D1191),\"Alain, nix drischribu\",VLOOKUP(D1191,'2021'!$A$11:$G$143,4,FALSE))","v":"Fux W., J., & Wyer Piet"},{"$f":"VLOOKUP(D1191,'2021'!$A$11:$G$143,2,FALSE)","v":"Bolero"},29,117,{"$f":"VLOOKUP(E1191,'2021'!$A$11:$G$143,2,FALSE)","v":"Rigolo"},{"$f":"IF(ISBLANK(E1191),\"hie eu nix drischribu\",VLOOKUP(E1191,'2021'!$A$11:$G$143,4,FALSE))","v":"Zumofen / Gattlen"}]
["2021-06-22",{"$f":"IF(ISBLANK(D1192),\"Alain, nix drischribu\",VLOOKUP(D1192,'2021'!$A$11:$G$143,4,FALSE))","v":"Gebrüder Jäger"},{"$f":"VLOOKUP(D1192,'2021'!$A$11:$G$143,2,FALSE)","v":"Simba"},42,56,{"$f":"VLOOKUP(E1192,'2021'!$A$11:$G$143,2,FALSE)","v":"Mygale"},{"$f":"IF(ISBLANK(E1192),\"hie eu nix drischribu\",VLOOKUP(E1192,'2021'!$A$11:$G$143,4,FALSE))","v":"Jäger Carlo & Lukas"}]
["2021-06-22",{"$f":"IF(ISBLANK(D1193),\"Alain, nix drischribu\",VLOOKUP(D1193,'2021'!$A$11:$G$143,4,FALSE))","v":"Williner Anton"},{"$f":"VLOOKUP(D1193,'2021'!$A$11:$G$143,2,FALSE)","v":"Tira"},98,31,{"$f":"VLOOKUP(E1193,'2021'!$A$11:$G$143,2,FALSE)","v":"Bastis"},{"$f":"IF(ISBLANK(E1193),\"hie eu nix drischribu\",VLOOKUP(E1193,'2021'!$A$11:$G$143,4,FALSE))","v":"Fux W., J., & Wyer Piet"}]
["2021-06-22",{"$f":"IF(ISBLANK(D1194),\"Alain, nix drischribu\",VLOOKUP(D1194,'2021'!$A$11:$G$143,4,FALSE))","v":"Tscherry Erwin & Bernhard"},{"$f":"VLOOKUP(D1194,'2021'!$A$11:$G$143,2,FALSE)","v":"Carolin"},91,41,{"$f":"VLOOKUP(E1194,'2021'!$A$11:$G$143,2,FALSE)","v":"Tara"},{"$f":"IF(ISBLANK(E1194),\"hie eu nix drischribu\",VLOOKUP(E1194,'2021'!$A$11:$G$143,4,FALSE))","v":"Gebrüder Jäger"}]
["2021-06-22",{"$f":"IF(ISBLANK(D1195),\"Alain, nix drischribu\",VLOOKUP(D1195,'2021'!$A$11:$G$143,4,FALSE))","v":"Williner Anton"},{"$f":"VLOOKUP(D1195,'2021'!$A$11:$G$143,2,FALSE)","v":"Vivana"},95,117,{"$f":"VLOOKUP(E1195,'2021'!$A$11:$G$143,2,FALSE)","v":"Rigolo"},{"$f":"IF(ISBLANK(E1195),\"hie eu nix drischribu\",VLOOKUP(E1195,'2021'!$A$11:$G$143,4,FALSE))","v":"Zumofen / Gattlen"}]
["2021-06-22",{"$f":"IF(ISBLANK(D1196),\"Alain, nix drischribu\",VLOOKUP(D1196,'2021'!$A$11:$G$143,4,FALSE))","v":"Tscherry Erwin & Bernhard"},{"$f":"VLOOKUP(D1196,'2021'!$A$11:$G$143,2,FALSE)","v":"Tomba"},92,71,{"$f":"VLOOKUP(E1196,'2021'!$A$11:$G$143,2,FALSE)","v":"Balea"},{"$f":"IF(ISBLANK(E1196),\"hie eu nix drischribu\",VLOOKUP(E1196,'2021'!$A$11:$G$143,4,FALSE))","v":"Mathieu Leander & Sascha"}]
["2021-06-22",{"$f":"IF(ISBLANK(D1197),\"Alain, nix drischribu\",VLOOKUP(D1197,'2021'!$A$11:$G$143,4,FALSE))","v":"Zumofen / Gattlen"},{"$f":"VLOOKUP(D1197,'2021'!$A$11:$G$143,2,FALSE)","v":"Palona"},111,93,{"$f":"VLOOKUP(E1197,'2021'!$A$11:$G$143,2,FALSE)","v":"Tonic"},{"$f":"IF(ISBLANK(E1197),\"hie eu nix drischribu\",VLOOKUP(E1197,'2021'!$A$11:$G$143,4,FALSE))","v":"Williner Anton"}]
["2021-06-22",{"$f":"IF(ISBLANK(D1198),\"Alain, nix drischribu\",VLOOKUP(D1198,'2021'!$A$11:$G$143,4,FALSE))","v":"Stallung zum Stäg"},{"$f":"VLOOKUP(D1198,'2021'!$A$11:$G$143,2,FALSE)","v":"Cayenne"},83,123,{"$f":"VLOOKUP(E1198,'2021'!$A$11:$G$143,2,FALSE)","v":"Fachita"},{"$f":"IF(ISBLANK(E1198),\"hie eu nix drischribu\",VLOOKUP(E1198,'2021'!$A$11:$G$143,4,FALSE))","v":"Zumofen / Gattlen"}]
["2021-06-22",{"$f":"IF(ISBLANK(D1199),\"Alain, nix drischribu\",VLOOKUP(D1199,'2021'!$A$11:$G$143,4,FALSE))","v":"Mathieu Leander & Sascha"},{"$f":"VLOOKUP(D1199,'2021'!$A$11:$G$143,2,FALSE)","v":"Babylon"},72,92,{"$f":"VLOOKUP(E1199,'2021'!$A$11:$G$143,2,FALSE)","v":"Tomba"},{"$f":"IF(ISBLANK(E1199),\"hie eu nix drischribu\",VLOOKUP(E1199,'2021'!$A$11:$G$143,4,FALSE))","v":"Tscherry Erwin & Bernhard"}]
["2021-06-22",{"$f":"IF(ISBLANK(D1200),\"Alain, nix drischribu\",VLOOKUP(D1200,'2021'!$A$11:$G$143,4,FALSE))","v":"Wyssen Diego & Madlen"},{"$f":"VLOOKUP(D1200,'2021'!$A$11:$G$143,2,FALSE)","v":"Rasta"},102,60,{"$f":"VLOOKUP(E1200,'2021'!$A$11:$G$143,2,FALSE)","v":"Bayonne"},{"$f":"IF(ISBLANK(E1200),\"hie eu nix drischribu\",VLOOKUP(E1200,'2021'!$A$11:$G$143,4,FALSE))","v":"Jäger Carlo & Lukas"}]
["2021-06-22",{"$f":"IF(ISBLANK(D1201),\"Alain, nix drischribu\",VLOOKUP(D1201,'2021'!$A$11:$G$143,4,FALSE))","v":"Jäger Carlo & Lukas"},{"$f":"VLOOKUP(D1201,'2021'!$A$11:$G$143,2,FALSE)","v":"Samba"},59,69,{"$f":"VLOOKUP(E1201,'2021'!$A$11:$G$143,2,FALSE)","v":"Bavaria"},{"$f":"IF(ISBLANK(E1201),\"hie eu nix drischribu\",VLOOKUP(E1201,'2021'!$A$11:$G$143,4,FALSE))","v":"Mathieu Leander & Sascha"}]
["2021-06-22",{"$f":"IF(ISBLANK(D1202),\"Alain, nix drischribu\",VLOOKUP(D1202,'2021'!$A$11:$G$143,4,FALSE))","v":"Zumofen / Gattlen"},{"$f":"VLOOKUP(D1202,'2021'!$A$11:$G$143,2,FALSE)","v":"Violin"},107,94,{"$f":"VLOOKUP(E1202,'2021'!$A$11:$G$143,2,FALSE)","v":"Tigra"},{"$f":"IF(ISBLANK(E1202),\"hie eu nix drischribu\",VLOOKUP(E1202,'2021'!$A$11:$G$143,4,FALSE))","v":"Williner Anton"}]
["2021-06-22",{"$f":"IF(ISBLANK(D1203),\"Alain, nix drischribu\",VLOOKUP(D1203,'2021'!$A$11:$G$143,4,FALSE))","v":"Bayard Medard & Gustav"},{"$f":"VLOOKUP(D1203,'2021'!$A$11:$G$143,2,FALSE)","v":"Venus"},1,124,{"$f":"VLOOKUP(E1203,'2021'!$A$11:$G$143,2,FALSE)","v":"Xara"},{"$f":"IF(ISBLANK(E1203),\"hie eu nix drischribu\",VLOOKUP(E1203,'2021'!$A$11:$G$143,4,FALSE))","v":"Zumofen / Gattlen"}]
["2021-06-22",{"$f":"IF(ISBLANK(D1204),\"Alain, nix drischribu\",VLOOKUP(D1204,'2021'!$A$11:$G$143,4,FALSE))","v":"Tscherry Erwin & Bernhard"},{"$f":"VLOOKUP(D1204,'2021'!$A$11:$G$143,2,FALSE)","v":"Tomba"},92,35,{"$f":"VLOOKUP(E1204,'2021'!$A$11:$G$143,2,FALSE)","v":"Pampère"},{"$f":"IF(ISBLANK(E1204),\"hie eu nix drischribu\",VLOOKUP(E1204,'2021'!$A$11:$G$143,4,FALSE))","v":"Fux W., J., & Wyer Piet"}]
["2021-06-22",{"$f":"IF(ISBLANK(D1205),\"Alain, nix drischribu\",VLOOKUP(D1205,'2021'!$A$11:$G$143,4,FALSE))","v":"Bayard Medard & Gustav"},{"$f":"VLOOKUP(D1205,'2021'!$A$11:$G$143,2,FALSE)","v":"Venus"},1,54,{"$f":"VLOOKUP(E1205,'2021'!$A$11:$G$143,2,FALSE)","v":"Flora"},{"$f":"IF(ISBLANK(E1205),\"hie eu nix drischribu\",VLOOKUP(E1205,'2021'!$A$11:$G$143,4,FALSE))","v":"Jäger Carlo & Lukas"}]
["2021-06-22",{"$f":"IF(ISBLANK(D1206),\"Alain, nix drischribu\",VLOOKUP(D1206,'2021'!$A$11:$G$143,4,FALSE))","v":"Jäger Carlo & Lukas"},{"$f":"VLOOKUP(D1206,'2021'!$A$11:$G$143,2,FALSE)","v":"Mygale"},56,99,{"$f":"VLOOKUP(E1206,'2021'!$A$11:$G$143,2,FALSE)","v":"Rijana"},{"$f":"IF(ISBLANK(E1206),\"hie eu nix drischribu\",VLOOKUP(E1206,'2021'!$A$11:$G$143,4,FALSE))","v":"Wyssen Diego & Madlen"}]
["2021-06-22",{"$f":"IF(ISBLANK(D1207),\"Alain, nix drischribu\",VLOOKUP(D1207,'2021'!$A$11:$G$143,4,FALSE))","v":"Stallung Passeraub"},{"$f":"VLOOKUP(D1207,'2021'!$A$11:$G$143,2,FALSE)","v":"Marla"},79,104,{"$f":"VLOOKUP(E1207,'2021'!$A$11:$G$143,2,FALSE)","v":"Xhyla"},{"$f":"IF(ISBLANK(E1207),\"hie eu nix drischribu\",VLOOKUP(E1207,'2021'!$A$11:$G$143,4,FALSE))","v":"Wyssen Diego & Madlen"}]
["2021-06-22",{"$f":"IF(ISBLANK(D1208),\"Alain, nix drischribu\",VLOOKUP(D1208,'2021'!$A$11:$G$143,4,FALSE))","v":"Stallung Passeraub"},{"$f":"VLOOKUP(D1208,'2021'!$A$11:$G$143,2,FALSE)","v":"Marla"},79,102,{"$f":"VLOOKUP(E1208,'2021'!$A$11:$G$143,2,FALSE)","v":"Rasta"},{"$f":"IF(ISBLANK(E1208),\"hie eu nix drischribu\",VLOOKUP(E1208,'2021'!$A$11:$G$143,4,FALSE))","v":"Wyssen Diego & Madlen"}]
["2021-06-22",{"$f":"IF(ISBLANK(D1209),\"Alain, nix drischribu\",VLOOKUP(D1209,'2021'!$A$11:$G$143,4,FALSE))","v":"Bregy Uli / Lisi & Pasci"},{"$f":"VLOOKUP(D1209,'2021'!$A$11:$G$143,2,FALSE)","v":"Xaphir"},22,89,{"$f":"VLOOKUP(E1209,'2021'!$A$11:$G$143,2,FALSE)","v":"Biscot"},{"$f":"IF(ISBLANK(E1209),\"hie eu nix drischribu\",VLOOKUP(E1209,'2021'!$A$11:$G$143,4,FALSE))","v":"Sewer R. & Thommen S."}]
["2021-06-22",{"$f":"IF(ISBLANK(D1210),\"Alain, nix drischribu\",VLOOKUP(D1210,'2021'!$A$11:$G$143,4,FALSE))","v":"Williner Anton"},{"$f":"VLOOKUP(D1210,'2021'!$A$11:$G$143,2,FALSE)","v":"Tonic"},93,42,{"$f":"VLOOKUP(E1210,'2021'!$A$11:$G$143,2,FALSE)","v":"Simba"},{"$f":"IF(ISBLANK(E1210),\"hie eu nix drischribu\",VLOOKUP(E1210,'2021'!$A$11:$G$143,4,FALSE))","v":"Gebrüder Jäger"}]
["2021-06-22",{"$f":"IF(ISBLANK(D1211),\"Alain, nix drischribu\",VLOOKUP(D1211,'2021'!$A$11:$G$143,4,FALSE))","v":"Jäger Carlo & Lukas"},{"$f":"VLOOKUP(D1211,'2021'!$A$11:$G$143,2,FALSE)","v":"Prune"},57,73,{"$f":"VLOOKUP(E1211,'2021'!$A$11:$G$143,2,FALSE)","v":"Bajka"},{"$f":"IF(ISBLANK(E1211),\"hie eu nix drischribu\",VLOOKUP(E1211,'2021'!$A$11:$G$143,4,FALSE))","v":"Stallung Passeraub"}]
["2021-06-22",{"$f":"IF(ISBLANK(D1212),\"Alain, nix drischribu\",VLOOKUP(D1212,'2021'!$A$11:$G$143,4,FALSE))","v":"Zumofen / Gattlen"},{"$f":"VLOOKUP(D1212,'2021'!$A$11:$G$143,2,FALSE)","v":"Pinoccio"},116,65,{"$f":"VLOOKUP(E1212,'2021'!$A$11:$G$143,2,FALSE)","v":"Pivoine"},{"$f":"IF(ISBLANK(E1212),\"hie eu nix drischribu\",VLOOKUP(E1212,'2021'!$A$11:$G$143,4,FALSE))","v":"Jäger Carlo & Lukas"}]
["2021-06-22",{"$f":"IF(ISBLANK(D1213),\"Alain, nix drischribu\",VLOOKUP(D1213,'2021'!$A$11:$G$143,4,FALSE))","v":"Zumofen / Gattlen"},{"$f":"VLOOKUP(D1213,'2021'!$A$11:$G$143,2,FALSE)","v":"Vanda"},113,6,{"$f":"VLOOKUP(E1213,'2021'!$A$11:$G$143,2,FALSE)","v":"Flacabre"},{"$f":"IF(ISBLANK(E1213),\"hie eu nix drischribu\",VLOOKUP(E1213,'2021'!$A$11:$G$143,4,FALSE))","v":"Bregy Ralf & Adolf"}]
["2021-06-22",{"$f":"IF(ISBLANK(D1214),\"Alain, nix drischribu\",VLOOKUP(D1214,'2021'!$A$11:$G$143,4,FALSE))","v":"Bregy Ralf & Adolf"},{"$f":"VLOOKUP(D1214,'2021'!$A$11:$G$143,2,FALSE)","v":"Flacabre"},6,113,{"$f":"VLOOKUP(E1214,'2021'!$A$11:$G$143,2,FALSE)","v":"Vanda"},{"$f":"IF(ISBLANK(E1214),\"hie eu nix drischribu\",VLOOKUP(E1214,'2021'!$A$11:$G$143,4,FALSE))","v":"Zumofen / Gattlen"}]
["2021-06-22",{"$f":"IF(ISBLANK(D1215),\"Alain, nix drischribu\",VLOOKUP(D1215,'2021'!$A$11:$G$143,4,FALSE))","v":"Zumofen / Gattlen"},{"$f":"VLOOKUP(D1215,'2021'!$A$11:$G$143,2,FALSE)","v":"Vanda"},113,6,{"$f":"VLOOKUP(E1215,'2021'!$A$11:$G$143,2,FALSE)","v":"Flacabre"},{"$f":"IF(ISBLANK(E1215),\"hie eu nix drischribu\",VLOOKUP(E1215,'2021'!$A$11:$G$143,4,FALSE))","v":"Bregy Ralf & Adolf"}]
["2021-06-22",{"$f":"IF(ISBLANK(D1216),\"Alain, nix drischribu\",VLOOKUP(D1216,'2021'!$A$11:$G$143,4,FALSE))","v":"Zumofen / Gattlen"},{"$f":"VLOOKUP(D1216,'2021'!$A$11:$G$143,2,FALSE)","v":"Violette"},108,101,{"$f":"VLOOKUP(E1216,'2021'!$A$11:$G$143,2,FALSE)","v":"Xandria"},{"$f":"IF(ISBLANK(E1216),\"hie eu nix drischribu\",VLOOKUP(E1216,'2021'!$A$11:$G$143,4,FALSE))","v":"Wyssen Diego & Madlen"}]
["2021-06-22",{"$f":"IF(ISBLANK(D1217),\"Alain, nix drischribu\",VLOOKUP(D1217,'2021'!$A$11:$G$143,4,FALSE))","v":"Jäger Carlo & Lukas"},{"$f":"VLOOKUP(D1217,'2021'!$A$11:$G$143,2,FALSE)","v":"Taverne"},66,9,{"$f":"VLOOKUP(E1217,'2021'!$A$11:$G$143,2,FALSE)","v":"Coquette"},{"$f":"IF(ISBLANK(E1217),\"hie eu nix drischribu\",VLOOKUP(E1217,'2021'!$A$11:$G$143,4,FALSE))","v":"Bregy Ralf & Adolf"}]
["2021-06-22",{"$f":"IF(ISBLANK(D1218),\"Alain, nix drischribu\",VLOOKUP(D1218,'2021'!$A$11:$G$143,4,FALSE))","v":"Jäger Carlo & Lukas"},{"$f":"VLOOKUP(D1218,'2021'!$A$11:$G$143,2,FALSE)","v":"Caline"},53,71,{"$f":"VLOOKUP(E1218,'2021'!$A$11:$G$143,2,FALSE)","v":"Balea"},{"$f":"IF(ISBLANK(E1218),\"hie eu nix drischribu\",VLOOKUP(E1218,'2021'!$A$11:$G$143,4,FALSE))","v":"Mathieu Leander & Sascha"}]
["2021-06-22",{"$f":"IF(ISBLANK(D1219),\"Alain, nix drischribu\",VLOOKUP(D1219,'2021'!$A$11:$G$143,4,FALSE))","v":"Jäger Carlo & Lukas"},{"$f":"VLOOKUP(D1219,'2021'!$A$11:$G$143,2,FALSE)","v":"Metis"},63,15,{"$f":"VLOOKUP(E1219,'2021'!$A$11:$G$143,2,FALSE)","v":"Cashida"},{"$f":"IF(ISBLANK(E1219),\"hie eu nix drischribu\",VLOOKUP(E1219,'2021'!$A$11:$G$143,4,FALSE))","v":"Bregy Ralf & Adolf"}]
["2021-06-22",{"$f":"IF(ISBLANK(D1220),\"Alain, nix drischribu\",VLOOKUP(D1220,'2021'!$A$11:$G$143,4,FALSE))","v":"Zumofen / Gattlen"},{"$f":"VLOOKUP(D1220,'2021'!$A$11:$G$143,2,FALSE)","v":"Violette"},108,6,{"$f":"VLOOKUP(E1220,'2021'!$A$11:$G$143,2,FALSE)","v":"Flacabre"},{"$f":"IF(ISBLANK(E1220),\"hie eu nix drischribu\",VLOOKUP(E1220,'2021'!$A$11:$G$143,4,FALSE))","v":"Bregy Ralf & Adolf"}]
["2021-06-22",{"$f":"IF(ISBLANK(D1221),\"Alain, nix drischribu\",VLOOKUP(D1221,'2021'!$A$11:$G$143,4,FALSE))","v":"Bregy Ralf & Adolf"},{"$f":"VLOOKUP(D1221,'2021'!$A$11:$G$143,2,FALSE)","v":"Flacabre"},6,66,{"$f":"VLOOKUP(E1221,'2021'!$A$11:$G$143,2,FALSE)","v":"Taverne"},{"$f":"IF(ISBLANK(E1221),\"hie eu nix drischribu\",VLOOKUP(E1221,'2021'!$A$11:$G$143,4,FALSE))","v":"Jäger Carlo & Lukas"}]
["2021-06-22",{"$f":"IF(ISBLANK(D1222),\"Alain, nix drischribu\",VLOOKUP(D1222,'2021'!$A$11:$G$143,4,FALSE))","v":"Bregy Silvan & Patrik"},{"$f":"VLOOKUP(D1222,'2021'!$A$11:$G$143,2,FALSE)","v":"Milow"},12,65,{"$f":"VLOOKUP(E1222,'2021'!$A$11:$G$143,2,FALSE)","v":"Pivoine"},{"$f":"IF(ISBLANK(E1222),\"hie eu nix drischribu\",VLOOKUP(E1222,'2021'!$A$11:$G$143,4,FALSE))","v":"Jäger Carlo & Lukas"}]
["2021-06-22",{"$f":"IF(ISBLANK(D1223),\"Alain, nix drischribu\",VLOOKUP(D1223,'2021'!$A$11:$G$143,4,FALSE))","v":"Wyssen Diego & Madlen"},{"$f":"VLOOKUP(D1223,'2021'!$A$11:$G$143,2,FALSE)","v":"Xena"},103,79,{"$f":"VLOOKUP(E1223,'2021'!$A$11:$G$143,2,FALSE)","v":"Marla"},{"$f":"IF(ISBLANK(E1223),\"hie eu nix drischribu\",VLOOKUP(E1223,'2021'!$A$11:$G$143,4,FALSE))","v":"Stallung Passeraub"}]
["2021-06-22",{"$f":"IF(ISBLANK(D1224),\"Alain, nix drischribu\",VLOOKUP(D1224,'2021'!$A$11:$G$143,4,FALSE))","v":"Gebrüder Jäger"},{"$f":"VLOOKUP(D1224,'2021'!$A$11:$G$143,2,FALSE)","v":"Dorina"},43,3,{"$f":"VLOOKUP(E1224,'2021'!$A$11:$G$143,2,FALSE)","v":"Priska"},{"$f":"IF(ISBLANK(E1224),\"hie eu nix drischribu\",VLOOKUP(E1224,'2021'!$A$11:$G$143,4,FALSE))","v":"Bayard Medard & Gustav"}]
["2021-06-22",{"$f":"IF(ISBLANK(D1225),\"Alain, nix drischribu\",VLOOKUP(D1225,'2021'!$A$11:$G$143,4,FALSE))","v":"Jäger Carlo & Lukas"},{"$f":"VLOOKUP(D1225,'2021'!$A$11:$G$143,2,FALSE)","v":"Prune"},57,75,{"$f":"VLOOKUP(E1225,'2021'!$A$11:$G$143,2,FALSE)","v":"Menance"},{"$f":"IF(ISBLANK(E1225),\"hie eu nix drischribu\",VLOOKUP(E1225,'2021'!$A$11:$G$143,4,FALSE))","v":"Stallung Passeraub"}]
["2021-06-22",{"$f":"IF(ISBLANK(D1226),\"Alain, nix drischribu\",VLOOKUP(D1226,'2021'!$A$11:$G$143,4,FALSE))","v":"Wyssen Diego & Madlen"},{"$f":"VLOOKUP(D1226,'2021'!$A$11:$G$143,2,FALSE)","v":"Rasta"},102,75,{"$f":"VLOOKUP(E1226,'2021'!$A$11:$G$143,2,FALSE)","v":"Menance"},{"$f":"IF(ISBLANK(E1226),\"hie eu nix drischribu\",VLOOKUP(E1226,'2021'!$A$11:$G$143,4,FALSE))","v":"Stallung Passeraub"}]
["2021-06-22",{"$f":"IF(ISBLANK(D1227),\"Alain, nix drischribu\",VLOOKUP(D1227,'2021'!$A$11:$G$143,4,FALSE))","v":"Jäger Carlo & Lukas"},{"$f":"VLOOKUP(D1227,'2021'!$A$11:$G$143,2,FALSE)","v":"Pivoine"},65,72,{"$f":"VLOOKUP(E1227,'2021'!$A$11:$G$143,2,FALSE)","v":"Babylon"},{"$f":"IF(ISBLANK(E1227),\"hie eu nix drischribu\",VLOOKUP(E1227,'2021'!$A$11:$G$143,4,FALSE))","v":"Mathieu Leander & Sascha"}]
["2021-06-22",{"$f":"IF(ISBLANK(D1228),\"Alain, nix drischribu\",VLOOKUP(D1228,'2021'!$A$11:$G$143,4,FALSE))","v":"Bregy Ralf & Adolf"},{"$f":"VLOOKUP(D1228,'2021'!$A$11:$G$143,2,FALSE)","v":"Flacabre"},6,103,{"$f":"VLOOKUP(E1228,'2021'!$A$11:$G$143,2,FALSE)","v":"Xena"},{"$f":"IF(ISBLANK(E1228),\"hie eu nix drischribu\",VLOOKUP(E1228,'2021'!$A$11:$G$143,4,FALSE))","v":"Wyssen Diego & Madlen"}]
["2021-06-22",{"$f":"IF(ISBLANK(D1229),\"Alain, nix drischribu\",VLOOKUP(D1229,'2021'!$A$11:$G$143,4,FALSE))","v":"Sewer R. & Thommen S."},{"$f":"VLOOKUP(D1229,'2021'!$A$11:$G$143,2,FALSE)","v":"Samantha"},85,30,{"$f":"VLOOKUP(E1229,'2021'!$A$11:$G$143,2,FALSE)","v":"Diamant"},{"$f":"IF(ISBLANK(E1229),\"hie eu nix drischribu\",VLOOKUP(E1229,'2021'!$A$11:$G$143,4,FALSE))","v":"Fux W., J., & Wyer Piet"}]
["2021-06-22",{"$f":"IF(ISBLANK(D1230),\"Alain, nix drischribu\",VLOOKUP(D1230,'2021'!$A$11:$G$143,4,FALSE))","v":"Zumofen / Gattlen"},{"$f":"VLOOKUP(D1230,'2021'!$A$11:$G$143,2,FALSE)","v":"Xara"},124,74,{"$f":"VLOOKUP(E1230,'2021'!$A$11:$G$143,2,FALSE)","v":"Beryl"},{"$f":"IF(ISBLANK(E1230),\"hie eu nix drischribu\",VLOOKUP(E1230,'2021'!$A$11:$G$143,4,FALSE))","v":"Stallung Passeraub"}]
["2021-06-22",{"$f":"IF(ISBLANK(D1231),\"Alain, nix drischribu\",VLOOKUP(D1231,'2021'!$A$11:$G$143,4,FALSE))","v":"Sewer R. & Thommen S."},{"$f":"VLOOKUP(D1231,'2021'!$A$11:$G$143,2,FALSE)","v":"Samantha"},85,31,{"$f":"VLOOKUP(E1231,'2021'!$A$11:$G$143,2,FALSE)","v":"Bastis"},{"$f":"IF(ISBLANK(E1231),\"hie eu nix drischribu\",VLOOKUP(E1231,'2021'!$A$11:$G$143,4,FALSE))","v":"Fux W., J., & Wyer Piet"}]
["2021-06-22",{"$f":"IF(ISBLANK(D1232),\"Alain, nix drischribu\",VLOOKUP(D1232,'2021'!$A$11:$G$143,4,FALSE))","v":"Jäger Carlo & Lukas"},{"$f":"VLOOKUP(D1232,'2021'!$A$11:$G$143,2,FALSE)","v":"Pivoine"},65,100,{"$f":"VLOOKUP(E1232,'2021'!$A$11:$G$143,2,FALSE)","v":"Xantara"},{"$f":"IF(ISBLANK(E1232),\"hie eu nix drischribu\",VLOOKUP(E1232,'2021'!$A$11:$G$143,4,FALSE))","v":"Wyssen Diego & Madlen"}]
["2021-06-22",{"$f":"IF(ISBLANK(D1233),\"Alain, nix drischribu\",VLOOKUP(D1233,'2021'!$A$11:$G$143,4,FALSE))","v":"Fux W., J., & Wyer Piet"},{"$f":"VLOOKUP(D1233,'2021'!$A$11:$G$143,2,FALSE)","v":"Bastis"},31,88,{"$f":"VLOOKUP(E1233,'2021'!$A$11:$G$143,2,FALSE)","v":"Malice"},{"$f":"IF(ISBLANK(E1233),\"hie eu nix drischribu\",VLOOKUP(E1233,'2021'!$A$11:$G$143,4,FALSE))","v":"Sewer R. & Thommen S."}]
["2021-06-22",{"$f":"IF(ISBLANK(D1234),\"Alain, nix drischribu\",VLOOKUP(D1234,'2021'!$A$11:$G$143,4,FALSE))","v":"Jäger Carlo & Lukas"},{"$f":"VLOOKUP(D1234,'2021'!$A$11:$G$143,2,FALSE)","v":"Metis"},63,15,{"$f":"VLOOKUP(E1234,'2021'!$A$11:$G$143,2,FALSE)","v":"Cashida"},{"$f":"IF(ISBLANK(E1234),\"hie eu nix drischribu\",VLOOKUP(E1234,'2021'!$A$11:$G$143,4,FALSE))","v":"Bregy Ralf & Adolf"}]
["2021-06-22",{"$f":"IF(ISBLANK(D1235),\"Alain, nix drischribu\",VLOOKUP(D1235,'2021'!$A$11:$G$143,4,FALSE))","v":"Bregy Ralf & Adolf"},{"$f":"VLOOKUP(D1235,'2021'!$A$11:$G$143,2,FALSE)","v":"Cashida"},15,64,{"$f":"VLOOKUP(E1235,'2021'!$A$11:$G$143,2,FALSE)","v":"Sera"},{"$f":"IF(ISBLANK(E1235),\"hie eu nix drischribu\",VLOOKUP(E1235,'2021'!$A$11:$G$143,4,FALSE))","v":"Jäger Carlo & Lukas"}]
["2021-06-22",{"$f":"IF(ISBLANK(D1236),\"Alain, nix drischribu\",VLOOKUP(D1236,'2021'!$A$11:$G$143,4,FALSE))","v":"Zumofen / Gattlen"},{"$f":"VLOOKUP(D1236,'2021'!$A$11:$G$143,2,FALSE)","v":"Fayola"},119,43,{"$f":"VLOOKUP(E1236,'2021'!$A$11:$G$143,2,FALSE)","v":"Dorina"},{"$f":"IF(ISBLANK(E1236),\"hie eu nix drischribu\",VLOOKUP(E1236,'2021'!$A$11:$G$143,4,FALSE))","v":"Gebrüder Jäger"}]
["2021-06-22",{"$f":"IF(ISBLANK(D1237),\"Alain, nix drischribu\",VLOOKUP(D1237,'2021'!$A$11:$G$143,4,FALSE))","v":"Wyssen Diego & Madlen"},{"$f":"VLOOKUP(D1237,'2021'!$A$11:$G$143,2,FALSE)","v":"Xena"},103,67,{"$f":"VLOOKUP(E1237,'2021'!$A$11:$G$143,2,FALSE)","v":"Tokio"},{"$f":"IF(ISBLANK(E1237),\"hie eu nix drischribu\",VLOOKUP(E1237,'2021'!$A$11:$G$143,4,FALSE))","v":"Jäger Carlo & Lukas"}]
["2021-06-22",{"$f":"IF(ISBLANK(D1238),\"Alain, nix drischribu\",VLOOKUP(D1238,'2021'!$A$11:$G$143,4,FALSE))","v":"Zumofen / Gattlen"},{"$f":"VLOOKUP(D1238,'2021'!$A$11:$G$143,2,FALSE)","v":"Fayola"},119,13,{"$f":"VLOOKUP(E1238,'2021'!$A$11:$G$143,2,FALSE)","v":"Tequilla"},{"$f":"IF(ISBLANK(E1238),\"hie eu nix drischribu\",VLOOKUP(E1238,'2021'!$A$11:$G$143,4,FALSE))","v":"Bregy Silvan & Patrik"}]
["2021-06-22",{"$f":"IF(ISBLANK(D1239),\"Alain, nix drischribu\",VLOOKUP(D1239,'2021'!$A$11:$G$143,4,FALSE))","v":"Williner Anton"},{"$f":"VLOOKUP(D1239,'2021'!$A$11:$G$143,2,FALSE)","v":"Tira"},98,60,{"$f":"VLOOKUP(E1239,'2021'!$A$11:$G$143,2,FALSE)","v":"Bayonne"},{"$f":"IF(ISBLANK(E1239),\"hie eu nix drischribu\",VLOOKUP(E1239,'2021'!$A$11:$G$143,4,FALSE))","v":"Jäger Carlo & Lukas"}]
["2021-06-21",{"$f":"IF(ISBLANK(D1240),\"Alain, nix drischribu\",VLOOKUP(D1240,'2021'!$A$11:$G$143,4,FALSE))","v":"Zumofen / Gattlen"},{"$f":"VLOOKUP(D1240,'2021'!$A$11:$G$143,2,FALSE)","v":"Fayola"},119,24,{"$f":"VLOOKUP(E1240,'2021'!$A$11:$G$143,2,FALSE)","v":"Catalina"},{"$f":"IF(ISBLANK(E1240),\"hie eu nix drischribu\",VLOOKUP(E1240,'2021'!$A$11:$G$143,4,FALSE))","v":"Bregy Uli / Lisi & Pasci"}]
["2021-06-21",{"$f":"IF(ISBLANK(D1241),\"Alain, nix drischribu\",VLOOKUP(D1241,'2021'!$A$11:$G$143,4,FALSE))","v":"Zumofen / Gattlen"},{"$f":"VLOOKUP(D1241,'2021'!$A$11:$G$143,2,FALSE)","v":"Rambo"},120,24,{"$f":"VLOOKUP(E1241,'2021'!$A$11:$G$143,2,FALSE)","v":"Catalina"},{"$f":"IF(ISBLANK(E1241),\"hie eu nix drischribu\",VLOOKUP(E1241,'2021'!$A$11:$G$143,4,FALSE))","v":"Bregy Uli / Lisi & Pasci"}]
["2021-06-21",{"$f":"IF(ISBLANK(D1242),\"Alain, nix drischribu\",VLOOKUP(D1242,'2021'!$A$11:$G$143,4,FALSE))","v":"Bregy Ralf & Adolf"},{"$f":"VLOOKUP(D1242,'2021'!$A$11:$G$143,2,FALSE)","v":"Canaille"},7,119,{"$f":"VLOOKUP(E1242,'2021'!$A$11:$G$143,2,FALSE)","v":"Fayola"},{"$f":"IF(ISBLANK(E1242),\"hie eu nix drischribu\",VLOOKUP(E1242,'2021'!$A$11:$G$143,4,FALSE))","v":"Zumofen / Gattlen"}]
["2021-06-21",{"$f":"IF(ISBLANK(D1243),\"Alain, nix drischribu\",VLOOKUP(D1243,'2021'!$A$11:$G$143,4,FALSE))","v":"Stallung Passeraub"},{"$f":"VLOOKUP(D1243,'2021'!$A$11:$G$143,2,FALSE)","v":"Beres"},77,123,{"$f":"VLOOKUP(E1243,'2021'!$A$11:$G$143,2,FALSE)","v":"Fachita"},{"$f":"IF(ISBLANK(E1243),\"hie eu nix drischribu\",VLOOKUP(E1243,'2021'!$A$11:$G$143,4,FALSE))","v":"Zumofen / Gattlen"}]
["2021-06-21",{"$f":"IF(ISBLANK(D1244),\"Alain, nix drischribu\",VLOOKUP(D1244,'2021'!$A$11:$G$143,4,FALSE))","v":"Wyssen Diego & Madlen"},{"$f":"VLOOKUP(D1244,'2021'!$A$11:$G$143,2,FALSE)","v":"Xantara"},100,91,{"$f":"VLOOKUP(E1244,'2021'!$A$11:$G$143,2,FALSE)","v":"Carolin"},{"$f":"IF(ISBLANK(E1244),\"hie eu nix drischribu\",VLOOKUP(E1244,'2021'!$A$11:$G$143,4,FALSE))","v":"Tscherry Erwin & Bernhard"}]
["2021-06-21",{"$f":"IF(ISBLANK(D1245),\"Alain, nix drischribu\",VLOOKUP(D1245,'2021'!$A$11:$G$143,4,FALSE))","v":"Tscherry Erwin & Bernhard"},{"$f":"VLOOKUP(D1245,'2021'!$A$11:$G$143,2,FALSE)","v":"Carolin"},91,99,{"$f":"VLOOKUP(E1245,'2021'!$A$11:$G$143,2,FALSE)","v":"Rijana"},{"$f":"IF(ISBLANK(E1245),\"hie eu nix drischribu\",VLOOKUP(E1245,'2021'!$A$11:$G$143,4,FALSE))","v":"Wyssen Diego & Madlen"}]
["2021-06-21",{"$f":"IF(ISBLANK(D1246),\"Alain, nix drischribu\",VLOOKUP(D1246,'2021'!$A$11:$G$143,4,FALSE))","v":"Zumofen / Gattlen"},{"$f":"VLOOKUP(D1246,'2021'!$A$11:$G$143,2,FALSE)","v":"Fachita"},123,73,{"$f":"VLOOKUP(E1246,'2021'!$A$11:$G$143,2,FALSE)","v":"Bajka"},{"$f":"IF(ISBLANK(E1246),\"hie eu nix drischribu\",VLOOKUP(E1246,'2021'!$A$11:$G$143,4,FALSE))","v":"Stallung Passeraub"}]
["2021-06-21",{"$f":"IF(ISBLANK(D1247),\"Alain, nix drischribu\",VLOOKUP(D1247,'2021'!$A$11:$G$143,4,FALSE))","v":"Jäger Carlo & Lukas"},{"$f":"VLOOKUP(D1247,'2021'!$A$11:$G$143,2,FALSE)","v":"Megane"},62,26,{"$f":"VLOOKUP(E1247,'2021'!$A$11:$G$143,2,FALSE)","v":"Cataleya"},{"$f":"IF(ISBLANK(E1247),\"hie eu nix drischribu\",VLOOKUP(E1247,'2021'!$A$11:$G$143,4,FALSE))","v":"Bregy Uli / Lisi & Pasci"}]
["2021-06-21",{"$f":"IF(ISBLANK(D1248),\"Alain, nix drischribu\",VLOOKUP(D1248,'2021'!$A$11:$G$143,4,FALSE))","v":"Zumofen / Gattlen"},{"$f":"VLOOKUP(D1248,'2021'!$A$11:$G$143,2,FALSE)","v":"Xana"},122,43,{"$f":"VLOOKUP(E1248,'2021'!$A$11:$G$143,2,FALSE)","v":"Dorina"},{"$f":"IF(ISBLANK(E1248),\"hie eu nix drischribu\",VLOOKUP(E1248,'2021'!$A$11:$G$143,4,FALSE))","v":"Gebrüder Jäger"}]
["2021-06-21",{"$f":"IF(ISBLANK(D1249),\"Alain, nix drischribu\",VLOOKUP(D1249,'2021'!$A$11:$G$143,4,FALSE))","v":"Bregy Uli / Lisi & Pasci"},{"$f":"VLOOKUP(D1249,'2021'!$A$11:$G$143,2,FALSE)","v":"Murphy"},16,63,{"$f":"VLOOKUP(E1249,'2021'!$A$11:$G$143,2,FALSE)","v":"Metis"},{"$f":"IF(ISBLANK(E1249),\"hie eu nix drischribu\",VLOOKUP(E1249,'2021'!$A$11:$G$143,4,FALSE))","v":"Jäger Carlo & Lukas"}]
["2021-06-21",{"$f":"IF(ISBLANK(D1250),\"Alain, nix drischribu\",VLOOKUP(D1250,'2021'!$A$11:$G$143,4,FALSE))","v":"Bregy Ralf & Adolf"},{"$f":"VLOOKUP(D1250,'2021'!$A$11:$G$143,2,FALSE)","v":"Canaille"},7,56,{"$f":"VLOOKUP(E1250,'2021'!$A$11:$G$143,2,FALSE)","v":"Mygale"},{"$f":"IF(ISBLANK(E1250),\"hie eu nix drischribu\",VLOOKUP(E1250,'2021'!$A$11:$G$143,4,FALSE))","v":"Jäger Carlo & Lukas"}]
["2021-06-21",{"$f":"IF(ISBLANK(D1251),\"Alain, nix drischribu\",VLOOKUP(D1251,'2021'!$A$11:$G$143,4,FALSE))","v":"Williner Anton"},{"$f":"VLOOKUP(D1251,'2021'!$A$11:$G$143,2,FALSE)","v":"Vanessa"},96,31,{"$f":"VLOOKUP(E1251,'2021'!$A$11:$G$143,2,FALSE)","v":"Bastis"},{"$f":"IF(ISBLANK(E1251),\"hie eu nix drischribu\",VLOOKUP(E1251,'2021'!$A$11:$G$143,4,FALSE))","v":"Fux W., J., & Wyer Piet"}]
["2021-06-21",{"$f":"IF(ISBLANK(D1252),\"Alain, nix drischribu\",VLOOKUP(D1252,'2021'!$A$11:$G$143,4,FALSE))","v":"Gebrüder Jäger"},{"$f":"VLOOKUP(D1252,'2021'!$A$11:$G$143,2,FALSE)","v":"Tara"},41,100,{"$f":"VLOOKUP(E1252,'2021'!$A$11:$G$143,2,FALSE)","v":"Xantara"},{"$f":"IF(ISBLANK(E1252),\"hie eu nix drischribu\",VLOOKUP(E1252,'2021'!$A$11:$G$143,4,FALSE))","v":"Wyssen Diego & Madlen"}]
["2021-06-21",{"$f":"IF(ISBLANK(D1253),\"Alain, nix drischribu\",VLOOKUP(D1253,'2021'!$A$11:$G$143,4,FALSE))","v":"Mathieu Leander & Sascha"},{"$f":"VLOOKUP(D1253,'2021'!$A$11:$G$143,2,FALSE)","v":"Babylon"},72,30,{"$f":"VLOOKUP(E1253,'2021'!$A$11:$G$143,2,FALSE)","v":"Diamant"},{"$f":"IF(ISBLANK(E1253),\"hie eu nix drischribu\",VLOOKUP(E1253,'2021'!$A$11:$G$143,4,FALSE))","v":"Fux W., J., & Wyer Piet"}]
["2021-06-21",{"$f":"IF(ISBLANK(D1254),\"Alain, nix drischribu\",VLOOKUP(D1254,'2021'!$A$11:$G$143,4,FALSE))","v":"Fux W., J., & Wyer Piet"},{"$f":"VLOOKUP(D1254,'2021'!$A$11:$G$143,2,FALSE)","v":"Bastis"},31,69,{"$f":"VLOOKUP(E1254,'2021'!$A$11:$G$143,2,FALSE)","v":"Bavaria"},{"$f":"IF(ISBLANK(E1254),\"hie eu nix drischribu\",VLOOKUP(E1254,'2021'!$A$11:$G$143,4,FALSE))","v":"Mathieu Leander & Sascha"}]
["2021-06-21",{"$f":"IF(ISBLANK(D1255),\"Alain, nix drischribu\",VLOOKUP(D1255,'2021'!$A$11:$G$143,4,FALSE))","v":"Bregy Uli / Lisi & Pasci"},{"$f":"VLOOKUP(D1255,'2021'!$A$11:$G$143,2,FALSE)","v":"Tiranie"},19,124,{"$f":"VLOOKUP(E1255,'2021'!$A$11:$G$143,2,FALSE)","v":"Xara"},{"$f":"IF(ISBLANK(E1255),\"hie eu nix drischribu\",VLOOKUP(E1255,'2021'!$A$11:$G$143,4,FALSE))","v":"Zumofen / Gattlen"}]
["2021-06-21",{"$f":"IF(ISBLANK(D1256),\"Alain, nix drischribu\",VLOOKUP(D1256,'2021'!$A$11:$G$143,4,FALSE))","v":"Zumofen / Gattlen"},{"$f":"VLOOKUP(D1256,'2021'!$A$11:$G$143,2,FALSE)","v":"Vanda"},113,94,{"$f":"VLOOKUP(E1256,'2021'!$A$11:$G$143,2,FALSE)","v":"Tigra"},{"$f":"IF(ISBLANK(E1256),\"hie eu nix drischribu\",VLOOKUP(E1256,'2021'!$A$11:$G$143,4,FALSE))","v":"Williner Anton"}]
["2021-06-21",{"$f":"IF(ISBLANK(D1257),\"Alain, nix drischribu\",VLOOKUP(D1257,'2021'!$A$11:$G$143,4,FALSE))","v":"Jäger Carlo & Lukas"},{"$f":"VLOOKUP(D1257,'2021'!$A$11:$G$143,2,FALSE)","v":"Sera"},64,22,{"$f":"VLOOKUP(E1257,'2021'!$A$11:$G$143,2,FALSE)","v":"Xaphir"},{"$f":"IF(ISBLANK(E1257),\"hie eu nix drischribu\",VLOOKUP(E1257,'2021'!$A$11:$G$143,4,FALSE))","v":"Bregy Uli / Lisi & Pasci"}]
["2021-06-21",{"$f":"IF(ISBLANK(D1258),\"Alain, nix drischribu\",VLOOKUP(D1258,'2021'!$A$11:$G$143,4,FALSE))","v":"Jäger Carlo & Lukas"},{"$f":"VLOOKUP(D1258,'2021'!$A$11:$G$143,2,FALSE)","v":"Sera"},64,100,{"$f":"VLOOKUP(E1258,'2021'!$A$11:$G$143,2,FALSE)","v":"Xantara"},{"$f":"IF(ISBLANK(E1258),\"hie eu nix drischribu\",VLOOKUP(E1258,'2021'!$A$11:$G$143,4,FALSE))","v":"Wyssen Diego & Madlen"}]
["2021-06-21",{"$f":"IF(ISBLANK(D1259),\"Alain, nix drischribu\",VLOOKUP(D1259,'2021'!$A$11:$G$143,4,FALSE))","v":"Jäger Carlo & Lukas"},{"$f":"VLOOKUP(D1259,'2021'!$A$11:$G$143,2,FALSE)","v":"Sera"},64,12,{"$f":"VLOOKUP(E1259,'2021'!$A$11:$G$143,2,FALSE)","v":"Milow"},{"$f":"IF(ISBLANK(E1259),\"hie eu nix drischribu\",VLOOKUP(E1259,'2021'!$A$11:$G$143,4,FALSE))","v":"Bregy Silvan & Patrik"}]
["2021-06-21",{"$f":"IF(ISBLANK(D1260),\"Alain, nix drischribu\",VLOOKUP(D1260,'2021'!$A$11:$G$143,4,FALSE))","v":"Bregy Ralf & Adolf"},{"$f":"VLOOKUP(D1260,'2021'!$A$11:$G$143,2,FALSE)","v":"Coquette"},9,75,{"$f":"VLOOKUP(E1260,'2021'!$A$11:$G$143,2,FALSE)","v":"Menance"},{"$f":"IF(ISBLANK(E1260),\"hie eu nix drischribu\",VLOOKUP(E1260,'2021'!$A$11:$G$143,4,FALSE))","v":"Stallung Passeraub"}]
["2021-06-21",{"$f":"IF(ISBLANK(D1261),\"Alain, nix drischribu\",VLOOKUP(D1261,'2021'!$A$11:$G$143,4,FALSE))","v":"Williner Anton"},{"$f":"VLOOKUP(D1261,'2021'!$A$11:$G$143,2,FALSE)","v":"Vivana"},95,37,{"$f":"VLOOKUP(E1261,'2021'!$A$11:$G$143,2,FALSE)","v":"Toscana"},{"$f":"IF(ISBLANK(E1261),\"hie eu nix drischribu\",VLOOKUP(E1261,'2021'!$A$11:$G$143,4,FALSE))","v":"Fux W., J., & Wyer Piet"}]
["2021-06-21",{"$f":"IF(ISBLANK(D1262),\"Alain, nix drischribu\",VLOOKUP(D1262,'2021'!$A$11:$G$143,4,FALSE))","v":"Stallung Passeraub"},{"$f":"VLOOKUP(D1262,'2021'!$A$11:$G$143,2,FALSE)","v":"Beres"},77,54,{"$f":"VLOOKUP(E1262,'2021'!$A$11:$G$143,2,FALSE)","v":"Flora"},{"$f":"IF(ISBLANK(E1262),\"hie eu nix drischribu\",VLOOKUP(E1262,'2021'!$A$11:$G$143,4,FALSE))","v":"Jäger Carlo & Lukas"}]
["2021-06-21",{"$f":"IF(ISBLANK(D1263),\"Alain, nix drischribu\",VLOOKUP(D1263,'2021'!$A$11:$G$143,4,FALSE))","v":"Bregy Silvan & Patrik"},{"$f":"VLOOKUP(D1263,'2021'!$A$11:$G$143,2,FALSE)","v":"Tequilla"},13,97,{"$f":"VLOOKUP(E1263,'2021'!$A$11:$G$143,2,FALSE)","v":"Violine"},{"$f":"IF(ISBLANK(E1263),\"hie eu nix drischribu\",VLOOKUP(E1263,'2021'!$A$11:$G$143,4,FALSE))","v":"Williner Anton"}]
["2021-06-21",{"$f":"IF(ISBLANK(D1264),\"Alain, nix drischribu\",VLOOKUP(D1264,'2021'!$A$11:$G$143,4,FALSE))","v":"Zumofen / Gattlen"},{"$f":"VLOOKUP(D1264,'2021'!$A$11:$G$143,2,FALSE)","v":"Xana"},122,102,{"$f":"VLOOKUP(E1264,'2021'!$A$11:$G$143,2,FALSE)","v":"Rasta"},{"$f":"IF(ISBLANK(E1264),\"hie eu nix drischribu\",VLOOKUP(E1264,'2021'!$A$11:$G$143,4,FALSE))","v":"Wyssen Diego & Madlen"}]
["2021-06-21",{"$f":"IF(ISBLANK(D1265),\"Alain, nix drischribu\",VLOOKUP(D1265,'2021'!$A$11:$G$143,4,FALSE))","v":"Jäger Carlo & Lukas"},{"$f":"VLOOKUP(D1265,'2021'!$A$11:$G$143,2,FALSE)","v":"Sera"},64,43,{"$f":"VLOOKUP(E1265,'2021'!$A$11:$G$143,2,FALSE)","v":"Dorina"},{"$f":"IF(ISBLANK(E1265),\"hie eu nix drischribu\",VLOOKUP(E1265,'2021'!$A$11:$G$143,4,FALSE))","v":"Gebrüder Jäger"}]
["2021-06-21",{"$f":"IF(ISBLANK(D1266),\"Alain, nix drischribu\",VLOOKUP(D1266,'2021'!$A$11:$G$143,4,FALSE))","v":"Gebrüder Jäger"},{"$f":"VLOOKUP(D1266,'2021'!$A$11:$G$143,2,FALSE)","v":"Dorina"},43,47,{"$f":"VLOOKUP(E1266,'2021'!$A$11:$G$143,2,FALSE)","v":"Lenja"},{"$f":"IF(ISBLANK(E1266),\"hie eu nix drischribu\",VLOOKUP(E1266,'2021'!$A$11:$G$143,4,FALSE))","v":"Hischier H. & Bühlmann J."}]
["2021-06-21",{"$f":"IF(ISBLANK(D1267),\"Alain, nix drischribu\",VLOOKUP(D1267,'2021'!$A$11:$G$143,4,FALSE))","v":"Jäger Carlo & Lukas"},{"$f":"VLOOKUP(D1267,'2021'!$A$11:$G$143,2,FALSE)","v":"Bayonne"},60,99,{"$f":"VLOOKUP(E1267,'2021'!$A$11:$G$143,2,FALSE)","v":"Rijana"},{"$f":"IF(ISBLANK(E1267),\"hie eu nix drischribu\",VLOOKUP(E1267,'2021'!$A$11:$G$143,4,FALSE))","v":"Wyssen Diego & Madlen"}]
["2021-06-21",{"$f":"IF(ISBLANK(D1268),\"Alain, nix drischribu\",VLOOKUP(D1268,'2021'!$A$11:$G$143,4,FALSE))","v":"Fux W., J., & Wyer Piet"},{"$f":"VLOOKUP(D1268,'2021'!$A$11:$G$143,2,FALSE)","v":"Bacardi"},39,111,{"$f":"VLOOKUP(E1268,'2021'!$A$11:$G$143,2,FALSE)","v":"Palona"},{"$f":"IF(ISBLANK(E1268),\"hie eu nix drischribu\",VLOOKUP(E1268,'2021'!$A$11:$G$143,4,FALSE))","v":"Zumofen / Gattlen"}]
["2021-06-21",{"$f":"IF(ISBLANK(D1269),\"Alain, nix drischribu\",VLOOKUP(D1269,'2021'!$A$11:$G$143,4,FALSE))","v":"Bregy Ralf & Adolf"},{"$f":"VLOOKUP(D1269,'2021'!$A$11:$G$143,2,FALSE)","v":"Diabolo"},10,95,{"$f":"VLOOKUP(E1269,'2021'!$A$11:$G$143,2,FALSE)","v":"Vivana"},{"$f":"IF(ISBLANK(E1269),\"hie eu nix drischribu\",VLOOKUP(E1269,'2021'!$A$11:$G$143,4,FALSE))","v":"Williner Anton"}]
["2021-06-21",{"$f":"IF(ISBLANK(D1270),\"Alain, nix drischribu\",VLOOKUP(D1270,'2021'!$A$11:$G$143,4,FALSE))","v":"Zumofen / Gattlen"},{"$f":"VLOOKUP(D1270,'2021'!$A$11:$G$143,2,FALSE)","v":"Vanda"},113,98,{"$f":"VLOOKUP(E1270,'2021'!$A$11:$G$143,2,FALSE)","v":"Tira"},{"$f":"IF(ISBLANK(E1270),\"hie eu nix drischribu\",VLOOKUP(E1270,'2021'!$A$11:$G$143,4,FALSE))","v":"Williner Anton"}]
["2021-06-21",{"$f":"IF(ISBLANK(D1271),\"Alain, nix drischribu\",VLOOKUP(D1271,'2021'!$A$11:$G$143,4,FALSE))","v":"Fux W., J., & Wyer Piet"},{"$f":"VLOOKUP(D1271,'2021'!$A$11:$G$143,2,FALSE)","v":"Toscana"},37,96,{"$f":"VLOOKUP(E1271,'2021'!$A$11:$G$143,2,FALSE)","v":"Vanessa"},{"$f":"IF(ISBLANK(E1271),\"hie eu nix drischribu\",VLOOKUP(E1271,'2021'!$A$11:$G$143,4,FALSE))","v":"Williner Anton"}]
["2021-06-21",{"$f":"IF(ISBLANK(D1272),\"Alain, nix drischribu\",VLOOKUP(D1272,'2021'!$A$11:$G$143,4,FALSE))","v":"Jäger Carlo & Lukas"},{"$f":"VLOOKUP(D1272,'2021'!$A$11:$G$143,2,FALSE)","v":"Metis"},63,4,{"$f":"VLOOKUP(E1272,'2021'!$A$11:$G$143,2,FALSE)","v":"Vampir"},{"$f":"IF(ISBLANK(E1272),\"hie eu nix drischribu\",VLOOKUP(E1272,'2021'!$A$11:$G$143,4,FALSE))","v":"Bayard Medard & Gustav"}]
["2021-06-21",{"$f":"IF(ISBLANK(D1273),\"Alain, nix drischribu\",VLOOKUP(D1273,'2021'!$A$11:$G$143,4,FALSE))","v":"Jäger Carlo & Lukas"},{"$f":"VLOOKUP(D1273,'2021'!$A$11:$G$143,2,FALSE)","v":"Sera"},64,13,{"$f":"VLOOKUP(E1273,'2021'!$A$11:$G$143,2,FALSE)","v":"Tequilla"},{"$f":"IF(ISBLANK(E1273),\"hie eu nix drischribu\",VLOOKUP(E1273,'2021'!$A$11:$G$143,4,FALSE))","v":"Bregy Silvan & Patrik"}]
["2021-06-21",{"$f":"IF(ISBLANK(D1274),\"Alain, nix drischribu\",VLOOKUP(D1274,'2021'!$A$11:$G$143,4,FALSE))","v":"Bayard Medard & Gustav"},{"$f":"VLOOKUP(D1274,'2021'!$A$11:$G$143,2,FALSE)","v":"Venus"},1,19,{"$f":"VLOOKUP(E1274,'2021'!$A$11:$G$143,2,FALSE)","v":"Tiranie"},{"$f":"IF(ISBLANK(E1274),\"hie eu nix drischribu\",VLOOKUP(E1274,'2021'!$A$11:$G$143,4,FALSE))","v":"Bregy Uli / Lisi & Pasci"}]
["2021-06-21",{"$f":"IF(ISBLANK(D1275),\"Alain, nix drischribu\",VLOOKUP(D1275,'2021'!$A$11:$G$143,4,FALSE))","v":"Hischier H. & Bühlmann J."},{"$f":"VLOOKUP(D1275,'2021'!$A$11:$G$143,2,FALSE)","v":"Lenja"},47,26,{"$f":"VLOOKUP(E1275,'2021'!$A$11:$G$143,2,FALSE)","v":"Cataleya"},{"$f":"IF(ISBLANK(E1275),\"hie eu nix drischribu\",VLOOKUP(E1275,'2021'!$A$11:$G$143,4,FALSE))","v":"Bregy Uli / Lisi & Pasci"}]
["2021-06-21",{"$f":"IF(ISBLANK(D1276),\"Alain, nix drischribu\",VLOOKUP(D1276,'2021'!$A$11:$G$143,4,FALSE))","v":"Bayard Medard & Gustav"},{"$f":"VLOOKUP(D1276,'2021'!$A$11:$G$143,2,FALSE)","v":"Pandera"},5,122,{"$f":"VLOOKUP(E1276,'2021'!$A$11:$G$143,2,FALSE)","v":"Xana"},{"$f":"IF(ISBLANK(E1276),\"hie eu nix drischribu\",VLOOKUP(E1276,'2021'!$A$11:$G$143,4,FALSE))","v":"Zumofen / Gattlen"}]
["2021-06-21",{"$f":"IF(ISBLANK(D1277),\"Alain, nix drischribu\",VLOOKUP(D1277,'2021'!$A$11:$G$143,4,FALSE))","v":"Mathieu Leander & Sascha"},{"$f":"VLOOKUP(D1277,'2021'!$A$11:$G$143,2,FALSE)","v":"Bavaria"},69,3,{"$f":"VLOOKUP(E1277,'2021'!$A$11:$G$143,2,FALSE)","v":"Priska"},{"$f":"IF(ISBLANK(E1277),\"hie eu nix drischribu\",VLOOKUP(E1277,'2021'!$A$11:$G$143,4,FALSE))","v":"Bayard Medard & Gustav"}]
["2021-06-21",{"$f":"IF(ISBLANK(D1278),\"Alain, nix drischribu\",VLOOKUP(D1278,'2021'!$A$11:$G$143,4,FALSE))","v":"Stallung Passeraub"},{"$f":"VLOOKUP(D1278,'2021'!$A$11:$G$143,2,FALSE)","v":"Beres"},77,48,{"$f":"VLOOKUP(E1278,'2021'!$A$11:$G$143,2,FALSE)","v":"Jamada"},{"$f":"IF(ISBLANK(E1278),\"hie eu nix drischribu\",VLOOKUP(E1278,'2021'!$A$11:$G$143,4,FALSE))","v":"Hischier H. & Bühlmann J."}]
["2021-06-21",{"$f":"IF(ISBLANK(D1279),\"Alain, nix drischribu\",VLOOKUP(D1279,'2021'!$A$11:$G$143,4,FALSE))","v":"Zumofen / Gattlen"},{"$f":"VLOOKUP(D1279,'2021'!$A$11:$G$143,2,FALSE)","v":"Rambo"},120,39,{"$f":"VLOOKUP(E1279,'2021'!$A$11:$G$143,2,FALSE)","v":"Bacardi"},{"$f":"IF(ISBLANK(E1279),\"hie eu nix drischribu\",VLOOKUP(E1279,'2021'!$A$11:$G$143,4,FALSE))","v":"Fux W., J., & Wyer Piet"}]
["2021-06-21",{"$f":"IF(ISBLANK(D1280),\"Alain, nix drischribu\",VLOOKUP(D1280,'2021'!$A$11:$G$143,4,FALSE))","v":"Stallung Passeraub"},{"$f":"VLOOKUP(D1280,'2021'!$A$11:$G$143,2,FALSE)","v":"Bajka"},73,122,{"$f":"VLOOKUP(E1280,'2021'!$A$11:$G$143,2,FALSE)","v":"Xana"},{"$f":"IF(ISBLANK(E1280),\"hie eu nix drischribu\",VLOOKUP(E1280,'2021'!$A$11:$G$143,4,FALSE))","v":"Zumofen / Gattlen"}]
["2021-06-21",{"$f":"IF(ISBLANK(D1281),\"Alain, nix drischribu\",VLOOKUP(D1281,'2021'!$A$11:$G$143,4,FALSE))","v":"Stallung Passeraub"},{"$f":"VLOOKUP(D1281,'2021'!$A$11:$G$143,2,FALSE)","v":"Beres"},77,99,{"$f":"VLOOKUP(E1281,'2021'!$A$11:$G$143,2,FALSE)","v":"Rijana"},{"$f":"IF(ISBLANK(E1281),\"hie eu nix drischribu\",VLOOKUP(E1281,'2021'!$A$11:$G$143,4,FALSE))","v":"Wyssen Diego & Madlen"}]
["2021-06-21",{"$f":"IF(ISBLANK(D1282),\"Alain, nix drischribu\",VLOOKUP(D1282,'2021'!$A$11:$G$143,4,FALSE))","v":"Hischier H. & Bühlmann J."},{"$f":"VLOOKUP(D1282,'2021'!$A$11:$G$143,2,FALSE)","v":"Lenja"},47,26,{"$f":"VLOOKUP(E1282,'2021'!$A$11:$G$143,2,FALSE)","v":"Cataleya"},{"$f":"IF(ISBLANK(E1282),\"hie eu nix drischribu\",VLOOKUP(E1282,'2021'!$A$11:$G$143,4,FALSE))","v":"Bregy Uli / Lisi & Pasci"}]
["2021-06-21",{"$f":"IF(ISBLANK(D1283),\"Alain, nix drischribu\",VLOOKUP(D1283,'2021'!$A$11:$G$143,4,FALSE))","v":"Bregy Uli / Lisi & Pasci"},{"$f":"VLOOKUP(D1283,'2021'!$A$11:$G$143,2,FALSE)","v":"Catalina"},24,5,{"$f":"VLOOKUP(E1283,'2021'!$A$11:$G$143,2,FALSE)","v":"Pandera"},{"$f":"IF(ISBLANK(E1283),\"hie eu nix drischribu\",VLOOKUP(E1283,'2021'!$A$11:$G$143,4,FALSE))","v":"Bayard Medard & Gustav"}]
["2021-06-21",{"$f":"IF(ISBLANK(D1284),\"Alain, nix drischribu\",VLOOKUP(D1284,'2021'!$A$11:$G$143,4,FALSE))","v":"Bregy Uli / Lisi & Pasci"},{"$f":"VLOOKUP(D1284,'2021'!$A$11:$G$143,2,FALSE)","v":"Simba"},17,70,{"$f":"VLOOKUP(E1284,'2021'!$A$11:$G$143,2,FALSE)","v":"Bonita"},{"$f":"IF(ISBLANK(E1284),\"hie eu nix drischribu\",VLOOKUP(E1284,'2021'!$A$11:$G$143,4,FALSE))","v":"Mathieu Leander & Sascha"}]
["2021-06-21",{"$f":"IF(ISBLANK(D1285),\"Alain, nix drischribu\",VLOOKUP(D1285,'2021'!$A$11:$G$143,4,FALSE))","v":"Wyssen Diego & Madlen"},{"$f":"VLOOKUP(D1285,'2021'!$A$11:$G$143,2,FALSE)","v":"Xandria"},101,122,{"$f":"VLOOKUP(E1285,'2021'!$A$11:$G$143,2,FALSE)","v":"Xana"},{"$f":"IF(ISBLANK(E1285),\"hie eu nix drischribu\",VLOOKUP(E1285,'2021'!$A$11:$G$143,4,FALSE))","v":"Zumofen / Gattlen"}]
["2021-06-21",{"$f":"IF(ISBLANK(D1286),\"Alain, nix drischribu\",VLOOKUP(D1286,'2021'!$A$11:$G$143,4,FALSE))","v":"Jäger Carlo & Lukas"},{"$f":"VLOOKUP(D1286,'2021'!$A$11:$G$143,2,FALSE)","v":"Caline"},53,121,{"$f":"VLOOKUP(E1286,'2021'!$A$11:$G$143,2,FALSE)","v":"Raja"},{"$f":"IF(ISBLANK(E1286),\"hie eu nix drischribu\",VLOOKUP(E1286,'2021'!$A$11:$G$143,4,FALSE))","v":"Zumofen / Gattlen"}]
["2021-06-21",{"$f":"IF(ISBLANK(D1287),\"Alain, nix drischribu\",VLOOKUP(D1287,'2021'!$A$11:$G$143,4,FALSE))","v":"Bayard Medard & Gustav"},{"$f":"VLOOKUP(D1287,'2021'!$A$11:$G$143,2,FALSE)","v":"Pandera"},5,17,{"$f":"VLOOKUP(E1287,'2021'!$A$11:$G$143,2,FALSE)","v":"Simba"},{"$f":"IF(ISBLANK(E1287),\"hie eu nix drischribu\",VLOOKUP(E1287,'2021'!$A$11:$G$143,4,FALSE))","v":"Bregy Uli / Lisi & Pasci"}]
["2021-06-21",{"$f":"IF(ISBLANK(D1288),\"Alain, nix drischribu\",VLOOKUP(D1288,'2021'!$A$11:$G$143,4,FALSE))","v":"Jäger Carlo & Lukas"},{"$f":"VLOOKUP(D1288,'2021'!$A$11:$G$143,2,FALSE)","v":"Mesagne"},55,100,{"$f":"VLOOKUP(E1288,'2021'!$A$11:$G$143,2,FALSE)","v":"Xantara"},{"$f":"IF(ISBLANK(E1288),\"hie eu nix drischribu\",VLOOKUP(E1288,'2021'!$A$11:$G$143,4,FALSE))","v":"Wyssen Diego & Madlen"}]
["2021-06-21",{"$f":"IF(ISBLANK(D1289),\"Alain, nix drischribu\",VLOOKUP(D1289,'2021'!$A$11:$G$143,4,FALSE))","v":"Mathieu Leander & Sascha"},{"$f":"VLOOKUP(D1289,'2021'!$A$11:$G$143,2,FALSE)","v":"Baghira"},68,99,{"$f":"VLOOKUP(E1289,'2021'!$A$11:$G$143,2,FALSE)","v":"Rijana"},{"$f":"IF(ISBLANK(E1289),\"hie eu nix drischribu\",VLOOKUP(E1289,'2021'!$A$11:$G$143,4,FALSE))","v":"Wyssen Diego & Madlen"}]
["2021-06-21",{"$f":"IF(ISBLANK(D1290),\"Alain, nix drischribu\",VLOOKUP(D1290,'2021'!$A$11:$G$143,4,FALSE))","v":"Jäger Carlo & Lukas"},{"$f":"VLOOKUP(D1290,'2021'!$A$11:$G$143,2,FALSE)","v":"Megane"},62,26,{"$f":"VLOOKUP(E1290,'2021'!$A$11:$G$143,2,FALSE)","v":"Cataleya"},{"$f":"IF(ISBLANK(E1290),\"hie eu nix drischribu\",VLOOKUP(E1290,'2021'!$A$11:$G$143,4,FALSE))","v":"Bregy Uli / Lisi & Pasci"}]
["2021-06-21",{"$f":"IF(ISBLANK(D1291),\"Alain, nix drischribu\",VLOOKUP(D1291,'2021'!$A$11:$G$143,4,FALSE))","v":"Zumofen / Gattlen"},{"$f":"VLOOKUP(D1291,'2021'!$A$11:$G$143,2,FALSE)","v":"Rena"},109,1,{"$f":"VLOOKUP(E1291,'2021'!$A$11:$G$143,2,FALSE)","v":"Venus"},{"$f":"IF(ISBLANK(E1291),\"hie eu nix drischribu\",VLOOKUP(E1291,'2021'!$A$11:$G$143,4,FALSE))","v":"Bayard Medard & Gustav"}]
["2021-06-21",{"$f":"IF(ISBLANK(D1292),\"Alain, nix drischribu\",VLOOKUP(D1292,'2021'!$A$11:$G$143,4,FALSE))","v":"Bayard Medard & Gustav"},{"$f":"VLOOKUP(D1292,'2021'!$A$11:$G$143,2,FALSE)","v":"Vampir"},4,45,{"$f":"VLOOKUP(E1292,'2021'!$A$11:$G$143,2,FALSE)","v":"Tanja"},{"$f":"IF(ISBLANK(E1292),\"hie eu nix drischribu\",VLOOKUP(E1292,'2021'!$A$11:$G$143,4,FALSE))","v":"Gebrüder Jäger"}]
["2021-06-21",{"$f":"IF(ISBLANK(D1293),\"Alain, nix drischribu\",VLOOKUP(D1293,'2021'!$A$11:$G$143,4,FALSE))","v":"Stallung Passeraub"},{"$f":"VLOOKUP(D1293,'2021'!$A$11:$G$143,2,FALSE)","v":"Marla"},79,54,{"$f":"VLOOKUP(E1293,'2021'!$A$11:$G$143,2,FALSE)","v":"Flora"},{"$f":"IF(ISBLANK(E1293),\"hie eu nix drischribu\",VLOOKUP(E1293,'2021'!$A$11:$G$143,4,FALSE))","v":"Jäger Carlo & Lukas"}]
["2021-06-21",{"$f":"IF(ISBLANK(D1294),\"Alain, nix drischribu\",VLOOKUP(D1294,'2021'!$A$11:$G$143,4,FALSE))","v":"Williner Anton"},{"$f":"VLOOKUP(D1294,'2021'!$A$11:$G$143,2,FALSE)","v":"Tonic"},93,31,{"$f":"VLOOKUP(E1294,'2021'!$A$11:$G$143,2,FALSE)","v":"Bastis"},{"$f":"IF(ISBLANK(E1294),\"hie eu nix drischribu\",VLOOKUP(E1294,'2021'!$A$11:$G$143,4,FALSE))","v":"Fux W., J., & Wyer Piet"}]
["2021-06-21",{"$f":"IF(ISBLANK(D1295),\"Alain, nix drischribu\",VLOOKUP(D1295,'2021'!$A$11:$G$143,4,FALSE))","v":"Bayard Medard & Gustav"},{"$f":"VLOOKUP(D1295,'2021'!$A$11:$G$143,2,FALSE)","v":"Venus"},1,115,{"$f":"VLOOKUP(E1295,'2021'!$A$11:$G$143,2,FALSE)","v":"Souris"},{"$f":"IF(ISBLANK(E1295),\"hie eu nix drischribu\",VLOOKUP(E1295,'2021'!$A$11:$G$143,4,FALSE))","v":"Zumofen / Gattlen"}]
["2021-06-21",{"$f":"IF(ISBLANK(D1296),\"Alain, nix drischribu\",VLOOKUP(D1296,'2021'!$A$11:$G$143,4,FALSE))","v":"Bregy Ralf & Adolf"},{"$f":"VLOOKUP(D1296,'2021'!$A$11:$G$143,2,FALSE)","v":"Coquette"},9,115,{"$f":"VLOOKUP(E1296,'2021'!$A$11:$G$143,2,FALSE)","v":"Souris"},{"$f":"IF(ISBLANK(E1296),\"hie eu nix drischribu\",VLOOKUP(E1296,'2021'!$A$11:$G$143,4,FALSE))","v":"Zumofen / Gattlen"}]
["2021-06-21",{"$f":"IF(ISBLANK(D1297),\"Alain, nix drischribu\",VLOOKUP(D1297,'2021'!$A$11:$G$143,4,FALSE))","v":"Bregy Uli / Lisi & Pasci"},{"$f":"VLOOKUP(D1297,'2021'!$A$11:$G$143,2,FALSE)","v":"Tiranie"},19,109,{"$f":"VLOOKUP(E1297,'2021'!$A$11:$G$143,2,FALSE)","v":"Rena"},{"$f":"IF(ISBLANK(E1297),\"hie eu nix drischribu\",VLOOKUP(E1297,'2021'!$A$11:$G$143,4,FALSE))","v":"Zumofen / Gattlen"}]
["2021-06-21",{"$f":"IF(ISBLANK(D1298),\"Alain, nix drischribu\",VLOOKUP(D1298,'2021'!$A$11:$G$143,4,FALSE))","v":"Fux W., J., & Wyer Piet"},{"$f":"VLOOKUP(D1298,'2021'!$A$11:$G$143,2,FALSE)","v":"Bastis"},31,40,{"$f":"VLOOKUP(E1298,'2021'!$A$11:$G$143,2,FALSE)","v":"Tina"},{"$f":"IF(ISBLANK(E1298),\"hie eu nix drischribu\",VLOOKUP(E1298,'2021'!$A$11:$G$143,4,FALSE))","v":"Gebrüder Jäger"}]
["2021-06-21",{"$f":"IF(ISBLANK(D1299),\"Alain, nix drischribu\",VLOOKUP(D1299,'2021'!$A$11:$G$143,4,FALSE))","v":"Bregy Uli / Lisi & Pasci"},{"$f":"VLOOKUP(D1299,'2021'!$A$11:$G$143,2,FALSE)","v":"Calette"},25,60,{"$f":"VLOOKUP(E1299,'2021'!$A$11:$G$143,2,FALSE)","v":"Bayonne"},{"$f":"IF(ISBLANK(E1299),\"hie eu nix drischribu\",VLOOKUP(E1299,'2021'!$A$11:$G$143,4,FALSE))","v":"Jäger Carlo & Lukas"}]
["2021-06-21",{"$f":"IF(ISBLANK(D1300),\"Alain, nix drischribu\",VLOOKUP(D1300,'2021'!$A$11:$G$143,4,FALSE))","v":"Stallung Passeraub"},{"$f":"VLOOKUP(D1300,'2021'!$A$11:$G$143,2,FALSE)","v":"Beres"},77,53,{"$f":"VLOOKUP(E1300,'2021'!$A$11:$G$143,2,FALSE)","v":"Caline"},{"$f":"IF(ISBLANK(E1300),\"hie eu nix drischribu\",VLOOKUP(E1300,'2021'!$A$11:$G$143,4,FALSE))","v":"Jäger Carlo & Lukas"}]
["2021-06-20",{"$f":"IF(ISBLANK(D1301),\"Alain, nix drischribu\",VLOOKUP(D1301,'2021'!$A$11:$G$143,4,FALSE))","v":"Bregy Uli / Lisi & Pasci"},{"$f":"VLOOKUP(D1301,'2021'!$A$11:$G$143,2,FALSE)","v":"Corona"},23,48,{"$f":"VLOOKUP(E1301,'2021'!$A$11:$G$143,2,FALSE)","v":"Jamada"},{"$f":"IF(ISBLANK(E1301),\"hie eu nix drischribu\",VLOOKUP(E1301,'2021'!$A$11:$G$143,4,FALSE))","v":"Hischier H. & Bühlmann J."}]
["2021-06-20",{"$f":"IF(ISBLANK(D1302),\"Alain, nix drischribu\",VLOOKUP(D1302,'2021'!$A$11:$G$143,4,FALSE))","v":"Bregy Ralf & Adolf"},{"$f":"VLOOKUP(D1302,'2021'!$A$11:$G$143,2,FALSE)","v":"Creola"},8,4,{"$f":"VLOOKUP(E1302,'2021'!$A$11:$G$143,2,FALSE)","v":"Vampir"},{"$f":"IF(ISBLANK(E1302),\"hie eu nix drischribu\",VLOOKUP(E1302,'2021'!$A$11:$G$143,4,FALSE))","v":"Bayard Medard & Gustav"}]
["2021-06-20",{"$f":"IF(ISBLANK(D1303),\"Alain, nix drischribu\",VLOOKUP(D1303,'2021'!$A$11:$G$143,4,FALSE))","v":"Bayard Medard & Gustav"},{"$f":"VLOOKUP(D1303,'2021'!$A$11:$G$143,2,FALSE)","v":"Pandera"},5,72,{"$f":"VLOOKUP(E1303,'2021'!$A$11:$G$143,2,FALSE)","v":"Babylon"},{"$f":"IF(ISBLANK(E1303),\"hie eu nix drischribu\",VLOOKUP(E1303,'2021'!$A$11:$G$143,4,FALSE))","v":"Mathieu Leander & Sascha"}]
["2021-06-20",{"$f":"IF(ISBLANK(D1304),\"Alain, nix drischribu\",VLOOKUP(D1304,'2021'!$A$11:$G$143,4,FALSE))","v":"Fux W., J., & Wyer Piet"},{"$f":"VLOOKUP(D1304,'2021'!$A$11:$G$143,2,FALSE)","v":"Bacardi"},39,82,{"$f":"VLOOKUP(E1304,'2021'!$A$11:$G$143,2,FALSE)","v":"Bobino"},{"$f":"IF(ISBLANK(E1304),\"hie eu nix drischribu\",VLOOKUP(E1304,'2021'!$A$11:$G$143,4,FALSE))","v":"Stallung Passeraub"}]
["2021-06-20",{"$f":"IF(ISBLANK(D1305),\"Alain, nix drischribu\",VLOOKUP(D1305,'2021'!$A$11:$G$143,4,FALSE))","v":"Bregy Uli / Lisi & Pasci"},{"$f":"VLOOKUP(D1305,'2021'!$A$11:$G$143,2,FALSE)","v":"Cataleya"},26,55,{"$f":"VLOOKUP(E1305,'2021'!$A$11:$G$143,2,FALSE)","v":"Mesagne"},{"$f":"IF(ISBLANK(E1305),\"hie eu nix drischribu\",VLOOKUP(E1305,'2021'!$A$11:$G$143,4,FALSE))","v":"Jäger Carlo & Lukas"}]
["2021-06-20",{"$f":"IF(ISBLANK(D1306),\"Alain, nix drischribu\",VLOOKUP(D1306,'2021'!$A$11:$G$143,4,FALSE))","v":"Williner Anton"},{"$f":"VLOOKUP(D1306,'2021'!$A$11:$G$143,2,FALSE)","v":"Tonic"},93,41,{"$f":"VLOOKUP(E1306,'2021'!$A$11:$G$143,2,FALSE)","v":"Tara"},{"$f":"IF(ISBLANK(E1306),\"hie eu nix drischribu\",VLOOKUP(E1306,'2021'!$A$11:$G$143,4,FALSE))","v":"Gebrüder Jäger"}]
["2021-06-20",{"$f":"IF(ISBLANK(D1307),\"Alain, nix drischribu\",VLOOKUP(D1307,'2021'!$A$11:$G$143,4,FALSE))","v":"Bayard Medard & Gustav"},{"$f":"VLOOKUP(D1307,'2021'!$A$11:$G$143,2,FALSE)","v":"Vampir"},4,76,{"$f":"VLOOKUP(E1307,'2021'!$A$11:$G$143,2,FALSE)","v":"Pablo"},{"$f":"IF(ISBLANK(E1307),\"hie eu nix drischribu\",VLOOKUP(E1307,'2021'!$A$11:$G$143,4,FALSE))","v":"Hutter Richard "}]
["2021-06-20",{"$f":"IF(ISBLANK(D1308),\"Alain, nix drischribu\",VLOOKUP(D1308,'2021'!$A$11:$G$143,4,FALSE))","v":"Bregy Ralf & Adolf"},{"$f":"VLOOKUP(D1308,'2021'!$A$11:$G$143,2,FALSE)","v":"Coquette"},9,103,{"$f":"VLOOKUP(E1308,'2021'!$A$11:$G$143,2,FALSE)","v":"Xena"},{"$f":"IF(ISBLANK(E1308),\"hie eu nix drischribu\",VLOOKUP(E1308,'2021'!$A$11:$G$143,4,FALSE))","v":"Wyssen Diego & Madlen"}]
["2021-06-20",{"$f":"IF(ISBLANK(D1309),\"Alain, nix drischribu\",VLOOKUP(D1309,'2021'!$A$11:$G$143,4,FALSE))","v":"Fux W., J., & Wyer Piet"},{"$f":"VLOOKUP(D1309,'2021'!$A$11:$G$143,2,FALSE)","v":"Calmy"},36,76,{"$f":"VLOOKUP(E1309,'2021'!$A$11:$G$143,2,FALSE)","v":"Pablo"},{"$f":"IF(ISBLANK(E1309),\"hie eu nix drischribu\",VLOOKUP(E1309,'2021'!$A$11:$G$143,4,FALSE))","v":"Hutter Richard "}]
["2021-06-20",{"$f":"IF(ISBLANK(D1310),\"Alain, nix drischribu\",VLOOKUP(D1310,'2021'!$A$11:$G$143,4,FALSE))","v":"Stallung Passeraub"},{"$f":"VLOOKUP(D1310,'2021'!$A$11:$G$143,2,FALSE)","v":"Menance"},75,53,{"$f":"VLOOKUP(E1310,'2021'!$A$11:$G$143,2,FALSE)","v":"Caline"},{"$f":"IF(ISBLANK(E1310),\"hie eu nix drischribu\",VLOOKUP(E1310,'2021'!$A$11:$G$143,4,FALSE))","v":"Jäger Carlo & Lukas"}]
["2021-06-20",{"$f":"IF(ISBLANK(D1311),\"Alain, nix drischribu\",VLOOKUP(D1311,'2021'!$A$11:$G$143,4,FALSE))","v":"Zumofen / Gattlen"},{"$f":"VLOOKUP(D1311,'2021'!$A$11:$G$143,2,FALSE)","v":"Raja"},121,56,{"$f":"VLOOKUP(E1311,'2021'!$A$11:$G$143,2,FALSE)","v":"Mygale"},{"$f":"IF(ISBLANK(E1311),\"hie eu nix drischribu\",VLOOKUP(E1311,'2021'!$A$11:$G$143,4,FALSE))","v":"Jäger Carlo & Lukas"}]
["2021-06-20",{"$f":"IF(ISBLANK(D1312),\"Alain, nix drischribu\",VLOOKUP(D1312,'2021'!$A$11:$G$143,4,FALSE))","v":"Stallung Passeraub"},{"$f":"VLOOKUP(D1312,'2021'!$A$11:$G$143,2,FALSE)","v":"Bonita"},80,15,{"$f":"VLOOKUP(E1312,'2021'!$A$11:$G$143,2,FALSE)","v":"Cashida"},{"$f":"IF(ISBLANK(E1312),\"hie eu nix drischribu\",VLOOKUP(E1312,'2021'!$A$11:$G$143,4,FALSE))","v":"Bregy Ralf & Adolf"}]
["2021-06-20",{"$f":"IF(ISBLANK(D1313),\"Alain, nix drischribu\",VLOOKUP(D1313,'2021'!$A$11:$G$143,4,FALSE))","v":"Stallung Passeraub"},{"$f":"VLOOKUP(D1313,'2021'!$A$11:$G$143,2,FALSE)","v":"Bonita"},80,9,{"$f":"VLOOKUP(E1313,'2021'!$A$11:$G$143,2,FALSE)","v":"Coquette"},{"$f":"IF(ISBLANK(E1313),\"hie eu nix drischribu\",VLOOKUP(E1313,'2021'!$A$11:$G$143,4,FALSE))","v":"Bregy Ralf & Adolf"}]
["2021-06-20",{"$f":"IF(ISBLANK(D1314),\"Alain, nix drischribu\",VLOOKUP(D1314,'2021'!$A$11:$G$143,4,FALSE))","v":"Hischier Pius"},{"$f":"VLOOKUP(D1314,'2021'!$A$11:$G$143,2,FALSE)","v":"Safira"},51,72,{"$f":"VLOOKUP(E1314,'2021'!$A$11:$G$143,2,FALSE)","v":"Babylon"},{"$f":"IF(ISBLANK(E1314),\"hie eu nix drischribu\",VLOOKUP(E1314,'2021'!$A$11:$G$143,4,FALSE))","v":"Mathieu Leander & Sascha"}]
["2021-06-20",{"$f":"IF(ISBLANK(D1315),\"Alain, nix drischribu\",VLOOKUP(D1315,'2021'!$A$11:$G$143,4,FALSE))","v":"Zumofen / Gattlen"},{"$f":"VLOOKUP(D1315,'2021'!$A$11:$G$143,2,FALSE)","v":"Xena"},110,8,{"$f":"VLOOKUP(E1315,'2021'!$A$11:$G$143,2,FALSE)","v":"Creola"},{"$f":"IF(ISBLANK(E1315),\"hie eu nix drischribu\",VLOOKUP(E1315,'2021'!$A$11:$G$143,4,FALSE))","v":"Bregy Ralf & Adolf"}]
["2021-06-20",{"$f":"IF(ISBLANK(D1316),\"Alain, nix drischribu\",VLOOKUP(D1316,'2021'!$A$11:$G$143,4,FALSE))","v":"Jäger Carlo & Lukas"},{"$f":"VLOOKUP(D1316,'2021'!$A$11:$G$143,2,FALSE)","v":"Bataille"},58,43,{"$f":"VLOOKUP(E1316,'2021'!$A$11:$G$143,2,FALSE)","v":"Dorina"},{"$f":"IF(ISBLANK(E1316),\"hie eu nix drischribu\",VLOOKUP(E1316,'2021'!$A$11:$G$143,4,FALSE))","v":"Gebrüder Jäger"}]
["2021-06-20",{"$f":"IF(ISBLANK(D1317),\"Alain, nix drischribu\",VLOOKUP(D1317,'2021'!$A$11:$G$143,4,FALSE))","v":"Bregy Ralf & Adolf"},{"$f":"VLOOKUP(D1317,'2021'!$A$11:$G$143,2,FALSE)","v":"Canaille"},7,64,{"$f":"VLOOKUP(E1317,'2021'!$A$11:$G$143,2,FALSE)","v":"Sera"},{"$f":"IF(ISBLANK(E1317),\"hie eu nix drischribu\",VLOOKUP(E1317,'2021'!$A$11:$G$143,4,FALSE))","v":"Jäger Carlo & Lukas"}]
["2021-06-20",{"$f":"IF(ISBLANK(D1318),\"Alain, nix drischribu\",VLOOKUP(D1318,'2021'!$A$11:$G$143,4,FALSE))","v":"Jäger Carlo & Lukas"},{"$f":"VLOOKUP(D1318,'2021'!$A$11:$G$143,2,FALSE)","v":"Sera"},64,19,{"$f":"VLOOKUP(E1318,'2021'!$A$11:$G$143,2,FALSE)","v":"Tiranie"},{"$f":"IF(ISBLANK(E1318),\"hie eu nix drischribu\",VLOOKUP(E1318,'2021'!$A$11:$G$143,4,FALSE))","v":"Bregy Uli / Lisi & Pasci"}]
["2021-06-20",{"$f":"IF(ISBLANK(D1319),\"Alain, nix drischribu\",VLOOKUP(D1319,'2021'!$A$11:$G$143,4,FALSE))","v":"Jäger Carlo & Lukas"},{"$f":"VLOOKUP(D1319,'2021'!$A$11:$G$143,2,FALSE)","v":"Sera"},64,76,{"$f":"VLOOKUP(E1319,'2021'!$A$11:$G$143,2,FALSE)","v":"Pablo"},{"$f":"IF(ISBLANK(E1319),\"hie eu nix drischribu\",VLOOKUP(E1319,'2021'!$A$11:$G$143,4,FALSE))","v":"Hutter Richard "}]
["2021-06-20",{"$f":"IF(ISBLANK(D1320),\"Alain, nix drischribu\",VLOOKUP(D1320,'2021'!$A$11:$G$143,4,FALSE))","v":"Bregy Ralf & Adolf"},{"$f":"VLOOKUP(D1320,'2021'!$A$11:$G$143,2,FALSE)","v":"Canaille"},7,110,{"$f":"VLOOKUP(E1320,'2021'!$A$11:$G$143,2,FALSE)","v":"Xena"},{"$f":"IF(ISBLANK(E1320),\"hie eu nix drischribu\",VLOOKUP(E1320,'2021'!$A$11:$G$143,4,FALSE))","v":"Zumofen / Gattlen"}]
["2021-06-20",{"$f":"IF(ISBLANK(D1321),\"Alain, nix drischribu\",VLOOKUP(D1321,'2021'!$A$11:$G$143,4,FALSE))","v":"Zumofen / Gattlen"},{"$f":"VLOOKUP(D1321,'2021'!$A$11:$G$143,2,FALSE)","v":"Xena"},110,10,{"$f":"VLOOKUP(E1321,'2021'!$A$11:$G$143,2,FALSE)","v":"Diabolo"},{"$f":"IF(ISBLANK(E1321),\"hie eu nix drischribu\",VLOOKUP(E1321,'2021'!$A$11:$G$143,4,FALSE))","v":"Bregy Ralf & Adolf"}]
["2021-06-20",{"$f":"IF(ISBLANK(D1322),\"Alain, nix drischribu\",VLOOKUP(D1322,'2021'!$A$11:$G$143,4,FALSE))","v":"Bregy Uli / Lisi & Pasci"},{"$f":"VLOOKUP(D1322,'2021'!$A$11:$G$143,2,FALSE)","v":"Murphy"},16,111,{"$f":"VLOOKUP(E1322,'2021'!$A$11:$G$143,2,FALSE)","v":"Palona"},{"$f":"IF(ISBLANK(E1322),\"hie eu nix drischribu\",VLOOKUP(E1322,'2021'!$A$11:$G$143,4,FALSE))","v":"Zumofen / Gattlen"}]
["2021-06-20",{"$f":"IF(ISBLANK(D1323),\"Alain, nix drischribu\",VLOOKUP(D1323,'2021'!$A$11:$G$143,4,FALSE))","v":"Bregy Uli / Lisi & Pasci"},{"$f":"VLOOKUP(D1323,'2021'!$A$11:$G$143,2,FALSE)","v":"Murphy"},16,44,{"$f":"VLOOKUP(E1323,'2021'!$A$11:$G$143,2,FALSE)","v":"Tiara"},{"$f":"IF(ISBLANK(E1323),\"hie eu nix drischribu\",VLOOKUP(E1323,'2021'!$A$11:$G$143,4,FALSE))","v":"Gebrüder Jäger"}]
["2021-06-20",{"$f":"IF(ISBLANK(D1324),\"Alain, nix drischribu\",VLOOKUP(D1324,'2021'!$A$11:$G$143,4,FALSE))","v":"Bregy Uli / Lisi & Pasci"},{"$f":"VLOOKUP(D1324,'2021'!$A$11:$G$143,2,FALSE)","v":"Catalina"},24,4,{"$f":"VLOOKUP(E1324,'2021'!$A$11:$G$143,2,FALSE)","v":"Vampir"},{"$f":"IF(ISBLANK(E1324),\"hie eu nix drischribu\",VLOOKUP(E1324,'2021'!$A$11:$G$143,4,FALSE))","v":"Bayard Medard & Gustav"}]
["2021-06-20",{"$f":"IF(ISBLANK(D1325),\"Alain, nix drischribu\",VLOOKUP(D1325,'2021'!$A$11:$G$143,4,FALSE))","v":"Zumofen / Gattlen"},{"$f":"VLOOKUP(D1325,'2021'!$A$11:$G$143,2,FALSE)","v":"Fayola"},119,94,{"$f":"VLOOKUP(E1325,'2021'!$A$11:$G$143,2,FALSE)","v":"Tigra"},{"$f":"IF(ISBLANK(E1325),\"hie eu nix drischribu\",VLOOKUP(E1325,'2021'!$A$11:$G$143,4,FALSE))","v":"Williner Anton"}]
["2021-06-20",{"$f":"IF(ISBLANK(D1326),\"Alain, nix drischribu\",VLOOKUP(D1326,'2021'!$A$11:$G$143,4,FALSE))","v":"Bregy Ralf & Adolf"},{"$f":"VLOOKUP(D1326,'2021'!$A$11:$G$143,2,FALSE)","v":"Canaille"},7,95,{"$f":"VLOOKUP(E1326,'2021'!$A$11:$G$143,2,FALSE)","v":"Vivana"},{"$f":"IF(ISBLANK(E1326),\"hie eu nix drischribu\",VLOOKUP(E1326,'2021'!$A$11:$G$143,4,FALSE))","v":"Williner Anton"}]
["2021-06-20",{"$f":"IF(ISBLANK(D1327),\"Alain, nix drischribu\",VLOOKUP(D1327,'2021'!$A$11:$G$143,4,FALSE))","v":"Bregy Silvan & Patrik"},{"$f":"VLOOKUP(D1327,'2021'!$A$11:$G$143,2,FALSE)","v":"Milow"},12,28,{"$f":"VLOOKUP(E1327,'2021'!$A$11:$G$143,2,FALSE)","v":"Baron"},{"$f":"IF(ISBLANK(E1327),\"hie eu nix drischribu\",VLOOKUP(E1327,'2021'!$A$11:$G$143,4,FALSE))","v":"Fam. Leiggener"}]
["2021-06-20",{"$f":"IF(ISBLANK(D1328),\"Alain, nix drischribu\",VLOOKUP(D1328,'2021'!$A$11:$G$143,4,FALSE))","v":"Bayard Medard & Gustav"},{"$f":"VLOOKUP(D1328,'2021'!$A$11:$G$143,2,FALSE)","v":"Pandera"},5,60,{"$f":"VLOOKUP(E1328,'2021'!$A$11:$G$143,2,FALSE)","v":"Bayonne"},{"$f":"IF(ISBLANK(E1328),\"hie eu nix drischribu\",VLOOKUP(E1328,'2021'!$A$11:$G$143,4,FALSE))","v":"Jäger Carlo & Lukas"}]
["2021-06-20",{"$f":"IF(ISBLANK(D1329),\"Alain, nix drischribu\",VLOOKUP(D1329,'2021'!$A$11:$G$143,4,FALSE))","v":"Bayard Medard & Gustav"},{"$f":"VLOOKUP(D1329,'2021'!$A$11:$G$143,2,FALSE)","v":"Pandera"},5,56,{"$f":"VLOOKUP(E1329,'2021'!$A$11:$G$143,2,FALSE)","v":"Mygale"},{"$f":"IF(ISBLANK(E1329),\"hie eu nix drischribu\",VLOOKUP(E1329,'2021'!$A$11:$G$143,4,FALSE))","v":"Jäger Carlo & Lukas"}]
["2021-06-20",{"$f":"IF(ISBLANK(D1330),\"Alain, nix drischribu\",VLOOKUP(D1330,'2021'!$A$11:$G$143,4,FALSE))","v":"Bayard Medard & Gustav"},{"$f":"VLOOKUP(D1330,'2021'!$A$11:$G$143,2,FALSE)","v":"Venus"},1,106,{"$f":"VLOOKUP(E1330,'2021'!$A$11:$G$143,2,FALSE)","v":"Miss"},{"$f":"IF(ISBLANK(E1330),\"hie eu nix drischribu\",VLOOKUP(E1330,'2021'!$A$11:$G$143,4,FALSE))","v":"Zumoberhaus Pius"}]
["2021-06-20",{"$f":"IF(ISBLANK(D1331),\"Alain, nix drischribu\",VLOOKUP(D1331,'2021'!$A$11:$G$143,4,FALSE))","v":"Zumofen / Gattlen"},{"$f":"VLOOKUP(D1331,'2021'!$A$11:$G$143,2,FALSE)","v":"Fayola"},119,3,{"$f":"VLOOKUP(E1331,'2021'!$A$11:$G$143,2,FALSE)","v":"Priska"},{"$f":"IF(ISBLANK(E1331),\"hie eu nix drischribu\",VLOOKUP(E1331,'2021'!$A$11:$G$143,4,FALSE))","v":"Bayard Medard & Gustav"}]
["2021-06-20",{"$f":"IF(ISBLANK(D1332),\"Alain, nix drischribu\",VLOOKUP(D1332,'2021'!$A$11:$G$143,4,FALSE))","v":"Jäger Carlo & Lukas"},{"$f":"VLOOKUP(D1332,'2021'!$A$11:$G$143,2,FALSE)","v":"Sera"},64,1,{"$f":"VLOOKUP(E1332,'2021'!$A$11:$G$143,2,FALSE)","v":"Venus"},{"$f":"IF(ISBLANK(E1332),\"hie eu nix drischribu\",VLOOKUP(E1332,'2021'!$A$11:$G$143,4,FALSE))","v":"Bayard Medard & Gustav"}]
["2021-06-20",{"$f":"IF(ISBLANK(D1333),\"Alain, nix drischribu\",VLOOKUP(D1333,'2021'!$A$11:$G$143,4,FALSE))","v":"Bayard Medard & Gustav"},{"$f":"VLOOKUP(D1333,'2021'!$A$11:$G$143,2,FALSE)","v":"Vampir"},4,67,{"$f":"VLOOKUP(E1333,'2021'!$A$11:$G$143,2,FALSE)","v":"Tokio"},{"$f":"IF(ISBLANK(E1333),\"hie eu nix drischribu\",VLOOKUP(E1333,'2021'!$A$11:$G$143,4,FALSE))","v":"Jäger Carlo & Lukas"}]
["2021-06-20",{"$f":"IF(ISBLANK(D1334),\"Alain, nix drischribu\",VLOOKUP(D1334,'2021'!$A$11:$G$143,4,FALSE))","v":"Tscherry Erwin & Bernhard"},{"$f":"VLOOKUP(D1334,'2021'!$A$11:$G$143,2,FALSE)","v":"Carolin"},91,86,{"$f":"VLOOKUP(E1334,'2021'!$A$11:$G$143,2,FALSE)","v":"Tessa"},{"$f":"IF(ISBLANK(E1334),\"hie eu nix drischribu\",VLOOKUP(E1334,'2021'!$A$11:$G$143,4,FALSE))","v":"Sewer R. & Thommen S."}]
["2021-06-20",{"$f":"IF(ISBLANK(D1335),\"Alain, nix drischribu\",VLOOKUP(D1335,'2021'!$A$11:$G$143,4,FALSE))","v":"Wyssen Diego & Madlen"},{"$f":"VLOOKUP(D1335,'2021'!$A$11:$G$143,2,FALSE)","v":"Xandria"},101,85,{"$f":"VLOOKUP(E1335,'2021'!$A$11:$G$143,2,FALSE)","v":"Samantha"},{"$f":"IF(ISBLANK(E1335),\"hie eu nix drischribu\",VLOOKUP(E1335,'2021'!$A$11:$G$143,4,FALSE))","v":"Sewer R. & Thommen S."}]
["2021-06-20",{"$f":"IF(ISBLANK(D1336),\"Alain, nix drischribu\",VLOOKUP(D1336,'2021'!$A$11:$G$143,4,FALSE))","v":"Williner Anton"},{"$f":"VLOOKUP(D1336,'2021'!$A$11:$G$143,2,FALSE)","v":"Vivana"},95,67,{"$f":"VLOOKUP(E1336,'2021'!$A$11:$G$143,2,FALSE)","v":"Tokio"},{"$f":"IF(ISBLANK(E1336),\"hie eu nix drischribu\",VLOOKUP(E1336,'2021'!$A$11:$G$143,4,FALSE))","v":"Jäger Carlo & Lukas"}]
["2021-06-20",{"$f":"IF(ISBLANK(D1337),\"Alain, nix drischribu\",VLOOKUP(D1337,'2021'!$A$11:$G$143,4,FALSE))","v":"Zumofen / Gattlen"},{"$f":"VLOOKUP(D1337,'2021'!$A$11:$G$143,2,FALSE)","v":"Rambo"},120,88,{"$f":"VLOOKUP(E1337,'2021'!$A$11:$G$143,2,FALSE)","v":"Malice"},{"$f":"IF(ISBLANK(E1337),\"hie eu nix drischribu\",VLOOKUP(E1337,'2021'!$A$11:$G$143,4,FALSE))","v":"Sewer R. & Thommen S."}]
["2021-06-20",{"$f":"IF(ISBLANK(D1338),\"Alain, nix drischribu\",VLOOKUP(D1338,'2021'!$A$11:$G$143,4,FALSE))","v":"Fux W., J., & Wyer Piet"},{"$f":"VLOOKUP(D1338,'2021'!$A$11:$G$143,2,FALSE)","v":"Bolero"},29,113,{"$f":"VLOOKUP(E1338,'2021'!$A$11:$G$143,2,FALSE)","v":"Vanda"},{"$f":"IF(ISBLANK(E1338),\"hie eu nix drischribu\",VLOOKUP(E1338,'2021'!$A$11:$G$143,4,FALSE))","v":"Zumofen / Gattlen"}]
["2021-06-20",{"$f":"IF(ISBLANK(D1339),\"Alain, nix drischribu\",VLOOKUP(D1339,'2021'!$A$11:$G$143,4,FALSE))","v":"Zumofen / Gattlen"},{"$f":"VLOOKUP(D1339,'2021'!$A$11:$G$143,2,FALSE)","v":"Vanda"},113,37,{"$f":"VLOOKUP(E1339,'2021'!$A$11:$G$143,2,FALSE)","v":"Toscana"},{"$f":"IF(ISBLANK(E1339),\"hie eu nix drischribu\",VLOOKUP(E1339,'2021'!$A$11:$G$143,4,FALSE))","v":"Fux W., J., & Wyer Piet"}]
["2021-06-20",{"$f":"IF(ISBLANK(D1340),\"Alain, nix drischribu\",VLOOKUP(D1340,'2021'!$A$11:$G$143,4,FALSE))","v":"Zumofen / Gattlen"},{"$f":"VLOOKUP(D1340,'2021'!$A$11:$G$143,2,FALSE)","v":"Vanda"},113,32,{"$f":"VLOOKUP(E1340,'2021'!$A$11:$G$143,2,FALSE)","v":"Mystic"},{"$f":"IF(ISBLANK(E1340),\"hie eu nix drischribu\",VLOOKUP(E1340,'2021'!$A$11:$G$143,4,FALSE))","v":"Fux W., J., & Wyer Piet"}]
["2021-06-20",{"$f":"IF(ISBLANK(D1341),\"Alain, nix drischribu\",VLOOKUP(D1341,'2021'!$A$11:$G$143,4,FALSE))","v":"Zumofen / Gattlen"},{"$f":"VLOOKUP(D1341,'2021'!$A$11:$G$143,2,FALSE)","v":"Maya"},114,90,{"$f":"VLOOKUP(E1341,'2021'!$A$11:$G$143,2,FALSE)","v":"Bolera"},{"$f":"IF(ISBLANK(E1341),\"hie eu nix drischribu\",VLOOKUP(E1341,'2021'!$A$11:$G$143,4,FALSE))","v":"Sewer R. & Thommen S."}]
["2021-06-20",{"$f":"IF(ISBLANK(D1342),\"Alain, nix drischribu\",VLOOKUP(D1342,'2021'!$A$11:$G$143,4,FALSE))","v":"Zumofen / Gattlen"},{"$f":"VLOOKUP(D1342,'2021'!$A$11:$G$143,2,FALSE)","v":"Xena"},110,1,{"$f":"VLOOKUP(E1342,'2021'!$A$11:$G$143,2,FALSE)","v":"Venus"},{"$f":"IF(ISBLANK(E1342),\"hie eu nix drischribu\",VLOOKUP(E1342,'2021'!$A$11:$G$143,4,FALSE))","v":"Bayard Medard & Gustav"}]
["2021-06-20",{"$f":"IF(ISBLANK(D1343),\"Alain, nix drischribu\",VLOOKUP(D1343,'2021'!$A$11:$G$143,4,FALSE))","v":"Bregy Ralf & Adolf"},{"$f":"VLOOKUP(D1343,'2021'!$A$11:$G$143,2,FALSE)","v":"Diabolo"},10,43,{"$f":"VLOOKUP(E1343,'2021'!$A$11:$G$143,2,FALSE)","v":"Dorina"},{"$f":"IF(ISBLANK(E1343),\"hie eu nix drischribu\",VLOOKUP(E1343,'2021'!$A$11:$G$143,4,FALSE))","v":"Gebrüder Jäger"}]
["2021-06-20",{"$f":"IF(ISBLANK(D1344),\"Alain, nix drischribu\",VLOOKUP(D1344,'2021'!$A$11:$G$143,4,FALSE))","v":"Tscherry Erwin & Bernhard"},{"$f":"VLOOKUP(D1344,'2021'!$A$11:$G$143,2,FALSE)","v":"Carolin"},91,47,{"$f":"VLOOKUP(E1344,'2021'!$A$11:$G$143,2,FALSE)","v":"Lenja"},{"$f":"IF(ISBLANK(E1344),\"hie eu nix drischribu\",VLOOKUP(E1344,'2021'!$A$11:$G$143,4,FALSE))","v":"Hischier H. & Bühlmann J."}]
["2021-06-20",{"$f":"IF(ISBLANK(D1345),\"Alain, nix drischribu\",VLOOKUP(D1345,'2021'!$A$11:$G$143,4,FALSE))","v":"Bregy Uli / Lisi & Pasci"},{"$f":"VLOOKUP(D1345,'2021'!$A$11:$G$143,2,FALSE)","v":"Corona"},23,40,{"$f":"VLOOKUP(E1345,'2021'!$A$11:$G$143,2,FALSE)","v":"Tina"},{"$f":"IF(ISBLANK(E1345),\"hie eu nix drischribu\",VLOOKUP(E1345,'2021'!$A$11:$G$143,4,FALSE))","v":"Gebrüder Jäger"}]
["2021-06-20",{"$f":"IF(ISBLANK(D1346),\"Alain, nix drischribu\",VLOOKUP(D1346,'2021'!$A$11:$G$143,4,FALSE))","v":"Bregy Ralf & Adolf"},{"$f":"VLOOKUP(D1346,'2021'!$A$11:$G$143,2,FALSE)","v":"Coquette"},9,44,{"$f":"VLOOKUP(E1346,'2021'!$A$11:$G$143,2,FALSE)","v":"Tiara"},{"$f":"IF(ISBLANK(E1346),\"hie eu nix drischribu\",VLOOKUP(E1346,'2021'!$A$11:$G$143,4,FALSE))","v":"Gebrüder Jäger"}]
["2021-06-20",{"$f":"IF(ISBLANK(D1347),\"Alain, nix drischribu\",VLOOKUP(D1347,'2021'!$A$11:$G$143,4,FALSE))","v":"Zumofen / Gattlen"},{"$f":"VLOOKUP(D1347,'2021'!$A$11:$G$143,2,FALSE)","v":"Raja"},121,31,{"$f":"VLOOKUP(E1347,'2021'!$A$11:$G$143,2,FALSE)","v":"Bastis"},{"$f":"IF(ISBLANK(E1347),\"hie eu nix drischribu\",VLOOKUP(E1347,'2021'!$A$11:$G$143,4,FALSE))","v":"Fux W., J., & Wyer Piet"}]
["2021-06-20",{"$f":"IF(ISBLANK(D1348),\"Alain, nix drischribu\",VLOOKUP(D1348,'2021'!$A$11:$G$143,4,FALSE))","v":"Zumofen / Gattlen"},{"$f":"VLOOKUP(D1348,'2021'!$A$11:$G$143,2,FALSE)","v":"Raja"},121,60,{"$f":"VLOOKUP(E1348,'2021'!$A$11:$G$143,2,FALSE)","v":"Bayonne"},{"$f":"IF(ISBLANK(E1348),\"hie eu nix drischribu\",VLOOKUP(E1348,'2021'!$A$11:$G$143,4,FALSE))","v":"Jäger Carlo & Lukas"}]
["2021-06-20",{"$f":"IF(ISBLANK(D1349),\"Alain, nix drischribu\",VLOOKUP(D1349,'2021'!$A$11:$G$143,4,FALSE))","v":"Zumofen / Gattlen"},{"$f":"VLOOKUP(D1349,'2021'!$A$11:$G$143,2,FALSE)","v":"Palona"},111,47,{"$f":"VLOOKUP(E1349,'2021'!$A$11:$G$143,2,FALSE)","v":"Lenja"},{"$f":"IF(ISBLANK(E1349),\"hie eu nix drischribu\",VLOOKUP(E1349,'2021'!$A$11:$G$143,4,FALSE))","v":"Hischier H. & Bühlmann J."}]
["2021-06-20",{"$f":"IF(ISBLANK(D1350),\"Alain, nix drischribu\",VLOOKUP(D1350,'2021'!$A$11:$G$143,4,FALSE))","v":"Hischier H. & Bühlmann J."},{"$f":"VLOOKUP(D1350,'2021'!$A$11:$G$143,2,FALSE)","v":"Lenja"},47,105,{"$f":"VLOOKUP(E1350,'2021'!$A$11:$G$143,2,FALSE)","v":"Corona"},{"$f":"IF(ISBLANK(E1350),\"hie eu nix drischribu\",VLOOKUP(E1350,'2021'!$A$11:$G$143,4,FALSE))","v":"Zumoberhaus Pius"}]
["2021-06-20",{"$f":"IF(ISBLANK(D1351),\"Alain, nix drischribu\",VLOOKUP(D1351,'2021'!$A$11:$G$143,4,FALSE))","v":"Fux W., J., & Wyer Piet"},{"$f":"VLOOKUP(D1351,'2021'!$A$11:$G$143,2,FALSE)","v":"Bolero"},29,120,{"$f":"VLOOKUP(E1351,'2021'!$A$11:$G$143,2,FALSE)","v":"Rambo"},{"$f":"IF(ISBLANK(E1351),\"hie eu nix drischribu\",VLOOKUP(E1351,'2021'!$A$11:$G$143,4,FALSE))","v":"Zumofen / Gattlen"}]
["2021-06-20",{"$f":"IF(ISBLANK(D1352),\"Alain, nix drischribu\",VLOOKUP(D1352,'2021'!$A$11:$G$143,4,FALSE))","v":"Jäger Carlo & Lukas"},{"$f":"VLOOKUP(D1352,'2021'!$A$11:$G$143,2,FALSE)","v":"Sera"},64,9,{"$f":"VLOOKUP(E1352,'2021'!$A$11:$G$143,2,FALSE)","v":"Coquette"},{"$f":"IF(ISBLANK(E1352),\"hie eu nix drischribu\",VLOOKUP(E1352,'2021'!$A$11:$G$143,4,FALSE))","v":"Bregy Ralf & Adolf"}]
["2021-06-20",{"$f":"IF(ISBLANK(D1353),\"Alain, nix drischribu\",VLOOKUP(D1353,'2021'!$A$11:$G$143,4,FALSE))","v":"Jäger Carlo & Lukas"},{"$f":"VLOOKUP(D1353,'2021'!$A$11:$G$143,2,FALSE)","v":"Pivoine"},65,40,{"$f":"VLOOKUP(E1353,'2021'!$A$11:$G$143,2,FALSE)","v":"Tina"},{"$f":"IF(ISBLANK(E1353),\"hie eu nix drischribu\",VLOOKUP(E1353,'2021'!$A$11:$G$143,4,FALSE))","v":"Gebrüder Jäger"}]
["2021-06-20",{"$f":"IF(ISBLANK(D1354),\"Alain, nix drischribu\",VLOOKUP(D1354,'2021'!$A$11:$G$143,4,FALSE))","v":"Hischier Pius"},{"$f":"VLOOKUP(D1354,'2021'!$A$11:$G$143,2,FALSE)","v":"Safira"},51,41,{"$f":"VLOOKUP(E1354,'2021'!$A$11:$G$143,2,FALSE)","v":"Tara"},{"$f":"IF(ISBLANK(E1354),\"hie eu nix drischribu\",VLOOKUP(E1354,'2021'!$A$11:$G$143,4,FALSE))","v":"Gebrüder Jäger"}]
["2021-06-20",{"$f":"IF(ISBLANK(D1355),\"Alain, nix drischribu\",VLOOKUP(D1355,'2021'!$A$11:$G$143,4,FALSE))","v":"Bregy Silvan & Patrik"},{"$f":"VLOOKUP(D1355,'2021'!$A$11:$G$143,2,FALSE)","v":"Tequilla"},13,120,{"$f":"VLOOKUP(E1355,'2021'!$A$11:$G$143,2,FALSE)","v":"Rambo"},{"$f":"IF(ISBLANK(E1355),\"hie eu nix drischribu\",VLOOKUP(E1355,'2021'!$A$11:$G$143,4,FALSE))","v":"Zumofen / Gattlen"}]
["2021-06-20",{"$f":"IF(ISBLANK(D1356),\"Alain, nix drischribu\",VLOOKUP(D1356,'2021'!$A$11:$G$143,4,FALSE))","v":"Zumofen / Gattlen"},{"$f":"VLOOKUP(D1356,'2021'!$A$11:$G$143,2,FALSE)","v":"Rigolo"},117,106,{"$f":"VLOOKUP(E1356,'2021'!$A$11:$G$143,2,FALSE)","v":"Miss"},{"$f":"IF(ISBLANK(E1356),\"hie eu nix drischribu\",VLOOKUP(E1356,'2021'!$A$11:$G$143,4,FALSE))","v":"Zumoberhaus Pius"}]
["2021-06-20",{"$f":"IF(ISBLANK(D1357),\"Alain, nix drischribu\",VLOOKUP(D1357,'2021'!$A$11:$G$143,4,FALSE))","v":"Bayard Medard & Gustav"},{"$f":"VLOOKUP(D1357,'2021'!$A$11:$G$143,2,FALSE)","v":"Priska"},3,121,{"$f":"VLOOKUP(E1357,'2021'!$A$11:$G$143,2,FALSE)","v":"Raja"},{"$f":"IF(ISBLANK(E1357),\"hie eu nix drischribu\",VLOOKUP(E1357,'2021'!$A$11:$G$143,4,FALSE))","v":"Zumofen / Gattlen"}]
["2021-06-20",{"$f":"IF(ISBLANK(D1358),\"Alain, nix drischribu\",VLOOKUP(D1358,'2021'!$A$11:$G$143,4,FALSE))","v":"Bregy Ralf & Adolf"},{"$f":"VLOOKUP(D1358,'2021'!$A$11:$G$143,2,FALSE)","v":"Coquette"},9,121,{"$f":"VLOOKUP(E1358,'2021'!$A$11:$G$143,2,FALSE)","v":"Raja"},{"$f":"IF(ISBLANK(E1358),\"hie eu nix drischribu\",VLOOKUP(E1358,'2021'!$A$11:$G$143,4,FALSE))","v":"Zumofen / Gattlen"}]
["2021-06-20",{"$f":"IF(ISBLANK(D1359),\"Alain, nix drischribu\",VLOOKUP(D1359,'2021'!$A$11:$G$143,4,FALSE))","v":"Zumoberhaus Pius"},{"$f":"VLOOKUP(D1359,'2021'!$A$11:$G$143,2,FALSE)","v":"Corona"},105,41,{"$f":"VLOOKUP(E1359,'2021'!$A$11:$G$143,2,FALSE)","v":"Tara"},{"$f":"IF(ISBLANK(E1359),\"hie eu nix drischribu\",VLOOKUP(E1359,'2021'!$A$11:$G$143,4,FALSE))","v":"Gebrüder Jäger"}]
["2021-06-20",{"$f":"IF(ISBLANK(D1360),\"Alain, nix drischribu\",VLOOKUP(D1360,'2021'!$A$11:$G$143,4,FALSE))","v":"Gebrüder Jäger"},{"$f":"VLOOKUP(D1360,'2021'!$A$11:$G$143,2,FALSE)","v":"Tiara"},44,28,{"$f":"VLOOKUP(E1360,'2021'!$A$11:$G$143,2,FALSE)","v":"Baron"},{"$f":"IF(ISBLANK(E1360),\"hie eu nix drischribu\",VLOOKUP(E1360,'2021'!$A$11:$G$143,4,FALSE))","v":"Fam. Leiggener"}]
["2021-06-20",{"$f":"IF(ISBLANK(D1361),\"Alain, nix drischribu\",VLOOKUP(D1361,'2021'!$A$11:$G$143,4,FALSE))","v":"Bregy Ralf & Adolf"},{"$f":"VLOOKUP(D1361,'2021'!$A$11:$G$143,2,FALSE)","v":"Coquette"},9,69,{"$f":"VLOOKUP(E1361,'2021'!$A$11:$G$143,2,FALSE)","v":"Bavaria"},{"$f":"IF(ISBLANK(E1361),\"hie eu nix drischribu\",VLOOKUP(E1361,'2021'!$A$11:$G$143,4,FALSE))","v":"Mathieu Leander & Sascha"}]
["2021-06-20",{"$f":"IF(ISBLANK(D1362),\"Alain, nix drischribu\",VLOOKUP(D1362,'2021'!$A$11:$G$143,4,FALSE))","v":"Bregy Ralf & Adolf"},{"$f":"VLOOKUP(D1362,'2021'!$A$11:$G$143,2,FALSE)","v":"Coquette"},9,94,{"$f":"VLOOKUP(E1362,'2021'!$A$11:$G$143,2,FALSE)","v":"Tigra"},{"$f":"IF(ISBLANK(E1362),\"hie eu nix drischribu\",VLOOKUP(E1362,'2021'!$A$11:$G$143,4,FALSE))","v":"Williner Anton"}]
["2021-06-20",{"$f":"IF(ISBLANK(D1363),\"Alain, nix drischribu\",VLOOKUP(D1363,'2021'!$A$11:$G$143,4,FALSE))","v":"Jäger Carlo & Lukas"},{"$f":"VLOOKUP(D1363,'2021'!$A$11:$G$143,2,FALSE)","v":"Bataille"},58,9,{"$f":"VLOOKUP(E1363,'2021'!$A$11:$G$143,2,FALSE)","v":"Coquette"},{"$f":"IF(ISBLANK(E1363),\"hie eu nix drischribu\",VLOOKUP(E1363,'2021'!$A$11:$G$143,4,FALSE))","v":"Bregy Ralf & Adolf"}]
["2021-06-20",{"$f":"IF(ISBLANK(D1364),\"Alain, nix drischribu\",VLOOKUP(D1364,'2021'!$A$11:$G$143,4,FALSE))","v":"Jäger Carlo & Lukas"},{"$f":"VLOOKUP(D1364,'2021'!$A$11:$G$143,2,FALSE)","v":"Sera"},64,4,{"$f":"VLOOKUP(E1364,'2021'!$A$11:$G$143,2,FALSE)","v":"Vampir"},{"$f":"IF(ISBLANK(E1364),\"hie eu nix drischribu\",VLOOKUP(E1364,'2021'!$A$11:$G$143,4,FALSE))","v":"Bayard Medard & Gustav"}]
["2021-06-20",{"$f":"IF(ISBLANK(D1365),\"Alain, nix drischribu\",VLOOKUP(D1365,'2021'!$A$11:$G$143,4,FALSE))","v":"Sewer R. & Thommen S."},{"$f":"VLOOKUP(D1365,'2021'!$A$11:$G$143,2,FALSE)","v":"Samantha"},85,30,{"$f":"VLOOKUP(E1365,'2021'!$A$11:$G$143,2,FALSE)","v":"Diamant"},{"$f":"IF(ISBLANK(E1365),\"hie eu nix drischribu\",VLOOKUP(E1365,'2021'!$A$11:$G$143,4,FALSE))","v":"Fux W., J., & Wyer Piet"}]
["2021-06-20",{"$f":"IF(ISBLANK(D1366),\"Alain, nix drischribu\",VLOOKUP(D1366,'2021'!$A$11:$G$143,4,FALSE))","v":"Williner Anton"},{"$f":"VLOOKUP(D1366,'2021'!$A$11:$G$143,2,FALSE)","v":"Tira"},98,48,{"$f":"VLOOKUP(E1366,'2021'!$A$11:$G$143,2,FALSE)","v":"Jamada"},{"$f":"IF(ISBLANK(E1366),\"hie eu nix drischribu\",VLOOKUP(E1366,'2021'!$A$11:$G$143,4,FALSE))","v":"Hischier H. & Bühlmann J."}]
["2021-06-20",{"$f":"IF(ISBLANK(D1367),\"Alain, nix drischribu\",VLOOKUP(D1367,'2021'!$A$11:$G$143,4,FALSE))","v":"Wyssen Diego & Madlen"},{"$f":"VLOOKUP(D1367,'2021'!$A$11:$G$143,2,FALSE)","v":"Xantara"},100,92,{"$f":"VLOOKUP(E1367,'2021'!$A$11:$G$143,2,FALSE)","v":"Tomba"},{"$f":"IF(ISBLANK(E1367),\"hie eu nix drischribu\",VLOOKUP(E1367,'2021'!$A$11:$G$143,4,FALSE))","v":"Tscherry Erwin & Bernhard"}]
["2021-06-20",{"$f":"IF(ISBLANK(D1368),\"Alain, nix drischribu\",VLOOKUP(D1368,'2021'!$A$11:$G$143,4,FALSE))","v":"Fux W., J., & Wyer Piet"},{"$f":"VLOOKUP(D1368,'2021'!$A$11:$G$143,2,FALSE)","v":"Diamant"},30,106,{"$f":"VLOOKUP(E1368,'2021'!$A$11:$G$143,2,FALSE)","v":"Miss"},{"$f":"IF(ISBLANK(E1368),\"hie eu nix drischribu\",VLOOKUP(E1368,'2021'!$A$11:$G$143,4,FALSE))","v":"Zumoberhaus Pius"}]
["2021-06-20",{"$f":"IF(ISBLANK(D1369),\"Alain, nix drischribu\",VLOOKUP(D1369,'2021'!$A$11:$G$143,4,FALSE))","v":"Bregy Uli / Lisi & Pasci"},{"$f":"VLOOKUP(D1369,'2021'!$A$11:$G$143,2,FALSE)","v":"Calette"},25,53,{"$f":"VLOOKUP(E1369,'2021'!$A$11:$G$143,2,FALSE)","v":"Caline"},{"$f":"IF(ISBLANK(E1369),\"hie eu nix drischribu\",VLOOKUP(E1369,'2021'!$A$11:$G$143,4,FALSE))","v":"Jäger Carlo & Lukas"}]
["2021-06-20",{"$f":"IF(ISBLANK(D1370),\"Alain, nix drischribu\",VLOOKUP(D1370,'2021'!$A$11:$G$143,4,FALSE))","v":"Sewer R. & Thommen S."},{"$f":"VLOOKUP(D1370,'2021'!$A$11:$G$143,2,FALSE)","v":"Tessa"},86,35,{"$f":"VLOOKUP(E1370,'2021'!$A$11:$G$143,2,FALSE)","v":"Pampère"},{"$f":"IF(ISBLANK(E1370),\"hie eu nix drischribu\",VLOOKUP(E1370,'2021'!$A$11:$G$143,4,FALSE))","v":"Fux W., J., & Wyer Piet"}]
["2021-06-20",{"$f":"IF(ISBLANK(D1371),\"Alain, nix drischribu\",VLOOKUP(D1371,'2021'!$A$11:$G$143,4,FALSE))","v":"Bayard Medard & Gustav"},{"$f":"VLOOKUP(D1371,'2021'!$A$11:$G$143,2,FALSE)","v":"Vampir"},4,115,{"$f":"VLOOKUP(E1371,'2021'!$A$11:$G$143,2,FALSE)","v":"Souris"},{"$f":"IF(ISBLANK(E1371),\"hie eu nix drischribu\",VLOOKUP(E1371,'2021'!$A$11:$G$143,4,FALSE))","v":"Zumofen / Gattlen"}]
["2021-06-20",{"$f":"IF(ISBLANK(D1372),\"Alain, nix drischribu\",VLOOKUP(D1372,'2021'!$A$11:$G$143,4,FALSE))","v":"Jäger Carlo & Lukas"},{"$f":"VLOOKUP(D1372,'2021'!$A$11:$G$143,2,FALSE)","v":"Megane"},62,27,{"$f":"VLOOKUP(E1372,'2021'!$A$11:$G$143,2,FALSE)","v":"Rebell"},{"$f":"IF(ISBLANK(E1372),\"hie eu nix drischribu\",VLOOKUP(E1372,'2021'!$A$11:$G$143,4,FALSE))","v":"Fam. Leiggener"}]
["2021-06-20",{"$f":"IF(ISBLANK(D1373),\"Alain, nix drischribu\",VLOOKUP(D1373,'2021'!$A$11:$G$143,4,FALSE))","v":"Fux W., J., & Wyer Piet"},{"$f":"VLOOKUP(D1373,'2021'!$A$11:$G$143,2,FALSE)","v":"Toscana"},37,83,{"$f":"VLOOKUP(E1373,'2021'!$A$11:$G$143,2,FALSE)","v":"Cayenne"},{"$f":"IF(ISBLANK(E1373),\"hie eu nix drischribu\",VLOOKUP(E1373,'2021'!$A$11:$G$143,4,FALSE))","v":"Stallung zum Stäg"}]
["2021-06-20",{"$f":"IF(ISBLANK(D1374),\"Alain, nix drischribu\",VLOOKUP(D1374,'2021'!$A$11:$G$143,4,FALSE))","v":"Stallung Passeraub"},{"$f":"VLOOKUP(D1374,'2021'!$A$11:$G$143,2,FALSE)","v":"Bonita"},80,99,{"$f":"VLOOKUP(E1374,'2021'!$A$11:$G$143,2,FALSE)","v":"Rijana"},{"$f":"IF(ISBLANK(E1374),\"hie eu nix drischribu\",VLOOKUP(E1374,'2021'!$A$11:$G$143,4,FALSE))","v":"Wyssen Diego & Madlen"}]
["2021-06-20",{"$f":"IF(ISBLANK(D1375),\"Alain, nix drischribu\",VLOOKUP(D1375,'2021'!$A$11:$G$143,4,FALSE))","v":"Fam. Leiggener"},{"$f":"VLOOKUP(D1375,'2021'!$A$11:$G$143,2,FALSE)","v":"Rebell"},27,88,{"$f":"VLOOKUP(E1375,'2021'!$A$11:$G$143,2,FALSE)","v":"Malice"},{"$f":"IF(ISBLANK(E1375),\"hie eu nix drischribu\",VLOOKUP(E1375,'2021'!$A$11:$G$143,4,FALSE))","v":"Sewer R. & Thommen S."}]
["2021-06-20",{"$f":"IF(ISBLANK(D1376),\"Alain, nix drischribu\",VLOOKUP(D1376,'2021'!$A$11:$G$143,4,FALSE))","v":"Fux W., J., & Wyer Piet"},{"$f":"VLOOKUP(D1376,'2021'!$A$11:$G$143,2,FALSE)","v":"Valaisanne"},34,28,{"$f":"VLOOKUP(E1376,'2021'!$A$11:$G$143,2,FALSE)","v":"Baron"},{"$f":"IF(ISBLANK(E1376),\"hie eu nix drischribu\",VLOOKUP(E1376,'2021'!$A$11:$G$143,4,FALSE))","v":"Fam. Leiggener"}]
["2021-06-20",{"$f":"IF(ISBLANK(D1377),\"Alain, nix drischribu\",VLOOKUP(D1377,'2021'!$A$11:$G$143,4,FALSE))","v":"Bregy Ralf & Adolf"},{"$f":"VLOOKUP(D1377,'2021'!$A$11:$G$143,2,FALSE)","v":"Creola"},8,110,{"$f":"VLOOKUP(E1377,'2021'!$A$11:$G$143,2,FALSE)","v":"Xena"},{"$f":"IF(ISBLANK(E1377),\"hie eu nix drischribu\",VLOOKUP(E1377,'2021'!$A$11:$G$143,4,FALSE))","v":"Zumofen / Gattlen"}]
["2021-06-20",{"$f":"IF(ISBLANK(D1378),\"Alain, nix drischribu\",VLOOKUP(D1378,'2021'!$A$11:$G$143,4,FALSE))","v":"Jäger Carlo & Lukas"},{"$f":"VLOOKUP(D1378,'2021'!$A$11:$G$143,2,FALSE)","v":"Sera"},64,1,{"$f":"VLOOKUP(E1378,'2021'!$A$11:$G$143,2,FALSE)","v":"Venus"},{"$f":"IF(ISBLANK(E1378),\"hie eu nix drischribu\",VLOOKUP(E1378,'2021'!$A$11:$G$143,4,FALSE))","v":"Bayard Medard & Gustav"}]
["2021-06-20",{"$f":"IF(ISBLANK(D1379),\"Alain, nix drischribu\",VLOOKUP(D1379,'2021'!$A$11:$G$143,4,FALSE))","v":"Gebrüder Jäger"},{"$f":"VLOOKUP(D1379,'2021'!$A$11:$G$143,2,FALSE)","v":"Lorens"},46,15,{"$f":"VLOOKUP(E1379,'2021'!$A$11:$G$143,2,FALSE)","v":"Cashida"},{"$f":"IF(ISBLANK(E1379),\"hie eu nix drischribu\",VLOOKUP(E1379,'2021'!$A$11:$G$143,4,FALSE))","v":"Bregy Ralf & Adolf"}]
["2021-06-20",{"$f":"IF(ISBLANK(D1380),\"Alain, nix drischribu\",VLOOKUP(D1380,'2021'!$A$11:$G$143,4,FALSE))","v":"Sewer R. & Thommen S."},{"$f":"VLOOKUP(D1380,'2021'!$A$11:$G$143,2,FALSE)","v":"Samantha"},85,104,{"$f":"VLOOKUP(E1380,'2021'!$A$11:$G$143,2,FALSE)","v":"Xhyla"},{"$f":"IF(ISBLANK(E1380),\"hie eu nix drischribu\",VLOOKUP(E1380,'2021'!$A$11:$G$143,4,FALSE))","v":"Wyssen Diego & Madlen"}]
["2021-06-20",{"$f":"IF(ISBLANK(D1381),\"Alain, nix drischribu\",VLOOKUP(D1381,'2021'!$A$11:$G$143,4,FALSE))","v":"Hischier H. & Bühlmann J."},{"$f":"VLOOKUP(D1381,'2021'!$A$11:$G$143,2,FALSE)","v":"Jamada"},48,93,{"$f":"VLOOKUP(E1381,'2021'!$A$11:$G$143,2,FALSE)","v":"Tonic"},{"$f":"IF(ISBLANK(E1381),\"hie eu nix drischribu\",VLOOKUP(E1381,'2021'!$A$11:$G$143,4,FALSE))","v":"Williner Anton"}]
["2021-06-20",{"$f":"IF(ISBLANK(D1382),\"Alain, nix drischribu\",VLOOKUP(D1382,'2021'!$A$11:$G$143,4,FALSE))","v":"Wyssen Diego & Madlen"},{"$f":"VLOOKUP(D1382,'2021'!$A$11:$G$143,2,FALSE)","v":"Xhyla"},104,69,{"$f":"VLOOKUP(E1382,'2021'!$A$11:$G$143,2,FALSE)","v":"Bavaria"},{"$f":"IF(ISBLANK(E1382),\"hie eu nix drischribu\",VLOOKUP(E1382,'2021'!$A$11:$G$143,4,FALSE))","v":"Mathieu Leander & Sascha"}]
["2021-06-20",{"$f":"IF(ISBLANK(D1383),\"Alain, nix drischribu\",VLOOKUP(D1383,'2021'!$A$11:$G$143,4,FALSE))","v":"Bregy Uli / Lisi & Pasci"},{"$f":"VLOOKUP(D1383,'2021'!$A$11:$G$143,2,FALSE)","v":"Catalina"},24,15,{"$f":"VLOOKUP(E1383,'2021'!$A$11:$G$143,2,FALSE)","v":"Cashida"},{"$f":"IF(ISBLANK(E1383),\"hie eu nix drischribu\",VLOOKUP(E1383,'2021'!$A$11:$G$143,4,FALSE))","v":"Bregy Ralf & Adolf"}]
["2021-06-20",{"$f":"IF(ISBLANK(D1384),\"Alain, nix drischribu\",VLOOKUP(D1384,'2021'!$A$11:$G$143,4,FALSE))","v":"Fux W., J., & Wyer Piet"},{"$f":"VLOOKUP(D1384,'2021'!$A$11:$G$143,2,FALSE)","v":"Bastis"},31,41,{"$f":"VLOOKUP(E1384,'2021'!$A$11:$G$143,2,FALSE)","v":"Tara"},{"$f":"IF(ISBLANK(E1384),\"hie eu nix drischribu\",VLOOKUP(E1384,'2021'!$A$11:$G$143,4,FALSE))","v":"Gebrüder Jäger"}]

{"sheet":"2022","index":1,"n_rows":165,"n_cols":13,"rows_kept":165,"cut":false,"hidden":false,"merged":[[17,8,21,8],[32,12,34,12],[17,9,21,9],[17,10,21,10],[18,12,21,12],[22,8,26,8],[22,9,26,9],[22,10,26,10],[23,12,26,12],[28,8,29,8],[28,9,29,9],[28,10,29,10],[28,11,29,11],[22,0,26,0],[22,1,26,1],[22,3,26,3],[22,4,26,4],[22,7,26,7],[17,0,21,0],[17,1,21,1],[17,3,21,3],[17,4,21,4],[17,7,21,7],[28,0,29,0],[28,1,29,1],[28,3,29,3],[28,4,29,4],[28,7,29,7],[35,8,36,8],[35,9,36,9],[35,10,36,10],[31,0,34,0],[31,1,34,1],[31,3,34,3],[31,4,34,4],[35,0,36,0],[35,1,36,1],[35,3,36,3],[35,4,36,4],[35,7,36,7],[31,7,34,7],[31,8,34,8],[31,9,34,9],[31,10,34,10],[43,0,45,0],[43,1,45,1],[46,0,47,0],[46,1,47,1],[46,3,47,3],[46,7,47,7],[46,8,47,8],[46,9,47,9],[46,10,47,10],[58,0,59,0],[58,1,59,1],[58,3,59,3],[58,4,59,4],[58,7,59,7],[58,8,59,8],[46,4,47,4],[58,9,59,9],[58,10,59,10],[69,0,70,0],[69,1,70,1],[69,3,70,3],[69,4,70,4],[69,7,70,7],[69,8,70,8],[69,9,70,9],[69,10,70,10],[92,1,94,1],[92,4,94,4],[92,7,94,7],[108,8,109,8],[108,9,109,9],[108,10,109,10],[125,0,127,0],[125,1,127,1],[125,3,127,3],[125,4,127,4],[125,7,127,7],[125,8,127,8],[125,9,127,9],[108,0,109,0],[108,1,109,1],[108,3,109,3],[108,4,109,4],[108,7,109,7],[145,0,147,0],[145,1,147,1],[145,7,147,7],[125,10,127,10],[128,0,130,0],[128,1,130,1],[128,3,130,3],[128,4,130,4],[128,7,130,7],[128,8,130,8],[128,9,130,9],[128,10,130,10]]}
["Alpe Rotigen Turtmanntal"]
[]
["Alpaufzug vom xx Juni 2022"]
[]
[null,null,null,"Trupposiegerin",124,null,null,"Tiere",null,null,"Klassiert 2021 und nicht da"]
[]
[null,null,null,"Klassiert 2021",25,null,"IV","Erstmelken",null,null,"Flacari, Bregy Ralf und Adolf (7em)"]
[]
[null,null,null,null,36,null,"N","Neu (Nicht da 2020)"]
[]
["Nr.","Name",null,"Besitzer","Ort",null,null,"Geb.","BDTA","Mutter","Vater","Klassierungen Alpe","Klassierungen Match"]
[1,"Venus",null,"Bayard Medard & Gustav","N'Gampel",null,null,"2014-11-01","120.0618.4532.6","Violette","@MAC"]
[2,"Fantastic",null,"Bayard Medard & Gustav","N'Gampel",null,null,"2015-12-01","120.1201.9792.2","Chinook","#CAPO","4te IV Rotigen 19"]
[3,"Priska",null,"Bayard Medard & Gustav","N'Gampel",null,null,"2015-11-01","120.0618.4540.1","Pinka","@MELCHIOR","3te IV Rotigen 19"]
[4,"Vampir",null,"Bayard Medard & Gustav","N'Gampel",null,null,"2015-10-01","120.0618.4536.4","Violette","@MELCHIOR"]
[5,"Pandera",null,"Bayard Medard & Gustav","N'Gampel",null,null,"2014-12-01","120.0618.4534.0","Pinka","PRINZ"]
[6,"Flacabre",null,"Bregy Ralf & Adolf","Unterems",null,null,"2016-10-01","120.1255.5039.5","Flacari","$BREONA"]
[7,"Canaille",null,"Bregy Ralf & Adolf","Unterems",null,null,"2012-10-01","120.0931.3322.4","Chealsy","$BREONA","2te Rotigen 20"]
[null,null,null,null,null,null,null,null,null,null,null,"Königin Rotigen 19","4te V Goler 15"]
[null,null,null,null,null,null,null,null,null,null,null,"Königin Rotigen 18"]
[null,null,null,null,null,null,null,null,null,null,null,"3te Rotigen 17"]
[null,null,null,null,null,null,null,null,null,null,null,"Königin V Rotigen 15"]
[8,"Creola",null,"Bregy Ralf & Adolf","Unterems",null,null,"2011-10-01","120.0935.2375.9","Dorina","$BREONA","6te Rotigen 20"]
[null,null,null,null,null,null,null,null,null,null,null,"5te Rotigen 19","Königin I Goler 19           \n4te IV Kantonal 15       \n3te V Goler 14"]
[null,null,null,null,null,null,null,null,null,null,null,"13te Rotigen 18"]
[null,null,null,null,null,null,null,null,null,null,null,"12te Rotigen 17"]
[null,null,null,null,null,null,null,null,null,null,null,"3te Rotigen 14"]
[9,"Coquette",null,"Bregy Ralf & Adolf","Unterems",null,null,"2016-10-01","120.1255.5043.2","Canaille","#ZIRO"]
[10,"Diabolo",null,"Bregy Ralf & Adolf","Unterems",null,null,"2014-10-01","120.0708.9312.7","Creola","#TEIRO","15te Rotigen 20","Königin  Zweitmelken Vifra 19"]
[null,null,null,null,null,null,null,null,null,null,null,null,"4te IV Martigny 18"]
[11,"Carcas",null,"Bregy Ralf & Adolf","Unterems",null,null,"2016-10-01","120.1255.5041.8","Cartouche","#CASINO",null,"Königin V Goler 19"]
[12,"Milow",null,"Bregy Silvan & Patrik","Unterems",null,null,"2011-09-01","120.0931.3304.0","Maruschka","$BREONA","6te Rotigen 20"]
[null,null,null,null,null,null,null,null,null,null,null,"6te Rotigen 19","5te II Goler 18             \n2te V Goler 14"]
[null,null,null,null,null,null,null,null,null,null,null,"4te Rotigen 18"]
[null,null,null,null,null,null,null,null,null,null,null,"13te Rotigen 17"]
[13,"Tequilla",null,"Bregy Silvan & Patrik","Unterems",null,null,"2012-12-01","120.0931.3329.3","Tragonja","#TEIRO","10te Rotigen 20"]
[null,null,null,null,null,null,null,null,null,null,null,"11te Rotigen 19"]
[14,"Canabis",null,"Bregy Ralf & Adolf","Unterems",null,null,"2015-11-01","120.1255.5036.4","Canaille","@BISON",null,"2te IV Vifta 19"]
[15,"Cashida",null,"Bregy Ralf & Adolf","Unterems",null,null,"2016-09-01","120.1255.5038.8","Clairon","$BREONA",null,"2te V Goler 19"]
[16,"Murphy",null,"Bregy Uli / Lisi & Pasci","Ergisch",null,null,"2016-12-01","120.1329.8033.8","Manga","@FAKIR"]
[17,"Simba",null,"Bregy Uli / Lisi & Pasci","Ergisch","N","IV","2017-12-10","120.1394.8447.1","Souki","LOUKY"]
[18,"Souki",null,"Bregy Uli / Lisi & Pasci","Ergisch",null,null,"2009-10-01","120.0745.7355.1","Mirage","COQUIN","13te Rotigen 20"]
[19,"Tiranie",null,"Bregy Uli / Lisi & Pasci","Ergisch",null,null,"2013-11-01","120.1121.4498.9","Tsatagne","ZOLA","Königin IV Vieux They 17"]
[20,"Caline",null,null,null,null,null,null,null,null,null,"10te Rotigen 20"]
[null,null,null," Bregy Uli / Lisi & Pasci","Ergisch",null,null,"2010-10-01","120.0919.1804.5","Calimero","$BOCASSA","14te Rotigen 19","3te IV Goler 14"]
[null,null,null,null,null,null,null,null,null,null,null,"4te V Rotigen 13","3te V Goler 13"]
[21,"Bora",null,"Bregy Uli / Lisi & Pasci","Ergisch",null,null,"2012-09-01","120.0999.4111.3","Bobino","@BIRK","12te Rotigen 20"]
[null,null,null,null,null,null,null,null,null,null,null,"12te ZALAN D`AYENT 18"]
[22,"Xaphir",null,"Bregy Uli / Lisi & Pasci","Ergisch",null,null,"2015-10-01","120.1213.2629.1","Xenja","TOUAREG","5te V Rotigen 18","3te V Goler 18"]
[23,"Corona",null,"Bregy Uli / Lisi & Pasci","Ergisch",null,null,"2016-10-01","120.1249.2515.6","Cobra","CASSIUS"]
[24,"Catalina",null,"Bregy Uli / Lisi & Pasci","Ergisch",null,null,"2013-10-01","120.1050.6420.1","Caline","SHACARI",null,"6te II Goler 19"]
[25,"Calette",null,"Bregy Uli / Lisi & Pasci","Ergisch",null,null,"2016-11-01","120.1328.6981.7","Caprice","@FAKIR"]
[26,"Cataleya",null,"Bregy Uli / Lisi & Pasci","Ergisch",null,null,"2016-11-01","120.1320.9486.8","Caline","$JAKARI"]
[27,"Rebell",null,"Fam. Leiggener","Turtmann",null,null,"2010-09-01","120.0761.3757.7","Riva","@BIRK",null,"5te II Goler 16"]
[28,"Baron",null,"Fam. Leiggener","Turtmann",null,null,"2016-01-01","120.1278.5681.5","Bijoux","$VITO"]
[29,"Bolero",null,"Fux W., J., & Wyer Piet","Eggerberg","N",null,"2013-11-11","120.1119.8616.0","Baguera","TIGER"]
[30,"Diamant",null,"Fux W., J., & Wyer Piet","Eggerberg","N","IV","2017-09-25","120.1330.7538.5","Dixence","@JENAL"]
[31,"Bastis",null,"Fux W., J., & Wyer Piet","Eggerberg","N","IV","2017-10-16","120.1291.2700.5","Bataille","#TURCO"]
[32,"Mystic",null,"Fux W., J., & Wyer Piet","Eggerberg",null,null,"2012-10-01","120.0995.2546.7","Etoile","MAGIC",null,"6te IV Goler 16"]
[null,null,null,null,null,null,null,null,null,null,null,null,"3te III Goler 18"]
[33,"Baquera",null,"Fux W., J., & Wyer Piet","Eggerberg",null,null,"2016-10-01","120.1273.8032.7","Bataille","CASANOVA"]
[34,"Valaisanne",null,"Fux W., J., & Wyer Piet","Eggerberg",null,null,"2015-01-01","120.1186.6943.1","Vagabonde","VAMPIR"]
[35,"Pampère",null,"Fux W., J., & Wyer Piet","Eggerberg",null,null,"2016-10-01","120.1273.8034.1","Pigalle","CASANOVA"]
[36,"Calmy",null,"Fux W., J., & Wyer Piet","Eggerberg",null,null,"2015-10-01","120.1262.1659.7","Caprice","VASCO"]
[37,"Toscana",null,"Fux W., J., & Wyer Piet","Eggerberg",null,null,"2014-10-01","120.1186.6939.4","Tarzan","TIGER",null,"Königin V Vifra 17"]
[38,"Bresil",null,"Fux W., J., & Wyer Piet","Eggerberg",null,null,"2013-01-01","120.1055.7163.1","Afifa","#TORRES"]
[39,"Bacardi",null,"Fux W., J., & Wyer Piet","Eggerberg",null,null,"2014-10-01","120.1186.6938.7","Bataille","VASCO",null,"5te Zweitmelken Vifra 19"]
[40,"Tina",null,"Gebrüder Jäger","Turtmann","N","IV","2017-10-13","120.1300.6942.4","Tirana","@JENAL"]
[41,"Tara",null,"Gebrüder Jäger","Turtmann","N","IV","2017-11-21","120.1395.5441.9","Taylor","#PICADOR"]
[42,"Simba",null,"Gebrüder Jäger","Turtmann",null,null,"2015-10-01","120.1153.2317.6","Sultane","$BOCASSA",null,"4te IV Vifra 19"]
[null,null,null,null,null,null,null,null,null,null,null,null,"7te V Zermatt 19"]
[43,"Dorina",null,"Gebrüder Jäger","Turtmann",null,null,"2014-11-01","120.1153.2313.8","Dijone","#KEIRO",null,"6te Zweitmelken Vifra 19"]
[44,"Tiara",null,"Gebrüder Jäger","Turtmann",null,null,"2015-11-01","120.1258.5634.3","Tokyo","$STARTUFF"]
[45,"Tanja",null,"Gebrüder Jäger","Turtmann",null,null,"2016-11-01","120.1258.5641.1","Tango","$PECKER"]
[46,"Lorens",null,"Gebrüder Jäger","Turtmann",null,null,"2013-10-01","120.1118.9224.9","Micabol","MONZA","8te Rotigen 20","4te IV Goler 17"]
[47,"Lenja",null,"Hischier H. & Bühlmann J.","Oberems",null,null,"2015-11-01","120.1197.2405.4","Lana","#CARNAVAL"]
[48,"Jamada",null,"Hischier H. & Bühlmann J.","Oberems",null,null,"2014-12-01","120.1202.2001.9","Janis","@GLOU-GLOU"]
[49,"Gina-Lisa",null,"Hischier Pius","Unterems","N","IV","2017-11-07","120.1324.6168.4","Gloria","$CARNAGE"]
[50,"Pruedence",null,"Hischier Pius","Unterems","N","IV","2017-12-01","120.1324.6169","Pelila","@Jenal"]
[51,"Safira",null,"Hischier Pius","Unterems",null,null,"2015-10-01","120.1188.2113.6","Safira","@BISOTTO"]
[52,"Pablo",null,"Hischier Pius","Unterems",null,null,"2013-12-01","120.0990.3391.7","Puma","$SATYR",null,"2te II Goler 19"]
[53,"Caline",null,"Jäger Carlo","Turtmann","N","IV","2017-10-24","120.1335.1513.3","Cobra","$BOCASSA"]
[54,"Flora",null,"Jäger Carlo","Turtmann","N","IV","2017-10-23","120.1335.1512.6","Fera","PERSEUS","3te V Rotigen 20"]
[55,"Mesagne",null,"Jäger Carlo","Turtmann","N","IV","2017-10-29","120.1335.1516.4","Maila","#PRIMUS","Königin V Rotigen 20"]
[56,"Mygale",null,"Jäger Carlo","Turtmann","N","IV","2017-12-08","120.1335.1522.5","Mascotte","#PRINCE"]
[57,"Prune",null,"Jäger Carlo","Turtmann","N",null,"2016-11-25","120.1335.1504.1","Promise","NEGUS"]
[58,"Bataille",null,"Jäger Carlo","Turtmann",null,null,"2015-11-01","120.1228.8024.2","Bandit","MILOU",null,"5te V Vifra 18"]
[59,"Samba",null,"Jäger Carlo","Turtmann","N","IV","2017-10-19","120.1335.1511.9","Sera","@BOCASSA"]
[60,"Bayonne",null,"Jäger Carlo","Turtmann",null,null,"2015-10-01","120.1228.8022.8","Barlette","MILOU"]
[61,"Grolla",null,"Jäger Carlo","Turtmann",null,null,"2016-09-01","120.1228.8029.7","Gitane","#PRINCE"]
[62,"Megane",null,"Jäger Carlo","Turtmann",null,null,"2016-12-01","120.1335.1507.2","Mandolin","#PRIMUS"]
[63,"Metis",null,"Jäger Carlo","Turtmann",null,null,"2016-11-01","120.1335.1505.8","Mitis","#PRINCE"]
[null,"Sera",null,null,"Turtmann",null,null,"2014-10-01",null,null,null,"11te Rotigen 20"]
[64,null,null,"Jäger Carlo",null,null,null,null,"120.1151.1686.0","Brunette","ZETOR","2te IV Rotigen 18"]
[null,null,null,null,null,null,null,null,null,null,null,"3te V Rotigen 17"]
[65,"Pivoine",null,"Jäger Carlo","Turtmann",null,null,"2016-12-01","120.1333.7067.1","Princesse","@COQUIN 64"]
[66,"Taverne",null,"Jäger Carlo","Turtmann",null,null,"2016-10-01","120.1270.2454.2","Tina","@CERVIN"]
[67,"Tokio",null,"Jäger Carlo","Turtmann",null,null,"2015-10-01","120.1151.1700.3","Tigresse","MILOU","Königin IV Rotigen 19"]
[68,"Baghira",null,"Mathieu Leander & Sascha","Albinen",null,null,"2013-11-01","120.0931.3517.4","Bataille","@CATUS",null,"6e IV Goler 17t"]
[89,"Bavaria",null,"Mathieu Leander & Sascha","Albinen",null,null,"2012-10-01","120.0930.1107.2","Boa","$TARTUFF"]
[70,"Bonita",null,"Mathieu Leander & Sascha","Albinen",null,null,"2012-10-01","120.0930.1109.6","Belon","$VITO"]
[71,"Balea",null,"Mathieu Leander & Sascha","Albinen","N","IV","2017-11-01","120.1407.8122.4","Bavaria","@MARCIANO"]
[72,"Babylon",null,"Mathieu Leander & Sascha","Albinen",null,null,"2014-12-01","120.1201.2202.3","Barillo","SHACARI",null,"2te IV Goler 18"]
[73,"Bajka",null,"Stallung Passeraub","Getwing","N","IV","2017-10-23","120.1327.2436.9","Ballerine ","$TONUS"]
[74,"Beryl",null,"Stallung Passeraub","Getwing","N","IV","2017-09-17","120.1327.2440.6","Bobino","$TWISTER"]
[75,"Menance",null,"Stallung Passeraub","Getwing","N","IV","2017-10-22","120.1327.2435.2","Medusa","@CARIBOU"]
[76,"Pablo",null,"Hutter Richard ","Lalden","N",null,"2016-11-04","120.1324.8848.3","Peluche","#CORBI"]
[77,"Beres",null,"Stallung Passeraub","Getwing",null,null,"2016-10-01","120.1327.2422.2","Belle","#CALIMERO","Königin V Rotigen 19"]
[78,"Ballerine",null,"Stallung Passeraub","Getwing",null,null,"2014-12-01","120.1188.5412.7","Bombache","CACTUS","Königin IV Rotigen 18","6te IV Kantonal 18"]
[null,null,null,null,null,null,null,null,null,null,null,"Königin V Rotigen 17","3te IV Goler 18"]
[79,"Marla",null,"Stallung Passeraub","Getwing",null,null,"2016-09-01","120.1327.2424.6","Mochita","#CORBI"]
[80,"Bonita",null,"Stallung Passeraub","Getwing",null,null,"2014-01-01","1201118.4001.1","Bombache","MALI"]
[81,"Fägär",null,"Hutter Richard","Lalden",null,null,"2016-09-01","120.1327.2427.7","Fortuna","$TWISTER"]
[82,"Bobino",null,"Stallung Passeraub","Getwing",null,null,"2013-11-01","120.1118.4000.4","Berenice","#NAT"]
[83,"Cayenne",null,"Stallung zum Stäg","St. Niklaus","N",null,"2015-12-25","120.1258.8839.9","Chealsy","TAO"]
[84,"Santana",null,"Stallung zum Stäg","St. Niklaus","N",null,"2012-11-08","120.0995.8303.0","Samanta","$VITO",null,"2te V Sembrancher 15\n2te V Final Nat "]
[85,"Samantha",null,"Sewer R. & Thommen S.","Turtmann","N","IV","2017-10-18","120.1330.9651.9","Saphira","@Jenal"]
[86,"Tessa",null,"Sewer R. & Thommen S.","Turtmann","N","IV","2017-11-04","120.1324.5082.4","Tacona","#VILAR"]
[87,"Tiara",null,"Sewer R. & Thommen S.","Susten",null,null,"2012-11-01","120.0924.5773.4","Track","@LUCA",null,"7te III Goler 18"]
[88,"Malice",null,"Sewer R. & Thommen S.","Susten",null,null,"2015-11-01","120.0618.4544.9","Mirage","@MELCHIOR",null,"7te IV Goler 19"]
[89,"Biscot",null,"Sewer R. & Thommen S.","Susten",null,null,"2015-11-01","120.1255.5712.7","Bobino","POUDRE"]
[90,"Bolera",null,"Sewer R. & Thommen S.","Susten",null,null,"2015-10-01","120.1188.0914.1","Bango","FABIUS-FAROUK","4te V Rotigen 18"]
[91,"Carolin",null,"Tscherry Erwin & Bernhard","Agarn",null,null,"2014-09-01","120.1086.2394.8","Cuba","@NOUNOURS"]
[92,"Tomba",null,"Tscherry Erwin & Bernhard","Agarn","N","IV","2017-11-04","120.1349.1597.0","Tulip","@JENAL"]
[93,"Tonic",null,"Williner Anton","Visp","N","IV","2017-10-25","120.1252.8388.0","Tara","VAMPIRE"]
[94,"Tigra",null,"Williner Anton","Visp",null,null,"2012-01-01","120.0955.4046.4","Tina","BEN","2te Griebelalp 18"]
[null,null,null,null,null,null,null,null,null,null,null,"6te Griebelalp 17"]
[null,null,null,null,null,null,null,null,null,null,null,"2te IV Rotigen 15"]
[95,"Vivana",null,"Williner Anton","Visp",null,null,"2011-11-01","120.0923.7668.4","Violine","BEN","Königin Griebelalp 18"]
[null,null,null,null,null,null,null,null,null,null,null,"2te Griebelalp 17"]
[null,null,null,null,null,null,null,null,null,null,null,"Königin IV Rotigen 15"]
[96,"Vanessa",null,"Williner Anton","Visp",null,null,"2012-11-01","120.0955.4060.0","Vallesia","CHUCK","3te IV Rotigen 16","2te IV Goler 15"]
[97,"Violine",null,"Williner Anton","Visp","N",null,"2016-12-01","120.1252.8373.6","Vivana","VANCOUVER"]
[98,"Tira",null,"Williner Anton","Visp",null,null,"2012-11-01","120.0955.4058.7","Tomba","CHUCK"]
[99,"Rijana",null,"Wyssen Diego & Madlen","Susten","N","IV","2017-10-20","120.1399.9203.7","Ranja","PALADIN"]
[100,"Xantara",null,"Wyssen Diego & Madlen","Susten","N","IV","2017-10-05","120.1330.2483.3","Xera","#TURBULENCE"]
[101,"Xandria",null,"Wyssen Diego & Madlen","Susten",null,null,"2015-11-01","120.1256.8890.6","Xenja","#TORRO"]
[102,"Rasta",null,"Wyssen Diego & Madlen","Susten",null,null,"2015-11-01","120.1256.8888.3","Ranja","#TORRO"]
[103,"Xena",null,"Wyssen Diego & Madlen","Susten",null,null,"2013-11-01","120.1118.6566.3","Xera","FOUDRE","7et V Rotigen 16"]
[104,"Xhyla",null,"Wyssen Diego & Madlen","Susten",null,null,"2014-10-01","120.1127.8750.6","Xenia","#TURBULENCE","4te V Rotigen 17"]
[105,"Corona",null,"Zumoberhaus Pius","Oberwald","N",null,"2016-10-21","120.1258.8840.5","Coucou","@NEYMAR"]
[106,"Miss",null,"Zumoberhaus Pius","Oberwald","N",null,"2016-11-22","120.1331.0291.3","Milka","MILO"]
[107,"Violin",null,"Zumofen / Gattlen","Turtmann",null,null,"2013-11-01","120.0708.7752.3","Volero","$VITUS",null,"3te Zweitmelken Vifra 18"]
[108,"Violette",null,"Zumofen / Gattlen","Turtmann",null,null,"2015-09-01","120.1201.9782.3","Volero","$BREONA"]
[109,"Rena",null,"Zumofen / Gattlen","Turtmann",null,null,"2016-01-01","120.1269.9552.2","Ruby","@CARIBOU"]
[110,"Xena",null,null,null,null,null,"2012-10-01",null,null,null,"2te Rotigen 20"]
[null,null,null,"Zumofen / Gattlen","Turtmann",null,null,null,"120.1051.2928.3","Xenti","@CARIBOU","3te Rotigen 19"]
[null,null,null,null,null,null,null,null,null,null,null,"4te Rotigen 18"]
[111,"Palona",null,"Zumofen / Gattlen","Turtmann","N",null,"2015-10-23","120.1201.9787.8","Papillon","#CAPO"]
[112,"Riva",null,"Zimmermann Ivan & Monika","Getwing",null,null,"2015-10-01","120.1201.9784.7","Rocky","#CAPO"]
[113,"Vanda",null,"Zumofen / Gattlen","Turtmann",null,null,"2015-09-01","120.1201.9781.6","Volero","$BREONA"]
[114,"Maya",null,"Zumofen / Gattlen","Turtmann",null,null,"2016-12-01","120.1269.9561.4","Milou","#TORRO"]
[115,"Souris",null,"Zumofen / Gattlen","Turtmann","N",null,"2015-10-10","120.1196.8739.7","Souris","#CAPO"]
[116,"Pinoccio",null,"Zumofen / Gattlen","Turtmann",null,null,"2016-10-01","120.1269.9557.7","Pengal","FIGGEBENGEL"]
[117,"Rigolo",null,"Zumofen / Gattlen","Turtmann",null,null,"2016-10-01","120.1269.9554.6","Rocky","$BREONA"]
[118,"Vesuv",null,"Zumofen / Gattlen","Turtmann",null,null,"2016-11-01","120.1269.9558.4","Volero","#TORRO"]
[119,"Fayola",null,"Zumofen / Gattlen","Turtmann",null,null,"2014-09-01","120.0708.7750.9","Fiorenza","#VOLERIO","11te Rotigen 20"]
[120,"Rambo",null,"Zumofen / Gattlen","Turtmann",null,null,"2014-09-01","120.0708.7749.3","Rocky","#VOLERIO"]
[121,"Raja",null,"Zumofen / Gattlen","Turtmann","N","IV","2017-11-07","120.1402.0657.4","Rocky","#MARSAL"]
[122,"Xana",null,"Zumofen / Gattlen","Turtmann","N","IV","2017-12-11","120.1402.0663.5","Xena","#MARSAL"]
[123,"Fachita",null,"Zumofen / Gattlen","Turtmann","N","IV","2017-11-23","120.1402.0661.1","Fanjo","#MARSAL"]
[124,"Xara",null,"Zumofen / Gattlen","Turtmann","N",null,"2017-01-06","120.1269.9563.8","Xena","#TORRO"]
[null,null,null,null,null,null,null,null,null,null," "]
[]
["Viel Vergnügen wünschen die Alpgenossenschaft Turtmanntal und die Bestosser der Alpe Rotigen"]

{"sheet":"2021","index":2,"n_rows":138,"n_cols":13,"rows_kept":138,"cut":false,"hidden":false,"merged":[]}
["Alpe Rotigen Turtmanntal"]
[]
["Alpaufzug vom 19. Juni 2021"]
[]
[null,null,null,"Trupposiegerin",124,null,null,"Tiere",null,null,"Klassiert 2020 und nicht da"]
[]
[null,null,null,"Klassiert 2020",25,null,"IV","Erstmelken",null,null,"Flacari, Bregy Ralf und Adolf (7em)"]
[]
[null,null,null,null,36,null,"N","Neu (Nicht da 2020)"]
[]
["Nr.","Name",null,"Besitzer","Ort",null,null,"Geb.","BDTA","Mutter","Vater","Klassierungen Alpe","Klassierungen Match"]
[1,"Venus",null,"Bayard Medard & Gustav","N'Gampel",null,null,"2014-11-01","120.0618.4532.6","Violette","@MAC"]
[2,"Fantastic",null,"Bayard Medard & Gustav","N'Gampel",null,null,"2015-12-01","120.1201.9792.2","Chinook","#CAPO","4te IV Rotigen 19"]
[3,"Priska",null,"Bayard Medard & Gustav","N'Gampel",null,null,"2015-11-01","120.0618.4540.1","Pinka","@MELCHIOR","3te IV Rotigen 19"]
[4,"Vampir",null,"Bayard Medard & Gustav","N'Gampel",null,null,"2015-10-01","120.0618.4536.4","Violette","@MELCHIOR"]
[5,"Pandera",null,"Bayard Medard & Gustav","N'Gampel",null,null,"2014-12-01","120.0618.4534.0","Pinka","PRINZ"]
[6,"Flacabre",null,"Bregy Ralf & Adolf","Unterems",null,null,"2016-10-01","120.1255.5039.5","Flacari","$BREONA"]
[7,"Canaille",null,"Bregy Ralf & Adolf","Unterems",null,null,"2012-10-01","120.0931.3322.4","Chealsy","$BREONA","2te Rotigen 20"]
[8,"Creola",null,"Bregy Ralf & Adolf","Unterems",null,null,"2011-10-01","120.0935.2375.9","Dorina","$BREONA","6te Rotigen 20"]
[9,"Coquette",null,"Bregy Ralf & Adolf","Unterems",null,null,"2016-10-01","120.1255.5043.2","Canaille","#ZIRO"]
[10,"Diabolo",null,"Bregy Ralf & Adolf","Unterems",null,null,"2014-10-01","120.0708.9312.7","Creola","#TEIRO","15te Rotigen 20","Königin  Zweitmelken Vifra 19"]
[11,"Carcas",null,"Bregy Ralf & Adolf","Unterems",null,null,"2016-10-01","120.1255.5041.8","Cartouche","#CASINO",null,"Königin V Goler 19"]
[12,"Milow",null,"Bregy Silvan & Patrik","Unterems",null,null,"2011-09-01","120.0931.3304.0","Maruschka","$BREONA","6te Rotigen 20"]
[13,"Tequilla",null,"Bregy Silvan & Patrik","Unterems",null,null,"2012-12-01","120.0931.3329.3","Tragonja","#TEIRO","10te Rotigen 20"]
[14,"Canabis",null,"Bregy Ralf & Adolf","Unterems",null,null,"2015-11-01","120.1255.5036.4","Canaille","@BISON",null,"2te IV Vifta 19"]
[15,"Cashida",null,"Bregy Ralf & Adolf","Unterems",null,null,"2016-09-01","120.1255.5038.8","Clairon","$BREONA",null,"2te V Goler 19"]
[16,"Murphy",null,"Bregy Uli / Lisi & Pasci","Ergisch",null,null,"2016-12-01","120.1329.8033.8","Manga","@FAKIR"]
[17,"Simba",null,"Bregy Uli / Lisi & Pasci","Ergisch","N","IV","2017-12-10","120.1394.8447.1","Souki","LOUKY"]
[18,"Souki",null,"Bregy Uli / Lisi & Pasci","Ergisch",null,null,"2009-10-01","120.0745.7355.1","Mirage","COQUIN","13te Rotigen 20"]
[19,"Tiranie",null,"Bregy Uli / Lisi & Pasci","Ergisch",null,null,"2013-11-01","120.1121.4498.9","Tsatagne","ZOLA","Königin IV Vieux They 17"]
[20,"Caline",null," Bregy Uli / Lisi & Pasci","Ergisch",null,null,"2010-10-01","120.0919.1804.5","Calimero","$BOCASSA","10te Rotigen 20"]
[21,"Bora",null,"Bregy Uli / Lisi & Pasci","Ergisch",null,null,"2012-09-01","120.0999.4111.3","Bobino","@BIRK","12te Rotigen 20"]
[22,"Xaphir",null,"Bregy Uli / Lisi & Pasci","Ergisch",null,null,"2015-10-01","120.1213.2629.1","Xenja","TOUAREG","5te V Rotigen 18","3te V Goler 18"]
[23,"Corona",null,"Bregy Uli / Lisi & Pasci","Ergisch",null,null,"2016-10-01","120.1249.2515.6","Cobra","CASSIUS"]
[24,"Catalina",null,"Bregy Uli / Lisi & Pasci","Ergisch",null,null,"2013-10-01","120.1050.6420.1","Caline","SHACARI",null,"6te II Goler 19"]
[25,"Calette",null,"Bregy Uli / Lisi & Pasci","Ergisch",null,null,"2016-11-01","120.1328.6981.7","Caprice","@FAKIR"]
[26,"Cataleya",null,"Bregy Uli / Lisi & Pasci","Ergisch",null,null,"2016-11-01","120.1320.9486.8","Caline","$JAKARI"]
[27,"Rebell",null,"Fam. Leiggener","Turtmann",null,null,"2010-09-01","120.0761.3757.7","Riva","@BIRK",null,"5te II Goler 16"]
[28,"Baron",null,"Fam. Leiggener","Turtmann",null,null,"2016-01-01","120.1278.5681.5","Bijoux","$VITO"]
[29,"Bolero",null,"Fux W., J., & Wyer Piet","Eggerberg","N",null,"2013-11-11","120.1119.8616.0","Baguera","TIGER"]
[30,"Diamant",null,"Fux W., J., & Wyer Piet","Eggerberg","N","IV","2017-09-25","120.1330.7538.5","Dixence","@JENAL"]
[31,"Bastis",null,"Fux W., J., & Wyer Piet","Eggerberg","N","IV","2017-10-16","120.1291.2700.5","Bataille","#TURCO"]
[32,"Mystic",null,"Fux W., J., & Wyer Piet","Eggerberg",null,null,"2012-10-01","120.0995.2546.7","Etoile","MAGIC",null,"6te IV Goler 16"]
[33,"Baquera",null,"Fux W., J., & Wyer Piet","Eggerberg",null,null,"2016-10-01","120.1273.8032.7","Bataille","CASANOVA"]
[34,"Valaisanne",null,"Fux W., J., & Wyer Piet","Eggerberg",null,null,"2015-01-01","120.1186.6943.1","Vagabonde","VAMPIR"]
[35,"Pampère",null,"Fux W., J., & Wyer Piet","Eggerberg",null,null,"2016-10-01","120.1273.8034.1","Pigalle","CASANOVA"]
[36,"Calmy",null,"Fux W., J., & Wyer Piet","Eggerberg",null,null,"2015-10-01","120.1262.1659.7","Caprice","VASCO"]
[37,"Toscana",null,"Fux W., J., & Wyer Piet","Eggerberg",null,null,"2014-10-01","120.1186.6939.4","Tarzan","TIGER",null,"Königin V Vifra 17"]
[38,"Bresil",null,"Fux W., J., & Wyer Piet","Eggerberg",null,null,"2013-01-01","120.1055.7163.1","Afifa","#TORRES"]
[39,"Bacardi",null,"Fux W., J., & Wyer Piet","Eggerberg",null,null,"2014-10-01","120.1186.6938.7","Bataille","VASCO",null,"5te Zweitmelken Vifra 19"]
[40,"Tina",null,"Gebrüder Jäger","Turtmann","N","IV","2017-10-13","120.1300.6942.4","Tirana","@JENAL"]
[41,"Tara",null,"Gebrüder Jäger","Turtmann","N","IV","2017-11-21","120.1395.5441.9","Taylor","#PICADOR"]
[42,"Simba",null,"Gebrüder Jäger","Turtmann",null,null,"2015-10-01","120.1153.2317.6","Sultane","$BOCASSA",null,"4te IV Vifra 19"]
[43,"Dorina",null,"Gebrüder Jäger","Turtmann",null,null,"2014-11-01","120.1153.2313.8","Dijone","#KEIRO",null,"6te Zweitmelken Vifra 19"]
[44,"Tiara",null,"Gebrüder Jäger","Turtmann",null,null,"2015-11-01","120.1258.5634.3","Tokyo","$STARTUFF"]
[45,"Tanja",null,"Gebrüder Jäger","Turtmann",null,null,"2016-11-01","120.1258.5641.1","Tango","$PECKER"]
[46,"Lorens",null,"Gebrüder Jäger","Turtmann",null,null,"2013-10-01","120.1118.9224.9","Micabol","MONZA","8te Rotigen 20","4te IV Goler 17"]
[47,"Lenja",null,"Hischier H. & Bühlmann J.","Oberems",null,null,"2015-11-01","120.1197.2405.4","Lana","#CARNAVAL"]
[48,"Jamada",null,"Hischier H. & Bühlmann J.","Oberems",null,null,"2014-12-01","120.1202.2001.9","Janis","@GLOU-GLOU"]
[49,"Gina-Lisa",null,"Hischier Pius","Unterems","N","IV","2017-11-07","120.1324.6168.4","Gloria","$CARNAGE"]
[50,"Pruedence",null,"Hischier Pius","Unterems","N","IV","2017-12-01","120.1324.6169","Pelila","@Jenal"]
[51,"Safira",null,"Hischier Pius","Unterems",null,null,"2015-10-01","120.1188.2113.6","Safira","@BISOTTO"]
[52,"Pablo",null,"Hischier Pius","Unterems",null,null,"2013-12-01","120.0990.3391.7","Puma","$SATYR",null,"2te II Goler 19"]
[53,"Caline",null,"Jäger Carlo & Lukas","Turtmann","N","IV","2017-10-24","120.1335.1513.3","Cobra","$BOCASSA"]
[54,"Flora",null,"Jäger Carlo & Lukas","Turtmann","N","IV","2017-10-23","120.1335.1512.6","Fera","PERSEUS","3te V Rotigen 20"]
[55,"Mesagne",null,"Jäger Carlo & Lukas","Turtmann","N","IV","2017-10-29","120.1335.1516.4","Maila","#PRIMUS","Königin V Rotigen 20"]
[56,"Mygale",null,"Jäger Carlo & Lukas","Turtmann","N","IV","2017-12-08","120.1335.1522.5","Mascotte","#PRINCE"]
[57,"Prune",null,"Jäger Carlo & Lukas","Turtmann","N",null,"2016-11-25","120.1335.1504.1","Promise","NEGUS"]
[58,"Bataille",null,"Jäger Carlo & Lukas","Turtmann",null,null,"2015-11-01","120.1228.8024.2","Bandit","MILOU",null,"5te V Vifra 18"]
[59,"Samba",null,"Jäger Carlo & Lukas","Turtmann","N","IV","2017-10-19","120.1335.1511.9","Sera","@BOCASSA"]
[60,"Bayonne",null,"Jäger Carlo & Lukas","Turtmann",null,null,"2015-10-01","120.1228.8022.8","Barlette","MILOU"]
[61,"Grolla",null,"Jäger Carlo & Lukas","Turtmann",null,null,"2016-09-01","120.1228.8029.7","Gitane","#PRINCE"]
[62,"Megane",null,"Jäger Carlo & Lukas","Turtmann",null,null,"2016-12-01","120.1335.1507.2","Mandolin","#PRIMUS"]
[63,"Metis",null,"Jäger Carlo & Lukas","Turtmann",null,null,"2016-11-01","120.1335.1505.8","Mitis","#PRINCE"]
[64,"Sera",null,"Jäger Carlo & Lukas","Turtmann",null,null,"2014-10-01","120.1151.1686.0","Brunette","ZETOR","2te IV Rotigen 18"]
[65,"Pivoine",null,"Jäger Carlo & Lukas","Turtmann",null,null,"2016-12-01","120.1333.7067.1","Princesse","@COQUIN 64"]
[66,"Taverne",null,"Jäger Carlo & Lukas","Turtmann",null,null,"2016-10-01","120.1270.2454.2","Tina","@CERVIN"]
[67,"Tokio",null,"Jäger Carlo & Lukas","Turtmann",null,null,"2015-10-01","120.1151.1700.3","Tigresse","MILOU","Königin IV Rotigen 19"]
[68,"Baghira",null,"Mathieu Leander & Sascha","Albinen",null,null,"2013-11-01","120.0931.3517.4","Bataille","@CATUS",null,"6e IV Goler 17t"]
[69,"Bavaria",null,"Mathieu Leander & Sascha","Albinen",null,null,"2012-10-01","120.0930.1107.2","Boa","$TARTUFF"]
[70,"Bonita",null,"Mathieu Leander & Sascha","Albinen",null,null,"2012-10-01","120.0930.1109.6","Belon","$VITO"]
[71,"Balea",null,"Mathieu Leander & Sascha","Albinen","N","IV","2017-11-01","120.1407.8122.4","Bavaria","@MARCIANO"]
[72,"Babylon",null,"Mathieu Leander & Sascha","Albinen",null,null,"2014-12-01","120.1201.2202.3","Barillo","SHACARI",null,"2te IV Goler 18"]
[73,"Bajka",null,"Stallung Passeraub","Getwing","N","IV","2017-10-23","120.1327.2436.9","Ballerine ","$TONUS"]
[74,"Beryl",null,"Stallung Passeraub","Getwing","N","IV","2017-09-17","120.1327.2440.6","Bobino","$TWISTER"]
[75,"Menance",null,"Stallung Passeraub","Getwing","N","IV","2017-10-22","120.1327.2435.2","Medusa","@CARIBOU"]
[76,"Pablo",null,"Hutter Richard ","Lalden","N",null,"2016-11-04","120.1324.8848.3","Peluche","#CORBI"]
[77,"Beres",null,"Stallung Passeraub","Getwing",null,null,"2016-10-01","120.1327.2422.2","Belle","#CALIMERO","Königin V Rotigen 19"]
[78,"Ballerine",null,"Stallung Passeraub","Getwing",null,null,"2014-12-01","120.1188.5412.7","Bombache","CACTUS","Königin IV Rotigen 18","6te IV Kantonal 18"]
[79,"Marla",null,"Stallung Passeraub","Getwing",null,null,"2016-09-01","120.1327.2424.6","Mochita","#CORBI"]
[80,"Bonita",null,"Stallung Passeraub","Getwing",null,null,"2014-01-01","1201118.4001.1","Bombache","MALI"]
[81,"Fägär",null,"Hutter Richard","Lalden",null,null,"2016-09-01","120.1327.2427.7","Fortuna","$TWISTER"]
[82,"Bobino",null,"Stallung Passeraub","Getwing",null,null,"2013-11-01","120.1118.4000.4","Berenice","#NAT"]
[83,"Cayenne",null,"Stallung zum Stäg","St. Niklaus","N",null,"2015-12-25","120.1258.8839.9","Chealsy","TAO"]
[84,"Santana",null,"Stallung zum Stäg","St. Niklaus","N",null,"2012-11-08","120.0995.8303.0","Samanta","$VITO",null,"2te V Sembrancher 15\n2te V Final Nat "]
[85,"Samantha",null,"Sewer R. & Thommen S.","Turtmann","N","IV","2017-10-18","120.1330.9651.9","Saphira","@Jenal"]
[86,"Tessa",null,"Sewer R. & Thommen S.","Turtmann","N","IV","2017-11-04","120.1324.5082.4","Tacona","#VILAR"]
[87,"Tiara",null,"Sewer R. & Thommen S.","Susten",null,null,"2012-11-01","120.0924.5773.4","Track","@LUCA",null,"7te III Goler 18"]
[88,"Malice",null,"Sewer R. & Thommen S.","Susten",null,null,"2015-11-01","120.0618.4544.9","Mirage","@MELCHIOR",null,"7te IV Goler 19"]
[89,"Biscot",null,"Sewer R. & Thommen S.","Susten",null,null,"2015-11-01","120.1255.5712.7","Bobino","POUDRE"]
[90,"Bolera",null,"Sewer R. & Thommen S.","Susten",null,null,"2015-10-01","120.1188.0914.1","Bango","FABIUS-FAROUK","4te V Rotigen 18"]
[91,"Carolin",null,"Tscherry Erwin & Bernhard","Agarn",null,null,"2014-09-01","120.1086.2394.8","Cuba","@NOUNOURS"]
[92,"Tomba",null,"Tscherry Erwin & Bernhard","Agarn","N","IV","2017-11-04","120.1349.1597.0","Tulip","@JENAL"]
[93,"Tonic",null,"Williner Anton","Visp","N","IV","2017-10-25","120.1252.8388.0","Tara","VAMPIRE"]
[94,"Tigra",null,"Williner Anton","Visp",null,null,"2012-01-01","120.0955.4046.4","Tina","BEN","2te Griebelalp 18"]
[95,"Vivana",null,"Williner Anton","Visp",null,null,"2011-11-01","120.0923.7668.4","Violine","BEN","Königin Griebelalp 18"]
[96,"Vanessa",null,"Williner Anton","Visp",null,null,"2012-11-01","120.0955.4060.0","Vallesia","CHUCK","3te IV Rotigen 16","2te IV Goler 15"]
[97,"Violine",null,"Williner Anton","Visp","N",null,"2016-12-01","120.1252.8373.6","Vivana","VANCOUVER"]
[98,"Tira",null,"Williner Anton","Visp",null,null,"2012-11-01","120.0955.4058.7","Tomba","CHUCK"]
[99,"Rijana",null,"Wyssen Diego & Madlen","Susten","N","IV","2017-10-20","120.1399.9203.7","Ranja","PALADIN"]
[100,"Xantara",null,"Wyssen Diego & Madlen","Susten","N","IV","2017-10-05","120.1330.2483.3","Xera","#TURBULENCE"]
[101,"Xandria",null,"Wyssen Diego & Madlen","Susten",null,null,"2015-11-01","120.1256.8890.6","Xenja","#TORRO"]
[102,"Rasta",null,"Wyssen Diego & Madlen","Susten",null,null,"2015-11-01","120.1256.8888.3","Ranja","#TORRO"]
[103,"Xena",null,"Wyssen Diego & Madlen","Susten",null,null,"2013-11-01","120.1118.6566.3","Xera","FOUDRE","7et V Rotigen 16"]
[104,"Xhyla",null,"Wyssen Diego & Madlen","Susten",null,null,"2014-10-01","120.1127.8750.6","Xenia","#TURBULENCE","4te V Rotigen 17"]
[105,"Corona",null,"Zumoberhaus Pius","Oberwald","N",null,"2016-10-21","120.1258.8840.5","Coucou","@NEYMAR"]
[106,"Miss",null,"Zumoberhaus Pius","Oberwald","N",null,"2016-11-22","120.1331.0291.3","Milka","MILO"]
[107,"Violin",null,"Zumofen / Gattlen","Turtmann",null,null,"2013-11-01","120.0708.7752.3","Volero","$VITUS",null,"3te Zweitmelken Vifra 18"]
[108,"Violette",null,"Zumofen / Gattlen","Turtmann",null,null,"2015-09-01","120.1201.9782.3","Volero","$BREONA"]
[109,"Rena",null,"Zumofen / Gattlen","Turtmann",null,null,"2016-01-01","120.1269.9552.2","Ruby","@CARIBOU"]
[110,"Xena",null,"Zumofen / Gattlen","Turtmann",null,null,null,"120.1051.2928.3","Xenti","@CARIBOU","3te Rotigen 19"]
[111,"Palona",null,"Zumofen / Gattlen","Turtmann","N",null,"2015-10-23","120.1201.9787.8","Papillon","#CAPO"]
[112,"Riva",null,"Zimmermann Ivan & Monika","Getwing",null,null,"2015-10-01","120.1201.9784.7","Rocky","#CAPO"]
[113,"Vanda",null,"Zumofen / Gattlen","Turtmann",null,null,"2015-09-01","120.1201.9781.6","Volero","$BREONA"]
[114,"Maya",null,"Zumofen / Gattlen","Turtmann",null,null,"2016-12-01","120.1269.9561.4","Milou","#TORRO"]
[115,"Souris",null,"Zumofen / Gattlen","Turtmann","N",null,"2015-10-10","120.1196.8739.7","Souris","#CAPO"]
[116,"Pinoccio",null,"Zumofen / Gattlen","Turtmann",null,null,"2016-10-01","120.1269.9557.7","Pengal","FIGGEBENGEL"]
[117,"Rigolo",null,"Zumofen / Gattlen","Turtmann",null,null,"2016-10-01","120.1269.9554.6","Rocky","$BREONA"]
[118,"Vesuv",null,"Zumofen / Gattlen","Turtmann",null,null,"2016-11-01","120.1269.9558.4","Volero","#TORRO"]
[119,"Fayola",null,"Zumofen / Gattlen","Turtmann",null,null,"2014-09-01","120.0708.7750.9","Fiorenza","#VOLERIO","11te Rotigen 20"]
[120,"Rambo",null,"Zumofen / Gattlen","Turtmann",null,null,"2014-09-01","120.0708.7749.3","Rocky","#VOLERIO"]
[121,"Raja",null,"Zumofen / Gattlen","Turtmann","N","IV","2017-11-07","120.1402.0657.4","Rocky","#MARSAL"]
[122,"Xana",null,"Zumofen / Gattlen","Turtmann","N","IV","2017-12-11","120.1402.0663.5","Xena","#MARSAL"]
[123,"Fachita",null,"Zumofen / Gattlen","Turtmann","N","IV","2017-11-23","120.1402.0661.1","Fanjo","#MARSAL"]
[124,"Xara",null,"Zumofen / Gattlen","Turtmann","N",null,"2017-01-06","120.1269.9563.8","Xena","#TORRO"]
[null,null,null,null,null,null,null,null,null,null," "]
[]
["Viel Vergnügen wünschen die Alpgenossenschaft Turtmanntal und die Bestosser der Alpe Rotigen"]

{"sheet":"2020","index":3,"n_rows":143,"n_cols":12,"rows_kept":143,"cut":false,"hidden":false,"merged":[]}
[]
[null,"Alpe Rotigen Turtmanntal"]
[]
[null,null,null,"Alpaufzug vom 13. Juni 2020"]
[]
[]
[null,null,"Königin 2018 + 2019",116,null,null,"Tiere",null,null,null,"Klassiert 2019 und nicht da"]
[]
[null,null,"Trupposiegerin",26,null,"IV","Erstmelken",null,null,null,"Tigres von Fam. Leiggener (9em)"]
[null,null,null,null,null,null,null,null,null,null,"Puma von Zumofen/Gattlen (10em)"]
[null,null,"Klassiert 2019",2,null,"N","Neu (Nicht da 2019)",null,null,null,"Santiago von Bregy Ralf + Adolf (14em)"]
[]
[]
["Nr.","Name","Besitzer","Ort",null,null,"Geb.","BDTA","Mutter","Vater","Klassierungen Alpe","Klassierungen Match"]
[]
[1,"Diabolo","Bayard Medard + Gustav","N`Gampel",null,null,"2011-11-01","120.0898.9041.4","Dragon","@PARATI"]
[2,"Fantastic","Bayard Medard + Gustav","N`Gampel","N",null,"2015-12-01","120.1201.9792.2","Chinook","#CAPO","4em IV Rotigen 19"]
[3,"Priska","Bayard Medard + Gustav","N`Gampel","N",null,"2015-11-01","120.0618.4540.1","Pinka","@MELCHIOR","3em IV Rotigen 19"]
[4,"Vampir","Bayard Medard + Gustav","N`Gampel","N",null,"2015-10-01","120.0618.4536.4","Violette","@MELCHIOR"]
[5,"Pandera","Bayard Medard + Gustav","N`Gampel",null,null,"2014-12-01","120.0618.4534.0","Pinka","PRINZ"]
[6,"Venus","Bayard Medard + Gustav","N`Gampel","N",null,"2014-11-01","120.0618.4532.6","Violette","@MAC"]
[7,"Canaille","Bregy Ralf + Adolf","Unterems",null,null,"2012-10-01","120.0591.3322.0","Chealsy","$BREONA","REINE Rotigen 19     REINE Rotigen 18 \n3em Rotigen 17 \nReine V Rotigen 15","4em V Goler 15"]
[8,"Creola","Bregy Ralf + Adolf","Unterems",null,null,"2011-10-01","120.0935.2375.9","Dorina","$BREONA","5em Rotigen 19 \n13em Rotigen 18 \n12em Rotigen 17 \n3em V Rotigen 14","Reine I Goler 19\n4em IV Kantonal 15\n3em V Goler 14"]
[9,"Flacari","Bregy Ralf + Adolf","Unterems",null,null,"2010-11-01","120.0931.3303.3","Flash","@CARIBOU","4em Rotigen 19              5em Rotigen 18\n10em Rotigen 17 \n15em Rotigen 16  \n4em V Rotigen 13"]
[10,"Diabolo","Bregy Ralf + Adolf","Unterems",null,null,"2014-10-01","120.0591.9312.5","Creola","#TEIRO",null,"Reine 2eme veau Vifra 19  \n4em IV Martigny 18"]
[11,"Carcas","Bregy Ralf + Adolf","Unterems","N","IV","2016-10-01","120.1255.5041.8","Cartouche","#CASINO",null,"Reine V Goler 19"]
[12,"Milow","Bregy Silvan + Patrick","Unterems",null,null,"2011-09-01","120.0931.3304.0","Maruschka","$BREONA","6em Rotigen 19 \n4em Rotigen 18 \n13em Rotigen 17 ","5em II Goler 18 \n2em V Goler 14"]
[13,"Tequilla","Bregy Silvan + Patrick","Unterems",null,null,"2012-12-01","120.0931.3329.3","Tragonja","#TEIRO","11em Rotigen 19"]
[14,"Canabis","Bregy Ralf + Adolf","Unterems",null,null,"2015-11-01","120.1255.5036.4","Canaille","@BISON",null,"2em IV Vifra 19"]
[15,"Cashida","Bregy Ralf + Adolf","Unterems","N","IV","2016-09-01","120.1255.5038.8","Clairon","$BREONA",null,"2em V Goler 19"]
[16,"Flacabre","Bregy Ralf + Adolf","Unterems","N","IV","2016-10-01","120.1255.5039.5","Flacari","$BREONA"]
[17,"Coquette","Bregy Ralf + Adolf","Unterems","N","IV","2016-10-01","120.1255.5043.2","Canaille","#ZIRO"]
[18,"Souki","Bregy Uli + Pascal","Ergisch",null,null,"2009-10-01","120.0745.7355.1","Mirage","COQUIN"]
[19,"Tiranie","Bregy Uli + Pascal","Ergisch",null,null,"2013-11-01","120.1121.4498.9","Tsatagne","ZOLA","Reine IV Vieux They 17"]
[20,"Caline","Bregy Uli + Pascal","Ergisch",null,null,"2010-10-01","120.0919.1804.5","Calimero","$BOCASSA","14em Rotigen 19 \n4em V Rotigen 13","3em IV Goler 14 \n3em V Goler 13"]
[21,"Bora","Bregy Uli + Pascal","Ergisch",null,null,"2012-09-01","120.0999.4111.3","Bobino","@BIRK","12em ZALAN D`AYENT 18"]
[22,"Xaphir","Bregy Uli + Pascal","Ergisch",null,null,"2015-10-01","120.1213.2629.1","Xenja","TOUAREG","5em V Rotigen 18","3em V Goler 18"]
[23,"Pandora","Bregy Uli + Pascal","Ergisch",null,null,"2013-01-01","120.1050.6417.1","Paloma","$TARTUFF"]
[24,"Catalina","Bregy Uli + Pascal","Ergisch",null,null,"2013-10-01","120.1050.6420.1","Caline","SHACARI",null,"6em II Goler 19"]
[25,"Calette","Bregy Uli + Pascal","Ergisch","N","IV","2016-11-01","120.1328.6981.7","Caprice","@FAKIR"]
[26,"Cataleya","Bregy Uli + Pascal","Ergisch","N","IV","2016-11-01","120.1320.9486.8","Caline","$JAKARI"]
[27,"Murphy","Bregy Uli + Pascal","Ergisch","N","IV","2016-12-01","120.1329.8033.8","Manga","@FAKIR"]
[28,"Corona","Bregy Uli + Pascal","Ergisch","N","IV","2016-10-01","120.1249.2515.6","Cobra","CASSIUS"]
[29,"Rebell","Fam. Leiggener","Agarn",null,null,"2010-09-01","120.0761.3757.7","Riva","@BIRK",null,"5em II Goler 16"]
[30,"Bulle","Fam. Leiggener","Agarn",null,null,"2012-11-01","120.1000.4525.0","Briska","#TORRES"]
[31,"Baron","Fam. Leiggener","Agarn",null,null,"2016-01-01","120.1278.5681.5","Bijoux","$VITO"]
[32,"Mira","Fam. Leiggener","Agarn","N","IV","2017-02-01","120.1285.3022.6","Bison","BARON"]
[33,"Baquera","Fux W., J., + Wyer Piet","Eggerberg","N","IV","2016-10-01","120.1273.8032.7","Bataille","CASANOVA"]
[34,"Souris","Fux W., J., + Wyer Piet","Eggerberg",null,null,"2013-11-01","120.1119.8615.3","Santana","TIGER"]
[35,"Valaisanne","Fux W., J., + Wyer Piet","Eggerberg",null,null,"2015-01-01","120.1186.6943.1","Vagabonde","VAMPIR"]
[36,"Calmy","Fux W., J., + Wyer Piet","Eggerberg","N",null,"2015-10-01","120.1262.1659.7","Caprice","VASCO"]
[38,"Bresil","Fux W., J., + Wyer Piet","Eggerberg",null,null,"2013-01-01","120.1055.7163.1","Afifa","#TORRES"]
[39,"Bacardi","Fux W., J., + Wyer Piet","Eggerberg",null,null,"2014-10-01","120.1186.6938.7","Bataille","VASCO",null,"5em 2eme veau Vifra 19"]
[40,"Toscana","Fux W., J., + Wyer Piet","Eggerberg",null,null,"2014-10-01","120.1186.6939.4","Tarzan","TIGER",null,"Reine V Vifra 17"]
[41,"Mystic","Fux W., J., + Wyer Piet","Eggerberg",null,null,"2011-10-01","120.0995.2546.7","Etoile","MAGIC",null,"6em IV Goler 16 \n3em III Goler 18"]
[43,"Pampère","Fux W., J., + Wyer Piet","Eggerberg","N","IV","2016-10-01","120.1273.8034.1","Pigalle","CASANOVA"]
[44,"Dorina","Gebr. Jäger","Turtmann",null,null,"2014-11-01","120.1153.2313.8","Dijone","#KEIRO",null,"6em 2eme veau Vifra 19"]
[45,"Tamango","Gebr. Jäger","Turtmann",null,null,"2010-11-01","120.0919.0508.3","Tina","#KEIRO","6em Rotigen 19           10em Rotigen 17 \n15em Rotigen 16 \n4em V Rotigen 13 ","2em 2eme veau Vifra 15"]
[46,"Lorens","Gebr. Jäger","Turtmann",null,null,"2013-10-01","120.1118.9224.9","Micabol","MONZA",null,"4em IV Goler 17"]
[47,"Tiara","Gebr. Jäger","Turtmann",null,null,"2015-11-01","120.1258.5634.3","Tokyo","$TARTUFF"]
[48,"Simba","Gebr. Jäger","Turtmann",null,null,"2015-10-01","120.1153.2317.6","Sultane","$BOCASSA",null,"4em IV Vifra 19 \n7em V Zermatt 18"]
[49,"Solara","Gebr. Jäger","Turtmann","N","IV","2017-01-01","120.1300.6936.3","Samba","#TEIRO"]
[50,"Tanja","Gebr. Jäger","Turtmann","N","IV","2016-11-01","120.1258.5641.1","Tango","$PECKER"]
[]
[51,"Jamanda","Hischier H. + Bühlmann J.","Oberems",null,null,"2014-12-01","120.1202.2001.9","Janis","@GLOU-GLOU"]
[52,"Lenja","Hischier H. + Bühlmann J.","Oberems",null,null,"2015-11-01","120.1197.2405.4","Lana","#CARNAVAL"]
[53,"Safira","Hischier Pius","Unterems",null,null,"2015-10-01","120.1188.2113.6","Safira","@BISCOTTO"]
[54,"Pablo","Hischier Pius","Unterems",null,null,"2013-12-01","120.0990.3391.7","Puma","$SATYR",null,"2em II Goler 19"]
[55,"Pelila","Hischier Pius","Unterems",null,null,"2013-12-01","120.0990.3390.0","Puma","$SATYR"]
[56,"Shakira","Hischier Pius","Unterems",null,null,"2013-12-01","120.0623.7070.4","Safira","@VALENTINO"]
[57,"Promise","Jäger Carlo","Turtmann",null,null,"2009-10-01","120.0836.1545.7","Princesse","FRANCO","9em Rotigen 19         Reine IV Rotigen 13\nReine V Rotigen 12","7em I Goler 16"]
[58,"Bataille","Jäger Carlo","Turtmann","N",null,"2015-11-01","120.1228.8024.2","Bandit","MILOU",null," 5em V Vifra 18"]
[59,"Maila","Jäger Carlo","Turtmann",null,null,"2012-11-01","120.1055.8462.4","Mona","RAMBAR"]
[60,"Bayonne","Jäger Carlo","Turtmann","N",null,"2015-10-01","120.1228.8022.8","Barlette","MILOU"]
[61,"Grolla","Jäger Carlo","Turtmann","N","IV","2016-09-01","120.1228.8029.7","Gitane","#PRINCE"]
[62,"Candice","Jäger Carlo","Turtmann",null,null,"2014-11-01","120.1151.1687.7","Pinda","MILOU",null,"6em IV Goler 18"]
[63,"Pisa","Jäger Carlo","Turtmann",null,null,"2013-10-01","120.1068.9667.2","Pomette","FAKIR","Reine IV Rotigen 17"]
[64,"Sera","Jäger Carlo","Turtmann",null,null,"2014-10-01","120.1151.1686.0","Brunette","ZETOR","2em IV Rotigen 18 \n3em V Rotigen 17"]
[65,"Megane","Jäger Carlo","Turtmann","N","IV","2016-12-01","120.1335.1507.2","Mandolin","#PRIMUS"]
[66,"Metis","Jäger Carlo","Turtmann","N","IV","2016-11-01","120.1335.1505.8","Mitis","#PRINCE"]
[67,"Micabol","Jäger Carlo","Turtmann","N",null,"2015-10-01","120.1228.8023.5","Magalie","MILOU"]
[68,"Pivoine","Jäger Carlo","Turtmann","N","IV","2016-12-01","120.1333.7067.1","Princesse","@COQUIN 64"]
[69,"Taverne","Jäger Carlo","Turtmann","N ","IV","2016-10-01","120.1270.2454.2","Tina","@CERVIN"]
[70,"Tokio","Jäger Carlo","Turtmann","N",null,"2015-10-01","120.1151.1700.3","Tigresse","MILOU","Reine IV Rotigen 19"]
[71,"Baghira","Mathieu Leander + S.","Albinen",null,null,"2013-11-01","120.0931.3517.4","Baghira ","@CACTUS",null,"6em IV Goler 17"]
[72,"Baronesse","Mathieu Leander + S.","Albinen",null,null,"2014-02-01","120.0931.3527.3","Baron","@BISON"]
[73,"Bavaria","Mathieu Leander + S.","Albinen",null,null,"2012-10-01","120.0930.1107.2","Boa","$TARTUFF"]
[74,"Belon","Mathieu Leander + S.","Albinen",null,null,"2008-11-01","120.0765.3580.9","Bandit","@CAPSULE",null,"6em II Goler 16 \n2em III Kantonal 16 \n2em III Goler 16 \n2em III Goler 14"]
[75,"Bonita","Mathieu Leander + S.","Albinen",null,null,"2012-10-01","120.0930.1109.6","Belon","$VITO"]
[76,"Babylon","Mathieu Leander + S.","Albinen",null,null,"2014-12-01","120.1201.2202.3","Barillo","SHACARI",null,"2em IV Goler 18"]
[77,"Beres","Stallung Passeraub","Getwing","N","IV","2016-10-01","120.1327.2422.2","Belle","#CALIMERO","Reine V Rotigen 19"]
[78,"Ballerine","Stallung Passeraub","Getwing",null,null,"2014-12-01","120.1188.5412.7","Bombache","CACTUS","Reine IV Rotigen 18 \nReine V Rotigen 17","6em IV Kantonal 18 \n3em IV Goler 18 "]
[79,"Marla","Stallung Passeraub ","Getwing","N","IV","2016-09-01","120.1327.2424.6","Mochita","#CORBI"]
[80,"Manou","Stallung Passeraub ","Getwing",null,null,"2013-11-01","120.1118.3994.7","Mamou","MALI"]
[81,"Medusa","Stallung Passeraub ","Getwing",null,null,"2013-10-01","120.1064.0583.6","Mitis","MALI"]
[82,"Bonita","Stallung Passeraub ","Getwing",null,null,"2014-01-01","120.1118.4001.1","Bombache","MALI"]
[83,"Lijuba","Amacker Joelle u. Sven","Getwing","N","IV","2016-09-01","120.1327.2425.3","Linera","$TWISTER","4em V Rotigen 19"]
[84,"Fägär","Hutter Richard","Getwing","N","IV","2016-09-01","120.1327.2427.7","Fortuna","$TWISTER"]
[85,"Bobino","Stallung Passeraub","Getwing",null,null,"2013-11-01","120.1118.4000.4","Berenice","#NAT"]
[86,"Babylon","Stallung zum Stäg","St. Niklaus",null,null,"2015-10-01","120.1062.2041.5","Benika","@DARIUS"]
[87,"Benika","Stallung zum Stäg","St. Niklaus",null,null,"2013-01-01","120.1036.6445.8","Benichou","GITAN"]
[88,"Malice","Sewer R. + Thommen S.","Susten","N",null,"2015-11-01","120.0618.4544.9","Mirage","@MELCHIOR",null,"7em IV Goler 19"]
[89,"Tiara","Sewer R. + Thommen S.","Susten",null,null,"2012-11-01","120.0924.5773.4","Track","@LUCA",null,"7em III Goler 18"]
[90,"Biscot","Sewer R. + Thommen S.","Susten",null,null,"2015-11-01","120.1255.5712.7","Bobino","POUDRE"]
[91,"Bolera","Sewer R. + Thommen S.","Susten",null,null,"2015-10-01","120.1188.0914.1","Bango","FABIUS-FAROUK","4em V Rotigen 18"]
[93,"Carolin","Tscherry E. + B.","Agarn",null,null,"2014-09-01","120.1086.2394.8","Cuba","@NOUNOURS"]
[94,"Cobra","Tscherry E. + B.","Agarn",null,null,"2011-11-01","120.0942.4296.3","Cuba","@PICADOR"]
[95,"Vivana","Williner Anton","Visp",null,null,"2011-11-01","120.0923.7668.4","Violine","BEN ","Reine Griebelalp 18 \n2em Griebelalp 17 \nReine IV Rotigen 15"]
[96,"Tigra","Williner Anton","Visp",null,null,"2012-01-01","120.0955.4046.4","Tina","BEN","2em Griebelalp 18  \n6em Griebelalp 17 \n3em IV Rotigen 15"]
[97,"Vanessa","Williner Anton","Visp",null,null,"2012-11-01","120.0955.4060.0","Vallesia","CHUCK","3em IV Rotigen 16","2em V Goler 15"]
[98,"Colonell","Williner Anton","Visp",null,null,"2013-11-01","120.0687.0260.8","Carmelin","VARIO","5em IV Rotigen 17","7em IV Goler 17"]
[99,"Diva","Williner Anton","Visp",null,null,"2013-11-01","120.0687.0255.4","Dorin","BENO","2em IV Rotigen 17"]
[100,"Tira","Williner Anton","Visp",null,null,"2012-11-01","120.0955.4058.7","Tomba","CHUCK"]
[101,"Xandria","Wyssen Diego u. Madlen","Susten",null,null,"2015-11-01","120.1256.8890.6","Xenia","#TORRO"]
[102,"Rasta","Wyssen Diego u. Madlen","Susten",null,null,"2015-11-01","120.1256.8888.3","Ranja","#TORRO"]
[103,"Roxana","Wyssen Diego u. Madlen","Susten","N",null,"2015-12-01","120.1268.8257.0"]
[104,"Xena","Wyssen Diego u. Madlen","Susten",null,null,"2013-11-01","120.1118.6566.3","Xera","FOUDRE","7em V Rotigen 16"]
[105,"Xhyla","Wyssen Diego u. Madlen","Susten",null,null,"2014-10-01","120.1127.8750.6","Xenia","#TURBULENCE","4em V Rotigen 17 "]
[106,"Rambo","Zumofen / Gattlen","Turtmann",null,null,"2014-09-01","120.0708.7749.3","Rocky ","#VOLERIO"]
[107,"Violin","Zumofen / Gattlen","Turtmann",null,null,"2013-11-01","120.0708.7752.3","Volero","$VITUS",null,"3em 2eme veau Vifra 18"]
[108,"Violette","Zumofen / Gattlen","Turtmann",null,null,"2015-09-01","120.1201.9782.3","Volero ","$BREONA"]
[109,"Rena","Zumofen / Gattlen","Turtmann",null,null,"2016-01-01","120.1269.9552.2","Ruby","@CARIBOU"]
[110,"Xena","Zumofen / Gattlen","Turtmann",null,null,"2012-10-01","120.1051.2928.3","Xenti","@CARIBOU","3em Rotigen 19 \n4em Rotigen 18"]
[111,"Vidona","Zumofen / Gattlen","Turtmann",null,null,"2015-09-01","120.1201.9780.9","Volero","$BREONA"]
[112,"Riva ","Zumofen / Gattlen","Turtmann",null,null,"2015-10-01","120.1201.9784.7","Rocky ","#CAPO"]
[113,"Vanda","Zumofen / Gattlen","Turtmann",null,null,"2015-09-01","120.1201.9781.6","Volero ","$BREONA"]
[114,"Maya","Zumofen / Gattlen","Turtmann","N ","IV","2016-12-01","120.1269.9561.4","Milou","#TORRO"]
[115,"Pepitta","Zumofen / Gattlen","Turtmann","N ",null,"2015-10-01","120.1201.9786.1","Puma","#TORRO"]
[116,"Pinoccio","Zumofen / Gattlen","Turtmann","N ","IV","2016-10-01","120.1269.9557.7","Pengal","FIGGEBENGEL"]
[117,"Rigolo","Zumofen / Gattlen","Turtmann","N ","IV","2016-10-01","120.1269.9554.6","Rocky ","$BREONA"]
[118,"Vesuv","Zumofen / Gattlen","Turtmann","N ","IV","2016-11-01","120.1269.9558.4","Volero","#TORRO"]
[119,"Fayola","Zumofen / Gattlen","Turtmann",null,null,"2014-09-01","120.0708.7750.9","Fiorenza","#VOLERIO"]
[]
[]
[]
[]
[]
[]
[]
[]
[]
[]
["Viel Vergnügen wünscht die Alpgenossenschaft Turtmanntal und die Bestosser der Alpe Rotigen.",null,null,null,null,null,null,null,null,null,null,"© Silvan Bregy"]

{"sheet":"2019","index":4,"n_rows":131,"n_cols":12,"rows_kept":131,"cut":false,"hidden":false,"merged":[]}
[]
[null,"Alpe Rotigen Turtmanntal"]
[]
[null,null,null,"Alpaufzug vom 15. Juni 2019"]
[]
[]
[null,null,"Königin 2018",113,null,null,"Tiere",null,null,null,"Klassiert 2018 und nicht da"]
[null,null,null,22,null,"IV","Erstmelken",null,null,null,"Tango von Gebr. Jäger (9em)"]
[null,null,"Trupposiegerin",38,null,"N","Neu (Nicht da 2018)",null,null,null,"Rambo von Familie Leiggener (15em)"]
[null,null,null,51,null,null,"Glocken an Ringkuhkämpfen (Insgesamt)"]
[null,null,"Klassiert 2018",37,null,null,"Klassierte Tiere an Ringkuhkämpfen"]
[]
[]
["Nr.","Name","Besitzer","Ort",null,null,"Geb.","BDTA","Mutter","Vater","Klassierungen Alpe","Klassierungen Match"]
[]
[1,"Diabolo","Bayard Medard + Gustav","N`Gampel",null,null,"2011-11-01","120.0898.9041.4","Dragon","@PARATI"]
[2,"Mirabelle","Bayard Medard + Gustav","N`Gampel",null,null,"2012-10-01","120.0998.9046.6","Merry","MESSI"]
[3,"Venus","Bayard Medard + Gustav","N`Gampel","N",null,"2014-11-01","120.0618.4532.6","Violette","@MAC"]
[4,"Ramona","Bayard Medard + Gustav","N`Gampel",null,null,"2011-10-01","120.0998.9034.3","Riquita","$VITUS",null,"4em IV Goler 15"]
[5,"Pandera","Bayard Medard + Gustav","N`Gampel","N",null,"2014-12-01","120.0618.4534.0","Pinka","PRINZ"]
[6,"Simba","Bayard Medard + Gustav","N`Gampel","N",null,"2014-10-01","120.0618.4530.2","Mousse","$TOURBILLON"]
[7,"Canaille","Bregy Ralf + Adolf","Unterems",null,null,"2012-10-01","120.0591.3322.0","Chealsy","$BREONA","REINE Rotigen 18 \n3em Rotigen 17 \nReine V Rotigen 15","4em V Goler 15"]
[8,"Creola","Bregy Ralf + Adolf","Unterems",null,null,"2011-10-01","120.0935.2375.9","Dorina","$BREONA","13em Rotigen 18 \n12em Rotigen 17 \n3em V Rotigen 14","Reine I Goler 19\n4em IV Kantonal 15\n3em V Goler 14"]
[9,"Flacari","Bregy Ralf + Adolf","Unterems",null,null,"2010-11-01","120.0931.3303.3","Flash","@CARIBOU","5em Rotigen 18 \n10em Rotigen 17 \n15em Rotigen 16  \n4em V Rotigen 13"]
[10,"Diabolo","Bregy Ralf + Adolf","Unterems",null,null,"2014-10-01","120.0591.9312.5","Creola","#TEIRO",null,"Reine 2eme veau Vifra 19 - \n4em IV Martigny 18"]
[11,"Santiago","Bregy Ralf + Adolf","Unterems",null,null,"2012-12-01","120.0931.3328.6","Scheila","#TEIRO",null,"3em IV Goler 16"]
[12,"Milow","Bregy Silvan + Patrick","Unterems",null,null,"2011-09-01","120.0931.3304.0","Maruschka","$BREONA","4em Rotigen 18 \n13em Rotigen 17 ","5em II Goler 18 \n2em V Goler 14"]
[13,"Tequilla","Bregy Silvan + Patrick","Unterems",null,null,"2012-12-01","120.0931.3329.3","Tragonja","#TEIRO"]
[14,"Canabis","Bregy Ralf + Adolf","Unterems","N","IV","2015-11-01","120.1255.5036.4","Canaille","@BISON",null,"2em IV Vifra 19"]
[15,"Catalina","Bregy Uli + Pascal","Ergisch",null,null,"2013-10-01","120.1050.6420.1","Caline","SHACARI"]
[16,"Caline","Bregy Uli + Pascal","Ergisch",null,null,"2010-10-01","120.0919.1804.5","Calimero","$BOCASSA","4em V Rotigen 13","3em IV Goler 14 \n3em V Goler 13"]
[17,"Pandora","Bregy Uli + Pascal","Ergisch",null,null,"2013-01-01","120.1050.6417.1","Paloma","$TARTUFF"]
[18,"Souki","Bregy Uli + Pascal","Ergisch",null,null,"2009-10-01","120.0745.7355.1","Mirage","COQUIN"]
[19,"Tiranie","Bregy Uli + Pascal","Ergisch",null,null,"2013-11-01","120.1121.4498.9","Tsatagne","ZOLA","Reine IV Vieux They 17"]
[20,"Manga","Bregy Uli + Pascal","Ergisch","N",null,"2010-11-01","120.0911.4528.1","Melodie","NIRKA","9em LES ARS 16 \n8em LES ARS 18"]
[21,"Bora","Bregy Uli + Pascal","Ergisch","N",null,"2012-09-01","120.0999.4111.3","Bobino","@BIRK","12em ZALAN D`AYENT 18"]
[22,"Xaphir","Bregy Uli + Pascal","Ergisch","N","IV","2015-10-01","120.1213.2629.1","Xenja","TOUAREG","5em V Rotigen 18","3em V Goler 18"]
[23,"Rebell","Fam. Leiggener","Agarn",null,null,"2010-09-01","120.0761.3757.7","Riva","@BIRK",null,"5em II Goler 16"]
[24,"Tigres","Fam. Leiggener","Agarn",null,null,"2008-12-01","120.0745.7790.0","Tito","$BOCASSA",null,"2em II Goler 15"]
[25,"Bulle","Fam. Leiggener","Agarn",null,null,"2012-11-01","120.1000.4525.0","Briska","#TORRES"]
[26,"Baron","Fam. Leiggener","Agarn","N","IV","2016-01-01","120.1278.5681.5","Bijoux","$VITO"]
[27,"Bolero","Fux W., J., + Wyer Piet","Eggerberg",null,null,"2013-11-01","120.1119.8616.0","Baguera","TIGER"]
[28,"Bresil","Fux W., J., + Wyer Piet","Eggerberg",null,null,"2013-01-01","120.1055.7163.1","Afifa","#TORRES"]
[29,"Bacardi","Fux W., J., + Wyer Piet","Eggerberg","N",null,"2014-10-01","120.1186.6938.7","Bataille","VASCO",null,"5em 2eme veau Vifra 19"]
[30,"Toscana","Fux W., J., + Wyer Piet","Eggerberg","N",null,"2014-10-01","120.1186.6939.4","Tarzan","TIGER",null,"Reine V Vifra 17"]
[31,"Mystic","Fux W., J., + Wyer Piet","Eggerberg",null,null,"2011-10-01","120.0995.2546.7","Etoile","MAGIC",null,"6em IV Goler 16 \n3em III Goler 18"]
[32,"Pigalle","Fux W., J., + Wyer Piet","Eggerberg",null,null,"2011-11-01","120.0995.2553.5","Pandora","MAGIC"]
[33,"Valaisanne","Fux W., J., + Wyer Piet","Eggerberg",null,null,"2015-01-01","120.1186.6943.1","Vagabonde","VAMPIR"]
[34,"Scarlette","Fux W., J., + Wyer Piet","Eggerberg",null,null,"2014-11-01","120.1186.6941.7","Andora","TIGER"]
[35,"Souris","Fux W., J., + Wyer Piet","Eggerberg",null,null,"2013-11-01","120.1119.8615.3","Santana","TIGER"]
[36,"Taylor","Gebr. Jäger","Turtmann",null,null,"2013-11-01","120.1118.9230.0","Tamango","$TARTUFF"]
[37,"Tamango","Gebr. Jäger","Turtmann",null,null,"2010-11-01","120.0919.0508.3","Tina","#KEIRO","10em Rotigen 17 \n15em Rotigen 16 \n4em V Rotigen 13 ","2em 2eme veau Vifra 15"]
[38,"Lorens","Gebr. Jäger","Turtmann",null,null,"2013-10-01","120.1118.9224.9","Micabol","MONZA",null,"4em IV Goler 17"]
[39,"Tiara","Gebr. Jäger","Turtmann","N","IV","2015-11-01","120.1258.5634.3","Tokyo","$TARTUFF"]
[40,"Sultane","Gebr. Jäger","Turtmann","N",null,"2011-11-01","120.0930.2250.4","Silene","PATOUCHE",null,"7em I Zermatt 18 \n7em II Goler 17 \n5em 2eme veau Vifra 15"]
[41,"Delida","Gebr. Jäger","Turtmann","N","IV","2016-03-01","120.1258.5637.4","Dora","#KEIRO"]
[42,"Simba","Gebr. Jäger","Turtmann","N","IV","2015-10-01","120.1153.2317.6","Sultane","$BOCASSA",null,"4em IV Vifra 19 \n7em V Zermatt 18"]
[43,"Dorina","Gebr. Jäger","Turtmann",null,null,"2014-11-01","120.1153.2313.8","Dijone","#KEIRO",null,"6em 2eme veau Vifra 19"]
[44,"Jamanda","Hischier H. + Bühlmann J.","Oberems","N",null,"2014-12-01","120.1202.2001.9","Janis","@GLOU-GLOU"]
[45,"Lenja","Hischier H. + Bühlmann J.","Oberems","N","IV","2015-11-01","120.1197.2405.4","Lana","#CARNAVAL"]
[46,"Safira","Hischier Pius","Unterems","N","IV","2015-10-01","120.1188.2113.6","Safira","@BISCOTTO"]
[47,"Pablo","Hischier Pius","Unterems",null,null,"2013-12-01","120.0990.3391.7","Puma","$SATYR"]
[48,"Pelila","Hischier Pius","Unterems",null,null,"2013-12-01","120.0990.3390.0","Puma","$SATYR"]
[49,"Shakira","Hischier Pius","Unterems",null,null,"2013-12-01","120.0623.7070.4","Safira","@VALENTINO"]
[50,"Sera","Jäger Carlo","Turtmann","N",null,"2014-10-01","120.1151.1686.0","Brunette","ZETOR","2em IV Rotigen 18 \n3em V Rotigen 17"]
[51,"Guxa","Jäger Carlo","Turtmann",null,null,"2009-10-01","120.0764.2445.5","Yakin","XAVER","10em CHEMEUILLE 17 "," Reine V Vifra 12"]
[52,"Maila","Jäger Carlo","Turtmann",null,null,"2012-11-01","120.1055.8462.4","Mona","RAMBAR"]
[53,"Tzigane","Jäger Carlo","Turtmann","N","IV","2015-10-01","120.1151.1699.0","Tigresse","MILOU"]
[54,"Paloma","Jäger Carlo","Turtmann",null,null,"2013-03-01","120.1068.9664.1","Princesse","NERO"]
[55,"Candice","Jäger Carlo","Turtmann","N",null,"2014-11-01","120.1151.1687.7","Pinda","MILOU",null,"6em IV Goler 18"]
[56,"Pisa","Jäger Carlo","Turtmann",null,null,"2013-10-01","120.1068.9667.2","Pomette","FAKIR","Reine IV Rotigen 17"]
[57,"Promise","Jäger Carlo","Turtmann",null,null,"2009-10-01","120.0836.1545.7","Princesse","FRANCO","Reine IV Rotigen 13\nReine V Rotigen 12","7em I Goler 16"]
[58,"Turin","Jäger Carlo","Turtmann",null,null,"2012-10-01","120.1042.9272.8","Turco","NERO","4em V Rotigen 15","3em 2eme veau Vifra 17 \n5em IV Goler 16"]
[59,"Baghira","Mathieu Leander + S.","Albinen",null,null,"2013-11-01","120.0931.3517.4","Baghira ","@CACTUS",null,"6em IV Goler 17"]
[60,"Bambino","Mathieu Leander + S.","Albinen",null,null,"2013-10-01","120.0931.3525.9","Bambi","@NATI"]
[61,"Baronesse","Mathieu Leander + S.","Albinen",null,null,"2014-02-01","120.0931.3527.3","Baron","@BISON"]
[62,"Bavaria","Mathieu Leander + S.","Albinen",null,null,"2012-10-01","120.0930.1107.2","Boa","$TARTUFF"]
[63,"Belon","Mathieu Leander + S.","Albinen",null,null,"2008-11-01","120.0765.3580.9","Bandit","@CAPSULE",null,"6em II Goler 16 \n2em III Kantonal 16 \n2em III Goler 16 \n2em III Goler 14"]
[64,"Bonita","Mathieu Leander + S.","Albinen",null,null,"2012-10-01","120.0930.1109.6","Belon","$VITO"]
[65,"Bijou","Mathieu Leander + S.","Albinen","N",null,"2014-11-01","120.1201.2201.6","Baquera","@MAC",null,"7em IV Goler 18"]
[66,"Babylon","Mathieu Leander + S.","Albinen","N",null,"2014-12-01","120.1201.2202.3","Barillo","SHACARI",null,"2em IV Goler 18"]
[67,"Ballerine","Stallung Passeraub","Getwing","N",null,"2014-12-01","120.1188.5412.7","Bombache","CACTUS","Reine IV Rotigen 18 \nReine V Rotigen 17","6em IV Kantonal 18 \n3em IV Goler 18 "]
[68,"Bulle","Stallung Passeraub","Getwing",null,null,"2013-11-01","120.1118.3996.1","Berenice","#NAT"]
[69,"Manou","Stallung Passeraub ","Getwing",null,null,"2013-11-01","120.1118.3994.7","Mamou","MALI"]
[70,"Medusa","Stallung Passeraub ","Getwing",null,null,"2013-10-01","120.1064.0583.6","Mitis","MALI"]
[71,"Bonita","Stallung Passeraub ","Getwing",null,null,"2014-01-01","120.1118.4001.1","Bombache","MALI"]
[72,"Mirette","Stallung Passeraub","Getwing",null,null,"2008-10-01","120.0623.0762.5","Moustique","@BRONSON","10em Rotigen 16\n10em Rotigen 17"]
[73,"Baghera","Stallung Passeraub","Getwing",null,null,"2013-11-01","120.1118.3998.5","Berenice","MALI",null,"5em IV Mayens de Conthey 17"]
[74,"Bobino","Stallung Passeraub","Getwing",null,null,"2013-11-01","120.1118.4000.4","Berenice","#NAT"]
[75,"Pandora","Stallung zum Stäg","St. Niklaus",null,null,"2012-12-01","120.0806.0680.9","Gibsy","@POLUX"]
[76,"Babylon","Stallung zum Stäg","St. Niklaus","N","IV","2015-10-01","120.1062.2041.5","Benika","@DARIUS"]
[77,"Benika","Stallung zum Stäg","St. Niklaus",null,null,"2013-01-01","120.1036.6445.8","Benichou","GITAN"]
[78,"Diaries","Stallung zum Stäg","St. Niklaus",null,null,"2012-12-01","120.0990.8567.1","Orcas","CLINTON"]
[79,"Tabhita","Sewer R. + Thommen S.","Susten",null,null,"2011-12-01","120.0924.5768.0","Turon","@TOSKANI"]
[80,"Tiara","Sewer R. + Thommen S.","Susten",null,null,"2012-11-01","120.0924.5773.4","Track","@LUCA",null,"7em III Goler 18"]
[81,"Biscot","Sewer R. + Thommen S.","Susten","N","IV","2015-11-01","120.1255.5712.7","Bobino","POUDRE"]
[82,"Bolera","Sewer R. + Thommen S.","Susten","N","IV","2015-10-01","120.1188.0914.1","Bango","FABIUS-FAROUK","4em V Rotigen 18"]
[83,"Carolin","Tscherry E. + B.","Agarn",null,null,"2014-09-01","120.1086.2394.8","Cuba","@NOUNOURS"]
[84,"Cobra","Tscherry E. + B.","Agarn",null,null,"2011-11-01","120.0942.4296.3","Cuba","@PICADOR"]
[85,"Vivana","Williner Anton","Visp","N",null,"2011-11-01","120.0923.7668.4","Violine","BEN ","Reine Griebelalp 18 \n2em Griebelalp 17 \nReine IV Rotigen 15"]
[86,"Tigra","Williner Anton","Visp","N",null,"2012-01-01","120.0955.4046.4","Tina","BEN","2em Griebelalp 18  \n6em Griebelalp 17 \n3em IV Rotigen 15"]
[87,"Vanessa","Williner Anton","Visp",null,null,"2012-11-01","120.0955.4060.0","Vallesia","CHUCK","3em IV Rotigen 16","2em V Goler 15"]
[88,"Colonell","Williner Anton","Visp",null,null,"2013-11-01","120.0687.0260.8","Carmelin","VARIO","5em IV Rotigen 17","7em IV Goler 17"]
[89,"Diva","Williner Anton","Visp",null,null,"2013-11-01","120.0687.0255.4","Dorin","BENO","2em IV Rotigen 17"]
[90,"Tira","Williner Anton","Visp",null,null,"2012-11-01","120.0955.4058.7","Tomba","CHUCK"]
[91,"Xandria","Wyssen Diego u. Madlen","Susten","N","IV","2015-11-01","120.1256.8890.6","Xenia","#TORRO"]
[92,"Rasta","Wyssen Diego u. Madlen","Susten","N","IV","2015-11-01","120.1256.8888.3","Ranja","#TORRO"]
[93,"Xana","Wyssen Diego u. Madlen","Susten","N","IV","2015-10-01","120.1256.8886.9","Xantia","$TERREUR"]
[94,"Xanja","Wyssen Diego u. Madlen","Susten",null,null,"2013-11-01","120.1118.6567.0","Xenia","#TURBULENCE","7em V Rotigen 16"]
[95,"Xena","Wyssen Diego u. Madlen","Susten",null,null,"2013-11-01","120.1118.6566.3","Xera","FOUDRE","7em V Rotigen 16"]
[96,"Xhyla","Wyssen Diego u. Madlen","Susten",null,null,"2014-10-01","120.1127.8750.6","Xenia","#TURBULENCE","4em V Rotigen 17 "]
[97,"Napapiri","Zumoberhaus P. + Familie","Oberwald",null,null,"2012-10-01","120.1054.6787.3","Nana","BIMI",null,"4em IV Belalp 16"]
[98,"Ninja","Zumoberhaus P. + Familie","Oberwald ","N","IV","2015-12-01","120.1258.8838.2","Nana","TAO",null,"4em V Goler 18"]
[99,"Rena","Zumofen / Gattlen","Turtmann","N ","IV","2016-01-01","120.1269.9552.2","Ruby","@CARIBOU"]
[100,"Ahkira","Zumofen / Gattlen","Turtmann",null,null,"2014-10-01","120.1118.4004.2","Arizona","$BREONA"]
[101,"Fangio","Zumofen / Gattlen","Turtmann",null,null,"2013-11-01","120.1095.6908.5","Fiasco","RAMBO"]
[102,"Fayola","Zumofen / Gattlen","Turtmann",null,null,"2014-09-01","120.0708.7750.9","Fiorenza","#VOLERIO"]
[103,"Milou","Zumofen / Gattlen","Turtmann",null,null,"2011-10-01","120.0944.5559.2","Pinson","NESTOR",null,"6em I Goler 18"]
[104,"Adonis","Zumofen / Gattlen","Turtmann","N ","IV","2015-11-01","120.1201.9788.5","Adonis","#CAPO"]
[105,"Puma","Zumofen / Gattlen","Turtmann",null,null,"2010-11-01","120.0875.3387.0","Puma","@CARIBOU","5em Rotigen 18  \n12em Rotigen 17 ","2em II Goler 17"]
[106,"Rambo","Zumofen / Gattlen","Turtmann",null,null,"2014-09-01","120.0708.7749.3","Rocky ","#VOLERIO"]
[107,"Violin","Zumofen / Gattlen","Turtmann",null,null,"2013-11-01","120.0708.7752.3","Volero","$VITUS",null,"3em 2eme veau Vifra 18"]
[108,"Violette","Zumofen / Gattlen","Turtmann","N ","IV","2015-09-01","120.1201.9782.3","Volero ","$BREONA"]
[109,"Vulcana","Zumofen / Gattlen","Turtmann",null,null,"2014-10-01","120.0708.7755.4","Vandale","@GLOU-GLOU"]
[110,"Xena","Zumofen / Gattlen","Turtmann",null,null,"2012-10-01","120.1051.2928.3","Xenti","@CARIBOU","4em Rotigen 18"]
[111,"Vidona","Zumofen / Gattlen","Turtmann","N ","IV","2015-09-01","120.1201.9780.9","Volero","$BREONA"]
[112,"Riva ","Zumofen / Gattlen","Turtmann","N","IV","2015-10-01","120.1201.9784.7","Rocky ","#CAPO"]
[113,"Vanda","Zumofen / Gattlen","Turtmann","N ","IV","2015-09-01","120.1201.9781.6","Volero ","$BREONA"]
[]
[]
["Viel Vergnügen wünscht die Alpgenossenschaft Turtmanntal und die Bestosser der Alpe Rotigen.",null,null,null,null,null,null,null,null,null,null,"© Silvan Bregy"]

{"sheet":"2018","index":5,"n_rows":119,"n_cols":7,"rows_kept":119,"cut":false,"hidden":false,"merged":[[4,0,4,6]]}
[]
[]
[]
[]
["Rot = Troupeau-Siegerin "]
["Nr.","Name","Ohrmarkennr.","Geburtsdat.","Vater","Mutter","Eigentümer"]
[1,"Diabolo","120.0898.9041.4","2011-11-01","@PARATI","Dragon","Bayard Medard + Gustav"]
[2,"Mirabelle","120.0998.9046.6","2012-10-01","MESSI","Merry","Bayard Medard + Gustav"]
[3,"Venus","120.0618.4532.6","2014-11-01","@MAC","Violette","Bayard Medard + Gustav"]
[4,"Ramona","120.0998.9034.3","2011-10-01","$VITUS","Riquita","Bayard Medard + Gustav"]
[5,"Pandera","120.0618.4534.0","2014-12-01","PRINZ","Pinka","Bayard Medard + Gustav"]
[6,"Simba","120.0618.4530.2","2014-10-01","$TOURBILLON","Mousse","Bayard Medard + Gustav"]
[7,"Canaille","120.0591.3322.0","2012-10-01","$BREONA","Chealsy","Bregy Ralf + Adolf"]
[8,"Creola","120.0935.2375.9","2011-10-01","$BREONA","Dorina","Bregy Ralf + Adolf"]
[9,"Flacari","120.0931.3303.3","2010-11-01","@CARIBOU","Flash","Bregy Ralf + Adolf"]
[10,"Diabolo","120.0591.9312.5","2014-10-01","#TEIRO","Creola","Bregy Ralf + Adolf"]
[11,"Santiago","120.0931.3328.6","2012-12-01","#TEIRO","Scheila","Bregy Ralf + Adolf"]
[12,"Milow","120.0931.3304.0","2011-09-01","$BREONA","Maruschka","Bregy Silvan + Patrick"]
[13,"Tequilla","120.0931.3329.3","2012-12-01","#TEIRO","Tragonja","Bregy Silvan + Patrick"]
[14,"Canabis","120.1255.5036.4","2015-11-01","@BISON","Canaille","Bregy Ralf + Adolf"]
[15,"Catalina","120.1050.6420.1","2013-10-01","SHACARI","Caline","Bregy Uli + Pascal"]
[16,"Caline","120.0919.1804.5","2010-10-01","$BOCASSA","Calimero","Bregy Uli + Pascal"]
[17,"Pandora","120.1050.6417.1","2013-01-01","$TARTUFF","Paloma","Bregy Uli + Pascal"]
[18,"Souki","120.0745.7355.1","2009-10-01","COQUIN","Mirage","Bregy Uli + Pascal"]
[19,"Tiranie","120.1121.4498.9","2013-11-01","ZOLA","Tsatagne","Bregy Uli + Pascal"]
[20,"Manga","120.0911.4528.1","2010-11-01","NIRKA","Melodie","Bregy Uli + Pascal"]
[21,"Bora","120.0999.4111.3","2012-09-01","@BIRK","Bobino","Bregy Uli + Pascal"]
[22,"Xaphir","120.1213.2629.1","2015-10-01","TOUAREG","Xenja","Bregy Uli + Pascal"]
[23,"Rebell","120.0761.3757.7","2010-09-01","@BIRK","Riva","Fam. Leiggener"]
[24,"Tigres","120.0745.7790.0","2008-12-01","$BOCASSA","Tito","Fam. Leiggener"]
[25,"Bulle","120.1000.4525.0","2012-11-01","#TORRES","Briska","Fam. Leiggener"]
[26,"Baron","120.1278.5681.5","2016-01-01","$VITO","Bijoux","Fam. Leiggener"]
[27,"Bolero","120.1119.8616.0","2013-11-01","TIGER","Baguera","Fux W., J., + Wyer Piet"]
[28,"Bresil","120.1055.7163.1","2013-01-01","#TORRES","Afifa","Fux W., J., + Wyer Piet"]
[29,"Bacardi","120.1186.6938.7","2014-10-01","VASCO","Bataille","Fux W., J., + Wyer Piet"]
[30,"Toscana","120.1186.6939.4","2014-10-01","TIGER","Tarzan","Fux W., J., + Wyer Piet"]
[31,"Mystic","120.0995.2546.7","2011-10-01","MAGIC","Etoile","Fux W., J., + Wyer Piet"]
[32,"Pigalle","120.0995.2553.5","2011-11-01","MAGIC","Pandora","Fux W., J., + Wyer Piet"]
[33,"Valaisanne","120.1186.6943.1","2015-01-01","VAMPIR","Vagabonde","Fux W., J., + Wyer Piet"]
[34,"Scarlette","120.1186.6941.7","2014-11-01","TIGER","Andora","Fux W., J., + Wyer Piet"]
[35,"Souris","120.1119.8615.3","2013-11-01","TIGER","Santana","Fux W., J., + Wyer Piet"]
[36,"Taylor","120.1118.9230.0","2013-11-01","$TARTUFF","Tamango","Gebr. Jäger"]
[37,"Tamango","120.0919.0508.3","2010-11-01","#KEIRO","Tina","Gebr. Jäger"]
[38,"Lorens","120.1118.9224.9","2013-10-01","MONZA","Micabol","Gebr. Jäger"]
[39,"Tiara","120.1258.5634.3","2015-11-01","$TARTUFF","Tokyo","Gebr. Jäger"]
[40,"Sultane","120.0930.2250.4","2011-11-01","PATOUCHE","Silene","Gebr. Jäger"]
[41,"Delida","120.1258.5637.4","2016-03-01","#KEIRO","Dora","Gebr. Jäger"]
[42,"Simba","120.1153.2317.6","2015-10-01","$BOCASSA","Sultane","Gebr. Jäger"]
[43,"Dorina","120.1153.2313.8","2014-11-01","#KEIRO","Dijone","Gebr. Jäger"]
[44,"Jamanda","120.1202.2001.9","2014-12-01","@GLOU-GLOU","Janis","Hischier H. + Bühlmann J."]
[45,"Lenja","120.1197.2405.4","2015-11-01","#CARNAVAL","Lana","Hischier H. + Bühlmann J."]
[46,"Safira","120.1188.2113.6","2015-10-01","@BISCOTTO","Safira","Hischier Pius"]
[47,"Pablo","120.0990.3391.7","2013-12-01","$SATYR","Puma","Hischier Pius"]
[48,"Pelila","120.0990.3390.0","2013-12-01","$SATYR","Puma","Hischier Pius"]
[49,"Shakira","120.0623.7070.4","2013-12-01","@VALENTINO","Safira","Hischier Pius"]
[50,"Sera","120.1151.1686.0","2014-10-01","ZETOR","Brunette","Jäger Carlo"]
[51,"Guxa","120.0764.2445.5","2009-10-01","XAVER","Yakin","Jäger Carlo"]
[52,"Maila","120.1055.8462.4","2012-11-01","RAMBAR","Mona","Jäger Carlo"]
[53,"Tzigane","120.1151.1699.0","2015-10-01","MILOU","Tigresse","Jäger Carlo"]
[54,"Paloma","120.1068.9664.1","2013-03-01","NERO","Princesse","Jäger Carlo"]
[55,"Candice","120.1151.1687.7","2014-11-01","MILOU","Pinda","Jäger Carlo"]
[56,"Pisa","120.1068.9667.2","2013-10-01","FAKIR","Pomette","Jäger Carlo"]
[57,"Promise","120.0836.1545.7","2009-10-01","FRANCO","Princesse","Jäger Carlo"]
[58,"Turin","120.1042.9272.8","2012-10-01","NERO","Turco","Jäger Carlo"]
[59,"Baghira","120.0931.3517.4","2013-11-01","@CACTUS","Baghira ","Mathieu Leander + S."]
[60,"Bambino","120.0931.3525.9","2013-10-01","@NATI","Bambi","Mathieu Leander + S."]
[61,"Baronesse","120.0931.3527.3","2014-02-01","@BISON","Baron","Mathieu Leander + S."]
[62,"Bavaria","120.0930.1107.2","2012-10-01","$TARTUFF","Boa","Mathieu Leander + S."]
[63,"Belon","120.0765.3580.9","2008-11-01","@CAPSULE","Bandit","Mathieu Leander + S."]
[64,"Bonita","120.0930.1109.6","2012-10-01","$VITO","Belon","Mathieu Leander + S."]
[65,"Bijou","120.1201.2201.6","2014-11-01","@MAC","Baquera","Mathieu Leander + S."]
[66,"Babylon","120.1201.2202.3","2014-12-01","SHACARI","Barillo","Mathieu Leander + S."]
[67,"Ballerine","120.1188.5412.7","2014-12-01","CACTUS","Bombache","Stallung Passeraub"]
[68,"Bulle","120.1118.3996.1","2013-11-01","#NAT","Berenice","Stallung Passeraub"]
[69,"Manou","120.1118.3994.7","2013-11-01","MALI","Mamou","Stallung Passeraub "]
[70,"Medusa","120.1064.0583.6","2013-10-01","MALI","Mitis","Stallung Passeraub "]
[71,"Bonita","120.1118.4001.1","2014-01-01","MALI","Bombache","Stallung Passeraub "]
[72,"Mirette","120.0623.0762.5","2008-10-01","@BRONSON","Moustique","Stallung Passeraub"]
[73,"Baghera","120.1118.3998.5","2013-11-01","MALI","Berenice","Stallung Passeraub"]
[74,"Bobino","120.1118.4000.4","2013-11-01","#NAT","Berenice","Stallung Passeraub"]
[75,"Pandora","120.0806.0680.9","2012-12-01","@POLUX","Gibsy","Stallung zum Stäg"]
[76,"Babylon","120.1062.2041.5","2015-10-01","@DARIUS","Benika","Stallung zum Stäg"]
[77,"Benika","120.1036.6445.8","2013-01-01","GITAN","Benichou","Stallung zum Stäg"]
[78,"Diaries","120.0990.8567.1","2012-12-01","CLINTON","Orcas","Stallung zum Stäg"]
[79,"Tabhita","120.0924.5768.0","2011-12-01","@TOSKANI","Turon","Sewer R. + Thommen S."]
[80,"Tiara","120.0924.5773.4","2012-11-01","@LUCA","Track","Sewer R. + Thommen S."]
[81,"Biscot","120.1255.5712.7","2015-11-01","POUDRE","Bobino","Sewer R. + Thommen S."]
[82,"Bolera","120.1188.0914.1","2015-10-01","FABIUS-FAROUK","Bango","Sewer R. + Thommen S."]
[83,"Carolin","120.1086.2394.8","2014-09-01","@NOUNOURS","Cuba","Tscherry E. + B."]
[84,"Cobra","120.0942.4296.3","2011-11-01","@PICADOR","Cuba","Tscherry E. + B."]
[85,"Vivana","120.0923.7668.4","2011-11-01","BEN ","Violine","Williner Anton"]
[86,"Tigra","120.0955.4046.4","2012-01-01","BEN","Tina","Williner Anton"]
[87,"Vanessa","120.0955.4060.0","2012-11-01","CHUCK","Vallesia","Williner Anton"]
[88,"Colonell","120.0687.0260.8","2013-11-01","VARIO","Carmelin","Williner Anton"]
[89,"Diva","120.0687.0255.4","2013-11-01","BENO","Dorin","Williner Anton"]
[90,"Tira","120.0955.4058.7","2012-11-01","CHUCK","Tomba","Williner Anton"]
[91,"Xandria","120.1256.8890.6","2015-11-01","#TORRO","Xenia","Wyssen Diego u. Madlen"]
[92,"Rasta","120.1256.8888.3","2015-11-01","#TORRO","Ranja","Wyssen Diego u. Madlen"]
[93,"Xana","120.1256.8886.9","2015-10-01","$TERREUR","Xantia","Wyssen Diego u. Madlen"]
[94,"Xanja","120.1118.6567.0","2013-11-01","#TURBULENCE","Xenia","Wyssen Diego u. Madlen"]
[95,"Xena","120.1118.6566.3","2013-11-01","FOUDRE","Xera","Wyssen Diego u. Madlen"]
[96,"Xhyla","120.1127.8750.6","2014-10-01","#TURBULENCE","Xenia","Wyssen Diego u. Madlen"]
[97,"Napapiri","120.1054.6787.3","2012-10-01","BIMI","Nana","Zumoberhaus P. + Familie"]
[98,"Ninja","120.1258.8838.2","2015-12-01","TAO","Nana","Zumoberhaus P. + Familie"]
[99,"Rena","120.1269.9552.2","2016-01-01","@CARIBOU","Ruby","Zumofen / Gattlen"]
[100,"Ahkira","120.1118.4004.2","2014-10-01","$BREONA","Arizona","Zumofen / Gattlen"]
[101,"Fangio","120.1095.6908.5","2013-11-01","RAMBO","Fiasco","Zumofen / Gattlen"]
[102,"Fayola","120.0708.7750.9","2014-09-01","#VOLERIO","Fiorenza","Zumofen / Gattlen"]
[103,"Milou","120.0944.5559.2","2011-10-01","NESTOR","Pinson","Zumofen / Gattlen"]
[104,"Adonis","120.1201.9788.5","2015-11-01","#CAPO","Adonis","Zumofen / Gattlen"]
[105,"Puma","120.0875.3387.0","2010-11-01","@CARIBOU","Puma","Zumofen / Gattlen"]
[106,"Rambo","120.0708.7749.3","2014-09-01","#VOLERIO","Rocky ","Zumofen / Gattlen"]
[107,"Violin","120.0708.7752.3","2013-11-01","$VITUS","Volero","Zumofen / Gattlen"]
[108,"Violette","120.1201.9782.3","2015-09-01","$BREONA","Volero ","Zumofen / Gattlen"]
[109,"Vulcana","120.0708.7755.4","2014-10-01","@GLOU-GLOU","Vandale","Zumofen / Gattlen"]
[110,"Xena","120.1051.2928.3","2012-10-01","@CARIBOU","Xenti","Zumofen / Gattlen"]
[111,"Vidona","120.1201.9780.9","2015-09-01","$BREONA","Volero","Zumofen / Gattlen"]
[112,"Riva ","120.1201.9784.7","2015-10-01","#CAPO","Rocky ","Zumofen / Gattlen"]
[113,"Vanda","120.1201.9781.6","2015-09-01","$BREONA","Volero ","Zumofen / Gattlen"]